{"text_format":"1","workbook":"xlsx","n_sheets":12,"sheets":["Questionnaire","Choix_Critères","Base_Arbres","Base_Typologie","Version","Tableau_Tri","Podium","Listes","Feuil2","Feuil3","Définition TVB","Rôles paysagers"],"not_rendered":{"charts":0,"images":11,"macros":1,"external_links":0,"defined_names":48,"comments":0,"pivot_tables":0},"unopened":[],"bounds":{"document_bytes":16777216,"sheet_cells":100000,"rows_first":2000,"rows_last":500,"rows_between":2000,"halvings":0,"cell_chars":16384,"cell_head_chars":4096},"cells_cut":0,"cells_raw":0,"read":"whole","date_system":"1900"}

{"sheet":"Questionnaire","index":0,"n_rows":121,"n_cols":9,"rows_kept":121,"cut":false,"hidden":false,"merged":[[85,2,85,3],[86,2,86,3],[87,2,87,3],[46,0,46,4],[50,1,50,4],[51,1,51,4],[83,2,83,3],[84,2,84,3],[48,1,48,4],[50,0,51,0],[69,1,69,4],[47,1,47,4],[57,1,57,4],[112,1,112,3],[112,4,112,6],[114,1,114,3],[114,4,114,6],[116,1,116,3],[116,4,116,6],[106,1,106,3],[106,4,106,6],[108,1,108,3],[108,4,108,6],[110,1,110,3],[110,4,110,6],[100,1,100,3],[100,4,100,6],[102,1,102,3],[102,4,102,6],[104,1,104,3],[104,4,104,6],[94,1,94,3],[94,4,94,6],[96,1,96,3],[96,4,96,6],[98,1,98,3],[98,4,98,6],[93,1,93,3],[93,4,93,6],[53,0,53,6],[56,0,56,4],[58,1,58,4],[60,0,60,6],[63,0,63,4],[65,0,65,6],[71,0,71,6],[74,0,74,4],[76,0,76,6],[68,0,68,4],[81,2,81,3],[82,2,82,3],[82,4,88,4],[88,2,88,3],[32,0,32,4],[37,0,37,6],[40,0,40,4],[43,0,43,6],[21,0,21,8],[35,1,35,4],[24,0,24,4],[33,1,33,4],[34,1,34,4],[41,1,41,3]]}
[]
[]
[]
[]
[]
[]
[]
[]
[]
[]
[]
[]
[]
[]
[]
[]
[]
[]
[]
["QUESTIONNAIRE À REMPLIR AVANT UTILISATION DE L'OUTIL SESAME"]
[]
["Ce questionnaire permet de réaliser un diagnostic préliminaire à l'utilisation de l'outil Sésame afin de choisir les espèces idéales pour votre projet de plantation d'arbres. Dans un premier temps, une série de questions ciblées associées à des données sur le territoire de la Seine-Saint-Denis vous permettront d'identifier les services écosystèmiques à prioriser dans le cadre de votre projet. Vous pourrez ainsi retranscrire cette analyse dans l'outil sous forme de notes de pondération de chaque service écosystémique. Dans un deuxième temps, il vous sera demandé dans l'outil Sésame, d'identifier les contraintes associées à la plantation d'arbres qui sont compatibles ou non avec votre projet. Afin de vous accompagner dans votre choix, les risques associés à chaque contrainte sont décrits à la fin de ce questionnaire."]
[]
["1. Type d'espace du projet"]
["Suivant la taille du projet, il se peut que celui-ci soit découpé en plusieurs types d'espaces, il faudra alors répondre au questionnaire et lancer l'outil autant de fois qu'il y a de types d'espaces au sein du projet."]
[]
["Type d'espace :","Square et espace vert d'accompagnement",null,"Type(s) d'usage(s) associé(s) :",{"$f":"LOOKUP(B27,Feuil3!A1:A14,Feuil3!C1:C14)","v":"promenades, détente, jeux"}]
[null,{"$f":"LOOKUP(B27,Feuil3!A1:A14,Feuil3!B1:B14)","v":"Jardin public de proximité, espace vert d'agrément, d'équipement public (sport, jeux, enseignement supérieur), généralement clos, en cœur de quartier offrant une ambiance et du mobilier propice au séjour et à la détente"}]
[]
["2. Services écosystémiques rendus"]
[]
[null,null,null,null,null,null,"Réponse",null,"Pour aller plus loin"]
["Est-ce que le projet se trouve sur une zone de vulnérabilité aux effets d’Ilots de Chaleur Urbains¹ (ICU) ?",null,null,null,null,null,null,null,"Si votre projet doit contribuer à diminuer les effets d'îlots de chaleur urbains, il doit donc valoriser les espèces qui régulent le climat local par ses fonctions d'ombrage et d'évapotranspiration.\nPoint de vigilance : Pour garantir et renforcer l'effet rafraîchissant des arbres, il est important d'associer la plantation à la désimperméabilisation et à la renaturation des sols."]
[null,"Consulter la carte de vulnérabilité de nuit à une vague de chaleur avec ICU potentiel, modélisée à partir des Local Climate Zone (LCZ) de l'Institut Paris Région"]
[null,"Cliquez sur la parcelle pour connaitre sa note de vulnérabiltié de nuit aux ICU : à partir de 3 un site est concidéré comme vulnérable\nPour une analyse plus fine, la légende de la carte est disponible en cliquant sur le bouton constitué de trois barres horizontales en haut à gauche.\nA noter que pour un projet sur l'espace public, c'est la moyenne des parcelles alentours qui définit la vulnérabilité du site aux vagues de chaleurs et ICU. "]
["Définition :","¹ élévations localisées des températures, particulièrement des températures maximales diurnes et/ou nocturnes, enregistrées en milieu urbain par rapport aux zones rurales ou forestières voisines ou par rapport aux températures moyennes régionales."]
[]
[{"$f":"IF(G33=\"Oui\",\"La valeur attribuée à l'importance du service 'Régulation du climat local' dans l'onglet 'Choix_Critères' ne pourra pas être inférieure à 6.\",IF(G33=\"Non\",\"Pas de seuil minimal attribué à l'importance du service 'Régulation du climat local' dans l'onglet 'Choix_Critères'\",IF(G33=\"Ne sait pas\",\"Pas de seuil minimal attribué à l'importance du service 'Régulation du climat local' dans l'onglet 'Choix_Critères'\",\" \")))","v":" "}]
[]
[null,null,null,null,null,null,"Réponse",null,"Pour aller plus loin"]
["Mon projet vise-t-il à contribuer à l'atténuation de la pollution de l'air ?",null,null,null,null,null,null,null,"Si votre projet doit contribuer à réguler la pollution de l'air, il doit valoriser les espèces favorisant l'absorption des polluants gazeux et la fixation des particules fines seront alors favorisées.\nPar exemple, si votre projet est à proximité d'un public à risque, ou dans une zone de fort trafic, vous pouvez décider de valoriser le service de régulation de la pollution atmosphérique en lui attribuant un poids plus important. \nPoint de vigilance : Seule, la plantation d’arbres ne peut pas lutter contre la régulation de la pollution de l’air (nécessité de réduire les émissions à la source). \nUne différence est à faire entre l’impact de la pollution sur les arbres (non traité dans Sesame) et l’effet des arbres dans la régulation de la pollution."]
[null,"Consulter les émissions de polluants atmosphériques"]
[]
[{"$f":"IF(G41=\"Oui\",\"La valeur attribuée à l'importance des services 'Absorption des polluants' et 'Fixation des particules fines' dans l'onglet 'Choix_Critères' ne pourront pas être inférieures à 6.\",IF(G41=\"Non\",\"Pas de seuil minimal attribué à l'importance des services 'Absorption des polluants' et 'Fixation des particules fines' dans l'onglet 'Choix_Critères'\",IF(G41=\"Ne sait pas\",\"Pas de seuil minimal attribué à l'importance des services 'Absorption des polluants' et 'Fixation des particules fines' dans l'onglet 'Choix_Critères'\",\" \")))","v":" "}]
[]
[null,null,null,null,null,null,"Réponse",null,"Pour aller plus loin"]
["Est-ce que mon projet se trouve dans ou à proximité (< 1km) d'un élément remarquable de la trame verte et bleue locale?\nUne zone de réservoir de biodiversité², un corridor écologique³, un secteur ou une laison d'intérêt écologique?",null,null,null,null,null,null,null,"Si votre projet doit contribuer à une continuité écologique (réservoir ou corridor avéré ou d'intérêt), les espèces choisies doivent donc être attractives pour la faune sauvage, en termes d'alimentation, d'abri, de repos et de déplacement. La préservation de la biodiversité devient dès lors une des fonctions principales de l'espace végétalisé.\nPoints de vigilance :\n- En raison de l’effondrement de la biodiversité constatée à l’heure actuelle, il est considéré ici que sa nécessaire préservation doit être prise en compte dans tout projet. La valeur minimale acceptée pour ce service ne pourra être inférieure à 4.\n- Même en zone dense, éloignée de plus d'1km d'une zone de réservoir de biodiversité ou de corridors écologiques, il est nécessaire que le porteur de projet contribue à renforcer et étendre les continuités en prenant en compte ce service."]
[null,"Consulter la carte du Schéma Régional de Cohérence Ecologique (SRCE) pour situer la zone de projet"]
[null,"La légende de la carte est disponible en cliquant sur le bouton constitué de trois barres horizontales en haut à gauche.\nLes données recensées dans le Schéma Régional de Cohérence Ecologique (SRCE) sont disponibles à l'échelle nationale. Il existe cependant des données de trames écologiques locales plus précises, disponibles dans les PLUi/PLU des collectivités, qui sont à privilégier à l'échelle d'un projet. \nExemple : l'EPT de la Plaine Commune"]
[]
["Définition :","² espaces dans lesquels la biodiversité est la plus riche ou la mieux représentée, où les espèces peuvent effectuer tout ou partie de leur cycle de vie et où les habitats naturels peuvent assurer leur fonctionnement en ayant notamment une taille suffisante, qui abritent des noyaux de populations d'espèces à partir desquels les individus se dispersent ou qui sont susceptibles de permettre l'accueil de nouvelles populations d'espèces (OFB)."]
[null,"³ servent prioritairement à assurer les déplacements des espèces entre les réservoirs de biodiversité, qu’il s’agisse de déplacements routiniers, de dispersion ou de migration, on distingue ainsi trois types de corridors écologiques  : les corridors linéaires, discontinus et paysagers.\nPour en savoir plus"]
[]
[{"$f":"IF(G47=\"Oui\",\"La valeur attribuée à l'importance du service 'Support de biodiversité' dans l'onglet 'Choix_Critères' ne pourra pas être inférieure à 6.\",IF(G47=\"Non\",\"La valeur attribuée à l'importance du service 'Support de biodiversité' dans l'onglet 'Choix_Critères' ne pourra pas être inférieure à 4.\",IF(G47=\"Ne sait pas\",\"La valeur attribuée à l'importance du service 'Support de biodiversité' dans l'onglet 'Choix_Critères' ne pourra pas être inférieure à 4.\",\"La valeur attribuée à l'importance du service 'Support de biodiversité' dans l'onglet 'Choix_Critères' ne pourra pas être inférieure à 4.\")))","v":"La valeur attribuée à l'importance du service 'Support de biodiversité' dans l'onglet 'Choix_Critères' ne pourra pas être inférieure à 4."}]
[]
[null,null,null,null,null,null,"Réponse",null,"Pour aller plus loin"]
["Est-ce que mon projet se trouve dans une zone carencée en couverture arborée ?",null,null,null,null,null,null,null,"Si votre projet doit contribuer au dévéloppement de la canopée, l'envergure des espèces ne doit pas être notée comme une contrainte discriminante afin de ne pas mettre de côté les espèces à fort développement de canopée.\nL'information relative au développement de la canopée d'une espèce se trouve dans les fiches espèces."]
[null,"Consulter la carte du pourcentage de couverture arborée du département de Seine-Saint-Denis"]
[null,"L'utilisateur doit cliquer sur la maille comportant son projet pour connaître le pourcentage de couverture arborée dans cette zone. \nDans le plan Canopée, une zone est considérée comme carencée si le pourcentage de couverture arborée est inférieur à 20%."]
[]
[{"$f":"IF(G57=\"Oui\",\"Le critère éliminatoire 'Arbre de grande envergure' dans l'onglet 'Choix_Critères' sera non discriminant\",IF(G57=\"Non\",\"Le critère éliminatoire 'Arbre de grande envergure' dans l'onglet Choix_Critères' peut être discriminant\",IF(G57=\"Ne sait pas\",\"Le critère éliminatoire 'Arbre de grande envergure' dans l'onglet Choix_Critères' peut être discriminant\",\" \")))","v":" "}]
[]
[null,null,null,null,null,null,"Réponse",null,"Pour aller plus loin"]
["Est-ce que mon projet a pour objectif de fournir de la nourriture aux habitant.e.s ?",null,null,null,null,null,null,null,"La nature et la capacité à fournir de la nourriture ainsi que la période de récolte sont mentionnées dans les fiches espèces. \nPoint de vigilance : La contamination ou la pollution du sol peut engendrer des transferts de contaminants vers les fruits (plus ou moins important selon l'espèce) et in fine vers le consommat.eur.rice. Si aucune donnée n'est disponible, un diagnostic de la qualité des sols est conseillé et une étude de transfert peut être envisagée avant la réalisation du projet.                                                                                                   "]
[]
[{"$f":"IF(G64=\"Oui\",\"La valeur attribuée à l'importance du service 'Fourniture de nourriture' dans l'onglet 'Choix_Critères' ne pourra pas être inférieure à 6.\",IF(G64=\"Non\",\"Pas de seuil minimal attribué à l'importance du service 'Fourniture de nourriture' dans l'onglet 'Choix_Critères'\",IF(G64=\"Ne sait pas\",\"Pas de seuil minimal attribué à l'importance du service 'Fourniture de nourriture' dans l'onglet 'Choix_Critères'\",\" \")))","v":" "}]
[]
[null,null,null,null,null,null,"Réponse",null,"Pour aller plus loin"]
["Est-ce que mon projet a pour vocation de gérer quantitativement les eaux pluviales⁴ en limitant le ruissellement vers les réseaux ?",null,null,null,null,null,null,null,"Si votre projet doit contribuer à gérer quantitativement la ressource en eau notamment en favorisant les processus d'absorption/transpiration et d'infiltration de l'eau, il doit valoriser les espèces qui sont le plus favorables à l'infiltration et à l'évapotranspiration des eaux pluviales seront donc favorisées.\nPoints de vigilance : \n- Si le projet est plutôt orienté rétention des eaux pluviales, se référer aux types d’espaces en sélectionnant, par exemple, la typologie « noues ».\n- L’outil Sesame gère le choix des essences mais pas le dimensionnement d’ouvrages, on se réfère donc bien ici à l’arbre mais pas aux ouvrages.\n- Seule, la plantation de l’arbre ne permet pas de limiter efficacement la gestion des eaux pluviales. Il est donc important d’encourager la désimperméabilisation pour favoriser ce service de régulation."]
["Définition :","⁴ limitation du ruissellement en favorisant les processus l’infiltration/d’absorption (via le système racinaire) et l’évapotranspiration des eaux par les espèces"]
[]
[{"$f":"IF(G69=\"Oui\",\"La valeur attribuée à l'importance du service 'Gestion quantitative des eaux' dans l'onglet 'Choix_Critères' ne pourra pas être inférieure à 6.\",IF(G69=\"Non\",\"Pas de seuil minimal attribué à l'importance du service 'Gestion quantitative de la ressource en eau' dans l'onglet 'Choix_Critères'\",IF(G69=\"Ne sait pas\",\"Pas de seuil minimal attribué à l'importance du service 'Gestion quantitative de la ressource en eau' dans l'onglet 'Choix_Critères'\",\" \")))","v":" "}]
[]
[null,null,null,null,null,null,"Réponse",null,"Pour aller plus loin"]
["Est-ce que le cadre de vie et l'aspect paysager sont des éléments prioritaires de mon projet ?",null,null,null,null,null,null,null,"Si votre projet doit avoir un rôle paysager important, il doit alors favoriser les espèces emblématiques ou les espèces possibles en lien avec le type d'espace identifié.\nLes différents rôles assurés par les espèces en terme paysager sont décrits plus précisément dans les fiches espèces."]
[]
[{"$f":"IF(G75=\"Oui\",\"La valeur attribuée à l'importance du service 'Rôle paysager' dans l'onglet 'Choix_Critères' ne pourra pas être inférieure à 6.\",IF(G75=\"Non\",\"Pas de seuil minimal attribué à l'importance du service 'Rôle paysager' dans l'onglet 'Choix_Critères'\",IF(G75=\"Ne sait pas\",\"Pas de seuil minimal attribué à l'importance du service 'Rôle paysager' dans l'onglet 'Choix_Critères'\",\" \")))","v":" "}]
[]
[]
["3. Synthèse des valeurs minimales à renseigner dans l'onglet 'Choix_Critères'"]
[]
[null,"Service écosystémique","Valeurs minimales de l'importance du service",null,"Remarques"]
[null,"Régulation du climat local",{"$f":"IF(G33=\"Oui\", \"La valeur minimale associée à ce service est de 6 \",\"Pas de seuil minimal associé à ce service\")","v":"Pas de seuil minimal associé à ce service"},null,"En fonction du type d'espace du projet, du/des type(s) d'usage(s) associé(s) et de l'importance que vous attribuez à chaque service, vous pourrez faire varier les seuils de 6 à 10 (6 représentant un enjeu important du projet et 10 représentant un enjeu majeur pour le projet)\nNB : Pour le service Support de biodiversité, la note minimale est de 4."]
[null,"Absorption des polluants",{"$f":"IF(G41=\"Oui\",\"La valeur minimale associée à ce service est de 6 \",\"Pas de seuil minimal associé à ce service\")","v":"Pas de seuil minimal associé à ce service"}]
[null,"Fixation des particules fines",{"$f":"IF(G41=\"Oui\",\"La valeur minimale associée à ce service est de 6 \",\"Pas de seuil minimal associé à ce service\")","v":"Pas de seuil minimal associé à ce service"}]
[null,"Support de biodiversité","La valeur minimale associée à ce service est de 4"]
[null,"Fourniture de nourriture",{"$f":"IF(G64=\"Oui\",\"La valeur minimale associée à ce service est de 6 \",\"Pas de seuil minimal associé à ce service\")","v":"Pas de seuil minimal associé à ce service"}]
[null,"Gestion quantitative des eaux",{"$f":"IF(G69=\"Oui\",\"La valeur minimale associée à ce service est de 6 \",\"Pas de seuil minimal associé à ce service\")","v":"Pas de seuil minimal associé à ce service"}]
[null,"Rôle paysager",{"$f":"IF(G75=\"Oui\",\"La valeur minimale associée à ce service est de 6 \",\"Pas de seuil minimal associé à ce service\")","v":"Pas de seuil minimal associé à ce service"}]
[]
[]
["4. Critères éliminatoires"]
[]
[null,"Contraintes",null,null,"Risque(s) associé(s)"]
[null,"Racines superficielles et /ou puissantes dommageables",null,null,"entraîne des dommages aux revêtements, pavements, murs, fondations avoisinants ainsi qu'aux ouvrages souterrains"]
[]
[null,"Branches cassantes",null,null,"chute de branches pouvant entrainer des dommages corporels et matériels"]
[]
[null,"Espèce sensible au chablis",null,null,"arbre renversé généralement sous l’action du vent  pouvant entrainer des dommages"]
[]
[null,"Fructification pouvant entraîner des dommages",null,null,"peut entraîner des dommages de par la dimension, le poids et la dureté (ex: coque) des fruits"]
[]
[null,"Dépôt de miellat et/ou production de résine",null,null,"peut constituer des dépôts collants"]
[]
[null,"Fruits malodorants",null,null,"dégage une odeur désagréable et incommodante "]
[]
[null,"Fruits toxiques",null,null,"incidence sur la santé humaine selon le volume ingéré, l'état de maturité du fruit …"]
[]
[null,"Arbre de grande hauteur",null,null,"peut être considérée comme une gêne (ombrage, volume très important de feuillage, humidité, …)"]
[]
[null,"Arbre de grande envergure",null,null,"à prendre en compte si l’espace est réduit",null,null,null,{"$f":"IF(G57=\"Oui\",\"Pensez à choisir l'option 4 pour cette contrainte dans l'onglet 'Choix_Critères' afin de ne pas mettre de côté les espèces à fort développement de canopée\", \" \")","v":" "}]
[]
[null,"Caractère allergène",null,null,"peut entrainer une allergie, enjeu de santé publique"]
[]
[null,"Espèce abritant des chenilles processionnaires",null,null,"incidence sur la santé humaine pouvant entrainer des réactions allergiques très sérieuses"]
[]
[null,"Caractère épineux",null,null,"peut entraîner des dommages corporels comme des blessures/infections"]
[]
[]
[]
[null,"Vous avez maintenant terminé de répondre au questionnaire. Pour lancer l'outil Sésame, veuillez remplir les informations demandées dans l'onglet Choix_Critères"]

{"sheet":"Choix_Critères","index":1,"n_rows":86,"n_cols":6,"rows_kept":86,"cut":false,"hidden":false,"merged":[[32,5,32,7],[44,5,44,7],[45,5,45,7],[29,5,30,7],[31,5,31,7],[66,5,66,7],[52,5,61,7],[62,5,63,7],[61,2,61,3],[85,1,85,4],[52,2,52,3],[53,2,53,3],[54,2,54,3],[55,2,55,3],[56,2,56,3],[57,2,57,3],[58,2,58,3],[59,2,59,3],[60,2,60,3],[62,2,62,3],[63,2,63,3],[20,0,20,4],[23,5,23,7],[20,5,20,7],[36,5,36,7],[47,5,47,7],[42,5,42,7],[37,5,37,7],[26,5,26,7],[43,5,43,7],[34,1,34,3],[41,5,41,7],[40,5,40,7],[39,5,39,7],[38,5,38,7],[29,1,29,3],[27,5,27,7]]}
[null,"Version 4 - CD93"]
[]
[]
[]
[]
[]
[]
[]
[]
[]
[]
[]
[]
[]
[]
[]
[]
[]
[]
[]
["Quelles sont les espèces recommandées au vu de mes priorités ?",null,null,null,null,"Notice d'utilisation"]
[null,"1. Quel type d’espace public est aménagé ?",null,null,null,"1. Quel type d’espace public est aménagé ?"]
[]
[null,"Place",null,null,null,"Choisissez le type d'espace public objet du projet de végétalisation (si vous avez déjà répondu à cette question dans l'onglet Questionnaire, veuillez vérifier que le type d'espace inscrit correspond à votre réponse)"]
[]
[]
[null,"2. Caractérisez votre projet : quelles sont les attentes en termes de végétalisation ?",null,null,null,"2. Caractérisez votre projet : quelles sont les attentes en termes de végétalisation ?"]
[null,null,null,null,null,"La caractérisation du projet passe par l'expression de l'exigence en matière de résistance aux aléas climatiques, puis par l'expression de l'importance relative des services écosystémiques attendus, puis enfin par l'expression des contraintes éliminatoires."]
[]
[null,"2.1. Il est important d'implanter des végétaux autant que possible, adaptés au climat local, adaptés aux spécifictés du climat urbain, adaptés aux conséquences attendues du changement climatique. Quelle importance accordez-vous à ce critère ?",null,null,null,"Caractérisez l'importance pour votre projet, de l'adaptation au climat urbain dans le contexte du changement climatique, au besoin en vous inspirant des exemples ci-dessous : \n\n10 : Projet en contexte très difficile, très exposé aux difficultés du climat urbain ou aux effets d'épisodes climatiques remettant en cause la survie des végétaux.\n\n"]
[null,"Adaptation au climat urbain ",10]
[null,null,null,null,null,"8 : Projet en contexte difficile pour la survie des végétaux"]
[null,null,null,null,null,"2 : Projet en contexte peu sensible : espace naturel, zone humide, …"]
[]
[null,"2.2. Parmi les services suivants, lesquels sont à prendre en compte de manière prioritaire dans l’aménagement ?"]
[]
[null,null,"Importance du service",null,null,"Renseignez les cellules orange par des valeurs comprises entre 0 et 10."]
[4,"Support de biodiversité",5,{"$f":"C38/$C$48%","v":12.5},null,"10 : cet enjeu est majeur pour le projet, c'est la motivation du projet."]
[3,"Régulation du climat local",5,{"$f":"C39/$C$48%","v":12.5},null,"8 : c'est l'enjeu le plus important du projet."]
[1,"Absorption des polluants",5,12.5,null,"6 : c'est un des enjeux importants du projet."]
[2,"Fixation des particules fines",5,12.5,null,"4 : cet enjeu est pris en compte, mais il n'est pas jugé prioritaire."]
[5,"Régulation quantitative des eaux pluviales",5,12.5,null,"2 : c'est un enjeu très secondaire dans le cadre du projet."]
[8,"Stockage de carbone",5,12.5,null,"remarque : tous les services rendus par les végétaux sont importants et"]
[9,"Fourniture de nourriture",5,12.5,null,"interdépendants. Il est recommandé de ne pas utiliser les valeurs 0 ou 1, "]
[6,"Rôle paysager",5,12.5,null,"et marginalement 2 ou 3."]
[null,null,null,null,null,"remarque : pour la biodiversité, la valeur minimale est de 4."]
[]
[null,"Total",{"$f":"IF(SUM(C38:C45)>64,\"L'arbre parfait n'existe pas, veuillez rééquilibrer votre pondération\",SUM(C38:C45))","v":40},null,null,"Pour une utilisation équilibrée de l'outil, il est souhaitable que la somme des pondérations choisies soit située entre 40 et 64."]
[]
[]
[null,"3. Quels sont les critères éliminatoires ?",null,null,null,"3. Quels sont les critères éliminatoires ?"]
[null,null,"Elimination des espèces présentant…"]
[null,"racines superficielles","4. Critère non discriminant",null,null,"Indiquez ici selon quels critères vous souhaitez éliminer des espèces.\nCritère très défavorable au projet : éliminez toutes les espèces présentant cette contrainte à un niveau faible, moyen ou fort : choisissez 1.\nCritère défavorable au projet : éliminez les espèces présentant cette contrainte à un niveau moyen ou fort : choisissez 2.\nCritère peu défavorable au projet : éliminez les espèces présentant cette contrainte à un niveau fort forte : choisissez 3."]
[null,"branches cassantes","4. Critère non discriminant"]
[null,"espèces sensibles au chablis","4. Critère non discriminant"]
[null,"fructifications pouvant entraîner des dommages","4. Critère non discriminant"]
[null,"dépôt de miellat / production de résine","4. Critère non discriminant"]
[null,"fruits toxiques","4. Critère non discriminant"]
[null,"arbre de grande hauteur","4. Critère non discriminant"]
[null,"arbre de grande envergure","4. Critère non discriminant"]
[null,"arbre dont le pollen présente un risque allergique","4. Critère non discriminant"]
[null,"arbre aux fruits malodorants","4. Critère non discriminant"]
[null,"arbre abritant des chenilles processionnaires","4. Critère non discriminant",null,null,"remarque : veillez à avoir une utilisation raisonnée et limitée des critères d'élimination"]
[null,"arbre épineux","4. Critère non discriminant"]
[]
[null,"4. J'appuie sur ce bouton","Nombre d'espèces souhaitées :",12,null,"4. J'appuie sur ce bouton"]
[null,null,null,null,null,"Appuyez sur le bouton pour proposer des espèces adaptées aux critères choisis"]
[]
[null,"Au vu des priorités définies, nous vous recommandons les essences suivantes :"]
[]
[null,"Copalme d’Amérique",{"$f":"IF(ISNA(VLOOKUP(B71,Base_Arbres,2,FALSE)),\"\",VLOOKUP(B71,Base_Arbres,2,FALSE))","v":"Liquidambar styraciflua"}]
[null,"Merisier",{"$f":"IF(ISNA(VLOOKUP(B72,Base_Arbres,2,FALSE)),\"\",VLOOKUP(B72,Base_Arbres,2,FALSE))","v":"Prunus avium"}]
[null,"Aubépine monogyne",{"$f":"IF(ISNA(VLOOKUP(B73,Base_Arbres,2,FALSE)),\"\",VLOOKUP(B73,Base_Arbres,2,FALSE))","v":"Crataegus monogyna"}]
[null,"Micocoulier occidental","Celtis occidentalis"]
[null,"Arbre aux quarante écus","Gingko biloba"]
[null,"Micocoulier de Provence","Celtis australis"]
[null,"Faux-orme du Japon","Zelkova serrata"]
[null,"Chataîgnier commun","Castanea sativa"]
[null,"Alisier blanc","Sorbus aria"]
[null,"Charme houblon, Ostryer commun","Ostrya caprinifolia"]
[null,"Aubépine épineuse","Crataegus laevigata"]
[null,"Alisier de Suède Brouwers","Sorbus intermedia Brouwers"]
[]
[]
[null,"Elles sont présentées sans ordre de préférence, comme un panel d'espèces adaptées."]
[null,"L'analyse menée ne dispense pas d'un examen de l'adaptation à la texture, la structure et l'alimentation en eau du sol."]

{"sheet":"Base_Arbres","index":2,"n_rows":134,"n_cols":22,"rows_kept":134,"cut":false,"hidden":false,"merged":[]}
["Nom vernaculaire","Nom scientifique","11. Absorption des polluants","12. Fixation des particules fines","13. Régulation du climat local","14. Support de biodiversité","15. Régulation quantitative des eaux pluviales","16. Stockage de carbone","17. Fourniture de nourriture","racines superficielles","branches cassantes","espèce sensible au chablis","fructification pouvant entraîner des dommages","dépôt de miellat et ou de résine","fruits toxiques","arbre de grande hauteur","arbre de grande envergure","risque allergique","fruits malodorants","espèce abritant des chenilles processionnaires","caractère epineux","Adaptation au climat francilien, dans le contexte du changement Climatique"]
["Sapin du colorado","Abies concolor",4.2,7.57,5.69,1,6.3,4,3,"2.Moyenne",0,"2.Moyenne","1.Faible","2.Moyenne",0,"3.Forte",0,0,0,"2.Moyenne",0,7]
["Sapin d'Espagne","Abies pinsapo",3.25,7,4.4400000000000004,0.8,5.0999999999999996,3.33,3,"2.Moyenne",0,"2.Moyenne","1.Faible","2.Moyenne",0,"2.Moyenne",0,0,0,"2.Moyenne",0,8]
["Érable champêtre","Acer campestre",6.59,4.4800000000000004,6.63,6.3,7,2,3,0,0,0,0,"2.Moyenne",0,"1.Faible","1.Faible","2.Moyenne",0,0,0,10]
["Erable de Montpellier","Acer monspessulanum",5.0199999999999996,4.6100000000000003,5.77,2.1,5.9,2,3,0,0,0,0,"2.Moyenne",0,0,0,"1.Faible",0,0,0,8]
["Érable plane","Acer platanoïdes",6.9,5.8,8.44,4.5999999999999996,8.1999999999999993,3.33,3,"2.Moyenne",0,0,0,"2.Moyenne",0,"3.Forte","1.Faible","2.Moyenne",0,0,0,9]
["Érable sycomore","Acer pseudoplatanus",5.83,6.3,8.1300000000000008,5.8,7.7,8,3,"2.Moyenne","1.Faible",0,0,"2.Moyenne",0,"3.Forte","1.Faible","2.Moyenne",0,0,0,5]
["Érable rouge d'Amérique","Acer rubrum",4.99,5.8,7.19,3.3,7.6,4,3,"2.Moyenne","2.Moyenne","2.Moyenne",0,"2.Moyenne",0,"2.Moyenne",0,"1.Faible",0,0,0,4]
["Erable rouge Scanlon","Acer rubrum ‘Scanlon’",5.71,5.09,6.56,3.3,6.5,4,3,"2.Moyenne","2.Moyenne","2.Moyenne",0,"2.Moyenne",0,"1.Faible",0,"1.Faible",0,0,0,6]
["Érable hybride de Freeman","Acer x freemanii",7.31,4.91,7.52,2.5,7,2.67,3,0,0,0,0,"2.Moyenne",0,"1.Faible","1.Faible","1.Faible",0,0,0,6]
["Marronnier d’Inde","Aesculus hypocastanum",8.1300000000000008,5.4,8.69,4.2,8.1,8,3,"3.Forte","2.Moyenne",0,"3.Forte",0,"1.Faible","3.Forte","1.Faible",0,0,0,0,6]
["Marronnier rouge","Aesculus x carnea",5.99,5.4,6.81,2.9,6.7,4,3,"2.Moyenne","3.Forte",0,"2.Moyenne",0,"1.Faible","2.Moyenne",0,0,0,0,0,6]
["Arbre à soie","Albizia julibrissin",5.45,3.87,4.6500000000000004,2.1,5,1.33,3,0,0,0,0,0,"1.Faible","1.Faible",0,0,0,0,0,6]
["Aulne glutineux","Alnus glutinosa",5.12,4.88,5.52,7.1,5.8,3.33,3,"2.Moyenne","1.Faible",0,0,0,0,"3.Forte",0,"3.Forte",0,0,0,7]
["Aulne blanc","Alnus incana",4.3099999999999996,5.54,5.65,2.9,5.8,1.33,3,0,0,0,0,0,0,"2.Moyenne ",0,"3.Forte",0,0,0,7]
["Aulne de Späth","Alnus x spaethii",4.6399999999999997,5.74,5.77,1.7,5.6,1.33,3,"3.Forte","1.Faible",0,0,"1.Faible",0,"2.Moyenne",0,"3.Forte",0,0,0,9]
["Amélanchier arborescent Robin Hill","Amelanchier arborea ‘Robin Hill’",4.38,4.51,4.33,1.3,4.7,1.33,3,0,0,0,0,0,0,0,0,"1.Faible",0,0,0,5]
["Bouleau à écorce rouge, Bouleau de Chine","Betula albosinensis",3.5,5.05,4.2699999999999996,1.3,5.0999999999999996,2,3,0,0,"1.Faible",0,0,0,0,0,"3.Forte",0,0,0,2]
["Bouleau pendant","Betula pendula",6.34,4.33,5.98,6.7,6.5,3.33,3,"2.Moyenne","1.Faible","1.Faible",0,0,0,"3.Forte",0,"3.Forte",0,0,0,10]
["Bouleau pubescent","Betula pubescens",4.13,5.5,5.42,5.8,6,3.33,3,"2.Moyenne","1.Faible","1.Faible",0,0,0,"2.Moyenne","1.Faible","3.Forte",0,0,0,5]
["Bouleau blanc de l'Himalaya","Betula utilis var. jacquemontii",5.19,4.78,5.71,2.5,6.5,1.33,3,0,"1.Faible","1.Faible",0,0,0,"1.Faible",0,"3.Forte",0,0,0,1]
["Charme commun","Carpinus betulus",3.87,6.2,7,5.8,7.5,4,3,0,0,0,0,0,0,"3.Forte",0,"3.Forte",0,0,0,7]
["Charme commun 'Frans Fontaine'","Carpinus betulus 'Frans Fontaine'",6.06,4.2300000000000004,5.5,3.3,5.7,2.67,3,0,0,0,0,0,0,"1.Faible",0,"3.Forte",0,0,0,5]
["Charme d'Orient","Carpinus orientalis",2.87,5.75,5.38,1.7,5.5,2.67,3,0,0,0,0,0,0,"1.Faible",0,"3.Forte",0,0,0,5]
["Caryer glabre","Carya glabra",7.52,4.97,7.83,1.3,6.8,4,3,0,"1.Faible",0,"1.Faible","1.Faible",0,"3.Forte","1.Faible","3.Forte",0,0,0,5]
["Chataîgnier commun","Castanea sativa",6.8,5.75,8.19,5.8,7.3,2.67,10,"2.Moyenne",0,0,"3.Forte","2.Moyenne",0,"3.Forte",0,"1.Faible",0,0,0,7]
["Catalpa commun","Catalpa bignonioides",5.62,6.4,7.58,1.3,6.7,3.33,3,"1.Faible","2.Moyenne",0,0,0,0,"2.Moyenne",0,0,0,0,0,7]
["Cèdre de l’Atlas","Cedrus atlantica",3.85,7.36,5.0199999999999996,0.8,5.7,10,3,"1.Faible","1.Faible",0,0,"1.Faible",0,"3.Forte","2.Moyenne","1.Faible",0,0,0,9]
["Cèdre du Liban","Cedrus libani",3.9,7.24,5.4,0.8,5.8,10,3,"1.Faible","1.Faible",0,0,"1.Faible",0,"3.Forte",0,"2.Moyenne",0,0,0,8]
["Micocoulier de Provence","Celtis australis",4.93,5.77,6.77,2.5,6.7,3.33,3,0,0,0,0,0,0,"2.Moyenne ",0,0,0,0,0,8]
["Micocoulier de Julian Cannabaceae","Celtis julianae",4.6900000000000004,5.7,6.15,0.8,5.7,2.67,3,0,0,"1.Faible",0,0,0,"1.Faible","1.Faible","1.Faible",0,0,0,4]
["Micocoulier occidental","Celtis occidentalis",6.26,5.42,7.27,2.1,7,4,3,0,0,0,0,0,0,"2.Moyenne ","2.Moyenne ",0,0,0,0,9]
["Arbre au caramel","Cercidiphyllum japonicum",6.54,4.66,6.5,1,6.6,2,3,0,"1.Faible",0,0,0,0,"1.Faible",0,"1.Faible",0,0,0,3]
["Gainier du Canada","Cercis canadensis",6.93,4.68,7.27,2.1,6.7,1.33,3,0,0,0,0,0,0,0,0,"1.Faible",0,0,0,7]
["Arbre de Judée","Cercis siliquastrum",6.62,4.5,6.71,2.1,6.2,2,3,0,0,0,0,0,0,0,0,0,0,0,0,8]
["Arbre de neige","Chionanthus virginicus",4.62,5.65,6.21,1.3,6.2,2,3,0,0,"1.Faible","1.Faible",0,0,0,0,0,0,0,0,2]
["Cornouiller sanguin","Cornus sanguinea",2.76,5.54,5.33,5.8,6.5,1.33,3,0,0,0,0,0,"1.Faible",0,0,0,0,0,0,8]
["Noisetier commun","Corylus avellana",3.54,6.08,6.63,6.3,6.9,1.33,10,0,0,0,"1.Faible",0,0,0,0,"3.Forte",0,0,0,5]
["Noisetier de Byzance","Corylus colurna",6.17,5.37,7.52,2.5,7.1,3.33,10,0,0,0,"2.Moyenne",0,0,"2.Moyenne",0,"3.Forte",0,0,0,9]
["Noisetier de Byzance ‘VDB Obelisk’","Corylus colurna ‘VDB Obelisk’",4.67,5.68,6.33,2.1,6.1,2,6,0,0,0,"1.Faible",0,0,"1.Faible",0,"3.Forte",0,0,0,3]
["Aubépine épineuse","Crataegus laevigata",4.76,4.45,5.58,5.8,5.8,2.67,6,0,0,0,0,0,0,0,0,0,0,0,"2.Moyenne",9]
["Aubépine monogyne","Crataegus monogyna",6.06,4.09,6.25,5.8,6.3,2.67,6,0,0,0,0,0,0,0,0,0,0,0,"2.Moyenne",9]
["Arbre aux mouchoirs","Davidia involucrata",4.79,5.82,6.65,1.3,6.3,4,3,0,0,0,0,0,0,"1.Faible",0,0,0,0,0,3]
["Arbre à Gutta-Percha","Eucommia ulmoides",6.38,5.42,7.58,1,7.2,4,3,0,"1.Faible",0,0,0,0,"2.Moyenne","1.Faible","1.Faible",0,0,0,7]
["Fusain d’Europe","Euonymus europaeus",4.5,4.3,4.6500000000000004,4.5999999999999996,5.3,2,0,0,0,0,0,"2.Moyenne","3.Forte",0,0,0,0,0,0,6]
["Hêtre commun","Fagus sylvatica",6.3,5.45,7.38,7.1,7.7,8,3,0,0,0,0,0,0,"3.Forte","2.Moyenne","2.Moyenne",0,0,0,3]
["Hêtre commun ‘Dawyck ’","Fagus sylvatica ‘Dawyck ’",4.92,4.6900000000000004,5.25,5.4,5.4,4,3,0,0,0,0,0,0,"1.Faible",0,"2.Moyenne",0,0,0,1]
["Frêne d'Amérique, Frêne blanc","Fraxinus americana",6.02,6.57,7.9,3.8,7,4,3,0,"2.Moyenne",0,0,0,0,"3.Forte","3.Forte","3.Forte",0,0,0,9]
["Frêne à feuilles étroites, Frêne du midi, Frêne oxyphylle","Fraxinus angustifolia",5.57,5.08,6.21,5,5.8,4,3,0,"2.Moyenne",0,0,0,0,"2.Moyenne","1.Faible","3.Forte",0,0,0,9]
["Frêne commun, Frêne élevé","Fraxinus excelsior",4.57,5.77,5.83,6.3,6,8,3,0,"3.Forte",0,0,0,0,"3.Forte","1.Faible","3.Forte",0,0,0,7]
["Frêne à fleurs","Fraxinus ornus",6.19,4.17,6.08,3.8,5.9,2,3,"2.Moyenne","2.Moyenne",0,0,0,0,0,0,"3.Forte",0,0,0,8]
["Frêne à fleurs colonnaire","Fraxinus ornus 'Paus Johannes-Paulus II'",5.9,4.1399999999999997,5.08,3.3,4.9000000000000004,2,3,0,0,0,0,0,0,"1.Faible",0,"3.Forte",0,0,0,8]
["Frêne rouge d'Amérique","Fraxinus pennsylvanica",5.88,6.34,8.02,3.8,7.1,2.67,3,"2.Moyenne","2.Moyenne",0,0,0,0,"3.Forte","1.Faible","3.Forte",0,0,0,7]
["Arbre aux quarante écus","Gingko biloba",4.5599999999999996,6.31,6.98,1.3,6.5,4,6,0,0,0,"3.Forte",0,"2.Moyenne","3.Forte","1.Faible",0,"3.Forte",0,0,9]
["Arbre aux quarante écus Blagon","Ginkgo biloba ‘Blagon’",3.42,5.62,5.48,0.8,5.5,4,3,0,0,0,0,0,0,"1.Faible",0,0,0,0,0,8]
["Févier d’Amérique","Gleditsia triacanthos",4.51,5.44,6.17,3.3,6.6,4,0,0,"2.Moyenne","1.Faible","2.Moyenne",0,"3.Forte","3.Forte","2.Moyenne",0,0,0,"3.Forte",9]
["Houx commun","Ilex aquifolium",5.32,5.45,5.88,5.4,6.5,2,0,0,0,0,0,0,"3.Forte","1.Faible",0,0,0,0,"1.Faible ",4]
["Noyer commun","Juglans regia",7.6,5.08,7.77,2.5,7.6,3.33,10,"3.Forte",0,0,"3.Forte",0,0,"3.Forte","1.Faible","1.Faible",0,0,0,5]
["Genévrier commun","Juniperus communis",2.91,6.65,4.3099999999999996,4.2,5.5,2.67,3,0,0,0,0,0,0,0,0,"1.Faible",0,0,0,8]
["Savonnier de chine","Koelreuteria paniculata",6.1,4.1100000000000003,5.6,1.7,5.5,2,3,0,"2.Moyenne",0,0,0,0,"1.Faible",0,0,0,0,0,8]
["Mélèze d’Europe","Larix decidua",3.04,5.4,4.4800000000000004,1.3,5,4,3,0,"2.Moyenne",0,0,"1.Faible",0,"3.Forte",0,0,0,"2.Moyenne",0,7]
["Troène commun","Ligustrum vulgare",5.96,4.7,5.31,5,5.7,2,0,0,0,0,0,0,"3.Forte",0,0,"2.Moyenne",0,0,0,9]
["Copalme d'Orient","Liquidambar orientalis",6.3,4.38,6.13,1.7,6,2,3,0,0,"1.Faible",0,0,0,0,0,0,0,0,0,3]
["Copalme d’Amérique","Liquidambar styraciflua",6.38,5.71,6.83,2.1,6.5,4,3,"3.Forte",0,0,0,0,0,"3.Forte","1.Faible",0,0,0,0,7]
["Tulipier de Virginie","Liriodendron tulipifera",6.57,4.6100000000000003,5.83,2.9,6,4,3,"2.Moyenne","2.Moyenne",0,0,0,0,"3.Forte","1.Faible",0,0,0,0,6]
["Magnolia à grandes fleurs","Magnolia grandiflora",5.34,6.82,6.69,1.3,6.3,4,3,0,0,0,0,0,0,"3.Forte",0,"1.Faible",0,0,0,4]
["Magnolia de Kobé","Magnolia kobus",5.14,4.97,5.33,1.3,5.2,2.67,3,0,0,0,0,0,0,0,0,0,0,0,0,3]
["Magnolia de Kobé ‘Isis’","Magnolia Kobus ‘Isis’",6.02,4.1399999999999997,5.4,1.3,4.9000000000000004,2.67,3,0,0,0,0,0,0,0,0,0,0,0,0,1]
["Pommier sauvage","Malus sylvestris",5.88,4.05,5.52,5.8,5.6,2,6,"2.Moyenne","2.Moyenne",0,"3.Forte",0,0,0,0,0,0,0,0,4]
["Pommier d'ornement japonais Brouwers Beauty","Malus toringo ‘Brouwers Beauty’",3.6,5.18,4.5199999999999996,3.8,4.5999999999999996,2,3,0,0,0,0,0,0,0,0,0,0,0,0,2]
["Pommier trilobé","Malus trilobata",4.0599999999999996,5.32,5.5,3.8,5.3,2,3,0,"2.Moyenne",0,0,0,0,0,0,0,0,0,0,3]
["Pommier de Sukawa","Malus tschonoskii",4.38,5.51,5.58,2.9,5.2,2,3,0,0,0,0,0,0,"1.Faible",0,0,0,0,0,4]
["Néflier commun","Mespilus germanica",3.25,5.98,5.88,3.3,5.6,2,8,0,0,0,"1.Faible",0,0,0,0,0,0,0,0,8]
["Metaséquoia, Métaséquoia du Sechuan","Metasequoia glyptostroboides",2.8,5.4,3.85,1,4.4000000000000004,8,3,0,"2.Moyenne",0,0,"1.Faible",0,"3.Forte",0,"1.Faible",0,0,0,6]
["Tupélo de Chine","Nyssa sylvatica",5.83,5.17,6.4,2.9,6,2.67,3,"2.Moyenne","1.Faible","1.Faible",0,"1.Faible",0,"3.Forte","1.Faible",0,0,0,0,6]
["Charme houblon, Ostryer commun","Ostrya caprinifolia",4.13,5.29,5.94,1.3,6,2,3,0,0,0,0,0,0,0,0,"1.Faible",0,0,0,8]
["Parrotie de Perse, Arbre de fer","Parrotia persica",5.12,4.74,5.77,2.1,5.6,2,3,0,"1.Faible",0,0,0,0,0,0,0,0,0,0,8]
["Paulownia Fast Blue","Paulownia fortunei 'Minfast' FAST BLUE®",7.14,4.88,7.08,0.8,5.9,2,3,0,"3.Forte","1.Faible",0,0,0,"1.Faible",0,"1.Faible",0,0,0,5]
["Paulownia tomenteux ou impérial","Paulownia tomentosa",5.17,7.2,8.4,0.8,7.4,3.33,3,"2.Moyenne","2.Moyenne",0,"2.Moyenne",0,0,"2.Moyenne","2.Moyenne",0,0,0,0,7]
["Seringa, Jasmin des poètes","Philadelphus coronarius",5.13,3.82,3.81,1.3,3.9,2,3,0,0,0,0,0,0,0,0,0,0,0,0,6]
["Epicéa commun","Picea abies",3.44,7.11,4.6900000000000004,2.1,5.8,4,3,"3.Forte",0,"3.Forte","2.Moyenne","2.Moyenne",0,"3.Forte",0,0,0,0,0,1]
["Pin sylvestre","Pinus sylvestris",3.85,7.36,5.0199999999999996,4.5999999999999996,5.9,3.33,3,"2.Moyenne","2.Moyenne","2.Moyenne","2.Moyenne","1.Faible",0,"3.Forte",0,0,0,"2.Moyenne",0,8]
["Pistachier de Chine","Pistacia chinensis",6,4.05,5.83,0.8,5.7,2.67,3,0,"1.Faible",0,"3.Forte",0,0,0,0,0,0,0,0,6]
["Platane d’Occident","Platanus occidentalis",8.02,5.48,8.15,1.7,6.8,8,3,"2.Moyenne",0,0,0,0,0,"3.Forte","2.Moyenne","3.Forte",0,0,0,6]
["Platane d'Orient","Platanus orientalis",7.12,5.94,8.52,1.7,7.1,10,3,"2.Moyenne",0,0,0,0,0,"3.Forte","2.Moyenne","3.Forte",0,0,0,9]
["Platane commun","Platanus x hispanica",8.26,5.48,8.77,2.9,8,10,3,"2.Moyenne",0,0,"2.Moyenne",0,0,"3.Forte","3.Forte","3.Forte",0,0,0,8]
["Peuplier blanc","Populus alba",4.67,5.75,6.08,5,5.8,7.33,3,"2.Moyenne","2.Moyenne",0,0,0,0,"3.Forte",0,"1.Faible",0,0,0,6]
["Peuplier tremble","Populus tremula",6.69,4.68,6.65,6.3,6.8,4,3,"2.Moyenne","2.Moyenne",0,0,"2.Moyenne",0,"3.Forte",0,"1.Faible",0,0,0,7]
["Merisier","Prunus avium",6.9,4.67,6.71,7.9,6.6,2.67,8,"2.Moyenne",0,0,"2.Moyenne","2.Moyenne",0,"3.Forte","1.Faible",0,0,0,0,7]
["Merisier 'Landscape Bloom'","Prunus avium 'Landscape Bloom'",6.97,4.92,6.38,3.8,5.9,2.67,3,0,0,0,"2.Moyenne",0,0,"2.Moyenne","1.Faible",0,0,0,0,5]
["Cerisier de Sainte-Lucie","Prunus mahaleb",5.47,4.88,6.44,5.4,6.4,3.33,3,"2.Moyenne",0,0,0,"1.Faible",0,"1.Faible",0,0,0,0,0,8]
["Cerisier à grappes","Prunus padus",6.56,4.46,6.31,5,6,2,3,"2.Moyenne",0,0,"1.Faible","1.Faible",0,"2.Moyenne",0,0,0,0,0,5]
["Cerisier de Sargent","Prunus sargentii",7.1,4.78,6.96,4.2,6.3,1.33,3,"2.Moyenne",0,0,0,0,0,"2.Moyenne",0,0,0,0,0,4]
["Prunelier","Prunus spinosa",4.29,4.17,4.83,7.9,5.3,2,8,"2.Moyenne",0,0,"1.Faible",0,0,0,0,0,0,0,"2.Moyenne",7]
["Cerisier d'hiver","Prunus x subhirtella",5.19,4.78,5.71,3.8,5.6,1.33,3,"1.Faible",0,0,0,"1.Faible",0,0,0,0,0,0,0,2]
["Ptérocarier de Chine","Pterocarya stenoptera",6.18,4.38,5.81,1,5.6,10,3,"3.Forte",0,0,0,0,0,"1.Faible","1.Faible",0,0,0,0,2]
["Poirier commun","Pyrus communis",5.24,4.74,6.08,6.3,6.2,2,8,"2.Moyenne",0,0,"3.Forte",0,0,"1.Faible",0,0,0,0,0,6]
["Chêne blanc","Quercus alba",6.33,6.6,8.94,5,7.9,8,3,"2.Moyenne",0,0,"2.Moyenne",0,0,"3.Forte","3.Forte","2.Moyenne",0,"1.Faible",0,7]
["Chêne chevelu de bourgogne","Quercus cerris",6.29,5.37,7.58,4.5999999999999996,6.7,4,3,"2.Moyenne",0,0,"2.Moyenne",0,0,"3.Forte","1.Faible","2.Moyenne",0,"1.Faible",0,9]
["Chêne de Hongrie","Quercus frainetto",8,5.25,8.58,5.4,7.5,4,3,"2.Moyenne",0,0,"2.Moyenne",0,0,"3.Forte","1.Faible","2.Moyenne",0,"1.Faible",0,8]
["Chêne vert","Quercus ilex",4.79,6.28,6.75,4.5999999999999996,6.6,4,3,"2.Moyenne",0,0,"2.Moyenne",0,0,"2.Moyenne",0,"2.Moyenne",0,0,0,9]
["Chêne à feuilles de laurier","Quercus imbricaria",5.19,5.92,6.96,5,6.4,2,3,"2.Moyenne",0,0,"2.Moyenne",0,0,"1.Faible","1.Faible","2.Moyenne",0,"1.Faible",0,5]
["Chêne du Caucase","Quercus macranthera",5.3,5.92,7.75,4.5999999999999996,7.2,2.67,3,"2.Moyenne",0,0,"2.Moyenne",0,0,"1.Faible",0,"2.Moyenne",0,"1.Faible",0,8]
["Chêne sessile, Chêne rouvre","Quercus petraea",7.85,5.23,8.44,7.5,7.3,8,3,"2.Moyenne",0,0,"2.Moyenne",0,0,"3.Forte","2.Moyenne","2.Moyenne",0,"2.Moyenne",0,10]
["Chêne pubescent","Quercus pubescens",4.74,5.58,6.52,6.7,6.4,2.67,3,"2.Moyenne",0,0,"2.Moyenne",0,0,"2.Moyenne","1.Faible","2.Moyenne",0,"1.Faible",0,9]
["Chêne pédonculé","Quercus robur",8,5,8,8,7.4,8,3,"2.Moyenne",0,0,"2.Moyenne",0,0,"3.Forte","3.Forte","2.Moyenne",0,"2.Moyenne",0,8]
["Chêne rouge d’Amérique","Quercus rubra",7.88,5.25,8.27,2,6.9,4,3,"2.Moyenne",0,0,"2.Moyenne",0,0,"3.Forte","1.Faible","2.Moyenne",0,"1.Faible",0,8]
["Chêne du Mexique Maya","Quercus rysophylla 'Maya'",6,6,7,3,6.4,2,3,"2.Moyenne",0,0,"2.Moyenne",0,0,"1.Faible",0,"2.Moyenne",0,0,0,5]
["Chêne de Turner Pseudoturneri","Quercus x turneri pseudoturneri",6.75,5.17,6.63,5,6.3,2,3,"2.Moyenne",0,0,"1.Faible",0,0,0,0,"2.Moyenne",0,0,0,8]
["Saule blanc","Salix alba",3.46,6.17,5.42,7.9,6.1,7.33,3,"2.Moyenne","3.Forte","2.Moyenne",0,"2.Moyenne",0,"3.Forte","1.Faible","2.Moyenne",0,0,0,6]
["Saule de Babylone, Saule pleureur à bois vert","Salix babylonica",3.81,6.38,6.08,5,6.1,3.33,3,0,0,"2.Moyenne",0,"2.Moyenne",0,"1.Faible",0,"2.Moyenne",0,0,0,3]
["Osier vert","Salix viminalis",4.5199999999999996,5.67,5.46,7.5,5.3,2.67,3,0,0,0,0,"2.Moyenne",0,0,0,"2.Moyenne",0,0,0,6]
["Sureau noir","Sambucus nigra",6.13,4.2,5.17,5.8,4.7,2,8,0,"1.Faible",0,"2.Moyenne",0,"2.Moyenne",0,0,0,0,0,0,7]
["Séquoia toujours vert","Sequoia sempervirens",3.47,7.13,4.5199999999999996,1.7,5.9,10,3,"2.Moyenne","2.Moyenne",0,"2.Moyenne",0,0,"3.Forte",0,0,0,0,0,0]
["Séquoia géant","Sequoiadendron giganteum",3.51,7.22,4.63,2.1,5.7,10,3,"2.Moyenne","2.Moyenne",0,"2.Moyenne",0,0,"3.Forte","1.Faible",0,0,0,0,2]
["Alisier blanc","Sorbus aria",4.74,5.58,6.52,5,6.5,2,6,0,0,0,0,0,0,"1.Faible",0,0,0,0,0,8]
["Sorbier des oiseleurs","Sorbus aucuparia",4.3600000000000003,5.35,6.02,6.7,6.3,2,3,0,0,0,0,0,"1.Faible","1.Faible",0,0,0,0,0,6]
["Sorbier des oiseleurs fastigiata","Sorbus aucuparia fastigiata",3.62,5.05,4.58,3.8,5.2,2.67,3,0,0,0,0,0,"1.Faible",0,0,0,0,0,0,3]
["Alisier de Suède","Sorbus intermedia",6.31,4.38,5.9,2.9,5.5,2,6,0,0,0,0,0,0,"1.Faible",0,0,0,0,0,6]
["Alisier de Suède Brouwers","Sorbus intermedia Brouwers",6.52,4.4400000000000004,6.21,2.9,5.8,2,6,0,0,0,0,0,0,"1.Faible",0,0,0,0,0,7]
["Alisier torminal","Sorbus torminalis",5.0199999999999996,5.75,7.02,5.4,6.7,2,3,0,0,0,0,0,"1.Faible","2.Moyenne","1.Faible",0,0,0,0,8]
["Alisier de Thuringe","Sorbus x thuringiaca",6.97,4.7,7.13,2.9,6.4,2,3,0,0,0,0,0,0,"1.Faible",0,0,0,0,0,7]
["Sophora du Japon","Styphnolobium japonicum",4.74,5.58,6.52,2.5,6.7,3.33,3,"2.Moyenne","1.Faible",0,"2.Moyenne",0,0,"3.Forte","1.Faible",0,0,0,0,9]
["Tilleul à petites feuilles","Tilia cordata",5.13,6.03,7.31,7.5,7.6,3.33,3,"2.Moyenne",0,0,0,"3.Forte",0,"3.Forte","1.Faible","2.Moyenne",0,0,0,10]
["Tilleul à grandes feuilles","Tilia Platyphyllos",5.9,6.49,8.31,6.7,8.1999999999999993,8,3,"2.Moyenne",0,0,0,"3.Forte",0,"3.Forte","3.Forte","2.Moyenne",0,0,0,9]
["Tilleul de Crimée","Tilia x euchlora",5.9,5.35,7.06,3.3,6.8,3.33,3,"2.Moyenne",0,0,0,0,0,"2.Moyenne","1.Faible","2.Moyenne",0,0,0,7]
["Orme hybride 'Columella'","Ulmus ‘Columella’",5.67,4.1399999999999997,4.46,1.7,4.4000000000000004,4,3,0,0,0,0,0,0,"2.Moyenne ",0,"1.Faible",0,0,0,7]
["Orme de montagne","Ulmus glabra",5.5,6.11,7.52,3.3,7,8,3,"1.Faible","1.Faible",0,0,0,0,"3.Forte","1.Faible","1.Faible",0,0,0,4]
["Orme lisse","Ulmus laevis",5.12,5.88,7.02,2.5,6.4,4,3,"1.Faible","1.Faible",0,0,0,0,"3.Forte","1.Faible","1.Faible",0,0,0,3]
["Orme champêtre","Ulmus minor",6.07,5.31,7.02,4.5999999999999996,6.7,4,3,"1.Faible","1.Faible",0,0,0,0,"3.Forte","2.Moyenne","1.Faible",0,0,0,5]
["Orme hybride Lutèce","Ulmus 'Nanguen' LUTECE®",6.6,4.4800000000000004,6.15,2.9,5.4,4,3,0,0,0,0,0,0,"1.Faible",0,"1.Faible",0,0,0,4]
["Viorne lantane","Viburnum lantana",5.83,3.95,5.15,3.3,5.3,2.67,3,0,0,0,0,0,"1.Faible",0,0,0,0,0,0,8]
["Viorne obier","Viburnum opulus",5.9,3.99,5.56,3.8,5.6,2,3,0,0,0,0,0,"1.Faible",0,0,0,"1.Faible",0,0,5]
["Faux-orme du Japon","Zelkova serrata",6.83,4.55,6.77,1.67,6.8,3.33,3,"1.Faible",0,0,0,0,0,"2.Moyenne","2.Moyenne",0,0,0,0,9]

{"sheet":"Base_Typologie","index":3,"n_rows":1049,"n_cols":16,"rows_kept":1049,"cut":false,"hidden":false,"merged":[]}
[]
["Critère de notation des essences en fonction de la typologie :",null,null,"Emblématique",10]
[null,null,null,"Possible",6]
[null,null,null,"Autre",2]
[null,null,1,2,3,4,5,6,7,8,9,10,11,12,13,14]
[null,"Nom scientifique","Grande voie de circulation","Voie résidentielle","Stationnement","Cheminement","Quai et berge","Place","Square et espace vert d’accompagnement","Parc","Cour d'école et aire de jeu pour jeunes enfants","Cimetière","Cœur d'ilôt ombragé","Boisement urbain","Noue et bassin d'orage","Espace intermédiaire"]
[{"$f":"IF(Base_Arbres!$A2<>\"\",Base_Arbres!$A2,\"\")","v":"Sapin du colorado"},"Abies concolor","Autre","Autre","Autre","Autre","Autre","Autre","Possible","Emblématique","Autre","Possible","Possible","Autre","Possible","Possible"]
[{"$f":"IF(Base_Arbres!$A3<>\"\",Base_Arbres!$A3,\"\")","v":"Sapin d'Espagne"},"Abies pinsapo","Autre","Autre","Autre","Autre","Autre","Autre","Possible","Emblématique","Autre","Possible","Autre","Autre","Autre","Possible"]
[{"$f":"IF(Base_Arbres!$A4<>\"\",Base_Arbres!$A4,\"\")","v":"Érable champêtre"},"Acer campestre","Possible","Emblématique","Possible","Emblématique","Possible","Possible","Emblématique","Possible","Emblématique","Emblématique","Emblématique","Emblématique","Possible","Possible"]
[{"$f":"IF(Base_Arbres!$A5<>\"\",Base_Arbres!$A5,\"\")","v":"Erable de Montpellier"},"Acer monspessulanum","Autre","Emblématique","Possible","Possible","Autre","Possible","Emblématique","Possible","Possible","Emblématique","Possible","Emblématique","Autre","Possible"]
[{"$f":"IF(Base_Arbres!$A6<>\"\",Base_Arbres!$A6,\"\")","v":"Érable plane"},"Acer platanoïdes","Emblématique","Possible","Emblématique","Autre","Emblématique","Emblématique","Possible","Possible","Possible","Emblématique","Emblématique","Autre","Emblématique","Emblématique"]
[{"$f":"IF(Base_Arbres!$A7<>\"\",Base_Arbres!$A7,\"\")","v":"Érable sycomore"},"Acer pseudoplatanus","Emblématique","Autre","Emblématique","Autre","Emblématique","Possible","Autre","Possible","Possible","Emblématique","Possible","Autre","Possible","Emblématique"]
[{"$f":"IF(Base_Arbres!$A8<>\"\",Base_Arbres!$A8,\"\")","v":"Érable rouge d'Amérique"},"Acer rubrum","Emblématique","Emblématique","Emblématique","Emblématique","Possible","Emblématique","Emblématique","Emblématique","Emblématique","Emblématique","Possible","Emblématique","Possible","Emblématique"]
[{"$f":"IF(Base_Arbres!$A9<>\"\",Base_Arbres!$A9,\"\")","v":"Erable rouge Scanlon"},"Acer rubrum ‘Scanlon’","Possible","Emblématique","Autre","Emblématique","Possible","Possible","Emblématique","Emblématique","Possible","Emblématique","Possible","Emblématique","Emblématique","Possible"]
[{"$f":"IF(Base_Arbres!$A10<>\"\",Base_Arbres!$A10,\"\")","v":"Érable hybride de Freeman"},"Acer x freemanii","Emblématique","Emblématique","Emblématique","Possible","Emblématique","Autre","Emblématique","Emblématique","Possible","Emblématique","Emblématique","Emblématique","Emblématique","Emblématique"]
[{"$f":"IF(Base_Arbres!$A11<>\"\",Base_Arbres!$A11,\"\")","v":"Marronnier d’Inde"},"Aesculus hypocastanum","Autre","Autre","Autre","Autre","Possible","Possible","Autre","Emblématique","Autre","Emblématique","Possible","Emblématique","Possible","Possible"]
[{"$f":"IF(Base_Arbres!$A12<>\"\",Base_Arbres!$A12,\"\")","v":"Marronnier rouge"},"Aesculus x carnea","Autre","Autre","Autre","Possible","Possible","Possible","Possible","Emblématique","Autre","Emblématique","Possible","Autre","Possible","Possible"]
[{"$f":"IF(Base_Arbres!$A13<>\"\",Base_Arbres!$A13,\"\")","v":"Arbre à soie"},"Albizia julibrissin","Autre","Autre","Autre","Emblématique","Emblématique","Possible","Emblématique","Emblématique","Autre","Emblématique","Autre","Autre","Autre","Possible"]
[{"$f":"IF(Base_Arbres!$A14<>\"\",Base_Arbres!$A14,\"\")","v":"Aulne glutineux"},"Alnus glutinosa","Autre","Autre","Autre","Autre","Emblématique","Autre","Possible","Possible","Autre","Autre","Possible","Possible","Emblématique","Autre"]
[{"$f":"IF(Base_Arbres!$A15<>\"\",Base_Arbres!$A15,\"\")","v":"Aulne blanc"},"Alnus incana","Autre","Autre","Autre","Possible","Emblématique","Autre","Possible","Possible","Autre","Emblématique","Possible","Autre","Emblématique","Possible"]
[{"$f":"IF(Base_Arbres!$A16<>\"\",Base_Arbres!$A16,\"\")","v":"Aulne de Späth"},"Alnus x spaethii","Emblématique","Autre","Autre","Autre","Emblématique","Autre","Possible","Emblématique","Emblématique","Emblématique","Possible","Emblématique","Emblématique","Emblématique"]
[{"$f":"IF(Base_Arbres!$A17<>\"\",Base_Arbres!$A17,\"\")","v":"Amélanchier arborescent Robin Hill"},"Amelanchier arborea ‘Robin Hill’","Possible","Emblématique","Emblématique","Emblématique","Emblématique","Emblématique","Emblématique","Emblématique","Emblématique","Possible","Emblématique","Autre","Possible","Emblématique"]
[{"$f":"IF(Base_Arbres!$A18<>\"\",Base_Arbres!$A18,\"\")","v":"Bouleau à écorce rouge, Bouleau de Chine"},"Betula albosinensis","Autre","Autre","Autre","Possible","Autre","Autre","Emblématique","Emblématique","Possible","Emblématique","Autre","Autre","Emblématique","Possible"]
[{"$f":"IF(Base_Arbres!$A19<>\"\",Base_Arbres!$A19,\"\")","v":"Bouleau pendant"},"Betula pendula","Autre","Autre","Autre","Emblématique","Possible","Autre","Emblématique","Possible","Possible","Emblématique","Autre","Possible","Possible","Possible"]
[{"$f":"IF(Base_Arbres!$A20<>\"\",Base_Arbres!$A20,\"\")","v":"Bouleau pubescent"},"Betula pubescens","Autre","Autre","Autre","Emblématique","Emblématique","Autre","Emblématique","Emblématique","Possible","Emblématique","Autre","Emblématique","Emblématique","Possible"]
[{"$f":"IF(Base_Arbres!$A21<>\"\",Base_Arbres!$A21,\"\")","v":"Bouleau blanc de l'Himalaya"},"Betula utilis var. jacquemontii","Possible","Emblématique","Autre","Emblématique","Emblématique","Autre","Emblématique","Emblématique","Possible","Emblématique","Autre","Emblématique","Possible","Possible"]
[{"$f":"IF(Base_Arbres!$A22<>\"\",Base_Arbres!$A22,\"\")","v":"Charme commun"},"Carpinus betulus","Autre","Autre","Possible","Emblématique","Emblématique","Possible","Emblématique","Emblématique","Autre","Emblématique","Emblématique","Emblématique","Autre","Possible"]
[{"$f":"IF(Base_Arbres!$A23<>\"\",Base_Arbres!$A23,\"\")","v":"Charme commun 'Frans Fontaine'"},"Carpinus betulus 'Frans Fontaine'","Emblématique","Emblématique","Emblématique","Emblématique","Emblématique","Possible","Emblématique","Emblématique","Emblématique","Emblématique","Emblématique","Emblématique","Possible","Emblématique"]
[{"$f":"IF(Base_Arbres!$A24<>\"\",Base_Arbres!$A24,\"\")","v":"Charme d'Orient"},"Carpinus orientalis","Possible","Emblématique","Emblématique","Emblématique","Emblématique","Emblématique","Emblématique","Emblématique","Emblématique","Emblématique","Emblématique","Emblématique","Possible","Emblématique"]
[{"$f":"IF(Base_Arbres!$A25<>\"\",Base_Arbres!$A25,\"\")","v":"Caryer glabre"},"Carya glabra","Autre","Autre","Autre","Emblématique","Autre","Autre","Emblématique","Emblématique","Autre","Emblématique","Emblématique","Emblématique","Autre","Emblématique"]
[{"$f":"IF(Base_Arbres!$A26<>\"\",Base_Arbres!$A26,\"\")","v":"Chataîgnier commun"},"Castanea sativa","Autre","Autre","Autre","Autre","Possible","Autre","Autre","Emblématique","Possible","Autre","Possible","Emblématique","Autre","Autre"]
[{"$f":"IF(Base_Arbres!$A27<>\"\",Base_Arbres!$A27,\"\")","v":"Catalpa commun"},"Catalpa bignonioides","Possible","Autre","Possible","Autre","Possible","Emblématique","Emblématique","Emblématique","Possible","Emblématique","Autre","Autre","Possible","Emblématique"]
[{"$f":"IF(Base_Arbres!$A28<>\"\",Base_Arbres!$A28,\"\")","v":"Cèdre de l’Atlas"},"Cedrus atlantica","Autre","Autre","Autre","Autre","Autre","Possible","Possible","Emblématique","Autre","Emblématique","Possible","Autre","Possible","Autre"]
[{"$f":"IF(Base_Arbres!$A29<>\"\",Base_Arbres!$A29,\"\")","v":"Cèdre du Liban"},"Cedrus libani","Autre","Autre","Autre","Autre","Autre","Possible","Possible","Emblématique","Autre","Emblématique","Autre","Autre","Possible","Autre"]
[{"$f":"IF(Base_Arbres!$A30<>\"\",Base_Arbres!$A30,\"\")","v":"Micocoulier de Provence"},"Celtis australis","Emblématique","Autre","Emblématique","Autre","Emblématique","Emblématique","Possible","Emblématique","Emblématique","Emblématique","Possible","Autre","Autre","Possible"]
[{"$f":"IF(Base_Arbres!$A31<>\"\",Base_Arbres!$A31,\"\")","v":"Micocoulier de Julian Cannabaceae"},"Celtis julianae","Emblématique","Autre","Autre","Autre","Emblématique","Emblématique","Possible","Emblématique","Emblématique","Emblématique","Possible","Autre","Autre","Possible"]
[{"$f":"IF(Base_Arbres!$A32<>\"\",Base_Arbres!$A32,\"\")","v":"Micocoulier occidental"},"Celtis occidentalis","Emblématique","Autre","Emblématique","Autre","Emblématique","Emblématique","Possible","Emblématique","Emblématique","Emblématique","Possible","Autre","Autre","Possible"]
[{"$f":"IF(Base_Arbres!$A33<>\"\",Base_Arbres!$A33,\"\")","v":"Arbre au caramel"},"Cercidiphyllum japonicum","Autre","Possible","Possible","Possible","Autre","Autre","Emblématique","Emblématique","Emblématique","Possible","Possible","Autre","Autre","Possible"]
[{"$f":"IF(Base_Arbres!$A34<>\"\",Base_Arbres!$A34,\"\")","v":"Gainier du Canada"},"Cercis canadensis","Autre","Autre","Autre","Emblématique","Emblématique","Autre","Emblématique","Emblématique","Autre","Emblématique","Possible","Autre","Possible","Possible"]
[{"$f":"IF(Base_Arbres!$A35<>\"\",Base_Arbres!$A35,\"\")","v":"Arbre de Judée"},"Cercis siliquastrum","Autre","Emblématique","Autre","Emblématique","Autre","Possible","Emblématique","Emblématique","Emblématique","Possible","Possible","Autre","Autre","Emblématique"]
[{"$f":"IF(Base_Arbres!$A36<>\"\",Base_Arbres!$A36,\"\")","v":"Arbre de neige"},"Chionanthus virginicus","Autre","Autre","Autre","Emblématique","Autre","Autre","Emblématique","Emblématique","Autre","Emblématique","Autre","Possible","Possible","Possible"]
[{"$f":"IF(Base_Arbres!$A37<>\"\",Base_Arbres!$A37,\"\")","v":"Cornouiller sanguin"},"Cornus sanguinea","Autre","Autre","Autre","Emblématique","Emblématique","Autre","Emblématique","Emblématique","Emblématique","Emblématique","Possible","Emblématique","Emblématique","Possible"]
[{"$f":"IF(Base_Arbres!$A38<>\"\",Base_Arbres!$A38,\"\")","v":"Noisetier commun"},"Corylus avellana","Autre","Autre","Autre","Emblématique","Possible","Autre","Emblématique","Emblématique","Emblématique","Possible","Emblématique","Emblématique","Possible","Emblématique"]
[{"$f":"IF(Base_Arbres!$A39<>\"\",Base_Arbres!$A39,\"\")","v":"Noisetier de Byzance"},"Corylus colurna","Autre","Possible","Autre","Autre","Autre","Possible","Emblématique","Possible","Emblématique","Autre","Autre","Autre","Autre","Possible"]
[{"$f":"IF(Base_Arbres!$A40<>\"\",Base_Arbres!$A40,\"\")","v":"Noisetier de Byzance ‘VDB Obelisk’"},"Corylus colurna ‘VDB Obelisk’","Emblématique","Emblématique","Possible","Emblématique","Emblématique","Emblématique","Emblématique","Possible","Emblématique","Autre","Autre","Autre","Autre","Emblématique"]
[{"$f":"IF(Base_Arbres!$A41<>\"\",Base_Arbres!$A41,\"\")","v":"Aubépine épineuse"},"Crataegus laevigata","Autre","Autre","Autre","Emblématique","Emblématique","Autre","Emblématique","Emblématique","Autre","Emblématique","Possible","Emblématique","Emblématique","Possible"]
[{"$f":"IF(Base_Arbres!$A42<>\"\",Base_Arbres!$A42,\"\")","v":"Aubépine monogyne"},"Crataegus monogyna","Autre","Autre","Autre","Possible","Emblématique","Autre","Possible","Emblématique","Autre","Emblématique","Possible","Emblématique","Emblématique","Possible"]
[{"$f":"IF(Base_Arbres!$A43<>\"\",Base_Arbres!$A43,\"\")","v":"Arbre aux mouchoirs"},"Davidia involucrata","Autre","Autre","Autre","Emblématique","Autre","Autre","Emblématique","Emblématique","Emblématique","Emblématique","Possible","Emblématique","Emblématique","Possible"]
[{"$f":"IF(Base_Arbres!$A44<>\"\",Base_Arbres!$A44,\"\")","v":"Arbre à Gutta-Percha"},"Eucommia ulmoides","Possible","Autre","Autre","Autre","Possible","Possible","Autre","Emblématique","Possible","Possible","Possible","Autre","Possible","Possible"]
[{"$f":"IF(Base_Arbres!$A45<>\"\",Base_Arbres!$A45,\"\")","v":"Fusain d’Europe"},"Euonymus europaeus","Autre","Emblématique","Emblématique","Emblématique","Possible","Possible","Emblématique","Possible","Emblématique","Possible","Possible","Emblématique","Possible","Emblématique"]
[{"$f":"IF(Base_Arbres!$A46<>\"\",Base_Arbres!$A46,\"\")","v":"Hêtre commun"},"Fagus sylvatica","Autre","Autre","Autre","Autre","Autre","Autre","Possible","Emblématique","Autre","Possible","Possible","Emblématique","Possible","Possible"]
[{"$f":"IF(Base_Arbres!$A47<>\"\",Base_Arbres!$A47,\"\")","v":"Hêtre commun ‘Dawyck ’"},"Fagus sylvatica ‘Dawyck ’","Autre","Autre","Autre","Autre","Autre","Autre","Emblématique","Emblématique","Possible","Emblématique","Possible","Emblématique","Possible","Possible"]
[{"$f":"IF(Base_Arbres!$A48<>\"\",Base_Arbres!$A48,\"\")","v":"Frêne d'Amérique, Frêne blanc"},"Fraxinus americana","Emblématique","Possible","Possible","Possible","Emblématique","Emblématique","Possible","Emblématique","Emblématique","Emblématique","Autre","Emblématique","Emblématique","Possible"]
[{"$f":"IF(Base_Arbres!$A49<>\"\",Base_Arbres!$A49,\"\")","v":"Frêne à feuilles étroites, Frêne du midi, Frêne oxyphylle"},"Fraxinus angustifolia","Emblématique","Possible","Possible","Possible","Possible","Emblématique","Possible","Emblématique","Emblématique","Emblématique","Possible","Autre","Possible","Possible"]
[{"$f":"IF(Base_Arbres!$A50<>\"\",Base_Arbres!$A50,\"\")","v":"Frêne commun, Frêne élevé"},"Fraxinus excelsior","Autre","Autre","Autre","Possible","Emblématique","Autre","Autre","Emblématique","Autre","Emblématique","Possible","Emblématique","Emblématique","Autre"]
["Frêne à fleurs","Fraxinus ornus","Possible","Possible","Possible","Emblématique","Possible","Possible","Emblématique","Emblématique","Possible","Emblématique","Possible","Emblématique","Possible","Emblématique"]
[{"$f":"IF(Base_Arbres!$A52<>\"\",Base_Arbres!$A52,\"\")","v":"Frêne à fleurs colonnaire"},"Fraxinus ornus 'Paus Johannes-Paulus II'","Autre","Emblématique","Emblématique","Emblématique","Emblématique","Emblématique","Emblématique","Emblématique","Emblématique","Emblématique","Possible","Autre","Possible","Possible"]
[{"$f":"IF(Base_Arbres!$A53<>\"\",Base_Arbres!$A53,\"\")","v":"Frêne rouge d'Amérique"},"Fraxinus pennsylvanica","Emblématique","Possible","Possible","Possible","Emblématique","Emblématique","Possible","Emblématique","Emblématique","Emblématique","Autre","Emblématique","Emblématique","Possible"]
[{"$f":"IF(Base_Arbres!$A54<>\"\",Base_Arbres!$A54,\"\")","v":"Arbre aux quarante écus"},"Gingko biloba","Emblématique","Autre","Autre","Possible","Possible","Possible","Possible","Emblématique","Possible","Emblématique","Autre","Autre","Possible","Possible"]
[{"$f":"IF(Base_Arbres!$A55<>\"\",Base_Arbres!$A55,\"\")","v":"Arbre aux quarante écus Blagon"},"Ginkgo biloba ‘Blagon’","Autre","Emblématique","Autre","Emblématique","Possible","Possible","Emblématique","Possible","Emblématique","Emblématique","Autre","Autre","Possible","Emblématique"]
[{"$f":"IF(Base_Arbres!$A56<>\"\",Base_Arbres!$A56,\"\")","v":"Févier d’Amérique"},"Gleditsia triacanthos","Autre","Autre","Autre","Autre","Emblématique","Possible","Autre","Emblématique","Autre","Emblématique","Autre","Emblématique","Possible","Possible"]
[{"$f":"IF(Base_Arbres!$A57<>\"\",Base_Arbres!$A57,\"\")","v":"Houx commun"},"Ilex aquifolium","Autre","Autre","Autre","Autre","Autre","Autre","Possible","Emblématique","Autre","Emblématique","Emblématique","Emblématique","Possible","Autre"]
[{"$f":"IF(Base_Arbres!$A58<>\"\",Base_Arbres!$A58,\"\")","v":"Noyer commun"},"Juglans regia","Autre","Autre","Autre","Autre","Autre","Autre","Autre","Emblématique","Possible","Autre","Autre","Emblématique","Possible","Autre"]
[{"$f":"IF(Base_Arbres!$A59<>\"\",Base_Arbres!$A59,\"\")","v":"Genévrier commun"},"Juniperus communis","Autre","Autre","Autre","Emblématique","Autre","Autre","Emblématique","Emblématique","Autre","Possible","Autre","Autre","Autre","Possible"]
[{"$f":"IF(Base_Arbres!$A60<>\"\",Base_Arbres!$A60,\"\")","v":"Savonnier de chine"},"Koelreuteria paniculata","Autre","Autre","Autre","Possible","Autre","Autre","Emblématique","Emblématique","Possible","Emblématique","Autre","Autre","Possible","Possible"]
[{"$f":"IF(Base_Arbres!$A61<>\"\",Base_Arbres!$A61,\"\")","v":"Mélèze d’Europe"},"Larix decidua","Autre","Autre","Autre","Autre","Autre","Autre","Autre","Emblématique","Autre","Emblématique","Autre","Emblématique","Possible","Possible"]
[{"$f":"IF(Base_Arbres!$A62<>\"\",Base_Arbres!$A62,\"\")","v":"Troène commun"},"Ligustrum vulgare","Autre","Emblématique","Emblématique","Emblématique","Possible","Autre","Emblématique","Emblématique","Autre","Emblématique","Possible","Emblématique","Possible","Emblématique"]
[{"$f":"IF(Base_Arbres!$A63<>\"\",Base_Arbres!$A63,\"\")","v":"Copalme d'Orient"},"Liquidambar orientalis","Autre","Possible","Possible","Emblématique","Emblématique","Emblématique","Emblématique","Emblématique","Autre","Emblématique","Autre","Emblématique","Emblématique","Emblématique"]
[{"$f":"IF(Base_Arbres!$A64<>\"\",Base_Arbres!$A64,\"\")","v":"Copalme d’Amérique"},"Liquidambar styraciflua","Emblématique","Possible","Possible","Emblématique","Emblématique","Possible","Possible","Emblématique","Possible","Autre","Autre","Emblématique","Possible","Possible"]
[{"$f":"IF(Base_Arbres!$A65<>\"\",Base_Arbres!$A65,\"\")","v":"Tulipier de Virginie"},"Liriodendron tulipifera","Emblématique","Autre","Autre","Possible","Emblématique","Emblématique","Autre","Emblématique","Emblématique","Emblématique","Possible","Autre","Possible","Possible"]
[{"$f":"IF(Base_Arbres!$A66<>\"\",Base_Arbres!$A66,\"\")","v":"Magnolia à grandes fleurs"},"Magnolia grandiflora","Emblématique","Autre","Possible","Autre","Possible","Emblématique","Autre","Emblématique","Autre","Autre","Emblématique","Autre","Autre","Possible"]
[{"$f":"IF(Base_Arbres!$A67<>\"\",Base_Arbres!$A67,\"\")","v":"Magnolia de Kobé"},"Magnolia kobus","Possible","Emblématique","Possible","Emblématique","Possible","Emblématique","Emblématique","Emblématique","Emblématique","Emblématique","Autre","Autre","Possible","Emblématique"]
[{"$f":"IF(Base_Arbres!$A68<>\"\",Base_Arbres!$A68,\"\")","v":"Magnolia de Kobé ‘Isis’"},"Magnolia Kobus ‘Isis’","Possible","Emblématique","Autre","Emblématique","Possible","Emblématique","Emblématique","Emblématique","Emblématique","Emblématique","Autre","Autre","Possible","Emblématique"]
[{"$f":"IF(Base_Arbres!$A69<>\"\",Base_Arbres!$A69,\"\")","v":"Pommier sauvage"},"Malus sylvestris","Autre","Autre","Autre","Possible","Autre","Autre","Emblématique","Possible","Possible","Autre","Autre","Emblématique","Emblématique","Autre"]
[{"$f":"IF(Base_Arbres!$A70<>\"\",Base_Arbres!$A70,\"\")","v":"Pommier d'ornement japonais Brouwers Beauty"},"Malus toringo ‘Brouwers Beauty’","Autre","Emblématique","Autre","Emblématique","Possible","Autre","Emblématique","Possible","Emblématique","Autre","Autre","Autre","Emblématique","Emblématique"]
[{"$f":"IF(Base_Arbres!$A71<>\"\",Base_Arbres!$A71,\"\")","v":"Pommier trilobé"},"Malus trilobata","Autre","Autre","Autre","Possible","Possible","Autre","Autre","Emblématique","Autre","Emblématique","Possible","Autre","Emblématique","Possible"]
[{"$f":"IF(Base_Arbres!$A72<>\"\",Base_Arbres!$A72,\"\")","v":"Pommier de Sukawa"},"Malus tschonoskii","Autre","Emblématique","Possible","Emblématique","Possible","Autre","Emblématique","Emblématique","Emblématique","Emblématique","Possible","Autre","Emblématique","Emblématique"]
[{"$f":"IF(Base_Arbres!$A73<>\"\",Base_Arbres!$A73,\"\")","v":"Néflier commun"},"Mespilus germanica","Autre","Autre","Autre","Autre","Autre","Autre","Emblématique","Emblématique","Emblématique","Possible","Possible","Possible","Emblématique","Autre"]
[{"$f":"IF(Base_Arbres!$A74<>\"\",Base_Arbres!$A74,\"\")","v":"Metaséquoia, Métaséquoia du Sechuan"},"Metasequoia glyptostroboides","Autre","Autre","Autre","Autre","Emblématique","Emblématique","Autre","Emblématique","Autre","Emblématique","Possible","Emblématique","Emblématique","Autre"]
[{"$f":"IF(Base_Arbres!$A75<>\"\",Base_Arbres!$A75,\"\")","v":"Tupélo de Chine"},"Nyssa sylvatica","Autre","Autre","Autre","Emblématique","Emblématique","Autre","Emblématique","Emblématique","Autre","Emblématique","Possible","Autre","Emblématique","Possible"]
[{"$f":"IF(Base_Arbres!$A76<>\"\",Base_Arbres!$A76,\"\")","v":"Charme houblon, Ostryer commun"},"Ostrya caprinifolia","Emblématique","Possible","Possible","Possible","Emblématique","Emblématique","Possible","Emblématique","Emblématique","Emblématique","Possible","Possible","Emblématique","Emblématique"]
[{"$f":"IF(Base_Arbres!$A77<>\"\",Base_Arbres!$A77,\"\")","v":"Parrotie de Perse, Arbre de fer"},"Parrotia persica","Autre","Autre","Autre","Possible","Possible","Autre","Emblématique","Emblématique","Emblématique","Emblématique","Possible","Autre","Autre","Possible"]
[{"$f":"IF(Base_Arbres!$A78<>\"\",Base_Arbres!$A78,\"\")","v":"Paulownia Fast Blue"},"Paulownia fortunei 'Minfast' FAST BLUE®","Possible","Possible","Possible","Possible","Autre","Possible","Emblématique","Emblématique","Possible","Emblématique","Autre","Autre","Autre","Possible"]
[{"$f":"IF(Base_Arbres!$A79<>\"\",Base_Arbres!$A79,\"\")","v":"Paulownia tomenteux ou impérial"},"Paulownia tomentosa","Autre","Autre","Autre","Possible","Possible","Possible","Emblématique","Emblématique","Possible","Emblématique","Autre","Autre","Autre","Possible"]
[{"$f":"IF(Base_Arbres!$A80<>\"\",Base_Arbres!$A80,\"\")","v":"Seringa, Jasmin des poètes"},"Philadelphus coronarius","Autre","Autre","Possible","Emblématique","Autre","Autre","Emblématique","Emblématique","Emblématique","Possible","Possible","Emblématique","Emblématique","Emblématique"]
[{"$f":"IF(Base_Arbres!$A81<>\"\",Base_Arbres!$A81,\"\")","v":"Epicéa commun"},"Picea abies","Autre","Autre","Autre","Autre","Autre","Autre","Possible","Emblématique","Autre","Possible","Possible","Emblématique","Possible","Possible"]
[{"$f":"IF(Base_Arbres!$A82<>\"\",Base_Arbres!$A82,\"\")","v":"Pin sylvestre"},"Pinus sylvestris","Autre","Autre","Autre","Autre","Autre","Possible","Emblématique","Emblématique","Autre","Emblématique","Autre","Autre","Possible","Possible"]
[{"$f":"IF(Base_Arbres!$A83<>\"\",Base_Arbres!$A83,\"\")","v":"Pistachier de Chine"},"Pistacia chinensis","Autre","Emblématique","Emblématique","Emblématique","Autre","Emblématique","Emblématique","Emblématique","Autre","Emblématique","Autre","Possible","Possible","Emblématique"]
[{"$f":"IF(Base_Arbres!$A84<>\"\",Base_Arbres!$A84,\"\")","v":"Platane d’Occident"},"Platanus occidentalis","Emblématique","Autre","Emblématique","Autre","Emblématique","Emblématique","Emblématique","Emblématique","Emblématique","Emblématique","Autre","Autre","Possible","Possible"]
[{"$f":"IF(Base_Arbres!$A85<>\"\",Base_Arbres!$A85,\"\")","v":"Platane d'Orient"},"Platanus orientalis","Emblématique","Autre","Emblématique","Autre","Emblématique","Emblématique","Emblématique","Emblématique","Emblématique","Emblématique","Possible","Autre","Possible","Possible"]
[{"$f":"IF(Base_Arbres!$A86<>\"\",Base_Arbres!$A86,\"\")","v":"Platane commun"},"Platanus x hispanica","Emblématique","Autre","Emblématique","Autre","Emblématique","Emblématique","Emblématique","Emblématique","Emblématique","Emblématique","Possible","Autre","Possible","Possible"]
[{"$f":"IF(Base_Arbres!$A87<>\"\",Base_Arbres!$A87,\"\")","v":"Peuplier blanc"},"Populus alba","Autre","Autre","Autre","Possible","Emblématique","Autre","Autre","Emblématique","Autre","Emblématique","Possible","Autre","Emblématique","Possible"]
[{"$f":"IF(Base_Arbres!$A88<>\"\",Base_Arbres!$A88,\"\")","v":"Peuplier tremble"},"Populus tremula","Autre","Autre","Autre","Autre","Emblématique","Autre","Autre","Emblématique","Autre","Possible","Possible","Autre","Emblématique","Autre"]
[{"$f":"IF(Base_Arbres!$A89<>\"\",Base_Arbres!$A89,\"\")","v":"Merisier"},"Prunus avium","Autre","Autre","Autre","Autre","Emblématique","Autre","Autre","Emblématique","Autre","Possible","Possible","Possible","Emblématique","Possible"]
[{"$f":"IF(Base_Arbres!$A90<>\"\",Base_Arbres!$A90,\"\")","v":"Merisier 'Landscape Bloom'"},"Prunus avium 'Landscape Bloom'","Autre","Autre","Autre","Possible","Possible","Autre","Emblématique","Emblématique","Possible","Possible","Autre","Emblématique","Emblématique","Possible"]
[{"$f":"IF(Base_Arbres!$A91<>\"\",Base_Arbres!$A91,\"\")","v":"Cerisier de Sainte-Lucie"},"Prunus mahaleb","Autre","Autre","Autre","Possible","Autre","Autre","Emblématique","Emblématique","Possible","Emblématique","Possible","Emblématique","Possible","Possible"]
[{"$f":"IF(Base_Arbres!$A92<>\"\",Base_Arbres!$A92,\"\")","v":"Cerisier à grappes"},"Prunus padus","Autre","Autre","Autre","Autre","Autre","Autre","Emblématique","Emblématique","Possible","Emblématique","Possible","Possible","Possible","Possible"]
[{"$f":"IF(Base_Arbres!$A93<>\"\",Base_Arbres!$A93,\"\")","v":"Cerisier de Sargent"},"Prunus sargentii","Autre","Autre","Autre","Possible","Autre","Autre","Emblématique","Emblématique","Emblématique","Emblématique","Autre","Autre","Emblématique","Possible"]
[{"$f":"IF(Base_Arbres!$A94<>\"\",Base_Arbres!$A94,\"\")","v":"Prunelier"},"Prunus spinosa","Autre","Autre","Autre","Emblématique","Autre","Autre","Emblématique","Emblématique","Emblématique","Emblématique","Possible","Emblématique","Emblématique","Possible"]
[{"$f":"IF(Base_Arbres!$A95<>\"\",Base_Arbres!$A95,\"\")","v":"Cerisier d'hiver"},"Prunus x subhirtella","Autre","Autre","Autre","Possible","Autre","Autre","Emblématique","Emblématique","Emblématique","Emblématique","Autre","Autre","Possible","Possible"]
[{"$f":"IF(Base_Arbres!$A96<>\"\",Base_Arbres!$A96,\"\")","v":"Ptérocarier de Chine"},"Pterocarya stenoptera","Emblématique","Possible","Possible","Possible","Emblématique","Emblématique","Emblématique","Emblématique","Autre","Emblématique","Autre","Emblématique","Emblématique","Emblématique"]
[{"$f":"IF(Base_Arbres!$A97<>\"\",Base_Arbres!$A97,\"\")","v":"Poirier commun"},"Pyrus communis","Autre","Autre","Autre","Autre","Autre","Autre","Autre","Emblématique","Emblématique","Autre","Possible","Autre","Possible","Emblématique"]
[{"$f":"IF(Base_Arbres!$A98<>\"\",Base_Arbres!$A98,\"\")","v":"Chêne blanc"},"Quercus alba","Autre","Autre","Autre","Autre","Possible","Autre","Emblématique","Emblématique","Possible","Emblématique","Autre","Possible","Emblématique","Autre"]
[{"$f":"IF(Base_Arbres!$A99<>\"\",Base_Arbres!$A99,\"\")","v":"Chêne chevelu de bourgogne"},"Quercus cerris","Autre","Autre","Autre","Autre","Possible","Autre","Emblématique","Emblématique","Autre","Emblématique","Autre","Possible","Emblématique","Autre"]
[{"$f":"IF(Base_Arbres!$A100<>\"\",Base_Arbres!$A100,\"\")","v":"Chêne de Hongrie"},"Quercus frainetto","Emblématique","Autre","Possible","Autre","Emblématique","Emblématique","Autre","Emblématique","Autre","Emblématique","Autre","Possible","Emblématique","Possible"]
[{"$f":"IF(Base_Arbres!$A101<>\"\",Base_Arbres!$A101,\"\")","v":"Chêne vert"},"Quercus ilex","Emblématique","Emblématique","Autre","Possible","Autre","Emblématique","Emblématique","Emblématique","Emblématique","Emblématique","Autre","Possible","Autre","Possible"]
[{"$f":"IF(Base_Arbres!$A102<>\"\",Base_Arbres!$A102,\"\")","v":"Chêne à feuilles de laurier"},"Quercus imbricaria","Autre","Autre","Autre","Possible","Possible","Possible","Emblématique","Emblématique","Autre","Emblématique","Possible","Emblématique","Emblématique","Possible"]
[{"$f":"IF(Base_Arbres!$A103<>\"\",Base_Arbres!$A103,\"\")","v":"Chêne du Caucase"},"Quercus macranthera","Autre","Autre","Autre","Autre","Autre","Autre","Emblématique","Emblématique","Autre","Emblématique","Autre","Possible","Possible","Possible"]
[{"$f":"IF(Base_Arbres!$A104<>\"\",Base_Arbres!$A104,\"\")","v":"Chêne sessile, Chêne rouvre"},"Quercus petraea","Autre","Autre","Possible","Autre","Autre","Autre","Emblématique","Emblématique","Possible","Emblématique","Possible","Emblématique","Autre","Possible"]
[{"$f":"IF(Base_Arbres!$A105<>\"\",Base_Arbres!$A105,\"\")","v":"Chêne pubescent"},"Quercus pubescens","Autre","Autre","Possible","Autre","Emblématique","Autre","Emblématique","Emblématique","Possible","Emblématique","Possible","Emblématique","Emblématique","Possible"]
[{"$f":"IF(Base_Arbres!$A106<>\"\",Base_Arbres!$A106,\"\")","v":"Chêne pédonculé"},"Quercus rhysophylla 'Maya'","Autre","Autre","Possible","Possible","Emblématique","Autre","Emblématique","Emblématique","Possible","Emblématique","Possible","Emblématique","Emblématique","Possible"]
[{"$f":"IF(Base_Arbres!$A107<>\"\",Base_Arbres!$A107,\"\")","v":"Chêne rouge d’Amérique"},"Quercus robur","Autre","Autre","Possible","Autre","Emblématique","Autre","Emblématique","Emblématique","Possible","Emblématique","Possible","Emblématique","Emblématique","Possible"]
[{"$f":"IF(Base_Arbres!$A108<>\"\",Base_Arbres!$A108,\"\")","v":"Chêne du Mexique Maya"},"Quercus rubra","Autre","Autre","Possible","Autre","Autre","Autre","Emblématique","Emblématique","Possible","Emblématique","Possible","Emblématique","Autre","Possible"]
[{"$f":"IF(Base_Arbres!$A109<>\"\",Base_Arbres!$A109,\"\")","v":"Chêne de Turner Pseudoturneri"},"Quercus x turneri pseudoturneri","Autre","Autre","Possible","Emblématique","Emblématique","Autre","Emblématique","Emblématique","Possible","Emblématique","Possible","Emblématique","Emblématique","Emblématique"]
[{"$f":"IF(Base_Arbres!$A110<>\"\",Base_Arbres!$A110,\"\")","v":"Saule blanc"},"Salix alba","Autre","Autre","Autre","Autre","Emblématique","Autre","Possible","Emblématique","Autre","Autre","Autre","Autre","Emblématique","Autre"]
[{"$f":"IF(Base_Arbres!$A111<>\"\",Base_Arbres!$A111,\"\")","v":"Saule de Babylone, Saule pleureur à bois vert"},"Salix babylonica","Autre","Autre","Autre","Autre","Emblématique","Autre","Possible","Emblématique","Autre","Autre","Autre","Autre","Emblématique","Autre"]
[{"$f":"IF(Base_Arbres!$A112<>\"\",Base_Arbres!$A112,\"\")","v":"Osier vert"},"Salix viminalis","Autre","Autre","Autre","Emblématique","Emblématique","Autre","Emblématique","Emblématique","Possible","Autre","Autre","Autre","Emblématique","Autre"]
[{"$f":"IF(Base_Arbres!$A113<>\"\",Base_Arbres!$A113,\"\")","v":"Sureau noir"},"Sambucus nigra","Autre","Autre","Autre","Emblématique","Emblématique","Autre","Emblématique","Emblématique","Possible","Emblématique","Possible","Emblématique","Emblématique","Emblématique"]
[{"$f":"IF(Base_Arbres!$A114<>\"\",Base_Arbres!$A114,\"\")","v":"Séquoia toujours vert"},"Sequoia sempervirens","Autre","Autre","Autre","Autre","Autre","Autre","Autre","Emblématique","Autre","Possible","Possible","Autre","Possible","Autre"]
[{"$f":"IF(Base_Arbres!$A115<>\"\",Base_Arbres!$A115,\"\")","v":"Séquoia géant"},"Sequoiadendron giganteum","Autre","Autre","Autre","Autre","Autre","Autre","Autre","Emblématique","Autre","Possible","Autre","Autre","Possible","Autre"]
[{"$f":"IF(Base_Arbres!$A116<>\"\",Base_Arbres!$A116,\"\")","v":"Alisier blanc"},"Sorbus aria","Possible","Emblématique","Possible","Possible","Autre","Autre","Emblématique","Emblématique","Emblématique","Emblématique","Possible","Autre","Possible","Possible"]
[{"$f":"IF(Base_Arbres!$A117<>\"\",Base_Arbres!$A117,\"\")","v":"Sorbier des oiseleurs"},"Sorbus aucuparia","Autre","Autre","Autre","Possible","Autre","Autre","Emblématique","Emblématique","Possible","Emblématique","Possible","Emblématique","Possible","Possible"]
[{"$f":"IF(Base_Arbres!$A118<>\"\",Base_Arbres!$A118,\"\")","v":"Sorbier des oiseleurs fastigiata"},"Sorbus aucuparia fastigiata","Autre","Autre","Autre","Possible","Autre","Autre","Emblématique","Emblématique","Possible","Emblématique","Possible","Autre","Autre","Possible"]
[{"$f":"IF(Base_Arbres!$A119<>\"\",Base_Arbres!$A119,\"\")","v":"Alisier de Suède"},"Sorbus intermedia","Possible","Emblématique","Autre","Possible","Emblématique","Emblématique","Emblématique","Emblématique","Emblématique","Emblématique","Possible","Emblématique","Emblématique","Emblématique"]
[{"$f":"IF(Base_Arbres!$A120<>\"\",Base_Arbres!$A120,\"\")","v":"Alisier de Suède Brouwers"},"Sorbus intermedia Brouwers","Possible","Emblématique","Autre","Possible","Emblématique","Emblématique","Emblématique","Emblématique","Emblématique","Emblématique","Possible","Autre","Emblématique","Emblématique"]
[{"$f":"IF(Base_Arbres!$A121<>\"\",Base_Arbres!$A121,\"\")","v":"Alisier torminal"},"Sorbus torminalis","Autre","Autre","Autre","Possible","Autre","Autre","Emblématique","Emblématique","Possible","Emblématique","Possible","Possible","Possible","Possible"]
[{"$f":"IF(Base_Arbres!$A122<>\"\",Base_Arbres!$A122,\"\")","v":"Alisier de Thuringe"},"Sorbus x thuringiaca","Autre","Emblématique","Autre","Possible","Autre","Autre","Emblématique","Emblématique","Possible","Emblématique","Possible","Possible","Possible","Emblématique"]
[{"$f":"IF(Base_Arbres!$A123<>\"\",Base_Arbres!$A123,\"\")","v":"Sophora du Japon"},"Styphnolobium japonicum","Emblématique","Autre","Possible","Autre","Possible","Emblématique","Possible","Emblématique","Autre","Emblématique","Possible","Autre","Autre","Possible"]
[{"$f":"IF(Base_Arbres!$A124<>\"\",Base_Arbres!$A124,\"\")","v":"Tilleul à petites feuilles"},"Tilia cordata","Emblématique","Autre","Autre","Autre","Emblématique","Emblématique","Possible","Emblématique","Emblématique","Emblématique","Emblématique","Emblématique","Possible","Possible"]
[{"$f":"IF(Base_Arbres!$A125<>\"\",Base_Arbres!$A125,\"\")","v":"Tilleul à grandes feuilles"},"Tilia Platyphyllos","Emblématique","Autre","Autre","Autre","Autre","Emblématique","Autre","Emblématique","Emblématique","Emblématique","Possible","Possible","Possible","Possible"]
[{"$f":"IF(Base_Arbres!$A126<>\"\",Base_Arbres!$A126,\"\")","v":"Tilleul de Crimée"},"Tilia x euchlora","Emblématique","Autre","Autre","Autre","Emblématique","Emblématique","Autre","Emblématique","Emblématique","Emblématique","Possible","Autre","Possible","Possible"]
[{"$f":"IF(Base_Arbres!$A127<>\"\",Base_Arbres!$A127,\"\")","v":"Orme hybride 'Columella'"},"Ulmus ‘Columella’","Autre","Possible","Possible","Possible","Emblématique","Autre","Possible","Emblématique","Possible","Emblématique","Autre","Autre","Emblématique","Emblématique"]
[{"$f":"IF(Base_Arbres!$A128<>\"\",Base_Arbres!$A128,\"\")","v":"Orme de montagne"},"Ulmus glabra","Autre","Autre","Autre","Possible","Autre","Possible","Autre","Emblématique","Possible","Emblématique","Possible","Autre","Possible","Possible"]
[{"$f":"IF(Base_Arbres!$A129<>\"\",Base_Arbres!$A129,\"\")","v":"Orme lisse"},"Ulmus laevis","Autre","Autre","Autre","Possible","Emblématique","Possible","Autre","Emblématique","Possible","Emblématique","Possible","Emblématique","Emblématique","Possible"]
[{"$f":"IF(Base_Arbres!$A130<>\"\",Base_Arbres!$A130,\"\")","v":"Orme champêtre"},"Ulmus minor","Autre","Autre","Autre","Possible","Emblématique","Possible","Autre","Emblématique","Possible","Emblématique","Possible","Emblématique","Emblématique","Possible"]
[{"$f":"IF(Base_Arbres!$A131<>\"\",Base_Arbres!$A131,\"\")","v":"Orme hybride Lutèce"},"Ulmus 'Nanguen' LUTECE®","Emblématique","Possible","Emblématique","Autre","Emblématique","Emblématique","Autre","Emblématique","Emblématique","Emblématique","Possible","Autre","Emblématique","Possible"]
[{"$f":"IF(Base_Arbres!$A132<>\"\",Base_Arbres!$A132,\"\")","v":"Viorne lantane"},"Viburnum lantana","Autre","Autre","Autre","Emblématique","Autre","Possible","Emblématique","Emblématique","Possible","Emblématique","Possible","Emblématique","Emblématique","Possible"]
[{"$f":"IF(Base_Arbres!$A133<>\"\",Base_Arbres!$A133,\"\")","v":"Viorne obier"},"Viburnum opulus","Autre","Autre","Autre","Emblématique","Emblématique","Possible","Emblématique","Emblématique","Possible","Emblématique","Possible","Emblématique","Emblématique","Possible"]
[{"$f":"IF(Base_Arbres!$A134<>\"\",Base_Arbres!$A134,\"\")","v":"Faux-orme du Japon"},"Zelkova serrata","Emblématique","Possible","Emblématique","Autre","Emblématique","Emblématique","Emblématique","Emblématique","Emblématique","Emblématique","Possible","Autre","Possible","Possible"]
[{"$f":"IF(Base_Arbres!$A135<>\"\",Base_Arbres!$A135,\"\")","v":""}]
[{"$f":"IF(Base_Arbres!$A136<>\"\",Base_Arbres!$A136,\"\")","v":""}]
[{"$f":"IF(Base_Arbres!$A137<>\"\",Base_Arbres!$A137,\"\")","v":""}]
[{"$f":"IF(Base_Arbres!$A138<>\"\",Base_Arbres!$A138,\"\")","v":""}]
[{"$f":"IF(Base_Arbres!$A139<>\"\",Base_Arbres!$A139,\"\")","v":""}]
[{"$f":"IF(Base_Arbres!$A140<>\"\",Base_Arbres!$A140,\"\")","v":""}]
[{"$f":"IF(Base_Arbres!$A141<>\"\",Base_Arbres!$A141,\"\")","v":""}]
[{"$f":"IF(Base_Arbres!$A142<>\"\",Base_Arbres!$A142,\"\")","v":""}]
[{"$f":"IF(Base_Arbres!$A143<>\"\",Base_Arbres!$A143,\"\")","v":""}]
[{"$f":"IF(Base_Arbres!$A144<>\"\",Base_Arbres!$A144,\"\")","v":""}]
[{"$f":"IF(Base_Arbres!$A145<>\"\",Base_Arbres!$A145,\"\")","v":""}]
[{"$f":"IF(Base_Arbres!$A146<>\"\",Base_Arbres!$A146,\"\")","v":""}]
[{"$f":"IF(Base_Arbres!$A147<>\"\",Base_Arbres!$A147,\"\")","v":""}]
[{"$f":"IF(Base_Arbres!$A148<>\"\",Base_Arbres!$A148,\"\")","v":""}]
[{"$f":"IF(Base_Arbres!$A149<>\"\",Base_Arbres!$A149,\"\")","v":""}]
[{"$f":"IF(Base_Arbres!$A150<>\"\",Base_Arbres!$A150,\"\")","v":""}]
[{"$f":"IF(Base_Arbres!$A151<>\"\",Base_Arbres!$A151,\"\")","v":""}]
[{"$f":"IF(Base_Arbres!$A152<>\"\",Base_Arbres!$A152,\"\")","v":""}]
[{"$f":"IF(Base_Arbres!$A153<>\"\",Base_Arbres!$A153,\"\")","v":""}]
[{"$f":"IF(Base_Arbres!$A154<>\"\",Base_Arbres!$A154,\"\")","v":""}]
[{"$f":"IF(Base_Arbres!$A155<>\"\",Base_Arbres!$A155,\"\")","v":""}]
[{"$f":"IF(Base_Arbres!$A156<>\"\",Base_Arbres!$A156,\"\")","v":""}]
[{"$f":"IF(Base_Arbres!$A157<>\"\",Base_Arbres!$A157,\"\")","v":""}]
[{"$f":"IF(Base_Arbres!$A158<>\"\",Base_Arbres!$A158,\"\")","v":""}]
[{"$f":"IF(Base_Arbres!$A159<>\"\",Base_Arbres!$A159,\"\")","v":""}]
[{"$f":"IF(Base_Arbres!$A160<>\"\",Base_Arbres!$A160,\"\")","v":""}]
[{"$f":"IF(Base_Arbres!$A161<>\"\",Base_Arbres!$A161,\"\")","v":""}]
[{"$f":"IF(Base_Arbres!$A162<>\"\",Base_Arbres!$A162,\"\")","v":""}]
[{"$f":"IF(Base_Arbres!$A163<>\"\",Base_Arbres!$A163,\"\")","v":""}]
[{"$f":"IF(Base_Arbres!$A164<>\"\",Base_Arbres!$A164,\"\")","v":""}]
[{"$f":"IF(Base_Arbres!$A165<>\"\",Base_Arbres!$A165,\"\")","v":""}]
[{"$f":"IF(Base_Arbres!$A166<>\"\",Base_Arbres!$A166,\"\")","v":""}]
[{"$f":"IF(Base_Arbres!$A167<>\"\",Base_Arbres!$A167,\"\")","v":""}]
[{"$f":"IF(Base_Arbres!$A168<>\"\",Base_Arbres!$A168,\"\")","v":""}]
[{"$f":"IF(Base_Arbres!$A169<>\"\",Base_Arbres!$A169,\"\")","v":""}]
[{"$f":"IF(Base_Arbres!$A170<>\"\",Base_Arbres!$A170,\"\")","v":""}]
[{"$f":"IF(Base_Arbres!$A171<>\"\",Base_Arbres!$A171,\"\")","v":""}]
[{"$f":"IF(Base_Arbres!$A172<>\"\",Base_Arbres!$A172,\"\")","v":""}]
[{"$f":"IF(Base_Arbres!$A173<>\"\",Base_Arbres!$A173,\"\")","v":""}]
[{"$f":"IF(Base_Arbres!$A174<>\"\",Base_Arbres!$A174,\"\")","v":""}]
[{"$f":"IF(Base_Arbres!$A175<>\"\",Base_Arbres!$A175,\"\")","v":""}]
[{"$f":"IF(Base_Arbres!$A176<>\"\",Base_Arbres!$A176,\"\")","v":""}]
[{"$f":"IF(Base_Arbres!$A177<>\"\",Base_Arbres!$A177,\"\")","v":""}]
[{"$f":"IF(Base_Arbres!$A178<>\"\",Base_Arbres!$A178,\"\")","v":""}]
[{"$f":"IF(Base_Arbres!$A179<>\"\",Base_Arbres!$A179,\"\")","v":""}]
[{"$f":"IF(Base_Arbres!$A180<>\"\",Base_Arbres!$A180,\"\")","v":""}]
[{"$f":"IF(Base_Arbres!$A181<>\"\",Base_Arbres!$A181,\"\")","v":""}]
[{"$f":"IF(Base_Arbres!$A182<>\"\",Base_Arbres!$A182,\"\")","v":""}]
[{"$f":"IF(Base_Arbres!$A183<>\"\",Base_Arbres!$A183,\"\")","v":""}]
[{"$f":"IF(Base_Arbres!$A184<>\"\",Base_Arbres!$A184,\"\")","v":""}]
[{"$f":"IF(Base_Arbres!$A185<>\"\",Base_Arbres!$A185,\"\")","v":""}]
[{"$f":"IF(Base_Arbres!$A186<>\"\",Base_Arbres!$A186,\"\")","v":""}]
[{"$f":"IF(Base_Arbres!$A187<>\"\",Base_Arbres!$A187,\"\")","v":""}]
[{"$f":"IF(Base_Arbres!$A188<>\"\",Base_Arbres!$A188,\"\")","v":""}]
[{"$f":"IF(Base_Arbres!$A189<>\"\",Base_Arbres!$A189,\"\")","v":""}]
[{"$f":"IF(Base_Arbres!$A190<>\"\",Base_Arbres!$A190,\"\")","v":""}]
[{"$f":"IF(Base_Arbres!$A191<>\"\",Base_Arbres!$A191,\"\")","v":""}]
[{"$f":"IF(Base_Arbres!$A192<>\"\",Base_Arbres!$A192,\"\")","v":""}]
[{"$f":"IF(Base_Arbres!$A193<>\"\",Base_Arbres!$A193,\"\")","v":""}]
[{"$f":"IF(Base_Arbres!$A194<>\"\",Base_Arbres!$A194,\"\")","v":""}]
[{"$f":"IF(Base_Arbres!$A195<>\"\",Base_Arbres!$A195,\"\")","v":""}]
[{"$f":"IF(Base_Arbres!$A196<>\"\",Base_Arbres!$A196,\"\")","v":""}]
[{"$f":"IF(Base_Arbres!$A197<>\"\",Base_Arbres!$A197,\"\")","v":""}]
[{"$f":"IF(Base_Arbres!$A198<>\"\",Base_Arbres!$A198,\"\")","v":""}]
[{"$f":"IF(Base_Arbres!$A199<>\"\",Base_Arbres!$A199,\"\")","v":""}]
[{"$f":"IF(Base_Arbres!$A200<>\"\",Base_Arbres!$A200,\"\")","v":""}]
[{"$f":"IF(Base_Arbres!$A201<>\"\",Base_Arbres!$A201,\"\")","v":""}]
[{"$f":"IF(Base_Arbres!$A202<>\"\",Base_Arbres!$A202,\"\")","v":""}]
[{"$f":"IF(Base_Arbres!$A203<>\"\",Base_Arbres!$A203,\"\")","v":""}]
[{"$f":"IF(Base_Arbres!$A204<>\"\",Base_Arbres!$A204,\"\")","v":""}]
[{"$f":"IF(Base_Arbres!$A205<>\"\",Base_Arbres!$A205,\"\")","v":""}]
[{"$f":"IF(Base_Arbres!$A206<>\"\",Base_Arbres!$A206,\"\")","v":""}]
[{"$f":"IF(Base_Arbres!$A207<>\"\",Base_Arbres!$A207,\"\")","v":""}]
[{"$f":"IF(Base_Arbres!$A208<>\"\",Base_Arbres!$A208,\"\")","v":""}]
[{"$f":"IF(Base_Arbres!$A209<>\"\",Base_Arbres!$A209,\"\")","v":""}]
[{"$f":"IF(Base_Arbres!$A210<>\"\",Base_Arbres!$A210,\"\")","v":""}]
[{"$f":"IF(Base_Arbres!$A211<>\"\",Base_Arbres!$A211,\"\")","v":""}]
[{"$f":"IF(Base_Arbres!$A212<>\"\",Base_Arbres!$A212,\"\")","v":""}]
[{"$f":"IF(Base_Arbres!$A213<>\"\",Base_Arbres!$A213,\"\")","v":""}]
[{"$f":"IF(Base_Arbres!$A214<>\"\",Base_Arbres!$A214,\"\")","v":""}]
[{"$f":"IF(Base_Arbres!$A215<>\"\",Base_Arbres!$A215,\"\")","v":""}]
[{"$f":"IF(Base_Arbres!$A216<>\"\",Base_Arbres!$A216,\"\")","v":""}]
[{"$f":"IF(Base_Arbres!$A217<>\"\",Base_Arbres!$A217,\"\")","v":""}]
[{"$f":"IF(Base_Arbres!$A218<>\"\",Base_Arbres!$A218,\"\")","v":""}]
[{"$f":"IF(Base_Arbres!$A219<>\"\",Base_Arbres!$A219,\"\")","v":""}]
[{"$f":"IF(Base_Arbres!$A220<>\"\",Base_Arbres!$A220,\"\")","v":""}]
[{"$f":"IF(Base_Arbres!$A221<>\"\",Base_Arbres!$A221,\"\")","v":""}]
[{"$f":"IF(Base_Arbres!$A222<>\"\",Base_Arbres!$A222,\"\")","v":""}]
[{"$f":"IF(Base_Arbres!$A223<>\"\",Base_Arbres!$A223,\"\")","v":""}]
[{"$f":"IF(Base_Arbres!$A224<>\"\",Base_Arbres!$A224,\"\")","v":""}]
[{"$f":"IF(Base_Arbres!$A225<>\"\",Base_Arbres!$A225,\"\")","v":""}]
[{"$f":"IF(Base_Arbres!$A226<>\"\",Base_Arbres!$A226,\"\")","v":""}]
[{"$f":"IF(Base_Arbres!$A227<>\"\",Base_Arbres!$A227,\"\")","v":""}]
[{"$f":"IF(Base_Arbres!$A228<>\"\",Base_Arbres!$A228,\"\")","v":""}]
[{"$f":"IF(Base_Arbres!$A229<>\"\",Base_Arbres!$A229,\"\")","v":""}]
[{"$f":"IF(Base_Arbres!$A230<>\"\",Base_Arbres!$A230,\"\")","v":""}]
[{"$f":"IF(Base_Arbres!$A231<>\"\",Base_Arbres!$A231,\"\")","v":""}]
[{"$f":"IF(Base_Arbres!$A232<>\"\",Base_Arbres!$A232,\"\")","v":""}]
[{"$f":"IF(Base_Arbres!$A233<>\"\",Base_Arbres!$A233,\"\")","v":""}]
[{"$f":"IF(Base_Arbres!$A234<>\"\",Base_Arbres!$A234,\"\")","v":""}]
[{"$f":"IF(Base_Arbres!$A235<>\"\",Base_Arbres!$A235,\"\")","v":""}]
[{"$f":"IF(Base_Arbres!$A236<>\"\",Base_Arbres!$A236,\"\")","v":""}]
[{"$f":"IF(Base_Arbres!$A237<>\"\",Base_Arbres!$A237,\"\")","v":""}]
[{"$f":"IF(Base_Arbres!$A238<>\"\",Base_Arbres!$A238,\"\")","v":""}]
[{"$f":"IF(Base_Arbres!$A239<>\"\",Base_Arbres!$A239,\"\")","v":""}]
[{"$f":"IF(Base_Arbres!$A240<>\"\",Base_Arbres!$A240,\"\")","v":""}]
[{"$f":"IF(Base_Arbres!$A241<>\"\",Base_Arbres!$A241,\"\")","v":""}]
[{"$f":"IF(Base_Arbres!$A242<>\"\",Base_Arbres!$A242,\"\")","v":""}]
[{"$f":"IF(Base_Arbres!$A243<>\"\",Base_Arbres!$A243,\"\")","v":""}]
[{"$f":"IF(Base_Arbres!$A244<>\"\",Base_Arbres!$A244,\"\")","v":""}]
[{"$f":"IF(Base_Arbres!$A245<>\"\",Base_Arbres!$A245,\"\")","v":""}]
[{"$f":"IF(Base_Arbres!$A246<>\"\",Base_Arbres!$A246,\"\")","v":""}]
[{"$f":"IF(Base_Arbres!$A247<>\"\",Base_Arbres!$A247,\"\")","v":""}]
[{"$f":"IF(Base_Arbres!$A248<>\"\",Base_Arbres!$A248,\"\")","v":""}]
[{"$f":"IF(Base_Arbres!$A249<>\"\",Base_Arbres!$A249,\"\")","v":""}]
[{"$f":"IF(Base_Arbres!$A250<>\"\",Base_Arbres!$A250,\"\")","v":""}]
[{"$f":"IF(Base_Arbres!$A251<>\"\",Base_Arbres!$A251,\"\")","v":""}]
[{"$f":"IF(Base_Arbres!$A252<>\"\",Base_Arbres!$A252,\"\")","v":""}]
[{"$f":"IF(Base_Arbres!$A253<>\"\",Base_Arbres!$A253,\"\")","v":""}]
[{"$f":"IF(Base_Arbres!$A254<>\"\",Base_Arbres!$A254,\"\")","v":""}]
[{"$f":"IF(Base_Arbres!$A255<>\"\",Base_Arbres!$A255,\"\")","v":""}]
[{"$f":"IF(Base_Arbres!$A256<>\"\",Base_Arbres!$A256,\"\")","v":""}]
[{"$f":"IF(Base_Arbres!$A257<>\"\",Base_Arbres!$A257,\"\")","v":""}]
[{"$f":"IF(Base_Arbres!$A258<>\"\",Base_Arbres!$A258,\"\")","v":""}]
[{"$f":"IF(Base_Arbres!$A259<>\"\",Base_Arbres!$A259,\"\")","v":""}]
[{"$f":"IF(Base_Arbres!$A260<>\"\",Base_Arbres!$A260,\"\")","v":""}]
[{"$f":"IF(Base_Arbres!$A261<>\"\",Base_Arbres!$A261,\"\")","v":""}]
[{"$f":"IF(Base_Arbres!$A262<>\"\",Base_Arbres!$A262,\"\")","v":""}]
[{"$f":"IF(Base_Arbres!$A263<>\"\",Base_Arbres!$A263,\"\")","v":""}]
[{"$f":"IF(Base_Arbres!$A264<>\"\",Base_Arbres!$A264,\"\")","v":""}]
[{"$f":"IF(Base_Arbres!$A265<>\"\",Base_Arbres!$A265,\"\")","v":""}]
[{"$f":"IF(Base_Arbres!$A266<>\"\",Base_Arbres!$A266,\"\")","v":""}]
[{"$f":"IF(Base_Arbres!$A267<>\"\",Base_Arbres!$A267,\"\")","v":""}]
[{"$f":"IF(Base_Arbres!$A268<>\"\",Base_Arbres!$A268,\"\")","v":""}]
[{"$f":"IF(Base_Arbres!$A269<>\"\",Base_Arbres!$A269,\"\")","v":""}]
[{"$f":"IF(Base_Arbres!$A270<>\"\",Base_Arbres!$A270,\"\")","v":""}]
[{"$f":"IF(Base_Arbres!$A271<>\"\",Base_Arbres!$A271,\"\")","v":""}]
[{"$f":"IF(Base_Arbres!$A272<>\"\",Base_Arbres!$A272,\"\")","v":""}]
[{"$f":"IF(Base_Arbres!$A273<>\"\",Base_Arbres!$A273,\"\")","v":""}]
[{"$f":"IF(Base_Arbres!$A274<>\"\",Base_Arbres!$A274,\"\")","v":""}]
[{"$f":"IF(Base_Arbres!$A275<>\"\",Base_Arbres!$A275,\"\")","v":""}]
[{"$f":"IF(Base_Arbres!$A276<>\"\",Base_Arbres!$A276,\"\")","v":""}]
[{"$f":"IF(Base_Arbres!$A277<>\"\",Base_Arbres!$A277,\"\")","v":""}]
[{"$f":"IF(Base_Arbres!$A278<>\"\",Base_Arbres!$A278,\"\")","v":""}]
[{"$f":"IF(Base_Arbres!$A279<>\"\",Base_Arbres!$A279,\"\")","v":""}]
[{"$f":"IF(Base_Arbres!$A280<>\"\",Base_Arbres!$A280,\"\")","v":""}]
[{"$f":"IF(Base_Arbres!$A281<>\"\",Base_Arbres!$A281,\"\")","v":""}]
[{"$f":"IF(Base_Arbres!$A282<>\"\",Base_Arbres!$A282,\"\")","v":""}]
[{"$f":"IF(Base_Arbres!$A283<>\"\",Base_Arbres!$A283,\"\")","v":""}]
[{"$f":"IF(Base_Arbres!$A284<>\"\",Base_Arbres!$A284,\"\")","v":""}]
[{"$f":"IF(Base_Arbres!$A285<>\"\",Base_Arbres!$A285,\"\")","v":""}]
[{"$f":"IF(Base_Arbres!$A286<>\"\",Base_Arbres!$A286,\"\")","v":""}]
[{"$f":"IF(Base_Arbres!$A287<>\"\",Base_Arbres!$A287,\"\")","v":""}]
[{"$f":"IF(Base_Arbres!$A288<>\"\",Base_Arbres!$A288,\"\")","v":""}]
[{"$f":"IF(Base_Arbres!$A289<>\"\",Base_Arbres!$A289,\"\")","v":""}]
[{"$f":"IF(Base_Arbres!$A290<>\"\",Base_Arbres!$A290,\"\")","v":""}]
[{"$f":"IF(Base_Arbres!$A291<>\"\",Base_Arbres!$A291,\"\")","v":""}]
[{"$f":"IF(Base_Arbres!$A292<>\"\",Base_Arbres!$A292,\"\")","v":""}]
[{"$f":"IF(Base_Arbres!$A293<>\"\",Base_Arbres!$A293,\"\")","v":""}]
[{"$f":"IF(Base_Arbres!$A294<>\"\",Base_Arbres!$A294,\"\")","v":""}]
[{"$f":"IF(Base_Arbres!$A295<>\"\",Base_Arbres!$A295,\"\")","v":""}]
[{"$f":"IF(Base_Arbres!$A296<>\"\",Base_Arbres!$A296,\"\")","v":""}]
[{"$f":"IF(Base_Arbres!$A297<>\"\",Base_Arbres!$A297,\"\")","v":""}]
[{"$f":"IF(Base_Arbres!$A298<>\"\",Base_Arbres!$A298,\"\")","v":""}]
[{"$f":"IF(Base_Arbres!$A299<>\"\",Base_Arbres!$A299,\"\")","v":""}]
[{"$f":"IF(Base_Arbres!$A300<>\"\",Base_Arbres!$A300,\"\")","v":""}]
[{"$f":"IF(Base_Arbres!$A301<>\"\",Base_Arbres!$A301,\"\")","v":""}]
[{"$f":"IF(Base_Arbres!$A302<>\"\",Base_Arbres!$A302,\"\")","v":""}]
[{"$f":"IF(Base_Arbres!$A303<>\"\",Base_Arbres!$A303,\"\")","v":""}]
[{"$f":"IF(Base_Arbres!$A304<>\"\",Base_Arbres!$A304,\"\")","v":""}]
[{"$f":"IF(Base_Arbres!$A305<>\"\",Base_Arbres!$A305,\"\")","v":""}]
[{"$f":"IF(Base_Arbres!$A306<>\"\",Base_Arbres!$A306,\"\")","v":""}]
[{"$f":"IF(Base_Arbres!$A307<>\"\",Base_Arbres!$A307,\"\")","v":""}]
[{"$f":"IF(Base_Arbres!$A308<>\"\",Base_Arbres!$A308,\"\")","v":""}]
[{"$f":"IF(Base_Arbres!$A309<>\"\",Base_Arbres!$A309,\"\")","v":""}]
[{"$f":"IF(Base_Arbres!$A310<>\"\",Base_Arbres!$A310,\"\")","v":""}]
[{"$f":"IF(Base_Arbres!$A311<>\"\",Base_Arbres!$A311,\"\")","v":""}]
[{"$f":"IF(Base_Arbres!$A312<>\"\",Base_Arbres!$A312,\"\")","v":""}]
[{"$f":"IF(Base_Arbres!$A313<>\"\",Base_Arbres!$A313,\"\")","v":""}]
[{"$f":"IF(Base_Arbres!$A314<>\"\",Base_Arbres!$A314,\"\")","v":""}]
[{"$f":"IF(Base_Arbres!$A315<>\"\",Base_Arbres!$A315,\"\")","v":""}]
[{"$f":"IF(Base_Arbres!$A316<>\"\",Base_Arbres!$A316,\"\")","v":""}]
[{"$f":"IF(Base_Arbres!$A317<>\"\",Base_Arbres!$A317,\"\")","v":""}]
[{"$f":"IF(Base_Arbres!$A318<>\"\",Base_Arbres!$A318,\"\")","v":""}]
[{"$f":"IF(Base_Arbres!$A319<>\"\",Base_Arbres!$A319,\"\")","v":""}]
[{"$f":"IF(Base_Arbres!$A320<>\"\",Base_Arbres!$A320,\"\")","v":""}]
[{"$f":"IF(Base_Arbres!$A321<>\"\",Base_Arbres!$A321,\"\")","v":""}]
[{"$f":"IF(Base_Arbres!$A322<>\"\",Base_Arbres!$A322,\"\")","v":""}]
[{"$f":"IF(Base_Arbres!$A323<>\"\",Base_Arbres!$A323,\"\")","v":""}]
[{"$f":"IF(Base_Arbres!$A324<>\"\",Base_Arbres!$A324,\"\")","v":""}]
[{"$f":"IF(Base_Arbres!$A325<>\"\",Base_Arbres!$A325,\"\")","v":""}]
[{"$f":"IF(Base_Arbres!$A326<>\"\",Base_Arbres!$A326,\"\")","v":""}]
[{"$f":"IF(Base_Arbres!$A327<>\"\",Base_Arbres!$A327,\"\")","v":""}]
[{"$f":"IF(Base_Arbres!$A328<>\"\",Base_Arbres!$A328,\"\")","v":""}]
[{"$f":"IF(Base_Arbres!$A329<>\"\",Base_Arbres!$A329,\"\")","v":""}]
[{"$f":"IF(Base_Arbres!$A330<>\"\",Base_Arbres!$A330,\"\")","v":""}]
[{"$f":"IF(Base_Arbres!$A331<>\"\",Base_Arbres!$A331,\"\")","v":""}]
[{"$f":"IF(Base_Arbres!$A332<>\"\",Base_Arbres!$A332,\"\")","v":""}]
[{"$f":"IF(Base_Arbres!$A333<>\"\",Base_Arbres!$A333,\"\")","v":""}]
[{"$f":"IF(Base_Arbres!$A334<>\"\",Base_Arbres!$A334,\"\")","v":""}]
[{"$f":"IF(Base_Arbres!$A335<>\"\",Base_Arbres!$A335,\"\")","v":""}]
[{"$f":"IF(Base_Arbres!$A336<>\"\",Base_Arbres!$A336,\"\")","v":""}]
[{"$f":"IF(Base_Arbres!$A337<>\"\",Base_Arbres!$A337,\"\")","v":""}]
[{"$f":"IF(Base_Arbres!$A338<>\"\",Base_Arbres!$A338,\"\")","v":""}]
[{"$f":"IF(Base_Arbres!$A339<>\"\",Base_Arbres!$A339,\"\")","v":""}]
[{"$f":"IF(Base_Arbres!$A340<>\"\",Base_Arbres!$A340,\"\")","v":""}]
[{"$f":"IF(Base_Arbres!$A341<>\"\",Base_Arbres!$A341,\"\")","v":""}]
[{"$f":"IF(Base_Arbres!$A342<>\"\",Base_Arbres!$A342,\"\")","v":""}]
[{"$f":"IF(Base_Arbres!$A343<>\"\",Base_Arbres!$A343,\"\")","v":""}]
[{"$f":"IF(Base_Arbres!$A344<>\"\",Base_Arbres!$A344,\"\")","v":""}]
[{"$f":"IF(Base_Arbres!$A345<>\"\",Base_Arbres!$A345,\"\")","v":""}]
[{"$f":"IF(Base_Arbres!$A346<>\"\",Base_Arbres!$A346,\"\")","v":""}]
[{"$f":"IF(Base_Arbres!$A347<>\"\",Base_Arbres!$A347,\"\")","v":""}]
[{"$f":"IF(Base_Arbres!$A348<>\"\",Base_Arbres!$A348,\"\")","v":""}]
[{"$f":"IF(Base_Arbres!$A349<>\"\",Base_Arbres!$A349,\"\")","v":""}]
[{"$f":"IF(Base_Arbres!$A350<>\"\",Base_Arbres!$A350,\"\")","v":""}]
[{"$f":"IF(Base_Arbres!$A351<>\"\",Base_Arbres!$A351,\"\")","v":""}]
[{"$f":"IF(Base_Arbres!$A352<>\"\",Base_Arbres!$A352,\"\")","v":""}]
[{"$f":"IF(Base_Arbres!$A353<>\"\",Base_Arbres!$A353,\"\")","v":""}]
[{"$f":"IF(Base_Arbres!$A354<>\"\",Base_Arbres!$A354,\"\")","v":""}]
[{"$f":"IF(Base_Arbres!$A355<>\"\",Base_Arbres!$A355,\"\")","v":""}]
[{"$f":"IF(Base_Arbres!$A356<>\"\",Base_Arbres!$A356,\"\")","v":""}]
[{"$f":"IF(Base_Arbres!$A357<>\"\",Base_Arbres!$A357,\"\")","v":""}]
[{"$f":"IF(Base_Arbres!$A358<>\"\",Base_Arbres!$A358,\"\")","v":""}]
[{"$f":"IF(Base_Arbres!$A359<>\"\",Base_Arbres!$A359,\"\")","v":""}]
[{"$f":"IF(Base_Arbres!$A360<>\"\",Base_Arbres!$A360,\"\")","v":""}]
[{"$f":"IF(Base_Arbres!$A361<>\"\",Base_Arbres!$A361,\"\")","v":""}]
[{"$f":"IF(Base_Arbres!$A362<>\"\",Base_Arbres!$A362,\"\")","v":""}]
[{"$f":"IF(Base_Arbres!$A363<>\"\",Base_Arbres!$A363,\"\")","v":""}]
[{"$f":"IF(Base_Arbres!$A364<>\"\",Base_Arbres!$A364,\"\")","v":""}]
[{"$f":"IF(Base_Arbres!$A365<>\"\",Base_Arbres!$A365,\"\")","v":""}]
[{"$f":"IF(Base_Arbres!$A366<>\"\",Base_Arbres!$A366,\"\")","v":""}]
[{"$f":"IF(Base_Arbres!$A367<>\"\",Base_Arbres!$A367,\"\")","v":""}]
[{"$f":"IF(Base_Arbres!$A368<>\"\",Base_Arbres!$A368,\"\")","v":""}]
[{"$f":"IF(Base_Arbres!$A369<>\"\",Base_Arbres!$A369,\"\")","v":""}]
[{"$f":"IF(Base_Arbres!$A370<>\"\",Base_Arbres!$A370,\"\")","v":""}]
[{"$f":"IF(Base_Arbres!$A371<>\"\",Base_Arbres!$A371,\"\")","v":""}]
[{"$f":"IF(Base_Arbres!$A372<>\"\",Base_Arbres!$A372,\"\")","v":""}]
[{"$f":"IF(Base_Arbres!$A373<>\"\",Base_Arbres!$A373,\"\")","v":""}]
[{"$f":"IF(Base_Arbres!$A374<>\"\",Base_Arbres!$A374,\"\")","v":""}]
[{"$f":"IF(Base_Arbres!$A375<>\"\",Base_Arbres!$A375,\"\")","v":""}]
[{"$f":"IF(Base_Arbres!$A376<>\"\",Base_Arbres!$A376,\"\")","v":""}]
[{"$f":"IF(Base_Arbres!$A377<>\"\",Base_Arbres!$A377,\"\")","v":""}]
[{"$f":"IF(Base_Arbres!$A378<>\"\",Base_Arbres!$A378,\"\")","v":""}]
[{"$f":"IF(Base_Arbres!$A379<>\"\",Base_Arbres!$A379,\"\")","v":""}]
[{"$f":"IF(Base_Arbres!$A380<>\"\",Base_Arbres!$A380,\"\")","v":""}]
[{"$f":"IF(Base_Arbres!$A381<>\"\",Base_Arbres!$A381,\"\")","v":""}]
[{"$f":"IF(Base_Arbres!$A382<>\"\",Base_Arbres!$A382,\"\")","v":""}]
[{"$f":"IF(Base_Arbres!$A383<>\"\",Base_Arbres!$A383,\"\")","v":""}]
[{"$f":"IF(Base_Arbres!$A384<>\"\",Base_Arbres!$A384,\"\")","v":""}]
[{"$f":"IF(Base_Arbres!$A385<>\"\",Base_Arbres!$A385,\"\")","v":""}]
[{"$f":"IF(Base_Arbres!$A386<>\"\",Base_Arbres!$A386,\"\")","v":""}]
[{"$f":"IF(Base_Arbres!$A387<>\"\",Base_Arbres!$A387,\"\")","v":""}]
[{"$f":"IF(Base_Arbres!$A388<>\"\",Base_Arbres!$A388,\"\")","v":""}]
[{"$f":"IF(Base_Arbres!$A389<>\"\",Base_Arbres!$A389,\"\")","v":""}]
[{"$f":"IF(Base_Arbres!$A390<>\"\",Base_Arbres!$A390,\"\")","v":""}]
[{"$f":"IF(Base_Arbres!$A391<>\"\",Base_Arbres!$A391,\"\")","v":""}]
[{"$f":"IF(Base_Arbres!$A392<>\"\",Base_Arbres!$A392,\"\")","v":""}]
[{"$f":"IF(Base_Arbres!$A393<>\"\",Base_Arbres!$A393,\"\")","v":""}]
[{"$f":"IF(Base_Arbres!$A394<>\"\",Base_Arbres!$A394,\"\")","v":""}]
[{"$f":"IF(Base_Arbres!$A395<>\"\",Base_Arbres!$A395,\"\")","v":""}]
[{"$f":"IF(Base_Arbres!$A396<>\"\",Base_Arbres!$A396,\"\")","v":""}]
[{"$f":"IF(Base_Arbres!$A397<>\"\",Base_Arbres!$A397,\"\")","v":""}]
[{"$f":"IF(Base_Arbres!$A398<>\"\",Base_Arbres!$A398,\"\")","v":""}]
[{"$f":"IF(Base_Arbres!$A399<>\"\",Base_Arbres!$A399,\"\")","v":""}]
[{"$f":"IF(Base_Arbres!$A400<>\"\",Base_Arbres!$A400,\"\")","v":""}]
[{"$f":"IF(Base_Arbres!$A401<>\"\",Base_Arbres!$A401,\"\")","v":""}]
[{"$f":"IF(Base_Arbres!$A402<>\"\",Base_Arbres!$A402,\"\")","v":""}]
[{"$f":"IF(Base_Arbres!$A403<>\"\",Base_Arbres!$A403,\"\")","v":""}]
[{"$f":"IF(Base_Arbres!$A404<>\"\",Base_Arbres!$A404,\"\")","v":""}]
[{"$f":"IF(Base_Arbres!$A405<>\"\",Base_Arbres!$A405,\"\")","v":""}]
[{"$f":"IF(Base_Arbres!$A406<>\"\",Base_Arbres!$A406,\"\")","v":""}]
[{"$f":"IF(Base_Arbres!$A407<>\"\",Base_Arbres!$A407,\"\")","v":""}]
[{"$f":"IF(Base_Arbres!$A408<>\"\",Base_Arbres!$A408,\"\")","v":""}]
[{"$f":"IF(Base_Arbres!$A409<>\"\",Base_Arbres!$A409,\"\")","v":""}]
[{"$f":"IF(Base_Arbres!$A410<>\"\",Base_Arbres!$A410,\"\")","v":""}]
[{"$f":"IF(Base_Arbres!$A411<>\"\",Base_Arbres!$A411,\"\")","v":""}]
[{"$f":"IF(Base_Arbres!$A412<>\"\",Base_Arbres!$A412,\"\")","v":""}]
[{"$f":"IF(Base_Arbres!$A413<>\"\",Base_Arbres!$A413,\"\")","v":""}]
[{"$f":"IF(Base_Arbres!$A414<>\"\",Base_Arbres!$A414,\"\")","v":""}]
[{"$f":"IF(Base_Arbres!$A415<>\"\",Base_Arbres!$A415,\"\")","v":""}]
[{"$f":"IF(Base_Arbres!$A416<>\"\",Base_Arbres!$A416,\"\")","v":""}]
[{"$f":"IF(Base_Arbres!$A417<>\"\",Base_Arbres!$A417,\"\")","v":""}]
[{"$f":"IF(Base_Arbres!$A418<>\"\",Base_Arbres!$A418,\"\")","v":""}]
[{"$f":"IF(Base_Arbres!$A419<>\"\",Base_Arbres!$A419,\"\")","v":""}]
[{"$f":"IF(Base_Arbres!$A420<>\"\",Base_Arbres!$A420,\"\")","v":""}]
[{"$f":"IF(Base_Arbres!$A421<>\"\",Base_Arbres!$A421,\"\")","v":""}]
[{"$f":"IF(Base_Arbres!$A422<>\"\",Base_Arbres!$A422,\"\")","v":""}]
[{"$f":"IF(Base_Arbres!$A423<>\"\",Base_Arbres!$A423,\"\")","v":""}]
[{"$f":"IF(Base_Arbres!$A424<>\"\",Base_Arbres!$A424,\"\")","v":""}]
[{"$f":"IF(Base_Arbres!$A425<>\"\",Base_Arbres!$A425,\"\")","v":""}]
[{"$f":"IF(Base_Arbres!$A426<>\"\",Base_Arbres!$A426,\"\")","v":""}]
[{"$f":"IF(Base_Arbres!$A427<>\"\",Base_Arbres!$A427,\"\")","v":""}]
[{"$f":"IF(Base_Arbres!$A428<>\"\",Base_Arbres!$A428,\"\")","v":""}]
[{"$f":"IF(Base_Arbres!$A429<>\"\",Base_Arbres!$A429,\"\")","v":""}]
[{"$f":"IF(Base_Arbres!$A430<>\"\",Base_Arbres!$A430,\"\")","v":""}]
[{"$f":"IF(Base_Arbres!$A431<>\"\",Base_Arbres!$A431,\"\")","v":""}]
[{"$f":"IF(Base_Arbres!$A432<>\"\",Base_Arbres!$A432,\"\")","v":""}]
[{"$f":"IF(Base_Arbres!$A433<>\"\",Base_Arbres!$A433,\"\")","v":""}]
[{"$f":"IF(Base_Arbres!$A434<>\"\",Base_Arbres!$A434,\"\")","v":""}]
[{"$f":"IF(Base_Arbres!$A435<>\"\",Base_Arbres!$A435,\"\")","v":""}]
[{"$f":"IF(Base_Arbres!$A436<>\"\",Base_Arbres!$A436,\"\")","v":""}]
[{"$f":"IF(Base_Arbres!$A437<>\"\",Base_Arbres!$A437,\"\")","v":""}]
[{"$f":"IF(Base_Arbres!$A438<>\"\",Base_Arbres!$A438,\"\")","v":""}]
[{"$f":"IF(Base_Arbres!$A439<>\"\",Base_Arbres!$A439,\"\")","v":""}]
[{"$f":"IF(Base_Arbres!$A440<>\"\",Base_Arbres!$A440,\"\")","v":""}]
[{"$f":"IF(Base_Arbres!$A441<>\"\",Base_Arbres!$A441,\"\")","v":""}]
[{"$f":"IF(Base_Arbres!$A442<>\"\",Base_Arbres!$A442,\"\")","v":""}]
[{"$f":"IF(Base_Arbres!$A443<>\"\",Base_Arbres!$A443,\"\")","v":""}]
[{"$f":"IF(Base_Arbres!$A444<>\"\",Base_Arbres!$A444,\"\")","v":""}]
[{"$f":"IF(Base_Arbres!$A445<>\"\",Base_Arbres!$A445,\"\")","v":""}]
[{"$f":"IF(Base_Arbres!$A446<>\"\",Base_Arbres!$A446,\"\")","v":""}]
[{"$f":"IF(Base_Arbres!$A447<>\"\",Base_Arbres!$A447,\"\")","v":""}]
[{"$f":"IF(Base_Arbres!$A448<>\"\",Base_Arbres!$A448,\"\")","v":""}]
[{"$f":"IF(Base_Arbres!$A449<>\"\",Base_Arbres!$A449,\"\")","v":""}]
[{"$f":"IF(Base_Arbres!$A450<>\"\",Base_Arbres!$A450,\"\")","v":""}]
[{"$f":"IF(Base_Arbres!$A451<>\"\",Base_Arbres!$A451,\"\")","v":""}]
[{"$f":"IF(Base_Arbres!$A452<>\"\",Base_Arbres!$A452,\"\")","v":""}]
[{"$f":"IF(Base_Arbres!$A453<>\"\",Base_Arbres!$A453,\"\")","v":""}]
[{"$f":"IF(Base_Arbres!$A454<>\"\",Base_Arbres!$A454,\"\")","v":""}]
[{"$f":"IF(Base_Arbres!$A455<>\"\",Base_Arbres!$A455,\"\")","v":""}]
[{"$f":"IF(Base_Arbres!$A456<>\"\",Base_Arbres!$A456,\"\")","v":""}]
[{"$f":"IF(Base_Arbres!$A457<>\"\",Base_Arbres!$A457,\"\")","v":""}]
[{"$f":"IF(Base_Arbres!$A458<>\"\",Base_Arbres!$A458,\"\")","v":""}]
[{"$f":"IF(Base_Arbres!$A459<>\"\",Base_Arbres!$A459,\"\")","v":""}]
[{"$f":"IF(Base_Arbres!$A460<>\"\",Base_Arbres!$A460,\"\")","v":""}]
[{"$f":"IF(Base_Arbres!$A461<>\"\",Base_Arbres!$A461,\"\")","v":""}]
[{"$f":"IF(Base_Arbres!$A462<>\"\",Base_Arbres!$A462,\"\")","v":""}]
[{"$f":"IF(Base_Arbres!$A463<>\"\",Base_Arbres!$A463,\"\")","v":""}]
[{"$f":"IF(Base_Arbres!$A464<>\"\",Base_Arbres!$A464,\"\")","v":""}]
[{"$f":"IF(Base_Arbres!$A465<>\"\",Base_Arbres!$A465,\"\")","v":""}]
[{"$f":"IF(Base_Arbres!$A466<>\"\",Base_Arbres!$A466,\"\")","v":""}]
[{"$f":"IF(Base_Arbres!$A467<>\"\",Base_Arbres!$A467,\"\")","v":""}]
[{"$f":"IF(Base_Arbres!$A468<>\"\",Base_Arbres!$A468,\"\")","v":""}]
[{"$f":"IF(Base_Arbres!$A469<>\"\",Base_Arbres!$A469,\"\")","v":""}]
[{"$f":"IF(Base_Arbres!$A470<>\"\",Base_Arbres!$A470,\"\")","v":""}]
[{"$f":"IF(Base_Arbres!$A471<>\"\",Base_Arbres!$A471,\"\")","v":""}]
[{"$f":"IF(Base_Arbres!$A472<>\"\",Base_Arbres!$A472,\"\")","v":""}]
[{"$f":"IF(Base_Arbres!$A473<>\"\",Base_Arbres!$A473,\"\")","v":""}]
[{"$f":"IF(Base_Arbres!$A474<>\"\",Base_Arbres!$A474,\"\")","v":""}]
[{"$f":"IF(Base_Arbres!$A475<>\"\",Base_Arbres!$A475,\"\")","v":""}]
[{"$f":"IF(Base_Arbres!$A476<>\"\",Base_Arbres!$A476,\"\")","v":""}]
[{"$f":"IF(Base_Arbres!$A477<>\"\",Base_Arbres!$A477,\"\")","v":""}]
[{"$f":"IF(Base_Arbres!$A478<>\"\",Base_Arbres!$A478,\"\")","v":""}]
[{"$f":"IF(Base_Arbres!$A479<>\"\",Base_Arbres!$A479,\"\")","v":""}]
[{"$f":"IF(Base_Arbres!$A480<>\"\",Base_Arbres!$A480,\"\")","v":""}]
[{"$f":"IF(Base_Arbres!$A481<>\"\",Base_Arbres!$A481,\"\")","v":""}]
[{"$f":"IF(Base_Arbres!$A482<>\"\",Base_Arbres!$A482,\"\")","v":""}]
[{"$f":"IF(Base_Arbres!$A483<>\"\",Base_Arbres!$A483,\"\")","v":""}]
[{"$f":"IF(Base_Arbres!$A484<>\"\",Base_Arbres!$A484,\"\")","v":""}]
[{"$f":"IF(Base_Arbres!$A485<>\"\",Base_Arbres!$A485,\"\")","v":""}]
[{"$f":"IF(Base_Arbres!$A486<>\"\",Base_Arbres!$A486,\"\")","v":""}]
[{"$f":"IF(Base_Arbres!$A487<>\"\",Base_Arbres!$A487,\"\")","v":""}]
[{"$f":"IF(Base_Arbres!$A488<>\"\",Base_Arbres!$A488,\"\")","v":""}]
[{"$f":"IF(Base_Arbres!$A489<>\"\",Base_Arbres!$A489,\"\")","v":""}]
[{"$f":"IF(Base_Arbres!$A490<>\"\",Base_Arbres!$A490,\"\")","v":""}]
[{"$f":"IF(Base_Arbres!$A491<>\"\",Base_Arbres!$A491,\"\")","v":""}]
[{"$f":"IF(Base_Arbres!$A492<>\"\",Base_Arbres!$A492,\"\")","v":""}]
[{"$f":"IF(Base_Arbres!$A493<>\"\",Base_Arbres!$A493,\"\")","v":""}]
[{"$f":"IF(Base_Arbres!$A494<>\"\",Base_Arbres!$A494,\"\")","v":""}]
[{"$f":"IF(Base_Arbres!$A495<>\"\",Base_Arbres!$A495,\"\")","v":""}]
[{"$f":"IF(Base_Arbres!$A496<>\"\",Base_Arbres!$A496,\"\")","v":""}]
[{"$f":"IF(Base_Arbres!$A497<>\"\",Base_Arbres!$A497,\"\")","v":""}]
[{"$f":"IF(Base_Arbres!$A498<>\"\",Base_Arbres!$A498,\"\")","v":""}]
[{"$f":"IF(Base_Arbres!$A499<>\"\",Base_Arbres!$A499,\"\")","v":""}]
[{"$f":"IF(Base_Arbres!$A500<>\"\",Base_Arbres!$A500,\"\")","v":""}]
[{"$f":"IF(Base_Arbres!$A501<>\"\",Base_Arbres!$A501,\"\")","v":""}]
[{"$f":"IF(Base_Arbres!$A502<>\"\",Base_Arbres!$A502,\"\")","v":""}]
[{"$f":"IF(Base_Arbres!$A503<>\"\",Base_Arbres!$A503,\"\")","v":""}]
[{"$f":"IF(Base_Arbres!$A504<>\"\",Base_Arbres!$A504,\"\")","v":""}]
[{"$f":"IF(Base_Arbres!$A505<>\"\",Base_Arbres!$A505,\"\")","v":""}]
[{"$f":"IF(Base_Arbres!$A506<>\"\",Base_Arbres!$A506,\"\")","v":""}]
[{"$f":"IF(Base_Arbres!$A507<>\"\",Base_Arbres!$A507,\"\")","v":""}]
[{"$f":"IF(Base_Arbres!$A508<>\"\",Base_Arbres!$A508,\"\")","v":""}]
[{"$f":"IF(Base_Arbres!$A509<>\"\",Base_Arbres!$A509,\"\")","v":""}]
[{"$f":"IF(Base_Arbres!$A510<>\"\",Base_Arbres!$A510,\"\")","v":""}]
[{"$f":"IF(Base_Arbres!$A511<>\"\",Base_Arbres!$A511,\"\")","v":""}]
[{"$f":"IF(Base_Arbres!$A512<>\"\",Base_Arbres!$A512,\"\")","v":""}]
[{"$f":"IF(Base_Arbres!$A513<>\"\",Base_Arbres!$A513,\"\")","v":""}]
[{"$f":"IF(Base_Arbres!$A514<>\"\",Base_Arbres!$A514,\"\")","v":""}]
[{"$f":"IF(Base_Arbres!$A515<>\"\",Base_Arbres!$A515,\"\")","v":""}]
[{"$f":"IF(Base_Arbres!$A516<>\"\",Base_Arbres!$A516,\"\")","v":""}]
[{"$f":"IF(Base_Arbres!$A517<>\"\",Base_Arbres!$A517,\"\")","v":""}]
[{"$f":"IF(Base_Arbres!$A518<>\"\",Base_Arbres!$A518,\"\")","v":""}]
[{"$f":"IF(Base_Arbres!$A519<>\"\",Base_Arbres!$A519,\"\")","v":""}]
[{"$f":"IF(Base_Arbres!$A520<>\"\",Base_Arbres!$A520,\"\")","v":""}]
[{"$f":"IF(Base_Arbres!$A521<>\"\",Base_Arbres!$A521,\"\")","v":""}]
[{"$f":"IF(Base_Arbres!$A522<>\"\",Base_Arbres!$A522,\"\")","v":""}]
[{"$f":"IF(Base_Arbres!$A523<>\"\",Base_Arbres!$A523,\"\")","v":""}]
[{"$f":"IF(Base_Arbres!$A524<>\"\",Base_Arbres!$A524,\"\")","v":""}]
[{"$f":"IF(Base_Arbres!$A525<>\"\",Base_Arbres!$A525,\"\")","v":""}]
[{"$f":"IF(Base_Arbres!$A526<>\"\",Base_Arbres!$A526,\"\")","v":""}]
[{"$f":"IF(Base_Arbres!$A527<>\"\",Base_Arbres!$A527,\"\")","v":""}]
[{"$f":"IF(Base_Arbres!$A528<>\"\",Base_Arbres!$A528,\"\")","v":""}]
[{"$f":"IF(Base_Arbres!$A529<>\"\",Base_Arbres!$A529,\"\")","v":""}]
[{"$f":"IF(Base_Arbres!$A530<>\"\",Base_Arbres!$A530,\"\")","v":""}]
[{"$f":"IF(Base_Arbres!$A531<>\"\",Base_Arbres!$A531,\"\")","v":""}]
[{"$f":"IF(Base_Arbres!$A532<>\"\",Base_Arbres!$A532,\"\")","v":""}]
[{"$f":"IF(Base_Arbres!$A533<>\"\",Base_Arbres!$A533,\"\")","v":""}]
[{"$f":"IF(Base_Arbres!$A534<>\"\",Base_Arbres!$A534,\"\")","v":""}]
[{"$f":"IF(Base_Arbres!$A535<>\"\",Base_Arbres!$A535,\"\")","v":""}]
[{"$f":"IF(Base_Arbres!$A536<>\"\",Base_Arbres!$A536,\"\")","v":""}]
[{"$f":"IF(Base_Arbres!$A537<>\"\",Base_Arbres!$A537,\"\")","v":""}]
[{"$f":"IF(Base_Arbres!$A538<>\"\",Base_Arbres!$A538,\"\")","v":""}]
[{"$f":"IF(Base_Arbres!$A539<>\"\",Base_Arbres!$A539,\"\")","v":""}]
[{"$f":"IF(Base_Arbres!$A540<>\"\",Base_Arbres!$A540,\"\")","v":""}]
[{"$f":"IF(Base_Arbres!$A541<>\"\",Base_Arbres!$A541,\"\")","v":""}]
[{"$f":"IF(Base_Arbres!$A542<>\"\",Base_Arbres!$A542,\"\")","v":""}]
[{"$f":"IF(Base_Arbres!$A543<>\"\",Base_Arbres!$A543,\"\")","v":""}]
[{"$f":"IF(Base_Arbres!$A544<>\"\",Base_Arbres!$A544,\"\")","v":""}]
[{"$f":"IF(Base_Arbres!$A545<>\"\",Base_Arbres!$A545,\"\")","v":""}]
[{"$f":"IF(Base_Arbres!$A546<>\"\",Base_Arbres!$A546,\"\")","v":""}]
[{"$f":"IF(Base_Arbres!$A547<>\"\",Base_Arbres!$A547,\"\")","v":""}]
[{"$f":"IF(Base_Arbres!$A548<>\"\",Base_Arbres!$A548,\"\")","v":""}]
[{"$f":"IF(Base_Arbres!$A549<>\"\",Base_Arbres!$A549,\"\")","v":""}]
[{"$f":"IF(Base_Arbres!$A550<>\"\",Base_Arbres!$A550,\"\")","v":""}]
[{"$f":"IF(Base_Arbres!$A551<>\"\",Base_Arbres!$A551,\"\")","v":""}]
[{"$f":"IF(Base_Arbres!$A552<>\"\",Base_Arbres!$A552,\"\")","v":""}]
[{"$f":"IF(Base_Arbres!$A553<>\"\",Base_Arbres!$A553,\"\")","v":""}]
[{"$f":"IF(Base_Arbres!$A554<>\"\",Base_Arbres!$A554,\"\")","v":""}]
[{"$f":"IF(Base_Arbres!$A555<>\"\",Base_Arbres!$A555,\"\")","v":""}]
[{"$f":"IF(Base_Arbres!$A556<>\"\",Base_Arbres!$A556,\"\")","v":""}]
[{"$f":"IF(Base_Arbres!$A557<>\"\",Base_Arbres!$A557,\"\")","v":""}]
[{"$f":"IF(Base_Arbres!$A558<>\"\",Base_Arbres!$A558,\"\")","v":""}]
[{"$f":"IF(Base_Arbres!$A559<>\"\",Base_Arbres!$A559,\"\")","v":""}]
[{"$f":"IF(Base_Arbres!$A560<>\"\",Base_Arbres!$A560,\"\")","v":""}]
[{"$f":"IF(Base_Arbres!$A561<>\"\",Base_Arbres!$A561,\"\")","v":""}]
[{"$f":"IF(Base_Arbres!$A562<>\"\",Base_Arbres!$A562,\"\")","v":""}]
[{"$f":"IF(Base_Arbres!$A563<>\"\",Base_Arbres!$A563,\"\")","v":""}]
[{"$f":"IF(Base_Arbres!$A564<>\"\",Base_Arbres!$A564,\"\")","v":""}]
[{"$f":"IF(Base_Arbres!$A565<>\"\",Base_Arbres!$A565,\"\")","v":""}]
[{"$f":"IF(Base_Arbres!$A566<>\"\",Base_Arbres!$A566,\"\")","v":""}]
[{"$f":"IF(Base_Arbres!$A567<>\"\",Base_Arbres!$A567,\"\")","v":""}]
[{"$f":"IF(Base_Arbres!$A568<>\"\",Base_Arbres!$A568,\"\")","v":""}]
[{"$f":"IF(Base_Arbres!$A569<>\"\",Base_Arbres!$A569,\"\")","v":""}]
[{"$f":"IF(Base_Arbres!$A570<>\"\",Base_Arbres!$A570,\"\")","v":""}]
[{"$f":"IF(Base_Arbres!$A571<>\"\",Base_Arbres!$A571,\"\")","v":""}]
[{"$f":"IF(Base_Arbres!$A572<>\"\",Base_Arbres!$A572,\"\")","v":""}]
[{"$f":"IF(Base_Arbres!$A573<>\"\",Base_Arbres!$A573,\"\")","v":""}]
[{"$f":"IF(Base_Arbres!$A574<>\"\",Base_Arbres!$A574,\"\")","v":""}]
[{"$f":"IF(Base_Arbres!$A575<>\"\",Base_Arbres!$A575,\"\")","v":""}]
[{"$f":"IF(Base_Arbres!$A576<>\"\",Base_Arbres!$A576,\"\")","v":""}]
[{"$f":"IF(Base_Arbres!$A577<>\"\",Base_Arbres!$A577,\"\")","v":""}]
[{"$f":"IF(Base_Arbres!$A578<>\"\",Base_Arbres!$A578,\"\")","v":""}]
[{"$f":"IF(Base_Arbres!$A579<>\"\",Base_Arbres!$A579,\"\")","v":""}]
[{"$f":"IF(Base_Arbres!$A580<>\"\",Base_Arbres!$A580,\"\")","v":""}]
[{"$f":"IF(Base_Arbres!$A581<>\"\",Base_Arbres!$A581,\"\")","v":""}]
[{"$f":"IF(Base_Arbres!$A582<>\"\",Base_Arbres!$A582,\"\")","v":""}]
[{"$f":"IF(Base_Arbres!$A583<>\"\",Base_Arbres!$A583,\"\")","v":""}]
[{"$f":"IF(Base_Arbres!$A584<>\"\",Base_Arbres!$A584,\"\")","v":""}]
[{"$f":"IF(Base_Arbres!$A585<>\"\",Base_Arbres!$A585,\"\")","v":""}]
[{"$f":"IF(Base_Arbres!$A586<>\"\",Base_Arbres!$A586,\"\")","v":""}]
[{"$f":"IF(Base_Arbres!$A587<>\"\",Base_Arbres!$A587,\"\")","v":""}]
[{"$f":"IF(Base_Arbres!$A588<>\"\",Base_Arbres!$A588,\"\")","v":""}]
[{"$f":"IF(Base_Arbres!$A589<>\"\",Base_Arbres!$A589,\"\")","v":""}]
[{"$f":"IF(Base_Arbres!$A590<>\"\",Base_Arbres!$A590,\"\")","v":""}]
[{"$f":"IF(Base_Arbres!$A591<>\"\",Base_Arbres!$A591,\"\")","v":""}]
[{"$f":"IF(Base_Arbres!$A592<>\"\",Base_Arbres!$A592,\"\")","v":""}]
[{"$f":"IF(Base_Arbres!$A593<>\"\",Base_Arbres!$A593,\"\")","v":""}]
[{"$f":"IF(Base_Arbres!$A594<>\"\",Base_Arbres!$A594,\"\")","v":""}]
[{"$f":"IF(Base_Arbres!$A595<>\"\",Base_Arbres!$A595,\"\")","v":""}]
[{"$f":"IF(Base_Arbres!$A596<>\"\",Base_Arbres!$A596,\"\")","v":""}]
[{"$f":"IF(Base_Arbres!$A597<>\"\",Base_Arbres!$A597,\"\")","v":""}]
[{"$f":"IF(Base_Arbres!$A598<>\"\",Base_Arbres!$A598,\"\")","v":""}]
[{"$f":"IF(Base_Arbres!$A599<>\"\",Base_Arbres!$A599,\"\")","v":""}]
[{"$f":"IF(Base_Arbres!$A600<>\"\",Base_Arbres!$A600,\"\")","v":""}]
[{"$f":"IF(Base_Arbres!$A601<>\"\",Base_Arbres!$A601,\"\")","v":""}]
[{"$f":"IF(Base_Arbres!$A602<>\"\",Base_Arbres!$A602,\"\")","v":""}]
[{"$f":"IF(Base_Arbres!$A603<>\"\",Base_Arbres!$A603,\"\")","v":""}]
[{"$f":"IF(Base_Arbres!$A604<>\"\",Base_Arbres!$A604,\"\")","v":""}]
[{"$f":"IF(Base_Arbres!$A605<>\"\",Base_Arbres!$A605,\"\")","v":""}]
[{"$f":"IF(Base_Arbres!$A606<>\"\",Base_Arbres!$A606,\"\")","v":""}]
[{"$f":"IF(Base_Arbres!$A607<>\"\",Base_Arbres!$A607,\"\")","v":""}]
[{"$f":"IF(Base_Arbres!$A608<>\"\",Base_Arbres!$A608,\"\")","v":""}]
[{"$f":"IF(Base_Arbres!$A609<>\"\",Base_Arbres!$A609,\"\")","v":""}]
[{"$f":"IF(Base_Arbres!$A610<>\"\",Base_Arbres!$A610,\"\")","v":""}]
[{"$f":"IF(Base_Arbres!$A611<>\"\",Base_Arbres!$A611,\"\")","v":""}]
[{"$f":"IF(Base_Arbres!$A612<>\"\",Base_Arbres!$A612,\"\")","v":""}]
[{"$f":"IF(Base_Arbres!$A613<>\"\",Base_Arbres!$A613,\"\")","v":""}]
[{"$f":"IF(Base_Arbres!$A614<>\"\",Base_Arbres!$A614,\"\")","v":""}]
[{"$f":"IF(Base_Arbres!$A615<>\"\",Base_Arbres!$A615,\"\")","v":""}]
[{"$f":"IF(Base_Arbres!$A616<>\"\",Base_Arbres!$A616,\"\")","v":""}]
[{"$f":"IF(Base_Arbres!$A617<>\"\",Base_Arbres!$A617,\"\")","v":""}]
[{"$f":"IF(Base_Arbres!$A618<>\"\",Base_Arbres!$A618,\"\")","v":""}]
[{"$f":"IF(Base_Arbres!$A619<>\"\",Base_Arbres!$A619,\"\")","v":""}]
[{"$f":"IF(Base_Arbres!$A620<>\"\",Base_Arbres!$A620,\"\")","v":""}]
[{"$f":"IF(Base_Arbres!$A621<>\"\",Base_Arbres!$A621,\"\")","v":""}]
[{"$f":"IF(Base_Arbres!$A622<>\"\",Base_Arbres!$A622,\"\")","v":""}]
[{"$f":"IF(Base_Arbres!$A623<>\"\",Base_Arbres!$A623,\"\")","v":""}]
[{"$f":"IF(Base_Arbres!$A624<>\"\",Base_Arbres!$A624,\"\")","v":""}]
[{"$f":"IF(Base_Arbres!$A625<>\"\",Base_Arbres!$A625,\"\")","v":""}]
[{"$f":"IF(Base_Arbres!$A626<>\"\",Base_Arbres!$A626,\"\")","v":""}]
[{"$f":"IF(Base_Arbres!$A627<>\"\",Base_Arbres!$A627,\"\")","v":""}]
[{"$f":"IF(Base_Arbres!$A628<>\"\",Base_Arbres!$A628,\"\")","v":""}]
[{"$f":"IF(Base_Arbres!$A629<>\"\",Base_Arbres!$A629,\"\")","v":""}]
[{"$f":"IF(Base_Arbres!$A630<>\"\",Base_Arbres!$A630,\"\")","v":""}]
[{"$f":"IF(Base_Arbres!$A631<>\"\",Base_Arbres!$A631,\"\")","v":""}]
[{"$f":"IF(Base_Arbres!$A632<>\"\",Base_Arbres!$A632,\"\")","v":""}]
[{"$f":"IF(Base_Arbres!$A633<>\"\",Base_Arbres!$A633,\"\")","v":""}]
[{"$f":"IF(Base_Arbres!$A634<>\"\",Base_Arbres!$A634,\"\")","v":""}]
[{"$f":"IF(Base_Arbres!$A635<>\"\",Base_Arbres!$A635,\"\")","v":""}]
[{"$f":"IF(Base_Arbres!$A636<>\"\",Base_Arbres!$A636,\"\")","v":""}]
[{"$f":"IF(Base_Arbres!$A637<>\"\",Base_Arbres!$A637,\"\")","v":""}]
[{"$f":"IF(Base_Arbres!$A638<>\"\",Base_Arbres!$A638,\"\")","v":""}]
[{"$f":"IF(Base_Arbres!$A639<>\"\",Base_Arbres!$A639,\"\")","v":""}]
[{"$f":"IF(Base_Arbres!$A640<>\"\",Base_Arbres!$A640,\"\")","v":""}]
[{"$f":"IF(Base_Arbres!$A641<>\"\",Base_Arbres!$A641,\"\")","v":""}]
[{"$f":"IF(Base_Arbres!$A642<>\"\",Base_Arbres!$A642,\"\")","v":""}]
[{"$f":"IF(Base_Arbres!$A643<>\"\",Base_Arbres!$A643,\"\")","v":""}]
[{"$f":"IF(Base_Arbres!$A644<>\"\",Base_Arbres!$A644,\"\")","v":""}]
[{"$f":"IF(Base_Arbres!$A645<>\"\",Base_Arbres!$A645,\"\")","v":""}]
[{"$f":"IF(Base_Arbres!$A646<>\"\",Base_Arbres!$A646,\"\")","v":""}]
[{"$f":"IF(Base_Arbres!$A647<>\"\",Base_Arbres!$A647,\"\")","v":""}]
[{"$f":"IF(Base_Arbres!$A648<>\"\",Base_Arbres!$A648,\"\")","v":""}]
[{"$f":"IF(Base_Arbres!$A649<>\"\",Base_Arbres!$A649,\"\")","v":""}]
[{"$f":"IF(Base_Arbres!$A650<>\"\",Base_Arbres!$A650,\"\")","v":""}]
[{"$f":"IF(Base_Arbres!$A651<>\"\",Base_Arbres!$A651,\"\")","v":""}]
[{"$f":"IF(Base_Arbres!$A652<>\"\",Base_Arbres!$A652,\"\")","v":""}]
[{"$f":"IF(Base_Arbres!$A653<>\"\",Base_Arbres!$A653,\"\")","v":""}]
[{"$f":"IF(Base_Arbres!$A654<>\"\",Base_Arbres!$A654,\"\")","v":""}]
[{"$f":"IF(Base_Arbres!$A655<>\"\",Base_Arbres!$A655,\"\")","v":""}]
[{"$f":"IF(Base_Arbres!$A656<>\"\",Base_Arbres!$A656,\"\")","v":""}]
[{"$f":"IF(Base_Arbres!$A657<>\"\",Base_Arbres!$A657,\"\")","v":""}]
[{"$f":"IF(Base_Arbres!$A658<>\"\",Base_Arbres!$A658,\"\")","v":""}]
[{"$f":"IF(Base_Arbres!$A659<>\"\",Base_Arbres!$A659,\"\")","v":""}]
[{"$f":"IF(Base_Arbres!$A660<>\"\",Base_Arbres!$A660,\"\")","v":""}]
[{"$f":"IF(Base_Arbres!$A661<>\"\",Base_Arbres!$A661,\"\")","v":""}]
[{"$f":"IF(Base_Arbres!$A662<>\"\",Base_Arbres!$A662,\"\")","v":""}]
[{"$f":"IF(Base_Arbres!$A663<>\"\",Base_Arbres!$A663,\"\")","v":""}]
[{"$f":"IF(Base_Arbres!$A664<>\"\",Base_Arbres!$A664,\"\")","v":""}]
[{"$f":"IF(Base_Arbres!$A665<>\"\",Base_Arbres!$A665,\"\")","v":""}]
[{"$f":"IF(Base_Arbres!$A666<>\"\",Base_Arbres!$A666,\"\")","v":""}]
[{"$f":"IF(Base_Arbres!$A667<>\"\",Base_Arbres!$A667,\"\")","v":""}]
[{"$f":"IF(Base_Arbres!$A668<>\"\",Base_Arbres!$A668,\"\")","v":""}]
[{"$f":"IF(Base_Arbres!$A669<>\"\",Base_Arbres!$A669,\"\")","v":""}]
[{"$f":"IF(Base_Arbres!$A670<>\"\",Base_Arbres!$A670,\"\")","v":""}]
[{"$f":"IF(Base_Arbres!$A671<>\"\",Base_Arbres!$A671,\"\")","v":""}]
[{"$f":"IF(Base_Arbres!$A672<>\"\",Base_Arbres!$A672,\"\")","v":""}]
[{"$f":"IF(Base_Arbres!$A673<>\"\",Base_Arbres!$A673,\"\")","v":""}]
[{"$f":"IF(Base_Arbres!$A674<>\"\",Base_Arbres!$A674,\"\")","v":""}]
[{"$f":"IF(Base_Arbres!$A675<>\"\",Base_Arbres!$A675,\"\")","v":""}]
[{"$f":"IF(Base_Arbres!$A676<>\"\",Base_Arbres!$A676,\"\")","v":""}]
[{"$f":"IF(Base_Arbres!$A677<>\"\",Base_Arbres!$A677,\"\")","v":""}]
[{"$f":"IF(Base_Arbres!$A678<>\"\",Base_Arbres!$A678,\"\")","v":""}]
[{"$f":"IF(Base_Arbres!$A679<>\"\",Base_Arbres!$A679,\"\")","v":""}]
[{"$f":"IF(Base_Arbres!$A680<>\"\",Base_Arbres!$A680,\"\")","v":""}]
[{"$f":"IF(Base_Arbres!$A681<>\"\",Base_Arbres!$A681,\"\")","v":""}]
[{"$f":"IF(Base_Arbres!$A682<>\"\",Base_Arbres!$A682,\"\")","v":""}]
[{"$f":"IF(Base_Arbres!$A683<>\"\",Base_Arbres!$A683,\"\")","v":""}]
[{"$f":"IF(Base_Arbres!$A684<>\"\",Base_Arbres!$A684,\"\")","v":""}]
[{"$f":"IF(Base_Arbres!$A685<>\"\",Base_Arbres!$A685,\"\")","v":""}]
[{"$f":"IF(Base_Arbres!$A686<>\"\",Base_Arbres!$A686,\"\")","v":""}]
[{"$f":"IF(Base_Arbres!$A687<>\"\",Base_Arbres!$A687,\"\")","v":""}]
[{"$f":"IF(Base_Arbres!$A688<>\"\",Base_Arbres!$A688,\"\")","v":""}]
[{"$f":"IF(Base_Arbres!$A689<>\"\",Base_Arbres!$A689,\"\")","v":""}]
[{"$f":"IF(Base_Arbres!$A690<>\"\",Base_Arbres!$A690,\"\")","v":""}]
[{"$f":"IF(Base_Arbres!$A691<>\"\",Base_Arbres!$A691,\"\")","v":""}]
[{"$f":"IF(Base_Arbres!$A692<>\"\",Base_Arbres!$A692,\"\")","v":""}]
[{"$f":"IF(Base_Arbres!$A693<>\"\",Base_Arbres!$A693,\"\")","v":""}]
[{"$f":"IF(Base_Arbres!$A694<>\"\",Base_Arbres!$A694,\"\")","v":""}]
[{"$f":"IF(Base_Arbres!$A695<>\"\",Base_Arbres!$A695,\"\")","v":""}]
[{"$f":"IF(Base_Arbres!$A696<>\"\",Base_Arbres!$A696,\"\")","v":""}]
[{"$f":"IF(Base_Arbres!$A697<>\"\",Base_Arbres!$A697,\"\")","v":""}]
[{"$f":"IF(Base_Arbres!$A698<>\"\",Base_Arbres!$A698,\"\")","v":""}]
[{"$f":"IF(Base_Arbres!$A699<>\"\",Base_Arbres!$A699,\"\")","v":""}]
[{"$f":"IF(Base_Arbres!$A700<>\"\",Base_Arbres!$A700,\"\")","v":""}]
[{"$f":"IF(Base_Arbres!$A701<>\"\",Base_Arbres!$A701,\"\")","v":""}]
[{"$f":"IF(Base_Arbres!$A702<>\"\",Base_Arbres!$A702,\"\")","v":""}]
[{"$f":"IF(Base_Arbres!$A703<>\"\",Base_Arbres!$A703,\"\")","v":""}]
[{"$f":"IF(Base_Arbres!$A704<>\"\",Base_Arbres!$A704,\"\")","v":""}]
[{"$f":"IF(Base_Arbres!$A705<>\"\",Base_Arbres!$A705,\"\")","v":""}]
[{"$f":"IF(Base_Arbres!$A706<>\"\",Base_Arbres!$A706,\"\")","v":""}]
[{"$f":"IF(Base_Arbres!$A707<>\"\",Base_Arbres!$A707,\"\")","v":""}]
[{"$f":"IF(Base_Arbres!$A708<>\"\",Base_Arbres!$A708,\"\")","v":""}]
[{"$f":"IF(Base_Arbres!$A709<>\"\",Base_Arbres!$A709,\"\")","v":""}]
[{"$f":"IF(Base_Arbres!$A710<>\"\",Base_Arbres!$A710,\"\")","v":""}]
[{"$f":"IF(Base_Arbres!$A711<>\"\",Base_Arbres!$A711,\"\")","v":""}]
[{"$f":"IF(Base_Arbres!$A712<>\"\",Base_Arbres!$A712,\"\")","v":""}]
[{"$f":"IF(Base_Arbres!$A713<>\"\",Base_Arbres!$A713,\"\")","v":""}]
[{"$f":"IF(Base_Arbres!$A714<>\"\",Base_Arbres!$A714,\"\")","v":""}]
[{"$f":"IF(Base_Arbres!$A715<>\"\",Base_Arbres!$A715,\"\")","v":""}]
[{"$f":"IF(Base_Arbres!$A716<>\"\",Base_Arbres!$A716,\"\")","v":""}]
[{"$f":"IF(Base_Arbres!$A717<>\"\",Base_Arbres!$A717,\"\")","v":""}]
[{"$f":"IF(Base_Arbres!$A718<>\"\",Base_Arbres!$A718,\"\")","v":""}]
[{"$f":"IF(Base_Arbres!$A719<>\"\",Base_Arbres!$A719,\"\")","v":""}]
[{"$f":"IF(Base_Arbres!$A720<>\"\",Base_Arbres!$A720,\"\")","v":""}]
[{"$f":"IF(Base_Arbres!$A721<>\"\",Base_Arbres!$A721,\"\")","v":""}]
[{"$f":"IF(Base_Arbres!$A722<>\"\",Base_Arbres!$A722,\"\")","v":""}]
[{"$f":"IF(Base_Arbres!$A723<>\"\",Base_Arbres!$A723,\"\")","v":""}]
[{"$f":"IF(Base_Arbres!$A724<>\"\",Base_Arbres!$A724,\"\")","v":""}]
[{"$f":"IF(Base_Arbres!$A725<>\"\",Base_Arbres!$A725,\"\")","v":""}]
[{"$f":"IF(Base_Arbres!$A726<>\"\",Base_Arbres!$A726,\"\")","v":""}]
[{"$f":"IF(Base_Arbres!$A727<>\"\",Base_Arbres!$A727,\"\")","v":""}]
[{"$f":"IF(Base_Arbres!$A728<>\"\",Base_Arbres!$A728,\"\")","v":""}]
[{"$f":"IF(Base_Arbres!$A729<>\"\",Base_Arbres!$A729,\"\")","v":""}]
[{"$f":"IF(Base_Arbres!$A730<>\"\",Base_Arbres!$A730,\"\")","v":""}]
[{"$f":"IF(Base_Arbres!$A731<>\"\",Base_Arbres!$A731,\"\")","v":""}]
[{"$f":"IF(Base_Arbres!$A732<>\"\",Base_Arbres!$A732,\"\")","v":""}]
[{"$f":"IF(Base_Arbres!$A733<>\"\",Base_Arbres!$A733,\"\")","v":""}]
[{"$f":"IF(Base_Arbres!$A734<>\"\",Base_Arbres!$A734,\"\")","v":""}]
[{"$f":"IF(Base_Arbres!$A735<>\"\",Base_Arbres!$A735,\"\")","v":""}]
[{"$f":"IF(Base_Arbres!$A736<>\"\",Base_Arbres!$A736,\"\")","v":""}]
[{"$f":"IF(Base_Arbres!$A737<>\"\",Base_Arbres!$A737,\"\")","v":""}]
[{"$f":"IF(Base_Arbres!$A738<>\"\",Base_Arbres!$A738,\"\")","v":""}]
[{"$f":"IF(Base_Arbres!$A739<>\"\",Base_Arbres!$A739,\"\")","v":""}]
[{"$f":"IF(Base_Arbres!$A740<>\"\",Base_Arbres!$A740,\"\")","v":""}]
[{"$f":"IF(Base_Arbres!$A741<>\"\",Base_Arbres!$A741,\"\")","v":""}]
[{"$f":"IF(Base_Arbres!$A742<>\"\",Base_Arbres!$A742,\"\")","v":""}]
[{"$f":"IF(Base_Arbres!$A743<>\"\",Base_Arbres!$A743,\"\")","v":""}]
[{"$f":"IF(Base_Arbres!$A744<>\"\",Base_Arbres!$A744,\"\")","v":""}]
[{"$f":"IF(Base_Arbres!$A745<>\"\",Base_Arbres!$A745,\"\")","v":""}]
[{"$f":"IF(Base_Arbres!$A746<>\"\",Base_Arbres!$A746,\"\")","v":""}]
[{"$f":"IF(Base_Arbres!$A747<>\"\",Base_Arbres!$A747,\"\")","v":""}]
[{"$f":"IF(Base_Arbres!$A748<>\"\",Base_Arbres!$A748,\"\")","v":""}]
[{"$f":"IF(Base_Arbres!$A749<>\"\",Base_Arbres!$A749,\"\")","v":""}]
[{"$f":"IF(Base_Arbres!$A750<>\"\",Base_Arbres!$A750,\"\")","v":""}]
[{"$f":"IF(Base_Arbres!$A751<>\"\",Base_Arbres!$A751,\"\")","v":""}]
[{"$f":"IF(Base_Arbres!$A752<>\"\",Base_Arbres!$A752,\"\")","v":""}]
[{"$f":"IF(Base_Arbres!$A753<>\"\",Base_Arbres!$A753,\"\")","v":""}]
[{"$f":"IF(Base_Arbres!$A754<>\"\",Base_Arbres!$A754,\"\")","v":""}]
[{"$f":"IF(Base_Arbres!$A755<>\"\",Base_Arbres!$A755,\"\")","v":""}]
[{"$f":"IF(Base_Arbres!$A756<>\"\",Base_Arbres!$A756,\"\")","v":""}]
[{"$f":"IF(Base_Arbres!$A757<>\"\",Base_Arbres!$A757,\"\")","v":""}]
[{"$f":"IF(Base_Arbres!$A758<>\"\",Base_Arbres!$A758,\"\")","v":""}]
[{"$f":"IF(Base_Arbres!$A759<>\"\",Base_Arbres!$A759,\"\")","v":""}]
[{"$f":"IF(Base_Arbres!$A760<>\"\",Base_Arbres!$A760,\"\")","v":""}]
[{"$f":"IF(Base_Arbres!$A761<>\"\",Base_Arbres!$A761,\"\")","v":""}]
[{"$f":"IF(Base_Arbres!$A762<>\"\",Base_Arbres!$A762,\"\")","v":""}]
[{"$f":"IF(Base_Arbres!$A763<>\"\",Base_Arbres!$A763,\"\")","v":""}]
[{"$f":"IF(Base_Arbres!$A764<>\"\",Base_Arbres!$A764,\"\")","v":""}]
[{"$f":"IF(Base_Arbres!$A765<>\"\",Base_Arbres!$A765,\"\")","v":""}]
[{"$f":"IF(Base_Arbres!$A766<>\"\",Base_Arbres!$A766,\"\")","v":""}]
[{"$f":"IF(Base_Arbres!$A767<>\"\",Base_Arbres!$A767,\"\")","v":""}]
[{"$f":"IF(Base_Arbres!$A768<>\"\",Base_Arbres!$A768,\"\")","v":""}]
[{"$f":"IF(Base_Arbres!$A769<>\"\",Base_Arbres!$A769,\"\")","v":""}]
[{"$f":"IF(Base_Arbres!$A770<>\"\",Base_Arbres!$A770,\"\")","v":""}]
[{"$f":"IF(Base_Arbres!$A771<>\"\",Base_Arbres!$A771,\"\")","v":""}]
[{"$f":"IF(Base_Arbres!$A772<>\"\",Base_Arbres!$A772,\"\")","v":""}]
[{"$f":"IF(Base_Arbres!$A773<>\"\",Base_Arbres!$A773,\"\")","v":""}]
[{"$f":"IF(Base_Arbres!$A774<>\"\",Base_Arbres!$A774,\"\")","v":""}]
[{"$f":"IF(Base_Arbres!$A775<>\"\",Base_Arbres!$A775,\"\")","v":""}]
[{"$f":"IF(Base_Arbres!$A776<>\"\",Base_Arbres!$A776,\"\")","v":""}]
[{"$f":"IF(Base_Arbres!$A777<>\"\",Base_Arbres!$A777,\"\")","v":""}]
[{"$f":"IF(Base_Arbres!$A778<>\"\",Base_Arbres!$A778,\"\")","v":""}]
[{"$f":"IF(Base_Arbres!$A779<>\"\",Base_Arbres!$A779,\"\")","v":""}]
[{"$f":"IF(Base_Arbres!$A780<>\"\",Base_Arbres!$A780,\"\")","v":""}]
[{"$f":"IF(Base_Arbres!$A781<>\"\",Base_Arbres!$A781,\"\")","v":""}]
[{"$f":"IF(Base_Arbres!$A782<>\"\",Base_Arbres!$A782,\"\")","v":""}]
[{"$f":"IF(Base_Arbres!$A783<>\"\",Base_Arbres!$A783,\"\")","v":""}]
[{"$f":"IF(Base_Arbres!$A784<>\"\",Base_Arbres!$A784,\"\")","v":""}]
[{"$f":"IF(Base_Arbres!$A785<>\"\",Base_Arbres!$A785,\"\")","v":""}]
[{"$f":"IF(Base_Arbres!$A786<>\"\",Base_Arbres!$A786,\"\")","v":""}]
[{"$f":"IF(Base_Arbres!$A787<>\"\",Base_Arbres!$A787,\"\")","v":""}]
[{"$f":"IF(Base_Arbres!$A788<>\"\",Base_Arbres!$A788,\"\")","v":""}]
[{"$f":"IF(Base_Arbres!$A789<>\"\",Base_Arbres!$A789,\"\")","v":""}]
[{"$f":"IF(Base_Arbres!$A790<>\"\",Base_Arbres!$A790,\"\")","v":""}]
[{"$f":"IF(Base_Arbres!$A791<>\"\",Base_Arbres!$A791,\"\")","v":""}]
[{"$f":"IF(Base_Arbres!$A792<>\"\",Base_Arbres!$A792,\"\")","v":""}]
[{"$f":"IF(Base_Arbres!$A793<>\"\",Base_Arbres!$A793,\"\")","v":""}]
[{"$f":"IF(Base_Arbres!$A794<>\"\",Base_Arbres!$A794,\"\")","v":""}]
[{"$f":"IF(Base_Arbres!$A795<>\"\",Base_Arbres!$A795,\"\")","v":""}]
[{"$f":"IF(Base_Arbres!$A796<>\"\",Base_Arbres!$A796,\"\")","v":""}]
[{"$f":"IF(Base_Arbres!$A797<>\"\",Base_Arbres!$A797,\"\")","v":""}]
[{"$f":"IF(Base_Arbres!$A798<>\"\",Base_Arbres!$A798,\"\")","v":""}]
[{"$f":"IF(Base_Arbres!$A799<>\"\",Base_Arbres!$A799,\"\")","v":""}]
[{"$f":"IF(Base_Arbres!$A800<>\"\",Base_Arbres!$A800,\"\")","v":""}]
[{"$f":"IF(Base_Arbres!$A801<>\"\",Base_Arbres!$A801,\"\")","v":""}]
[{"$f":"IF(Base_Arbres!$A802<>\"\",Base_Arbres!$A802,\"\")","v":""}]
[{"$f":"IF(Base_Arbres!$A803<>\"\",Base_Arbres!$A803,\"\")","v":""}]
[{"$f":"IF(Base_Arbres!$A804<>\"\",Base_Arbres!$A804,\"\")","v":""}]
[{"$f":"IF(Base_Arbres!$A805<>\"\",Base_Arbres!$A805,\"\")","v":""}]
[{"$f":"IF(Base_Arbres!$A806<>\"\",Base_Arbres!$A806,\"\")","v":""}]
[{"$f":"IF(Base_Arbres!$A807<>\"\",Base_Arbres!$A807,\"\")","v":""}]
[{"$f":"IF(Base_Arbres!$A808<>\"\",Base_Arbres!$A808,\"\")","v":""}]
[{"$f":"IF(Base_Arbres!$A809<>\"\",Base_Arbres!$A809,\"\")","v":""}]
[{"$f":"IF(Base_Arbres!$A810<>\"\",Base_Arbres!$A810,\"\")","v":""}]
[{"$f":"IF(Base_Arbres!$A811<>\"\",Base_Arbres!$A811,\"\")","v":""}]
[{"$f":"IF(Base_Arbres!$A812<>\"\",Base_Arbres!$A812,\"\")","v":""}]
[{"$f":"IF(Base_Arbres!$A813<>\"\",Base_Arbres!$A813,\"\")","v":""}]
[{"$f":"IF(Base_Arbres!$A814<>\"\",Base_Arbres!$A814,\"\")","v":""}]
[{"$f":"IF(Base_Arbres!$A815<>\"\",Base_Arbres!$A815,\"\")","v":""}]
[{"$f":"IF(Base_Arbres!$A816<>\"\",Base_Arbres!$A816,\"\")","v":""}]
[{"$f":"IF(Base_Arbres!$A817<>\"\",Base_Arbres!$A817,\"\")","v":""}]
[{"$f":"IF(Base_Arbres!$A818<>\"\",Base_Arbres!$A818,\"\")","v":""}]
[{"$f":"IF(Base_Arbres!$A819<>\"\",Base_Arbres!$A819,\"\")","v":""}]
[{"$f":"IF(Base_Arbres!$A820<>\"\",Base_Arbres!$A820,\"\")","v":""}]
[{"$f":"IF(Base_Arbres!$A821<>\"\",Base_Arbres!$A821,\"\")","v":""}]
[{"$f":"IF(Base_Arbres!$A822<>\"\",Base_Arbres!$A822,\"\")","v":""}]
[{"$f":"IF(Base_Arbres!$A823<>\"\",Base_Arbres!$A823,\"\")","v":""}]
[{"$f":"IF(Base_Arbres!$A824<>\"\",Base_Arbres!$A824,\"\")","v":""}]
[{"$f":"IF(Base_Arbres!$A825<>\"\",Base_Arbres!$A825,\"\")","v":""}]
[{"$f":"IF(Base_Arbres!$A826<>\"\",Base_Arbres!$A826,\"\")","v":""}]
[{"$f":"IF(Base_Arbres!$A827<>\"\",Base_Arbres!$A827,\"\")","v":""}]
[{"$f":"IF(Base_Arbres!$A828<>\"\",Base_Arbres!$A828,\"\")","v":""}]
[{"$f":"IF(Base_Arbres!$A829<>\"\",Base_Arbres!$A829,\"\")","v":""}]
[{"$f":"IF(Base_Arbres!$A830<>\"\",Base_Arbres!$A830,\"\")","v":""}]
[{"$f":"IF(Base_Arbres!$A831<>\"\",Base_Arbres!$A831,\"\")","v":""}]
[{"$f":"IF(Base_Arbres!$A832<>\"\",Base_Arbres!$A832,\"\")","v":""}]
[{"$f":"IF(Base_Arbres!$A833<>\"\",Base_Arbres!$A833,\"\")","v":""}]
[{"$f":"IF(Base_Arbres!$A834<>\"\",Base_Arbres!$A834,\"\")","v":""}]
[{"$f":"IF(Base_Arbres!$A835<>\"\",Base_Arbres!$A835,\"\")","v":""}]
[{"$f":"IF(Base_Arbres!$A836<>\"\",Base_Arbres!$A836,\"\")","v":""}]
[{"$f":"IF(Base_Arbres!$A837<>\"\",Base_Arbres!$A837,\"\")","v":""}]
[{"$f":"IF(Base_Arbres!$A838<>\"\",Base_Arbres!$A838,\"\")","v":""}]
[{"$f":"IF(Base_Arbres!$A839<>\"\",Base_Arbres!$A839,\"\")","v":""}]
[{"$f":"IF(Base_Arbres!$A840<>\"\",Base_Arbres!$A840,\"\")","v":""}]
[{"$f":"IF(Base_Arbres!$A841<>\"\",Base_Arbres!$A841,\"\")","v":""}]
[{"$f":"IF(Base_Arbres!$A842<>\"\",Base_Arbres!$A842,\"\")","v":""}]
[{"$f":"IF(Base_Arbres!$A843<>\"\",Base_Arbres!$A843,\"\")","v":""}]
[{"$f":"IF(Base_Arbres!$A844<>\"\",Base_Arbres!$A844,\"\")","v":""}]
[{"$f":"IF(Base_Arbres!$A845<>\"\",Base_Arbres!$A845,\"\")","v":""}]
[{"$f":"IF(Base_Arbres!$A846<>\"\",Base_Arbres!$A846,\"\")","v":""}]
[{"$f":"IF(Base_Arbres!$A847<>\"\",Base_Arbres!$A847,\"\")","v":""}]
[{"$f":"IF(Base_Arbres!$A848<>\"\",Base_Arbres!$A848,\"\")","v":""}]
[{"$f":"IF(Base_Arbres!$A849<>\"\",Base_Arbres!$A849,\"\")","v":""}]
[{"$f":"IF(Base_Arbres!$A850<>\"\",Base_Arbres!$A850,\"\")","v":""}]
[{"$f":"IF(Base_Arbres!$A851<>\"\",Base_Arbres!$A851,\"\")","v":""}]
[{"$f":"IF(Base_Arbres!$A852<>\"\",Base_Arbres!$A852,\"\")","v":""}]
[{"$f":"IF(Base_Arbres!$A853<>\"\",Base_Arbres!$A853,\"\")","v":""}]
[{"$f":"IF(Base_Arbres!$A854<>\"\",Base_Arbres!$A854,\"\")","v":""}]
[{"$f":"IF(Base_Arbres!$A855<>\"\",Base_Arbres!$A855,\"\")","v":""}]
[{"$f":"IF(Base_Arbres!$A856<>\"\",Base_Arbres!$A856,\"\")","v":""}]
[{"$f":"IF(Base_Arbres!$A857<>\"\",Base_Arbres!$A857,\"\")","v":""}]
[{"$f":"IF(Base_Arbres!$A858<>\"\",Base_Arbres!$A858,\"\")","v":""}]
[{"$f":"IF(Base_Arbres!$A859<>\"\",Base_Arbres!$A859,\"\")","v":""}]
[{"$f":"IF(Base_Arbres!$A860<>\"\",Base_Arbres!$A860,\"\")","v":""}]
[{"$f":"IF(Base_Arbres!$A861<>\"\",Base_Arbres!$A861,\"\")","v":""}]
[{"$f":"IF(Base_Arbres!$A862<>\"\",Base_Arbres!$A862,\"\")","v":""}]
[{"$f":"IF(Base_Arbres!$A863<>\"\",Base_Arbres!$A863,\"\")","v":""}]
[{"$f":"IF(Base_Arbres!$A864<>\"\",Base_Arbres!$A864,\"\")","v":""}]
[{"$f":"IF(Base_Arbres!$A865<>\"\",Base_Arbres!$A865,\"\")","v":""}]
[{"$f":"IF(Base_Arbres!$A866<>\"\",Base_Arbres!$A866,\"\")","v":""}]
[{"$f":"IF(Base_Arbres!$A867<>\"\",Base_Arbres!$A867,\"\")","v":""}]
[{"$f":"IF(Base_Arbres!$A868<>\"\",Base_Arbres!$A868,\"\")","v":""}]
[{"$f":"IF(Base_Arbres!$A869<>\"\",Base_Arbres!$A869,\"\")","v":""}]
[{"$f":"IF(Base_Arbres!$A870<>\"\",Base_Arbres!$A870,\"\")","v":""}]
[{"$f":"IF(Base_Arbres!$A871<>\"\",Base_Arbres!$A871,\"\")","v":""}]
[{"$f":"IF(Base_Arbres!$A872<>\"\",Base_Arbres!$A872,\"\")","v":""}]
[{"$f":"IF(Base_Arbres!$A873<>\"\",Base_Arbres!$A873,\"\")","v":""}]
[{"$f":"IF(Base_Arbres!$A874<>\"\",Base_Arbres!$A874,\"\")","v":""}]
[{"$f":"IF(Base_Arbres!$A875<>\"\",Base_Arbres!$A875,\"\")","v":""}]
[{"$f":"IF(Base_Arbres!$A876<>\"\",Base_Arbres!$A876,\"\")","v":""}]
[{"$f":"IF(Base_Arbres!$A877<>\"\",Base_Arbres!$A877,\"\")","v":""}]
[{"$f":"IF(Base_Arbres!$A878<>\"\",Base_Arbres!$A878,\"\")","v":""}]
[{"$f":"IF(Base_Arbres!$A879<>\"\",Base_Arbres!$A879,\"\")","v":""}]
[{"$f":"IF(Base_Arbres!$A880<>\"\",Base_Arbres!$A880,\"\")","v":""}]
[{"$f":"IF(Base_Arbres!$A881<>\"\",Base_Arbres!$A881,\"\")","v":""}]
[{"$f":"IF(Base_Arbres!$A882<>\"\",Base_Arbres!$A882,\"\")","v":""}]
[{"$f":"IF(Base_Arbres!$A883<>\"\",Base_Arbres!$A883,\"\")","v":""}]
[{"$f":"IF(Base_Arbres!$A884<>\"\",Base_Arbres!$A884,\"\")","v":""}]
[{"$f":"IF(Base_Arbres!$A885<>\"\",Base_Arbres!$A885,\"\")","v":""}]
[{"$f":"IF(Base_Arbres!$A886<>\"\",Base_Arbres!$A886,\"\")","v":""}]
[{"$f":"IF(Base_Arbres!$A887<>\"\",Base_Arbres!$A887,\"\")","v":""}]
[{"$f":"IF(Base_Arbres!$A888<>\"\",Base_Arbres!$A888,\"\")","v":""}]
[{"$f":"IF(Base_Arbres!$A889<>\"\",Base_Arbres!$A889,\"\")","v":""}]
[{"$f":"IF(Base_Arbres!$A890<>\"\",Base_Arbres!$A890,\"\")","v":""}]
[{"$f":"IF(Base_Arbres!$A891<>\"\",Base_Arbres!$A891,\"\")","v":""}]
[{"$f":"IF(Base_Arbres!$A892<>\"\",Base_Arbres!$A892,\"\")","v":""}]
[{"$f":"IF(Base_Arbres!$A893<>\"\",Base_Arbres!$A893,\"\")","v":""}]
[{"$f":"IF(Base_Arbres!$A894<>\"\",Base_Arbres!$A894,\"\")","v":""}]
[{"$f":"IF(Base_Arbres!$A895<>\"\",Base_Arbres!$A895,\"\")","v":""}]
[{"$f":"IF(Base_Arbres!$A896<>\"\",Base_Arbres!$A896,\"\")","v":""}]
[{"$f":"IF(Base_Arbres!$A897<>\"\",Base_Arbres!$A897,\"\")","v":""}]
[{"$f":"IF(Base_Arbres!$A898<>\"\",Base_Arbres!$A898,\"\")","v":""}]
[{"$f":"IF(Base_Arbres!$A899<>\"\",Base_Arbres!$A899,\"\")","v":""}]
[{"$f":"IF(Base_Arbres!$A900<>\"\",Base_Arbres!$A900,\"\")","v":""}]
[{"$f":"IF(Base_Arbres!$A901<>\"\",Base_Arbres!$A901,\"\")","v":""}]
[{"$f":"IF(Base_Arbres!$A902<>\"\",Base_Arbres!$A902,\"\")","v":""}]
[{"$f":"IF(Base_Arbres!$A903<>\"\",Base_Arbres!$A903,\"\")","v":""}]
[{"$f":"IF(Base_Arbres!$A904<>\"\",Base_Arbres!$A904,\"\")","v":""}]
[{"$f":"IF(Base_Arbres!$A905<>\"\",Base_Arbres!$A905,\"\")","v":""}]
[{"$f":"IF(Base_Arbres!$A906<>\"\",Base_Arbres!$A906,\"\")","v":""}]
[{"$f":"IF(Base_Arbres!$A907<>\"\",Base_Arbres!$A907,\"\")","v":""}]
[{"$f":"IF(Base_Arbres!$A908<>\"\",Base_Arbres!$A908,\"\")","v":""}]
[{"$f":"IF(Base_Arbres!$A909<>\"\",Base_Arbres!$A909,\"\")","v":""}]
[{"$f":"IF(Base_Arbres!$A910<>\"\",Base_Arbres!$A910,\"\")","v":""}]
[{"$f":"IF(Base_Arbres!$A911<>\"\",Base_Arbres!$A911,\"\")","v":""}]
[{"$f":"IF(Base_Arbres!$A912<>\"\",Base_Arbres!$A912,\"\")","v":""}]
[{"$f":"IF(Base_Arbres!$A913<>\"\",Base_Arbres!$A913,\"\")","v":""}]
[{"$f":"IF(Base_Arbres!$A914<>\"\",Base_Arbres!$A914,\"\")","v":""}]
[{"$f":"IF(Base_Arbres!$A915<>\"\",Base_Arbres!$A915,\"\")","v":""}]
[{"$f":"IF(Base_Arbres!$A916<>\"\",Base_Arbres!$A916,\"\")","v":""}]
[{"$f":"IF(Base_Arbres!$A917<>\"\",Base_Arbres!$A917,\"\")","v":""}]
[{"$f":"IF(Base_Arbres!$A918<>\"\",Base_Arbres!$A918,\"\")","v":""}]
[{"$f":"IF(Base_Arbres!$A919<>\"\",Base_Arbres!$A919,\"\")","v":""}]
[{"$f":"IF(Base_Arbres!$A920<>\"\",Base_Arbres!$A920,\"\")","v":""}]
[{"$f":"IF(Base_Arbres!$A921<>\"\",Base_Arbres!$A921,\"\")","v":""}]
[{"$f":"IF(Base_Arbres!$A922<>\"\",Base_Arbres!$A922,\"\")","v":""}]
[{"$f":"IF(Base_Arbres!$A923<>\"\",Base_Arbres!$A923,\"\")","v":""}]
[{"$f":"IF(Base_Arbres!$A924<>\"\",Base_Arbres!$A924,\"\")","v":""}]
[{"$f":"IF(Base_Arbres!$A925<>\"\",Base_Arbres!$A925,\"\")","v":""}]
[{"$f":"IF(Base_Arbres!$A926<>\"\",Base_Arbres!$A926,\"\")","v":""}]
[{"$f":"IF(Base_Arbres!$A927<>\"\",Base_Arbres!$A927,\"\")","v":""}]
[{"$f":"IF(Base_Arbres!$A928<>\"\",Base_Arbres!$A928,\"\")","v":""}]
[{"$f":"IF(Base_Arbres!$A929<>\"\",Base_Arbres!$A929,\"\")","v":""}]
[{"$f":"IF(Base_Arbres!$A930<>\"\",Base_Arbres!$A930,\"\")","v":""}]
[{"$f":"IF(Base_Arbres!$A931<>\"\",Base_Arbres!$A931,\"\")","v":""}]
[{"$f":"IF(Base_Arbres!$A932<>\"\",Base_Arbres!$A932,\"\")","v":""}]
[{"$f":"IF(Base_Arbres!$A933<>\"\",Base_Arbres!$A933,\"\")","v":""}]
[{"$f":"IF(Base_Arbres!$A934<>\"\",Base_Arbres!$A934,\"\")","v":""}]
[{"$f":"IF(Base_Arbres!$A935<>\"\",Base_Arbres!$A935,\"\")","v":""}]
[{"$f":"IF(Base_Arbres!$A936<>\"\",Base_Arbres!$A936,\"\")","v":""}]
[{"$f":"IF(Base_Arbres!$A937<>\"\",Base_Arbres!$A937,\"\")","v":""}]
[{"$f":"IF(Base_Arbres!$A938<>\"\",Base_Arbres!$A938,\"\")","v":""}]
[{"$f":"IF(Base_Arbres!$A939<>\"\",Base_Arbres!$A939,\"\")","v":""}]
[{"$f":"IF(Base_Arbres!$A940<>\"\",Base_Arbres!$A940,\"\")","v":""}]
[{"$f":"IF(Base_Arbres!$A941<>\"\",Base_Arbres!$A941,\"\")","v":""}]
[{"$f":"IF(Base_Arbres!$A942<>\"\",Base_Arbres!$A942,\"\")","v":""}]
[{"$f":"IF(Base_Arbres!$A943<>\"\",Base_Arbres!$A943,\"\")","v":""}]
[{"$f":"IF(Base_Arbres!$A944<>\"\",Base_Arbres!$A944,\"\")","v":""}]
[{"$f":"IF(Base_Arbres!$A945<>\"\",Base_Arbres!$A945,\"\")","v":""}]
[{"$f":"IF(Base_Arbres!$A946<>\"\",Base_Arbres!$A946,\"\")","v":""}]
[{"$f":"IF(Base_Arbres!$A947<>\"\",Base_Arbres!$A947,\"\")","v":""}]
[{"$f":"IF(Base_Arbres!$A948<>\"\",Base_Arbres!$A948,\"\")","v":""}]
[{"$f":"IF(Base_Arbres!$A949<>\"\",Base_Arbres!$A949,\"\")","v":""}]
[{"$f":"IF(Base_Arbres!$A950<>\"\",Base_Arbres!$A950,\"\")","v":""}]
[{"$f":"IF(Base_Arbres!$A951<>\"\",Base_Arbres!$A951,\"\")","v":""}]
[{"$f":"IF(Base_Arbres!$A952<>\"\",Base_Arbres!$A952,\"\")","v":""}]
[{"$f":"IF(Base_Arbres!$A953<>\"\",Base_Arbres!$A953,\"\")","v":""}]
[{"$f":"IF(Base_Arbres!$A954<>\"\",Base_Arbres!$A954,\"\")","v":""}]
[{"$f":"IF(Base_Arbres!$A955<>\"\",Base_Arbres!$A955,\"\")","v":""}]
[{"$f":"IF(Base_Arbres!$A956<>\"\",Base_Arbres!$A956,\"\")","v":""}]
[{"$f":"IF(Base_Arbres!$A957<>\"\",Base_Arbres!$A957,\"\")","v":""}]
[{"$f":"IF(Base_Arbres!$A958<>\"\",Base_Arbres!$A958,\"\")","v":""}]
[{"$f":"IF(Base_Arbres!$A959<>\"\",Base_Arbres!$A959,\"\")","v":""}]
[{"$f":"IF(Base_Arbres!$A960<>\"\",Base_Arbres!$A960,\"\")","v":""}]
[{"$f":"IF(Base_Arbres!$A961<>\"\",Base_Arbres!$A961,\"\")","v":""}]
[{"$f":"IF(Base_Arbres!$A962<>\"\",Base_Arbres!$A962,\"\")","v":""}]
[{"$f":"IF(Base_Arbres!$A963<>\"\",Base_Arbres!$A963,\"\")","v":""}]
[{"$f":"IF(Base_Arbres!$A964<>\"\",Base_Arbres!$A964,\"\")","v":""}]
[{"$f":"IF(Base_Arbres!$A965<>\"\",Base_Arbres!$A965,\"\")","v":""}]
[{"$f":"IF(Base_Arbres!$A966<>\"\",Base_Arbres!$A966,\"\")","v":""}]
[{"$f":"IF(Base_Arbres!$A967<>\"\",Base_Arbres!$A967,\"\")","v":""}]
[{"$f":"IF(Base_Arbres!$A968<>\"\",Base_Arbres!$A968,\"\")","v":""}]
[{"$f":"IF(Base_Arbres!$A969<>\"\",Base_Arbres!$A969,\"\")","v":""}]
[{"$f":"IF(Base_Arbres!$A970<>\"\",Base_Arbres!$A970,\"\")","v":""}]
[{"$f":"IF(Base_Arbres!$A971<>\"\",Base_Arbres!$A971,\"\")","v":""}]
[{"$f":"IF(Base_Arbres!$A972<>\"\",Base_Arbres!$A972,\"\")","v":""}]
[{"$f":"IF(Base_Arbres!$A973<>\"\",Base_Arbres!$A973,\"\")","v":""}]
[{"$f":"IF(Base_Arbres!$A974<>\"\",Base_Arbres!$A974,\"\")","v":""}]
[{"$f":"IF(Base_Arbres!$A975<>\"\",Base_Arbres!$A975,\"\")","v":""}]
[{"$f":"IF(Base_Arbres!$A976<>\"\",Base_Arbres!$A976,\"\")","v":""}]
[{"$f":"IF(Base_Arbres!$A977<>\"\",Base_Arbres!$A977,\"\")","v":""}]
[{"$f":"IF(Base_Arbres!$A978<>\"\",Base_Arbres!$A978,\"\")","v":""}]
[{"$f":"IF(Base_Arbres!$A979<>\"\",Base_Arbres!$A979,\"\")","v":""}]
[{"$f":"IF(Base_Arbres!$A980<>\"\",Base_Arbres!$A980,\"\")","v":""}]
[{"$f":"IF(Base_Arbres!$A981<>\"\",Base_Arbres!$A981,\"\")","v":""}]
[{"$f":"IF(Base_Arbres!$A982<>\"\",Base_Arbres!$A982,\"\")","v":""}]
[{"$f":"IF(Base_Arbres!$A983<>\"\",Base_Arbres!$A983,\"\")","v":""}]
[{"$f":"IF(Base_Arbres!$A984<>\"\",Base_Arbres!$A984,\"\")","v":""}]
[{"$f":"IF(Base_Arbres!$A985<>\"\",Base_Arbres!$A985,\"\")","v":""}]
[{"$f":"IF(Base_Arbres!$A986<>\"\",Base_Arbres!$A986,\"\")","v":""}]
[{"$f":"IF(Base_Arbres!$A987<>\"\",Base_Arbres!$A987,\"\")","v":""}]
[{"$f":"IF(Base_Arbres!$A988<>\"\",Base_Arbres!$A988,\"\")","v":""}]
[{"$f":"IF(Base_Arbres!$A989<>\"\",Base_Arbres!$A989,\"\")","v":""}]
[{"$f":"IF(Base_Arbres!$A990<>\"\",Base_Arbres!$A990,\"\")","v":""}]
[{"$f":"IF(Base_Arbres!$A991<>\"\",Base_Arbres!$A991,\"\")","v":""}]
[{"$f":"IF(Base_Arbres!$A992<>\"\",Base_Arbres!$A992,\"\")","v":""}]
[{"$f":"IF(Base_Arbres!$A993<>\"\",Base_Arbres!$A993,\"\")","v":""}]
[{"$f":"IF(Base_Arbres!$A994<>\"\",Base_Arbres!$A994,\"\")","v":""}]
[{"$f":"IF(Base_Arbres!$A995<>\"\",Base_Arbres!$A995,\"\")","v":""}]
[{"$f":"IF(Base_Arbres!$A996<>\"\",Base_Arbres!$A996,\"\")","v":""}]
[{"$f":"IF(Base_Arbres!$A997<>\"\",Base_Arbres!$A997,\"\")","v":""}]
[{"$f":"IF(Base_Arbres!$A998<>\"\",Base_Arbres!$A998,\"\")","v":""}]
[{"$f":"IF(Base_Arbres!$A999<>\"\",Base_Arbres!$A999,\"\")","v":""}]
[{"$f":"IF(Base_Arbres!$A1000<>\"\",Base_Arbres!$A1000,\"\")","v":""}]
[{"$f":"IF(Base_Arbres!$A1001<>\"\",Base_Arbres!$A1001,\"\")","v":""}]
[{"$f":"IF(Base_Arbres!$A1002<>\"\",Base_Arbres!$A1002,\"\")","v":""}]
[{"$f":"IF(Base_Arbres!$A1003<>\"\",Base_Arbres!$A1003,\"\")","v":""}]
[{"$f":"IF(Base_Arbres!$A1004<>\"\",Base_Arbres!$A1004,\"\")","v":""}]
[{"$f":"IF(Base_Arbres!$A1005<>\"\",Base_Arbres!$A1005,\"\")","v":""}]
[{"$f":"IF(Base_Arbres!$A1006<>\"\",Base_Arbres!$A1006,\"\")","v":""}]
[{"$f":"IF(Base_Arbres!$A1007<>\"\",Base_Arbres!$A1007,\"\")","v":""}]
[{"$f":"IF(Base_Arbres!$A1008<>\"\",Base_Arbres!$A1008,\"\")","v":""}]
[{"$f":"IF(Base_Arbres!$A1009<>\"\",Base_Arbres!$A1009,\"\")","v":""}]
[{"$f":"IF(Base_Arbres!$A1010<>\"\",Base_Arbres!$A1010,\"\")","v":""}]
[{"$f":"IF(Base_Arbres!$A1011<>\"\",Base_Arbres!$A1011,\"\")","v":""}]
[{"$f":"IF(Base_Arbres!$A1012<>\"\",Base_Arbres!$A1012,\"\")","v":""}]
[{"$f":"IF(Base_Arbres!$A1013<>\"\",Base_Arbres!$A1013,\"\")","v":""}]
[{"$f":"IF(Base_Arbres!$A1014<>\"\",Base_Arbres!$A1014,\"\")","v":""}]
[{"$f":"IF(Base_Arbres!$A1015<>\"\",Base_Arbres!$A1015,\"\")","v":""}]
[{"$f":"IF(Base_Arbres!$A1016<>\"\",Base_Arbres!$A1016,\"\")","v":""}]
[{"$f":"IF(Base_Arbres!$A1017<>\"\",Base_Arbres!$A1017,\"\")","v":""}]
[{"$f":"IF(Base_Arbres!$A1018<>\"\",Base_Arbres!$A1018,\"\")","v":""}]
[{"$f":"IF(Base_Arbres!$A1019<>\"\",Base_Arbres!$A1019,\"\")","v":""}]
[{"$f":"IF(Base_Arbres!$A1020<>\"\",Base_Arbres!$A1020,\"\")","v":""}]
[{"$f":"IF(Base_Arbres!$A1021<>\"\",Base_Arbres!$A1021,\"\")","v":""}]
[{"$f":"IF(Base_Arbres!$A1022<>\"\",Base_Arbres!$A1022,\"\")","v":""}]
[{"$f":"IF(Base_Arbres!$A1023<>\"\",Base_Arbres!$A1023,\"\")","v":""}]
[{"$f":"IF(Base_Arbres!$A1024<>\"\",Base_Arbres!$A1024,\"\")","v":""}]
[{"$f":"IF(Base_Arbres!$A1025<>\"\",Base_Arbres!$A1025,\"\")","v":""}]
[{"$f":"IF(Base_Arbres!$A1026<>\"\",Base_Arbres!$A1026,\"\")","v":""}]
[{"$f":"IF(Base_Arbres!$A1027<>\"\",Base_Arbres!$A1027,\"\")","v":""}]
[{"$f":"IF(Base_Arbres!$A1028<>\"\",Base_Arbres!$A1028,\"\")","v":""}]
[{"$f":"IF(Base_Arbres!$A1029<>\"\",Base_Arbres!$A1029,\"\")","v":""}]
[{"$f":"IF(Base_Arbres!$A1030<>\"\",Base_Arbres!$A1030,\"\")","v":""}]
[{"$f":"IF(Base_Arbres!$A1031<>\"\",Base_Arbres!$A1031,\"\")","v":""}]
[{"$f":"IF(Base_Arbres!$A1032<>\"\",Base_Arbres!$A1032,\"\")","v":""}]
[{"$f":"IF(Base_Arbres!$A1033<>\"\",Base_Arbres!$A1033,\"\")","v":""}]
[{"$f":"IF(Base_Arbres!$A1034<>\"\",Base_Arbres!$A1034,\"\")","v":""}]
[{"$f":"IF(Base_Arbres!$A1035<>\"\",Base_Arbres!$A1035,\"\")","v":""}]
[{"$f":"IF(Base_Arbres!$A1036<>\"\",Base_Arbres!$A1036,\"\")","v":""}]
[{"$f":"IF(Base_Arbres!$A1037<>\"\",Base_Arbres!$A1037,\"\")","v":""}]
[{"$f":"IF(Base_Arbres!$A1038<>\"\",Base_Arbres!$A1038,\"\")","v":""}]
[{"$f":"IF(Base_Arbres!$A1039<>\"\",Base_Arbres!$A1039,\"\")","v":""}]
[{"$f":"IF(Base_Arbres!$A1040<>\"\",Base_Arbres!$A1040,\"\")","v":""}]
[{"$f":"IF(Base_Arbres!$A1041<>\"\",Base_Arbres!$A1041,\"\")","v":""}]
[{"$f":"IF(Base_Arbres!$A1042<>\"\",Base_Arbres!$A1042,\"\")","v":""}]
[{"$f":"IF(Base_Arbres!$A1043<>\"\",Base_Arbres!$A1043,\"\")","v":""}]
[{"$f":"IF(Base_Arbres!$A1044<>\"\",Base_Arbres!$A1044,\"\")","v":""}]

{"sheet":"Version","index":4,"n_rows":5,"n_cols":3,"rows_kept":5,"cut":false,"hidden":false,"merged":[]}
["Version","Date","Commentaires"]
["Version 1","2022-11-25","Fonctionnalités de base"]
["version 2","2023-01-27","Protection parties textes de l'onglet Choix-Critères, correction note biodiversité, retrait d'une espèce nuisible (Tilia tomentosa) aux apidés de l'outil"]
["version 3","2024-09-15","Ajout de l’évaluation de l’adaptation des espèces aux climats local, urbain et futur ; modification dela méthode de calcul et de l'amélioration de la méthodologie pour les services écosystémiques de la qualité de l'air, du climat local et de la régulation de la ressource en eau."]
["version 4","2024-12-10","Retrait de l'Amélanchier ovalis de l'outil : espèce protégée"]

{"sheet":"Tableau_Tri","index":5,"n_rows":998,"n_cols":23,"rows_kept":998,"cut":false,"hidden":false,"merged":[]}
["Nom","11. Absorption des polluants","12. Fixation des particules fines","13. Régulation du climat local","14. Support de biodiversité","15. Régulation quantitative des eaux pluviales","16. Stockage de carbone","17. Fourniture de nourriture","18. Impact paysager","Multiplicateur Critères Racines","Multiplicateur Critères Branches","Multiplicateur Critères Chablis","Multiplicateur Critères Fructification","Multiplicateur Critères Miellat","Multiplicateur Critères Toxique","Multiplicateur Critères Hauteur","Multiplicateur Critères Envergure","Multiplicateur critère allergique","multiplicateur critère malodorant","Multiplicateur critère chenilles","Multiplicateur critère épineux","Note totale","Adaptation au climat francilien, dans le contexte du changement Climatique"]
[{"$f":"IF(Base_Arbres!A32<>\"\",Base_Arbres!A32,\"\")","v":"Micocoulier occidental"},{"$f":"IF(Base_Arbres!A32<>\"\",VLOOKUP($A2,Base_Arbres,3,FALSE)*Crit1,\"\")","v":31.299999999999997},{"$f":"IF(Base_Arbres!A32<>\"\",VLOOKUP($A2,Base_Arbres,4,FALSE)*Crit2,\"\")","v":27.1},{"$f":"IF(Base_Arbres!A32<>\"\",VLOOKUP($A2,Base_Arbres,5,FALSE)*Crit3,\"\")","v":36.349999999999994},{"$f":"IF(Base_Arbres!A32<>\"\",VLOOKUP($A2,Base_Arbres,6,FALSE)*Crit4,\"\")","v":10.5},{"$f":"IF(Base_Arbres!B32<>\"\",VLOOKUP($A2,Base_Arbres,7,FALSE)*Crit5,\"\")","v":35},{"$f":"IF(Base_Arbres!C32<>\"\",VLOOKUP($A2,Base_Arbres,8,FALSE)*crit8,\"\")","v":20},{"$f":"IF(Base_Arbres!D32<>\"\",VLOOKUP($A2,Base_Arbres,9,FALSE)*crit9,\"\")","v":15},{"$f":"IF(ISNA(VLOOKUP(INDEX(Base_Typologie!$A$6:$P$1003,MATCH(A2,Base_Typologie!$A:$A,0)-5,MATCH(Typologie_Espace_Public,Base_Typologie!$6:$6,0)),TableauScoreTypologie2,2,FALSE)*Crit6),0,VLOOKUP(INDEX(Base_Typologie!$A$6:$P$1003,MATCH(A2,Base_Typologie!$A:$A,0)-5,MATCH(Typologie_Espace_Public,Base_Typologie!$6:$6,0)),TableauScoreTypologie2,2,FALSE)*Crit6)","v":50},{"$f":"IF(A2<>\"\",IF(LEFT(VLOOKUP($A2,Base_Arbres,10,FALSE),1)>=LEFT(Cont_Racines,1),0,1),0)","v":1},{"$f":"IF(A2<>\"\",IF(LEFT(VLOOKUP($A2,Base_Arbres,11,FALSE),1)>=LEFT(Cont_Branches,1),0,1),0)","v":1},{"$f":"IF(A2<>\"\",IF(LEFT(VLOOKUP($A2,Base_Arbres,12,FALSE),1)>=LEFT(Cont_Chablis,1),0,1),0)","v":1},{"$f":"IF(A2<>\"\",IF(LEFT(VLOOKUP($A2,Base_Arbres,13,FALSE),1)>=LEFT(Cont_Fructifications,1),0,1),0)","v":1},{"$f":"IF(A2<>\"\",IF(LEFT(VLOOKUP($A2,Base_Arbres,14,FALSE),1)>=LEFT(Cont_Miellat,1),0,1),0)","v":1},{"$f":"IF(A2<>\"\",IF(LEFT(VLOOKUP($A2,Base_Arbres,15,FALSE),1)>=LEFT(Cont_Fruits_Toxiques,1),0,1),0)","v":1},{"$f":"IF(A2<>\"\",IF(LEFT(VLOOKUP($A2,Base_Arbres,16,FALSE),1)>=LEFT(Cont_Hauteur,1),0,1),0)","v":1},{"$f":"IF(A2<>\"\",IF(LEFT(VLOOKUP($A2,Base_Arbres,17,FALSE),1)>=LEFT(Cont_Envergure,1),0,1),0)","v":1},{"$f":"IF(A2<>\"\",IF(LEFT(VLOOKUP($A2,Base_Arbres,18,FALSE),1)>=LEFT(Cont_pollen,1),0,1),0)","v":1},{"$f":"IF(B2<>\"\",IF(LEFT(VLOOKUP($A2,Base_Arbres,19,FALSE),1)>=LEFT(Cont_malodo,1),0,1),0)","v":1},{"$f":"IF(A2<>\"\",IF(LEFT(VLOOKUP($A2,Base_Arbres,20,FALSE),1)>=LEFT(Cont_chenilles,1),0,1),0)","v":1},{"$f":"IF(A2<>\"\",IF(LEFT(VLOOKUP($A2,Base_Arbres,21,FALSE),1)>=LEFT(Cont_epineux,1),0,1),0)","v":1},{"$f":"(SUM(B2:I2)+W2*1.5)*J2*K2*L2*M2*N2*O2*P2*Q2*R2*S2*T2*U2","v":360.25},{"$f":"IF(Base_Arbres!V104<>\"\",VLOOKUP($A2,Base_Arbres,22,FALSE)*Crit7,\"\")","v":90}]
[{"$f":"IF(Base_Arbres!A134<>\"\",Base_Arbres!A134,\"\")","v":"Faux-orme du Japon"},{"$f":"IF(Base_Arbres!A134<>\"\",VLOOKUP($A3,Base_Arbres,3,FALSE)*Crit1,\"\")","v":34.15},{"$f":"IF(Base_Arbres!A134<>\"\",VLOOKUP($A3,Base_Arbres,4,FALSE)*Crit2,\"\")","v":22.75},{"$f":"IF(Base_Arbres!A134<>\"\",VLOOKUP($A3,Base_Arbres,5,FALSE)*Crit3,\"\")","v":33.849999999999994},{"$f":"IF(Base_Arbres!A134<>\"\",VLOOKUP($A3,Base_Arbres,6,FALSE)*Crit4,\"\")","v":8.35},{"$f":"IF(Base_Arbres!B134<>\"\",VLOOKUP($A3,Base_Arbres,7,FALSE)*Crit5,\"\")","v":34},{"$f":"IF(Base_Arbres!C134<>\"\",VLOOKUP($A3,Base_Arbres,8,FALSE)*crit8,\"\")","v":16.649999999999999},{"$f":"IF(Base_Arbres!D134<>\"\",VLOOKUP($A3,Base_Arbres,9,FALSE)*crit9,\"\")","v":15},{"$f":"IF(ISNA(VLOOKUP(INDEX(Base_Typologie!$A$6:$P$1003,MATCH(A3,Base_Typologie!$A:$A,0)-5,MATCH(Typologie_Espace_Public,Base_Typologie!$6:$6,0)),TableauScoreTypologie2,2,FALSE)*Crit6),0,VLOOKUP(INDEX(Base_Typologie!$A$6:$P$1003,MATCH(A3,Base_Typologie!$A:$A,0)-5,MATCH(Typologie_Espace_Public,Base_Typologie!$6:$6,0)),TableauScoreTypologie2,2,FALSE)*Crit6)","v":50},1,1,1,1,1,1,1,1,1,1,1,1,304.75,{"$f":"IF(Base_Arbres!V125<>\"\",VLOOKUP($A22,Base_Arbres,22,FALSE)*Crit7,\"\")","v":60}]
[{"$f":"IF(Base_Arbres!A26<>\"\",Base_Arbres!A26,\"\")","v":"Chataîgnier commun"},{"$f":"IF(Base_Arbres!A26<>\"\",VLOOKUP($A4,Base_Arbres,3,FALSE)*Crit1,\"\")","v":34},{"$f":"IF(Base_Arbres!A126<>\"\",VLOOKUP($A4,Base_Arbres,4,FALSE)*Crit2,\"\")","v":28.75},{"$f":"IF(Base_Arbres!A26<>\"\",VLOOKUP($A4,Base_Arbres,5,FALSE)*Crit3,\"\")","v":40.949999999999996},{"$f":"IF(Base_Arbres!A26<>\"\",VLOOKUP($A4,Base_Arbres,6,FALSE)*Crit4,\"\")","v":29},{"$f":"IF(Base_Arbres!B26<>\"\",VLOOKUP($A4,Base_Arbres,7,FALSE)*Crit5,\"\")","v":36.5},{"$f":"IF(Base_Arbres!C26<>\"\",VLOOKUP($A4,Base_Arbres,8,FALSE)*crit8,\"\")","v":13.35},{"$f":"IF(Base_Arbres!D26<>\"\",VLOOKUP($A4,Base_Arbres,9,FALSE)*crit9,\"\")","v":50},{"$f":"IF(ISNA(VLOOKUP(INDEX(Base_Typologie!$A$6:$P$1003,MATCH(A4,Base_Typologie!$A:$A,0)-5,MATCH(Typologie_Espace_Public,Base_Typologie!$6:$6,0)),TableauScoreTypologie2,2,FALSE)*Crit6),0,VLOOKUP(INDEX(Base_Typologie!$A$6:$P$1003,MATCH(A4,Base_Typologie!$A:$A,0)-5,MATCH(Typologie_Espace_Public,Base_Typologie!$6:$6,0)),TableauScoreTypologie2,2,FALSE)*Crit6)","v":10},1,1,1,1,1,1,1,1,1,1,1,1,347.54999999999995,{"$f":"IF(Base_Arbres!V4<>\"\",VLOOKUP($A4,Base_Arbres,22,FALSE)*Crit7,\"\")","v":70}]
[{"$f":"IF(Base_Arbres!A54<>\"\",Base_Arbres!A54,\"\")","v":"Arbre aux quarante écus"},{"$f":"IF(Base_Arbres!A54<>\"\",VLOOKUP($A5,Base_Arbres,3,FALSE)*Crit1,\"\")","v":22.799999999999997},{"$f":"IF(Base_Arbres!A54<>\"\",VLOOKUP($A5,Base_Arbres,4,FALSE)*Crit2,\"\")","v":31.549999999999997},{"$f":"IF(Base_Arbres!A54<>\"\",VLOOKUP($A5,Base_Arbres,5,FALSE)*Crit3,\"\")","v":34.900000000000006},{"$f":"IF(Base_Arbres!A54<>\"\",VLOOKUP($A5,Base_Arbres,6,FALSE)*Crit4,\"\")","v":6.5},{"$f":"IF(Base_Arbres!B54<>\"\",VLOOKUP($A5,Base_Arbres,7,FALSE)*Crit5,\"\")","v":32.5},{"$f":"IF(Base_Arbres!C54<>\"\",VLOOKUP($A5,Base_Arbres,8,FALSE)*crit8,\"\")","v":20},{"$f":"IF(Base_Arbres!D54<>\"\",VLOOKUP($A5,Base_Arbres,9,FALSE)*crit9,\"\")","v":30},{"$f":"IF(ISNA(VLOOKUP(INDEX(Base_Typologie!$A$6:$P$1003,MATCH(A5,Base_Typologie!$A:$A,0)-5,MATCH(Typologie_Espace_Public,Base_Typologie!$6:$6,0)),TableauScoreTypologie2,2,FALSE)*Crit6),0,VLOOKUP(INDEX(Base_Typologie!$A$6:$P$1003,MATCH(A5,Base_Typologie!$A:$A,0)-5,MATCH(Typologie_Espace_Public,Base_Typologie!$6:$6,0)),TableauScoreTypologie2,2,FALSE)*Crit6)","v":30},1,1,1,1,1,1,1,1,1,1,1,1,343.25,{"$f":"IF(Base_Arbres!V107<>\"\",VLOOKUP($A5,Base_Arbres,22,FALSE)*Crit7,\"\")","v":90}]
[{"$f":"IF(Base_Arbres!A30<>\"\",Base_Arbres!A30,\"\")","v":"Micocoulier de Provence"},{"$f":"IF(Base_Arbres!A30<>\"\",VLOOKUP($A6,Base_Arbres,3,FALSE)*Crit1,\"\")","v":24.65},{"$f":"IF(Base_Arbres!A30<>\"\",VLOOKUP($A6,Base_Arbres,4,FALSE)*Crit2,\"\")","v":28.849999999999998},{"$f":"IF(Base_Arbres!A30<>\"\",VLOOKUP($A6,Base_Arbres,5,FALSE)*Crit3,\"\")","v":33.849999999999994},{"$f":"IF(Base_Arbres!A30<>\"\",VLOOKUP($A6,Base_Arbres,6,FALSE)*Crit4,\"\")","v":12.5},{"$f":"IF(Base_Arbres!B30<>\"\",VLOOKUP($A6,Base_Arbres,7,FALSE)*Crit5,\"\")","v":33.5},{"$f":"IF(Base_Arbres!C30<>\"\",VLOOKUP($A6,Base_Arbres,8,FALSE)*crit8,\"\")","v":16.649999999999999},{"$f":"IF(Base_Arbres!D30<>\"\",VLOOKUP($A6,Base_Arbres,9,FALSE)*crit9,\"\")","v":15},{"$f":"IF(ISNA(VLOOKUP(INDEX(Base_Typologie!$A$6:$P$1003,MATCH(A6,Base_Typologie!$A:$A,0)-5,MATCH(Typologie_Espace_Public,Base_Typologie!$6:$6,0)),TableauScoreTypologie2,2,FALSE)*Crit6),0,VLOOKUP(INDEX(Base_Typologie!$A$6:$P$1003,MATCH(A6,Base_Typologie!$A:$A,0)-5,MATCH(Typologie_Espace_Public,Base_Typologie!$6:$6,0)),TableauScoreTypologie2,2,FALSE)*Crit6)","v":50},1,1,1,1,1,1,1,1,1,1,1,1,335,{"$f":"IF(Base_Arbres!V46<>\"\",VLOOKUP($A6,Base_Arbres,22,FALSE)*Crit7,\"\")","v":80}]
[{"$f":"IF(Base_Arbres!A89<>\"\",Base_Arbres!A89,\"\")","v":"Merisier"},{"$f":"IF(Base_Arbres!A89<>\"\",VLOOKUP($A7,Base_Arbres,3,FALSE)*Crit1,\"\")","v":34.5},{"$f":"IF(Base_Arbres!A89<>\"\",VLOOKUP($A7,Base_Arbres,4,FALSE)*Crit2,\"\")","v":23.35},{"$f":"IF(Base_Arbres!A89<>\"\",VLOOKUP($A7,Base_Arbres,5,FALSE)*Crit3,\"\")","v":33.549999999999997},{"$f":"IF(Base_Arbres!A89<>\"\",VLOOKUP($A7,Base_Arbres,6,FALSE)*Crit4,\"\")","v":39.5},{"$f":"IF(Base_Arbres!B89<>\"\",VLOOKUP($A7,Base_Arbres,7,FALSE)*Crit5,\"\")","v":33},{"$f":"IF(Base_Arbres!C89<>\"\",VLOOKUP($A7,Base_Arbres,8,FALSE)*crit8,\"\")","v":13.35},{"$f":"IF(Base_Arbres!D89<>\"\",VLOOKUP($A7,Base_Arbres,9,FALSE)*crit9,\"\")","v":40},{"$f":"IF(ISNA(VLOOKUP(INDEX(Base_Typologie!$A$6:$P$1003,MATCH(A7,Base_Typologie!$A:$A,0)-5,MATCH(Typologie_Espace_Public,Base_Typologie!$6:$6,0)),TableauScoreTypologie2,2,FALSE)*Crit6),0,VLOOKUP(INDEX(Base_Typologie!$A$6:$P$1003,MATCH(A7,Base_Typologie!$A:$A,0)-5,MATCH(Typologie_Espace_Public,Base_Typologie!$6:$6,0)),TableauScoreTypologie2,2,FALSE)*Crit6)","v":10},1,1,1,1,1,1,1,1,1,1,1,1,332.25,{"$f":"IF(Base_Arbres!V26<>\"\",VLOOKUP($A7,Base_Arbres,22,FALSE)*Crit7,\"\")","v":70}]
[{"$f":"IF(Base_Arbres!A42<>\"\",Base_Arbres!A42,\"\")","v":"Aubépine monogyne"},{"$f":"IF(Base_Arbres!A42<>\"\",VLOOKUP($A8,Base_Arbres,3,FALSE)*Crit1,\"\")","v":30.299999999999997},{"$f":"IF(Base_Arbres!A42<>\"\",VLOOKUP($A8,Base_Arbres,4,FALSE)*Crit2,\"\")","v":20.45},{"$f":"IF(Base_Arbres!A42<>\"\",VLOOKUP($A8,Base_Arbres,5,FALSE)*Crit3,\"\")","v":31.25},{"$f":"IF(Base_Arbres!A42<>\"\",VLOOKUP($A8,Base_Arbres,6,FALSE)*Crit4,\"\")","v":29},{"$f":"IF(Base_Arbres!B42<>\"\",VLOOKUP($A8,Base_Arbres,7,FALSE)*Crit5,\"\")","v":31.5},{"$f":"IF(Base_Arbres!C42<>\"\",VLOOKUP($A8,Base_Arbres,8,FALSE)*crit8,\"\")","v":13.35},{"$f":"IF(Base_Arbres!D42<>\"\",VLOOKUP($A8,Base_Arbres,9,FALSE)*crit9,\"\")","v":30},{"$f":"IF(ISNA(VLOOKUP(INDEX(Base_Typologie!$A$6:$P$1003,MATCH(A8,Base_Typologie!$A:$A,0)-5,MATCH(Typologie_Espace_Public,Base_Typologie!$6:$6,0)),TableauScoreTypologie2,2,FALSE)*Crit6),0,VLOOKUP(INDEX(Base_Typologie!$A$6:$P$1003,MATCH(A8,Base_Typologie!$A:$A,0)-5,MATCH(Typologie_Espace_Public,Base_Typologie!$6:$6,0)),TableauScoreTypologie2,2,FALSE)*Crit6)","v":10},1,1,1,1,1,1,1,1,1,1,1,1,330.85,{"$f":"IF(Base_Arbres!V89<>\"\",VLOOKUP($A8,Base_Arbres,22,FALSE)*Crit7,\"\")","v":90}]
[{"$f":"IF(Base_Arbres!A120<>\"\",Base_Arbres!A120,\"\")","v":"Alisier de Suède Brouwers"},{"$f":"IF(Base_Arbres!A120<>\"\",VLOOKUP($A9,Base_Arbres,3,FALSE)*Crit1,\"\")","v":32.599999999999994},{"$f":"IF(Base_Arbres!A120<>\"\",VLOOKUP($A9,Base_Arbres,4,FALSE)*Crit2,\"\")","v":22.200000000000003},{"$f":"IF(Base_Arbres!A120<>\"\",VLOOKUP($A9,Base_Arbres,5,FALSE)*Crit3,\"\")","v":31.05},{"$f":"IF(Base_Arbres!A120<>\"\",VLOOKUP($A9,Base_Arbres,6,FALSE)*Crit4,\"\")","v":14.5},{"$f":"IF(Base_Arbres!B120<>\"\",VLOOKUP($A9,Base_Arbres,7,FALSE)*Crit5,\"\")","v":29},{"$f":"IF(Base_Arbres!C120<>\"\",VLOOKUP($A9,Base_Arbres,8,FALSE)*crit8,\"\")","v":10},{"$f":"IF(Base_Arbres!D120<>\"\",VLOOKUP($A9,Base_Arbres,9,FALSE)*crit9,\"\")","v":30},{"$f":"IF(ISNA(VLOOKUP(INDEX(Base_Typologie!$A$6:$P$1003,MATCH(A9,Base_Typologie!$A:$A,0)-5,MATCH(Typologie_Espace_Public,Base_Typologie!$6:$6,0)),TableauScoreTypologie2,2,FALSE)*Crit6),0,VLOOKUP(INDEX(Base_Typologie!$A$6:$P$1003,MATCH(A9,Base_Typologie!$A:$A,0)-5,MATCH(Typologie_Espace_Public,Base_Typologie!$6:$6,0)),TableauScoreTypologie2,2,FALSE)*Crit6)","v":50},1,1,1,1,1,1,1,1,1,1,1,1,324.35000000000002,{"$f":"IF(Base_Arbres!V116<>\"\",VLOOKUP($A9,Base_Arbres,22,FALSE)*Crit7,\"\")","v":70}]
[{"$f":"IF(Base_Arbres!A41<>\"\",Base_Arbres!A41,\"\")","v":"Aubépine épineuse"},{"$f":"IF(Base_Arbres!A41<>\"\",VLOOKUP($A10,Base_Arbres,3,FALSE)*Crit1,\"\")","v":23.799999999999997},{"$f":"IF(Base_Arbres!A41<>\"\",VLOOKUP($A10,Base_Arbres,4,FALSE)*Crit2,\"\")","v":22.25},{"$f":"IF(Base_Arbres!A41<>\"\",VLOOKUP($A10,Base_Arbres,5,FALSE)*Crit3,\"\")","v":27.9},{"$f":"IF(Base_Arbres!A41<>\"\",VLOOKUP($A10,Base_Arbres,6,FALSE)*Crit4,\"\")","v":29},{"$f":"IF(Base_Arbres!B41<>\"\",VLOOKUP($A10,Base_Arbres,7,FALSE)*Crit5,\"\")","v":29},{"$f":"IF(Base_Arbres!C41<>\"\",VLOOKUP($A10,Base_Arbres,8,FALSE)*crit8,\"\")","v":13.35},{"$f":"IF(Base_Arbres!D41<>\"\",VLOOKUP($A10,Base_Arbres,9,FALSE)*crit9,\"\")","v":30},{"$f":"IF(ISNA(VLOOKUP(INDEX(Base_Typologie!$A$6:$P$1003,MATCH(A10,Base_Typologie!$A:$A,0)-5,MATCH(Typologie_Espace_Public,Base_Typologie!$6:$6,0)),TableauScoreTypologie2,2,FALSE)*Crit6),0,VLOOKUP(INDEX(Base_Typologie!$A$6:$P$1003,MATCH(A10,Base_Typologie!$A:$A,0)-5,MATCH(Typologie_Espace_Public,Base_Typologie!$6:$6,0)),TableauScoreTypologie2,2,FALSE)*Crit6)","v":10},1,1,1,1,1,1,1,1,1,1,1,1,320.29999999999995,{"$f":"IF(Base_Arbres!V101<>\"\",VLOOKUP($A10,Base_Arbres,22,FALSE)*Crit7,\"\")","v":90}]
[{"$f":"IF(Base_Arbres!A116<>\"\",Base_Arbres!A116,\"\")","v":"Alisier blanc"},{"$f":"IF(Base_Arbres!A116<>\"\",VLOOKUP($A11,Base_Arbres,3,FALSE)*Crit1,\"\")","v":23.700000000000003},{"$f":"IF(Base_Arbres!A116<>\"\",VLOOKUP($A11,Base_Arbres,4,FALSE)*Crit2,\"\")","v":27.9},{"$f":"IF(Base_Arbres!A116<>\"\",VLOOKUP($A11,Base_Arbres,5,FALSE)*Crit3,\"\")","v":32.599999999999994},{"$f":"IF(Base_Arbres!A116<>\"\",VLOOKUP($A11,Base_Arbres,6,FALSE)*Crit4,\"\")","v":25},{"$f":"IF(Base_Arbres!B116<>\"\",VLOOKUP($A11,Base_Arbres,7,FALSE)*Crit5,\"\")","v":32.5},{"$f":"IF(Base_Arbres!C116<>\"\",VLOOKUP($A11,Base_Arbres,8,FALSE)*crit8,\"\")","v":10},{"$f":"IF(Base_Arbres!D116<>\"\",VLOOKUP($A11,Base_Arbres,9,FALSE)*crit9,\"\")","v":30},{"$f":"IF(ISNA(VLOOKUP(INDEX(Base_Typologie!$A$6:$P$1003,MATCH(A11,Base_Typologie!$A:$A,0)-5,MATCH(Typologie_Espace_Public,Base_Typologie!$6:$6,0)),TableauScoreTypologie2,2,FALSE)*Crit6),0,VLOOKUP(INDEX(Base_Typologie!$A$6:$P$1003,MATCH(A11,Base_Typologie!$A:$A,0)-5,MATCH(Typologie_Espace_Public,Base_Typologie!$6:$6,0)),TableauScoreTypologie2,2,FALSE)*Crit6)","v":10},1,1,1,1,1,1,1,1,1,1,1,1,311.7,{"$f":"IF(Base_Arbres!V98<>\"\",VLOOKUP($A11,Base_Arbres,22,FALSE)*Crit7,\"\")","v":80}]
[{"$f":"IF(Base_Arbres!A76<>\"\",Base_Arbres!A76,\"\")","v":"Charme houblon, Ostryer commun"},{"$f":"IF(Base_Arbres!A76<>\"\",VLOOKUP($A12,Base_Arbres,3,FALSE)*Crit1,\"\")","v":20.65},{"$f":"IF(Base_Arbres!A76<>\"\",VLOOKUP($A12,Base_Arbres,4,FALSE)*Crit2,\"\")","v":26.45},{"$f":"IF(Base_Arbres!A76<>\"\",VLOOKUP($A12,Base_Arbres,5,FALSE)*Crit3,\"\")","v":29.700000000000003},{"$f":"IF(Base_Arbres!A76<>\"\",VLOOKUP($A12,Base_Arbres,6,FALSE)*Crit4,\"\")","v":6.5},{"$f":"IF(Base_Arbres!B76<>\"\",VLOOKUP($A12,Base_Arbres,7,FALSE)*Crit5,\"\")","v":30},{"$f":"IF(Base_Arbres!C76<>\"\",VLOOKUP($A12,Base_Arbres,8,FALSE)*crit8,\"\")","v":10},{"$f":"IF(Base_Arbres!D76<>\"\",VLOOKUP($A12,Base_Arbres,9,FALSE)*crit9,\"\")","v":15},{"$f":"IF(ISNA(VLOOKUP(INDEX(Base_Typologie!$A$6:$P$1003,MATCH(A12,Base_Typologie!$A:$A,0)-5,MATCH(Typologie_Espace_Public,Base_Typologie!$6:$6,0)),TableauScoreTypologie2,2,FALSE)*Crit6),0,VLOOKUP(INDEX(Base_Typologie!$A$6:$P$1003,MATCH(A12,Base_Typologie!$A:$A,0)-5,MATCH(Typologie_Espace_Public,Base_Typologie!$6:$6,0)),TableauScoreTypologie2,2,FALSE)*Crit6)","v":50},1,1,1,1,1,1,1,1,1,1,1,1,308.3,{"$f":"IF(Base_Arbres!V6<>\"\",VLOOKUP($A12,Base_Arbres,22,FALSE)*Crit7,\"\")","v":80}]
[{"$f":"IF(Base_Arbres!A64<>\"\",Base_Arbres!A64,\"\")","v":"Copalme d’Amérique"},{"$f":"IF(Base_Arbres!A64<>\"\",VLOOKUP($A13,Base_Arbres,3,FALSE)*Crit1,\"\")","v":31.9},{"$f":"IF(Base_Arbres!A64<>\"\",VLOOKUP($A13,Base_Arbres,4,FALSE)*Crit2,\"\")","v":28.55},{"$f":"IF(Base_Arbres!A64<>\"\",VLOOKUP($A13,Base_Arbres,5,FALSE)*Crit3,\"\")","v":34.15},{"$f":"IF(Base_Arbres!A64<>\"\",VLOOKUP($A13,Base_Arbres,6,FALSE)*Crit4,\"\")","v":10.5},{"$f":"IF(Base_Arbres!B64<>\"\",VLOOKUP($A13,Base_Arbres,7,FALSE)*Crit5,\"\")","v":32.5},{"$f":"IF(Base_Arbres!C64<>\"\",VLOOKUP($A13,Base_Arbres,8,FALSE)*crit8,\"\")","v":20},{"$f":"IF(Base_Arbres!D64<>\"\",VLOOKUP($A13,Base_Arbres,9,FALSE)*crit9,\"\")","v":15},{"$f":"IF(ISNA(VLOOKUP(INDEX(Base_Typologie!$A$6:$P$1003,MATCH(A13,Base_Typologie!$A:$A,0)-5,MATCH(Typologie_Espace_Public,Base_Typologie!$6:$6,0)),TableauScoreTypologie2,2,FALSE)*Crit6),0,VLOOKUP(INDEX(Base_Typologie!$A$6:$P$1003,MATCH(A13,Base_Typologie!$A:$A,0)-5,MATCH(Typologie_Espace_Public,Base_Typologie!$6:$6,0)),TableauScoreTypologie2,2,FALSE)*Crit6)","v":30},1,1,1,1,1,1,1,1,1,1,1,1,307.60000000000002,{"$f":"IF(Base_Arbres!V7<>\"\",VLOOKUP($A13,Base_Arbres,22,FALSE)*Crit7,\"\")","v":70}]
[{"$f":"IF(Base_Arbres!A35<>\"\",Base_Arbres!A35,\"\")","v":"Arbre de Judée"},{"$f":"IF(Base_Arbres!A35<>\"\",VLOOKUP($A14,Base_Arbres,3,FALSE)*Crit1,\"\")","v":33.1},{"$f":"IF(Base_Arbres!A35<>\"\",VLOOKUP($A14,Base_Arbres,4,FALSE)*Crit2,\"\")","v":22.5},{"$f":"IF(Base_Arbres!A35<>\"\",VLOOKUP($A14,Base_Arbres,5,FALSE)*Crit3,\"\")","v":33.549999999999997},{"$f":"IF(Base_Arbres!A35<>\"\",VLOOKUP($A14,Base_Arbres,6,FALSE)*Crit4,\"\")","v":10.5},{"$f":"IF(Base_Arbres!B35<>\"\",VLOOKUP($A14,Base_Arbres,7,FALSE)*Crit5,\"\")","v":31},{"$f":"IF(Base_Arbres!C35<>\"\",VLOOKUP($A14,Base_Arbres,8,FALSE)*crit8,\"\")","v":10},{"$f":"IF(Base_Arbres!D35<>\"\",VLOOKUP($A14,Base_Arbres,9,FALSE)*crit9,\"\")","v":15},{"$f":"IF(ISNA(VLOOKUP(INDEX(Base_Typologie!$A$6:$P$1003,MATCH(A14,Base_Typologie!$A:$A,0)-5,MATCH(Typologie_Espace_Public,Base_Typologie!$6:$6,0)),TableauScoreTypologie2,2,FALSE)*Crit6),0,VLOOKUP(INDEX(Base_Typologie!$A$6:$P$1003,MATCH(A14,Base_Typologie!$A:$A,0)-5,MATCH(Typologie_Espace_Public,Base_Typologie!$6:$6,0)),TableauScoreTypologie2,2,FALSE)*Crit6)","v":30},1,1,1,1,1,1,1,1,1,1,1,1,305.64999999999998,{"$f":"IF(Base_Arbres!V8<>\"\",VLOOKUP($A14,Base_Arbres,22,FALSE)*Crit7,\"\")","v":80}]
[{"$f":"IF(Base_Arbres!A119<>\"\",Base_Arbres!A119,\"\")","v":"Alisier de Suède"},{"$f":"IF(Base_Arbres!A119<>\"\",VLOOKUP($A15,Base_Arbres,3,FALSE)*Crit1,\"\")","v":31.549999999999997},{"$f":"IF(Base_Arbres!A119<>\"\",VLOOKUP($A15,Base_Arbres,4,FALSE)*Crit2,\"\")","v":21.9},{"$f":"IF(Base_Arbres!A119<>\"\",VLOOKUP($A15,Base_Arbres,5,FALSE)*Crit3,\"\")","v":29.5},{"$f":"IF(Base_Arbres!A119<>\"\",VLOOKUP($A15,Base_Arbres,6,FALSE)*Crit4,\"\")","v":14.5},{"$f":"IF(Base_Arbres!B119<>\"\",VLOOKUP($A15,Base_Arbres,7,FALSE)*Crit5,\"\")","v":27.5},{"$f":"IF(Base_Arbres!C119<>\"\",VLOOKUP($A15,Base_Arbres,8,FALSE)*crit8,\"\")","v":10},{"$f":"IF(Base_Arbres!D119<>\"\",VLOOKUP($A15,Base_Arbres,9,FALSE)*crit9,\"\")","v":30},{"$f":"IF(ISNA(VLOOKUP(INDEX(Base_Typologie!$A$6:$P$1003,MATCH(A15,Base_Typologie!$A:$A,0)-5,MATCH(Typologie_Espace_Public,Base_Typologie!$6:$6,0)),TableauScoreTypologie2,2,FALSE)*Crit6),0,VLOOKUP(INDEX(Base_Typologie!$A$6:$P$1003,MATCH(A15,Base_Typologie!$A:$A,0)-5,MATCH(Typologie_Espace_Public,Base_Typologie!$6:$6,0)),TableauScoreTypologie2,2,FALSE)*Crit6)","v":50},1,1,1,1,1,1,1,1,1,1,1,1,304.95,{"$f":"IF(Base_Arbres!V124<>\"\",VLOOKUP($A15,Base_Arbres,22,FALSE)*Crit7,\"\")","v":60}]
[{"$f":"IF(Base_Arbres!A91<>\"\",Base_Arbres!A91,\"\")","v":"Cerisier de Sainte-Lucie"},{"$f":"IF(Base_Arbres!A91<>\"\",VLOOKUP($A16,Base_Arbres,3,FALSE)*Crit1,\"\")","v":27.349999999999998},{"$f":"IF(Base_Arbres!A91<>\"\",VLOOKUP($A16,Base_Arbres,4,FALSE)*Crit2,\"\")","v":24.4},{"$f":"IF(Base_Arbres!A91<>\"\",VLOOKUP($A16,Base_Arbres,5,FALSE)*Crit3,\"\")","v":32.200000000000003},{"$f":"IF(Base_Arbres!A91<>\"\",VLOOKUP($A16,Base_Arbres,6,FALSE)*Crit4,\"\")","v":27},{"$f":"IF(Base_Arbres!B91<>\"\",VLOOKUP($A16,Base_Arbres,7,FALSE)*Crit5,\"\")","v":32},{"$f":"IF(Base_Arbres!C91<>\"\",VLOOKUP($A16,Base_Arbres,8,FALSE)*crit8,\"\")","v":16.649999999999999},{"$f":"IF(Base_Arbres!D91<>\"\",VLOOKUP($A16,Base_Arbres,9,FALSE)*crit9,\"\")","v":15},{"$f":"IF(ISNA(VLOOKUP(INDEX(Base_Typologie!$A$6:$P$1003,MATCH(A16,Base_Typologie!$A:$A,0)-5,MATCH(Typologie_Espace_Public,Base_Typologie!$6:$6,0)),TableauScoreTypologie2,2,FALSE)*Crit6),0,VLOOKUP(INDEX(Base_Typologie!$A$6:$P$1003,MATCH(A16,Base_Typologie!$A:$A,0)-5,MATCH(Typologie_Espace_Public,Base_Typologie!$6:$6,0)),TableauScoreTypologie2,2,FALSE)*Crit6)","v":10},1,1,1,1,1,1,1,1,1,1,1,1,304.60000000000002,{"$f":"IF(Base_Arbres!V10<>\"\",VLOOKUP($A16,Base_Arbres,22,FALSE)*Crit7,\"\")","v":80}]
[{"$f":"IF(Base_Arbres!A121<>\"\",Base_Arbres!A121,\"\")","v":"Alisier torminal"},{"$f":"IF(Base_Arbres!A121<>\"\",VLOOKUP($A17,Base_Arbres,3,FALSE)*Crit1,\"\")","v":25.099999999999998},{"$f":"IF(Base_Arbres!A121<>\"\",VLOOKUP($A17,Base_Arbres,4,FALSE)*Crit2,\"\")","v":28.75},{"$f":"IF(Base_Arbres!A121<>\"\",VLOOKUP($A17,Base_Arbres,5,FALSE)*Crit3,\"\")","v":35.099999999999994},{"$f":"IF(Base_Arbres!A121<>\"\",VLOOKUP($A17,Base_Arbres,6,FALSE)*Crit4,\"\")","v":27},{"$f":"IF(Base_Arbres!B121<>\"\",VLOOKUP($A17,Base_Arbres,7,FALSE)*Crit5,\"\")","v":33.5},{"$f":"IF(Base_Arbres!C121<>\"\",VLOOKUP($A17,Base_Arbres,8,FALSE)*crit8,\"\")","v":10},{"$f":"IF(Base_Arbres!D121<>\"\",VLOOKUP($A17,Base_Arbres,9,FALSE)*crit9,\"\")","v":15},{"$f":"IF(ISNA(VLOOKUP(INDEX(Base_Typologie!$A$6:$P$1003,MATCH(A17,Base_Typologie!$A:$A,0)-5,MATCH(Typologie_Espace_Public,Base_Typologie!$6:$6,0)),TableauScoreTypologie2,2,FALSE)*Crit6),0,VLOOKUP(INDEX(Base_Typologie!$A$6:$P$1003,MATCH(A17,Base_Typologie!$A:$A,0)-5,MATCH(Typologie_Espace_Public,Base_Typologie!$6:$6,0)),TableauScoreTypologie2,2,FALSE)*Crit6)","v":10},1,1,1,1,1,1,1,1,1,1,1,1,304.45,{"$f":"IF(Base_Arbres!V9<>\"\",VLOOKUP($A17,Base_Arbres,22,FALSE)*Crit7,\"\")","v":80}]
[{"$f":"IF(Base_Arbres!A58<>\"\",Base_Arbres!A58,\"\")","v":"Noyer commun"},{"$f":"IF(Base_Arbres!A58<>\"\",VLOOKUP($A18,Base_Arbres,3,FALSE)*Crit1,\"\")","v":38},{"$f":"IF(Base_Arbres!A58<>\"\",VLOOKUP($A18,Base_Arbres,4,FALSE)*Crit2,\"\")","v":25.4},{"$f":"IF(Base_Arbres!A58<>\"\",VLOOKUP($A18,Base_Arbres,5,FALSE)*Crit3,\"\")","v":38.849999999999994},{"$f":"IF(Base_Arbres!A58<>\"\",VLOOKUP($A18,Base_Arbres,6,FALSE)*Crit4,\"\")","v":12.5},{"$f":"IF(Base_Arbres!B58<>\"\",VLOOKUP($A18,Base_Arbres,7,FALSE)*Crit5,\"\")","v":38},{"$f":"IF(Base_Arbres!C58<>\"\",VLOOKUP($A18,Base_Arbres,8,FALSE)*crit8,\"\")","v":16.649999999999999},{"$f":"IF(Base_Arbres!D58<>\"\",VLOOKUP($A18,Base_Arbres,9,FALSE)*crit9,\"\")","v":50},{"$f":"IF(ISNA(VLOOKUP(INDEX(Base_Typologie!$A$6:$P$1003,MATCH(A18,Base_Typologie!$A:$A,0)-5,MATCH(Typologie_Espace_Public,Base_Typologie!$6:$6,0)),TableauScoreTypologie2,2,FALSE)*Crit6),0,VLOOKUP(INDEX(Base_Typologie!$A$6:$P$1003,MATCH(A18,Base_Typologie!$A:$A,0)-5,MATCH(Typologie_Espace_Public,Base_Typologie!$6:$6,0)),TableauScoreTypologie2,2,FALSE)*Crit6)","v":10},1,1,1,1,1,1,1,1,1,1,1,1,304.39999999999998,{"$f":"IF(Base_Arbres!V110<>\"\",VLOOKUP($A18,Base_Arbres,22,FALSE)*Crit7,\"\")","v":50}]
[{"$f":"IF(Base_Arbres!A73<>\"\",Base_Arbres!A73,\"\")","v":"Néflier commun"},{"$f":"IF(Base_Arbres!A73<>\"\",VLOOKUP($A19,Base_Arbres,3,FALSE)*Crit1,\"\")","v":16.25},{"$f":"IF(Base_Arbres!A73<>\"\",VLOOKUP($A19,Base_Arbres,4,FALSE)*Crit2,\"\")","v":29.900000000000002},{"$f":"IF(Base_Arbres!A73<>\"\",VLOOKUP($A19,Base_Arbres,5,FALSE)*Crit3,\"\")","v":29.4},{"$f":"IF(Base_Arbres!A73<>\"\",VLOOKUP($A19,Base_Arbres,6,FALSE)*Crit4,\"\")","v":16.5},{"$f":"IF(Base_Arbres!B73<>\"\",VLOOKUP($A19,Base_Arbres,7,FALSE)*Crit5,\"\")","v":28},{"$f":"IF(Base_Arbres!C73<>\"\",VLOOKUP($A19,Base_Arbres,8,FALSE)*crit8,\"\")","v":10},{"$f":"IF(Base_Arbres!D73<>\"\",VLOOKUP($A19,Base_Arbres,9,FALSE)*crit9,\"\")","v":40},{"$f":"IF(ISNA(VLOOKUP(INDEX(Base_Typologie!$A$6:$P$1003,MATCH(A19,Base_Typologie!$A:$A,0)-5,MATCH(Typologie_Espace_Public,Base_Typologie!$6:$6,0)),TableauScoreTypologie2,2,FALSE)*Crit6),0,VLOOKUP(INDEX(Base_Typologie!$A$6:$P$1003,MATCH(A19,Base_Typologie!$A:$A,0)-5,MATCH(Typologie_Espace_Public,Base_Typologie!$6:$6,0)),TableauScoreTypologie2,2,FALSE)*Crit6)","v":10},1,1,1,1,1,1,1,1,1,1,1,1,300.05,{"$f":"IF(Base_Arbres!V100<>\"\",VLOOKUP($A19,Base_Arbres,22,FALSE)*Crit7,\"\")","v":80}]
[{"$f":"IF(Base_Arbres!A94<>\"\",Base_Arbres!A94,\"\")","v":"Prunelier"},{"$f":"IF(Base_Arbres!A94<>\"\",VLOOKUP($A20,Base_Arbres,3,FALSE)*Crit1,\"\")","v":21.45},{"$f":"IF(Base_Arbres!A94<>\"\",VLOOKUP($A20,Base_Arbres,4,FALSE)*Crit2,\"\")","v":20.85},{"$f":"IF(Base_Arbres!A94<>\"\",VLOOKUP($A20,Base_Arbres,5,FALSE)*Crit3,\"\")","v":24.15},{"$f":"IF(Base_Arbres!A94<>\"\",VLOOKUP($A20,Base_Arbres,6,FALSE)*Crit4,\"\")","v":39.5},{"$f":"IF(Base_Arbres!B94<>\"\",VLOOKUP($A20,Base_Arbres,7,FALSE)*Crit5,\"\")","v":26.5},{"$f":"IF(Base_Arbres!C94<>\"\",VLOOKUP($A20,Base_Arbres,8,FALSE)*crit8,\"\")","v":10},{"$f":"IF(Base_Arbres!D94<>\"\",VLOOKUP($A20,Base_Arbres,9,FALSE)*crit9,\"\")","v":40},{"$f":"IF(ISNA(VLOOKUP(INDEX(Base_Typologie!$A$6:$P$1003,MATCH(A20,Base_Typologie!$A:$A,0)-5,MATCH(Typologie_Espace_Public,Base_Typologie!$6:$6,0)),TableauScoreTypologie2,2,FALSE)*Crit6),0,VLOOKUP(INDEX(Base_Typologie!$A$6:$P$1003,MATCH(A20,Base_Typologie!$A:$A,0)-5,MATCH(Typologie_Espace_Public,Base_Typologie!$6:$6,0)),TableauScoreTypologie2,2,FALSE)*Crit6)","v":10},1,1,1,1,1,1,1,1,1,1,1,1,297.45,{"$f":"IF(Base_Arbres!V120<>\"\",VLOOKUP($A20,Base_Arbres,22,FALSE)*Crit7,\"\")","v":70}]
[{"$f":"IF(Base_Arbres!A132<>\"\",Base_Arbres!A132,\"\")","v":"Viorne lantane"},{"$f":"IF(Base_Arbres!A132<>\"\",VLOOKUP($A21,Base_Arbres,3,FALSE)*Crit1,\"\")","v":29.15},{"$f":"IF(Base_Arbres!A132<>\"\",VLOOKUP($A21,Base_Arbres,4,FALSE)*Crit2,\"\")","v":19.75},{"$f":"IF(Base_Arbres!A132<>\"\",VLOOKUP($A21,Base_Arbres,5,FALSE)*Crit3,\"\")","v":25.75},{"$f":"IF(Base_Arbres!A132<>\"\",VLOOKUP($A21,Base_Arbres,6,FALSE)*Crit4,\"\")","v":16.5},{"$f":"IF(Base_Arbres!B132<>\"\",VLOOKUP($A21,Base_Arbres,7,FALSE)*Crit5,\"\")","v":26.5},{"$f":"IF(Base_Arbres!C132<>\"\",VLOOKUP($A21,Base_Arbres,8,FALSE)*crit8,\"\")","v":13.35},{"$f":"IF(Base_Arbres!D132<>\"\",VLOOKUP($A21,Base_Arbres,9,FALSE)*crit9,\"\")","v":15},{"$f":"IF(ISNA(VLOOKUP(INDEX(Base_Typologie!$A$6:$P$1003,MATCH(A21,Base_Typologie!$A:$A,0)-5,MATCH(Typologie_Espace_Public,Base_Typologie!$6:$6,0)),TableauScoreTypologie2,2,FALSE)*Crit6),0,VLOOKUP(INDEX(Base_Typologie!$A$6:$P$1003,MATCH(A21,Base_Typologie!$A:$A,0)-5,MATCH(Typologie_Espace_Public,Base_Typologie!$6:$6,0)),TableauScoreTypologie2,2,FALSE)*Crit6)","v":30},1,1,1,1,1,1,1,1,1,1,1,1,296,{"$f":"IF(Base_Arbres!V119<>\"\",VLOOKUP($A21,Base_Arbres,22,FALSE)*Crit7,\"\")","v":80}]
[{"$f":"IF(Base_Arbres!A97<>\"\",Base_Arbres!A97,\"\")","v":"Poirier commun"},{"$f":"IF(Base_Arbres!A97<>\"\",VLOOKUP($A22,Base_Arbres,3,FALSE)*Crit1,\"\")","v":26.200000000000003},{"$f":"IF(Base_Arbres!A97<>\"\",VLOOKUP($A22,Base_Arbres,4,FALSE)*Crit2,\"\")","v":23.700000000000003},{"$f":"IF(Base_Arbres!A97<>\"\",VLOOKUP($A22,Base_Arbres,5,FALSE)*Crit3,\"\")","v":30.4},{"$f":"IF(Base_Arbres!A97<>\"\",VLOOKUP($A22,Base_Arbres,6,FALSE)*Crit4,\"\")","v":31.5},{"$f":"IF(Base_Arbres!B97<>\"\",VLOOKUP($A22,Base_Arbres,7,FALSE)*Crit5,\"\")","v":31},{"$f":"IF(Base_Arbres!C97<>\"\",VLOOKUP($A22,Base_Arbres,8,FALSE)*crit8,\"\")","v":10},{"$f":"IF(Base_Arbres!D97<>\"\",VLOOKUP($A22,Base_Arbres,9,FALSE)*crit9,\"\")","v":40},{"$f":"IF(ISNA(VLOOKUP(INDEX(Base_Typologie!$A$6:$P$1003,MATCH(A22,Base_Typologie!$A:$A,0)-5,MATCH(Typologie_Espace_Public,Base_Typologie!$6:$6,0)),TableauScoreTypologie2,2,FALSE)*Crit6),0,VLOOKUP(INDEX(Base_Typologie!$A$6:$P$1003,MATCH(A22,Base_Typologie!$A:$A,0)-5,MATCH(Typologie_Espace_Public,Base_Typologie!$6:$6,0)),TableauScoreTypologie2,2,FALSE)*Crit6)","v":10},1,1,1,1,1,1,1,1,1,1,1,1,292.8,{"$f":"IF(Base_Arbres!V122<>\"\",VLOOKUP($A22,Base_Arbres,22,FALSE)*Crit7,\"\")","v":60}]
[{"$f":"IF(Base_Arbres!A5<>\"\",Base_Arbres!A5,\"\")","v":"Erable de Montpellier"},{"$f":"IF(Base_Arbres!A5<>\"\",VLOOKUP($A23,Base_Arbres,3,FALSE)*Crit1,\"\")","v":25.099999999999998},{"$f":"IF(Base_Arbres!A5<>\"\",VLOOKUP($A23,Base_Arbres,4,FALSE)*Crit2,\"\")","v":23.05},{"$f":"IF(Base_Arbres!A5<>\"\",VLOOKUP($A23,Base_Arbres,5,FALSE)*Crit3,\"\")","v":28.849999999999998},{"$f":"IF(Base_Arbres!A5<>\"\",VLOOKUP($A23,Base_Arbres,6,FALSE)*Crit4,\"\")","v":10.5},{"$f":"IF(Base_Arbres!B5<>\"\",VLOOKUP($A23,Base_Arbres,7,FALSE)*Crit5,\"\")","v":29.5},{"$f":"IF(Base_Arbres!C5<>\"\",VLOOKUP($A23,Base_Arbres,8,FALSE)*crit8,\"\")","v":10},{"$f":"IF(Base_Arbres!D5<>\"\",VLOOKUP($A23,Base_Arbres,9,FALSE)*crit9,\"\")","v":15},{"$f":"IF(ISNA(VLOOKUP(INDEX(Base_Typologie!$A$6:$P$1003,MATCH(A23,Base_Typologie!$A:$A,0)-5,MATCH(Typologie_Espace_Public,Base_Typologie!$6:$6,0)),TableauScoreTypologie2,2,FALSE)*Crit6),0,VLOOKUP(INDEX(Base_Typologie!$A$6:$P$1003,MATCH(A23,Base_Typologie!$A:$A,0)-5,MATCH(Typologie_Espace_Public,Base_Typologie!$6:$6,0)),TableauScoreTypologie2,2,FALSE)*Crit6)","v":30},1,1,1,1,1,1,1,1,1,1,1,1,292,{"$f":"IF(Base_Arbres!V88<>\"\",VLOOKUP($A23,Base_Arbres,22,FALSE)*Crit7,\"\")","v":80}]
[{"$f":"IF(Base_Arbres!A55<>\"\",Base_Arbres!A55,\"\")","v":"Arbre aux quarante écus Blagon"},{"$f":"IF(Base_Arbres!A55<>\"\",VLOOKUP($A24,Base_Arbres,3,FALSE)*Crit1,\"\")","v":17.100000000000001},{"$f":"IF(Base_Arbres!A55<>\"\",VLOOKUP($A24,Base_Arbres,4,FALSE)*Crit2,\"\")","v":28.1},{"$f":"IF(Base_Arbres!A55<>\"\",VLOOKUP($A24,Base_Arbres,5,FALSE)*Crit3,\"\")","v":27.400000000000002},{"$f":"IF(Base_Arbres!A55<>\"\",VLOOKUP($A24,Base_Arbres,6,FALSE)*Crit4,\"\")","v":4},{"$f":"IF(Base_Arbres!B55<>\"\",VLOOKUP($A24,Base_Arbres,7,FALSE)*Crit5,\"\")","v":27.5},{"$f":"IF(Base_Arbres!C55<>\"\",VLOOKUP($A24,Base_Arbres,8,FALSE)*crit8,\"\")","v":20},{"$f":"IF(Base_Arbres!D55<>\"\",VLOOKUP($A24,Base_Arbres,9,FALSE)*crit9,\"\")","v":15},{"$f":"IF(ISNA(VLOOKUP(INDEX(Base_Typologie!$A$6:$P$1003,MATCH(A24,Base_Typologie!$A:$A,0)-5,MATCH(Typologie_Espace_Public,Base_Typologie!$6:$6,0)),TableauScoreTypologie2,2,FALSE)*Crit6),0,VLOOKUP(INDEX(Base_Typologie!$A$6:$P$1003,MATCH(A24,Base_Typologie!$A:$A,0)-5,MATCH(Typologie_Espace_Public,Base_Typologie!$6:$6,0)),TableauScoreTypologie2,2,FALSE)*Crit6)","v":30},1,1,1,1,1,1,1,1,1,1,1,1,289.10000000000002,{"$f":"IF(Base_Arbres!V97<>\"\",VLOOKUP($A24,Base_Arbres,22,FALSE)*Crit7,\"\")","v":80}]
[{"$f":"IF(Base_Arbres!A37<>\"\",Base_Arbres!A37,\"\")","v":"Cornouiller sanguin"},{"$f":"IF(Base_Arbres!A37<>\"\",VLOOKUP($A25,Base_Arbres,3,FALSE)*Crit1,\"\")","v":13.799999999999999},{"$f":"IF(Base_Arbres!A37<>\"\",VLOOKUP($A25,Base_Arbres,4,FALSE)*Crit2,\"\")","v":27.7},{"$f":"IF(Base_Arbres!A37<>\"\",VLOOKUP($A25,Base_Arbres,5,FALSE)*Crit3,\"\")","v":26.65},{"$f":"IF(Base_Arbres!A37<>\"\",VLOOKUP($A25,Base_Arbres,6,FALSE)*Crit4,\"\")","v":29},{"$f":"IF(Base_Arbres!B37<>\"\",VLOOKUP($A25,Base_Arbres,7,FALSE)*Crit5,\"\")","v":32.5},{"$f":"IF(Base_Arbres!C37<>\"\",VLOOKUP($A25,Base_Arbres,8,FALSE)*crit8,\"\")","v":6.65},{"$f":"IF(Base_Arbres!D37<>\"\",VLOOKUP($A25,Base_Arbres,9,FALSE)*crit9,\"\")","v":15},{"$f":"IF(ISNA(VLOOKUP(INDEX(Base_Typologie!$A$6:$P$1003,MATCH(A25,Base_Typologie!$A:$A,0)-5,MATCH(Typologie_Espace_Public,Base_Typologie!$6:$6,0)),TableauScoreTypologie2,2,FALSE)*Crit6),0,VLOOKUP(INDEX(Base_Typologie!$A$6:$P$1003,MATCH(A25,Base_Typologie!$A:$A,0)-5,MATCH(Typologie_Espace_Public,Base_Typologie!$6:$6,0)),TableauScoreTypologie2,2,FALSE)*Crit6)","v":10},1,1,1,1,1,1,1,1,1,1,1,1,281.3,{"$f":"IF(Base_Arbres!V94<>\"\",VLOOKUP($A25,Base_Arbres,22,FALSE)*Crit7,\"\")","v":80}]
[{"$f":"IF(Base_Arbres!A122<>\"\",Base_Arbres!A122,\"\")","v":"Alisier de Thuringe"},{"$f":"IF(Base_Arbres!A122<>\"\",VLOOKUP($A26,Base_Arbres,3,FALSE)*Crit1,\"\")","v":34.85},{"$f":"IF(Base_Arbres!A122<>\"\",VLOOKUP($A26,Base_Arbres,4,FALSE)*Crit2,\"\")","v":23.5},{"$f":"IF(Base_Arbres!A122<>\"\",VLOOKUP($A26,Base_Arbres,5,FALSE)*Crit3,\"\")","v":35.65},{"$f":"IF(Base_Arbres!A122<>\"\",VLOOKUP($A26,Base_Arbres,6,FALSE)*Crit4,\"\")","v":14.5},{"$f":"IF(Base_Arbres!B122<>\"\",VLOOKUP($A26,Base_Arbres,7,FALSE)*Crit5,\"\")","v":32},{"$f":"IF(Base_Arbres!C122<>\"\",VLOOKUP($A26,Base_Arbres,8,FALSE)*crit8,\"\")","v":10},{"$f":"IF(Base_Arbres!D122<>\"\",VLOOKUP($A26,Base_Arbres,9,FALSE)*crit9,\"\")","v":15},{"$f":"IF(ISNA(VLOOKUP(INDEX(Base_Typologie!$A$6:$P$1003,MATCH(A26,Base_Typologie!$A:$A,0)-5,MATCH(Typologie_Espace_Public,Base_Typologie!$6:$6,0)),TableauScoreTypologie2,2,FALSE)*Crit6),0,VLOOKUP(INDEX(Base_Typologie!$A$6:$P$1003,MATCH(A26,Base_Typologie!$A:$A,0)-5,MATCH(Typologie_Espace_Public,Base_Typologie!$6:$6,0)),TableauScoreTypologie2,2,FALSE)*Crit6)","v":10},1,1,1,1,1,1,1,1,1,1,1,1,280.5,{"$f":"IF(Base_Arbres!V62<>\"\",VLOOKUP($A26,Base_Arbres,22,FALSE)*Crit7,\"\")","v":70}]
[{"$f":"IF(Base_Arbres!A66<>\"\",Base_Arbres!A66,\"\")","v":"Magnolia à grandes fleurs"},{"$f":"IF(Base_Arbres!A66<>\"\",VLOOKUP($A27,Base_Arbres,3,FALSE)*Crit1,\"\")","v":26.7},{"$f":"IF(Base_Arbres!A66<>\"\",VLOOKUP($A27,Base_Arbres,4,FALSE)*Crit2,\"\")","v":34.1},{"$f":"IF(Base_Arbres!A66<>\"\",VLOOKUP($A27,Base_Arbres,5,FALSE)*Crit3,\"\")","v":33.450000000000003},{"$f":"IF(Base_Arbres!A66<>\"\",VLOOKUP($A27,Base_Arbres,6,FALSE)*Crit4,\"\")","v":6.5},{"$f":"IF(Base_Arbres!B66<>\"\",VLOOKUP($A27,Base_Arbres,7,FALSE)*Crit5,\"\")","v":31.5},{"$f":"IF(Base_Arbres!C66<>\"\",VLOOKUP($A27,Base_Arbres,8,FALSE)*crit8,\"\")","v":20},{"$f":"IF(Base_Arbres!D66<>\"\",VLOOKUP($A27,Base_Arbres,9,FALSE)*crit9,\"\")","v":15},{"$f":"IF(ISNA(VLOOKUP(INDEX(Base_Typologie!$A$6:$P$1003,MATCH(A27,Base_Typologie!$A:$A,0)-5,MATCH(Typologie_Espace_Public,Base_Typologie!$6:$6,0)),TableauScoreTypologie2,2,FALSE)*Crit6),0,VLOOKUP(INDEX(Base_Typologie!$A$6:$P$1003,MATCH(A27,Base_Typologie!$A:$A,0)-5,MATCH(Typologie_Espace_Public,Base_Typologie!$6:$6,0)),TableauScoreTypologie2,2,FALSE)*Crit6)","v":50},1,1,1,1,1,1,1,1,1,1,1,1,277.25,{"$f":"IF(Base_Arbres!V42<>\"\",VLOOKUP($A27,Base_Arbres,22,FALSE)*Crit7,\"\")","v":40}]
[{"$f":"IF(Base_Arbres!A59<>\"\",Base_Arbres!A59,\"\")","v":"Genévrier commun"},{"$f":"IF(Base_Arbres!A59<>\"\",VLOOKUP($A28,Base_Arbres,3,FALSE)*Crit1,\"\")","v":14.55},{"$f":"IF(Base_Arbres!A59<>\"\",VLOOKUP($A28,Base_Arbres,4,FALSE)*Crit2,\"\")","v":33.25},{"$f":"IF(Base_Arbres!A59<>\"\",VLOOKUP($A28,Base_Arbres,5,FALSE)*Crit3,\"\")","v":21.549999999999997},{"$f":"IF(Base_Arbres!A59<>\"\",VLOOKUP($A28,Base_Arbres,6,FALSE)*Crit4,\"\")","v":21},{"$f":"IF(Base_Arbres!B59<>\"\",VLOOKUP($A28,Base_Arbres,7,FALSE)*Crit5,\"\")","v":27.5},{"$f":"IF(Base_Arbres!C59<>\"\",VLOOKUP($A28,Base_Arbres,8,FALSE)*crit8,\"\")","v":13.35},{"$f":"IF(Base_Arbres!D59<>\"\",VLOOKUP($A28,Base_Arbres,9,FALSE)*crit9,\"\")","v":15},{"$f":"IF(ISNA(VLOOKUP(INDEX(Base_Typologie!$A$6:$P$1003,MATCH(A28,Base_Typologie!$A:$A,0)-5,MATCH(Typologie_Espace_Public,Base_Typologie!$6:$6,0)),TableauScoreTypologie2,2,FALSE)*Crit6),0,VLOOKUP(INDEX(Base_Typologie!$A$6:$P$1003,MATCH(A28,Base_Typologie!$A:$A,0)-5,MATCH(Typologie_Espace_Public,Base_Typologie!$6:$6,0)),TableauScoreTypologie2,2,FALSE)*Crit6)","v":10},1,1,1,1,1,1,1,1,1,1,1,1,276.2,{"$f":"IF(Base_Arbres!V35<>\"\",VLOOKUP($A28,Base_Arbres,22,FALSE)*Crit7,\"\")","v":80}]
[{"$f":"IF(Base_Arbres!A34<>\"\",Base_Arbres!A34,\"\")","v":"Gainier du Canada"},{"$f":"IF(Base_Arbres!A34<>\"\",VLOOKUP($A29,Base_Arbres,3,FALSE)*Crit1,\"\")","v":34.65},{"$f":"IF(Base_Arbres!A34<>\"\",VLOOKUP($A29,Base_Arbres,4,FALSE)*Crit2,\"\")","v":23.4},{"$f":"IF(Base_Arbres!A34<>\"\",VLOOKUP($A29,Base_Arbres,5,FALSE)*Crit3,\"\")","v":36.349999999999994},{"$f":"IF(Base_Arbres!A34<>\"\",VLOOKUP($A29,Base_Arbres,6,FALSE)*Crit4,\"\")","v":10.5},{"$f":"IF(Base_Arbres!B34<>\"\",VLOOKUP($A29,Base_Arbres,7,FALSE)*Crit5,\"\")","v":33.5},{"$f":"IF(Base_Arbres!C34<>\"\",VLOOKUP($A29,Base_Arbres,8,FALSE)*crit8,\"\")","v":6.65},{"$f":"IF(Base_Arbres!D34<>\"\",VLOOKUP($A29,Base_Arbres,9,FALSE)*crit9,\"\")","v":15},{"$f":"IF(ISNA(VLOOKUP(INDEX(Base_Typologie!$A$6:$P$1003,MATCH(A29,Base_Typologie!$A:$A,0)-5,MATCH(Typologie_Espace_Public,Base_Typologie!$6:$6,0)),TableauScoreTypologie2,2,FALSE)*Crit6),0,VLOOKUP(INDEX(Base_Typologie!$A$6:$P$1003,MATCH(A29,Base_Typologie!$A:$A,0)-5,MATCH(Typologie_Espace_Public,Base_Typologie!$6:$6,0)),TableauScoreTypologie2,2,FALSE)*Crit6)","v":10},1,1,1,1,1,1,1,1,1,1,1,1,275.04999999999995,{"$f":"IF(Base_Arbres!V128<>\"\",VLOOKUP($A29,Base_Arbres,22,FALSE)*Crit7,\"\")","v":70}]
[{"$f":"IF(Base_Arbres!A10<>\"\",Base_Arbres!A10,\"\")","v":"Érable hybride de Freeman"},{"$f":"IF(Base_Arbres!A10<>\"\",VLOOKUP($A30,Base_Arbres,3,FALSE)*Crit1,\"\")","v":36.549999999999997},{"$f":"IF(Base_Arbres!A10<>\"\",VLOOKUP($A30,Base_Arbres,4,FALSE)*Crit2,\"\")","v":24.55},{"$f":"IF(Base_Arbres!A10<>\"\",VLOOKUP($A30,Base_Arbres,5,FALSE)*Crit3,\"\")","v":37.599999999999994},{"$f":"IF(Base_Arbres!A10<>\"\",VLOOKUP($A30,Base_Arbres,6,FALSE)*Crit4,\"\")","v":12.5},{"$f":"IF(Base_Arbres!B10<>\"\",VLOOKUP($A30,Base_Arbres,7,FALSE)*Crit5,\"\")","v":35},{"$f":"IF(Base_Arbres!C10<>\"\",VLOOKUP($A30,Base_Arbres,8,FALSE)*crit8,\"\")","v":13.35},{"$f":"IF(Base_Arbres!D10<>\"\",VLOOKUP($A30,Base_Arbres,9,FALSE)*crit9,\"\")","v":15},{"$f":"IF(ISNA(VLOOKUP(INDEX(Base_Typologie!$A$6:$P$1003,MATCH(A30,Base_Typologie!$A:$A,0)-5,MATCH(Typologie_Espace_Public,Base_Typologie!$6:$6,0)),TableauScoreTypologie2,2,FALSE)*Crit6),0,VLOOKUP(INDEX(Base_Typologie!$A$6:$P$1003,MATCH(A30,Base_Typologie!$A:$A,0)-5,MATCH(Typologie_Espace_Public,Base_Typologie!$6:$6,0)),TableauScoreTypologie2,2,FALSE)*Crit6)","v":10},1,1,1,1,1,1,1,1,1,1,1,1,274.54999999999995,{"$f":"IF(Base_Arbres!V105<>\"\",VLOOKUP($A30,Base_Arbres,22,FALSE)*Crit7,\"\")","v":60}]
[{"$f":"IF(Base_Arbres!A131<>\"\",Base_Arbres!A131,\"\")","v":"Orme hybride Lutèce"},{"$f":"IF(Base_Arbres!A131<>\"\",VLOOKUP($A31,Base_Arbres,3,FALSE)*Crit1,\"\")","v":33},{"$f":"IF(Base_Arbres!A131<>\"\",VLOOKUP($A31,Base_Arbres,4,FALSE)*Crit2,\"\")","v":22.400000000000002},{"$f":"IF(Base_Arbres!A131<>\"\",VLOOKUP($A31,Base_Arbres,5,FALSE)*Crit3,\"\")","v":30.75},{"$f":"IF(Base_Arbres!A131<>\"\",VLOOKUP($A31,Base_Arbres,6,FALSE)*Crit4,\"\")","v":14.5},{"$f":"IF(Base_Arbres!B131<>\"\",VLOOKUP($A31,Base_Arbres,7,FALSE)*Crit5,\"\")","v":27},{"$f":"IF(Base_Arbres!C131<>\"\",VLOOKUP($A31,Base_Arbres,8,FALSE)*crit8,\"\")","v":20},{"$f":"IF(Base_Arbres!D131<>\"\",VLOOKUP($A31,Base_Arbres,9,FALSE)*crit9,\"\")","v":15},{"$f":"IF(ISNA(VLOOKUP(INDEX(Base_Typologie!$A$6:$P$1003,MATCH(A31,Base_Typologie!$A:$A,0)-5,MATCH(Typologie_Espace_Public,Base_Typologie!$6:$6,0)),TableauScoreTypologie2,2,FALSE)*Crit6),0,VLOOKUP(INDEX(Base_Typologie!$A$6:$P$1003,MATCH(A31,Base_Typologie!$A:$A,0)-5,MATCH(Typologie_Espace_Public,Base_Typologie!$6:$6,0)),TableauScoreTypologie2,2,FALSE)*Crit6)","v":50},1,1,1,1,1,1,1,1,1,1,1,1,272.64999999999998,{"$f":"IF(Base_Arbres!V99<>\"\",VLOOKUP($A31,Base_Arbres,22,FALSE)*Crit7,\"\")","v":40}]
[{"$f":"IF(Base_Arbres!A117<>\"\",Base_Arbres!A117,\"\")","v":"Sorbier des oiseleurs"},{"$f":"IF(Base_Arbres!A117<>\"\",VLOOKUP($A32,Base_Arbres,3,FALSE)*Crit1,\"\")","v":21.8},{"$f":"IF(Base_Arbres!A117<>\"\",VLOOKUP($A32,Base_Arbres,4,FALSE)*Crit2,\"\")","v":26.75},{"$f":"IF(Base_Arbres!A117<>\"\",VLOOKUP($A32,Base_Arbres,5,FALSE)*Crit3,\"\")","v":30.099999999999998},{"$f":"IF(Base_Arbres!A117<>\"\",VLOOKUP($A32,Base_Arbres,6,FALSE)*Crit4,\"\")","v":33.5},{"$f":"IF(Base_Arbres!B117<>\"\",VLOOKUP($A32,Base_Arbres,7,FALSE)*Crit5,\"\")","v":31.5},{"$f":"IF(Base_Arbres!C117<>\"\",VLOOKUP($A32,Base_Arbres,8,FALSE)*crit8,\"\")","v":10},{"$f":"IF(Base_Arbres!D117<>\"\",VLOOKUP($A32,Base_Arbres,9,FALSE)*crit9,\"\")","v":15},{"$f":"IF(ISNA(VLOOKUP(INDEX(Base_Typologie!$A$6:$P$1003,MATCH(A32,Base_Typologie!$A:$A,0)-5,MATCH(Typologie_Espace_Public,Base_Typologie!$6:$6,0)),TableauScoreTypologie2,2,FALSE)*Crit6),0,VLOOKUP(INDEX(Base_Typologie!$A$6:$P$1003,MATCH(A32,Base_Typologie!$A:$A,0)-5,MATCH(Typologie_Espace_Public,Base_Typologie!$6:$6,0)),TableauScoreTypologie2,2,FALSE)*Crit6)","v":10},1,1,1,1,1,1,1,1,1,1,1,1,268.64999999999998,{"$f":"IF(Base_Arbres!V87<>\"\",VLOOKUP($A32,Base_Arbres,22,FALSE)*Crit7,\"\")","v":60}]
[{"$f":"IF(Base_Arbres!A96<>\"\",Base_Arbres!A96,\"\")","v":"Ptérocarier de Chine"},{"$f":"IF(Base_Arbres!A96<>\"\",VLOOKUP($A33,Base_Arbres,3,FALSE)*Crit1,\"\")","v":30.9},{"$f":"IF(Base_Arbres!A96<>\"\",VLOOKUP($A33,Base_Arbres,4,FALSE)*Crit2,\"\")","v":21.9},{"$f":"IF(Base_Arbres!A96<>\"\",VLOOKUP($A33,Base_Arbres,5,FALSE)*Crit3,\"\")","v":29.049999999999997},{"$f":"IF(Base_Arbres!A96<>\"\",VLOOKUP($A33,Base_Arbres,6,FALSE)*Crit4,\"\")","v":5},{"$f":"IF(Base_Arbres!B96<>\"\",VLOOKUP($A33,Base_Arbres,7,FALSE)*Crit5,\"\")","v":28},{"$f":"IF(Base_Arbres!C96<>\"\",VLOOKUP($A33,Base_Arbres,8,FALSE)*crit8,\"\")","v":50},{"$f":"IF(Base_Arbres!D96<>\"\",VLOOKUP($A33,Base_Arbres,9,FALSE)*crit9,\"\")","v":15},{"$f":"IF(ISNA(VLOOKUP(INDEX(Base_Typologie!$A$6:$P$1003,MATCH(A33,Base_Typologie!$A:$A,0)-5,MATCH(Typologie_Espace_Public,Base_Typologie!$6:$6,0)),TableauScoreTypologie2,2,FALSE)*Crit6),0,VLOOKUP(INDEX(Base_Typologie!$A$6:$P$1003,MATCH(A33,Base_Typologie!$A:$A,0)-5,MATCH(Typologie_Espace_Public,Base_Typologie!$6:$6,0)),TableauScoreTypologie2,2,FALSE)*Crit6)","v":50},1,1,1,1,1,1,1,1,1,1,1,1,259.85000000000002,{"$f":"IF(Base_Arbres!V130<>\"\",VLOOKUP($A33,Base_Arbres,22,FALSE)*Crit7,\"\")","v":20}]
[{"$f":"IF(Base_Arbres!A133<>\"\",Base_Arbres!A133,\"\")","v":"Viorne obier"},{"$f":"IF(Base_Arbres!A133<>\"\",VLOOKUP($A34,Base_Arbres,3,FALSE)*Crit1,\"\")","v":29.5},{"$f":"IF(Base_Arbres!A133<>\"\",VLOOKUP($A34,Base_Arbres,4,FALSE)*Crit2,\"\")","v":19.950000000000003},{"$f":"IF(Base_Arbres!A133<>\"\",VLOOKUP($A34,Base_Arbres,5,FALSE)*Crit3,\"\")","v":27.799999999999997},{"$f":"IF(Base_Arbres!A133<>\"\",VLOOKUP($A34,Base_Arbres,6,FALSE)*Crit4,\"\")","v":19},{"$f":"IF(Base_Arbres!B133<>\"\",VLOOKUP($A34,Base_Arbres,7,FALSE)*Crit5,\"\")","v":28},{"$f":"IF(Base_Arbres!C133<>\"\",VLOOKUP($A34,Base_Arbres,8,FALSE)*crit8,\"\")","v":10},{"$f":"IF(Base_Arbres!D133<>\"\",VLOOKUP($A34,Base_Arbres,9,FALSE)*crit9,\"\")","v":15},{"$f":"IF(ISNA(VLOOKUP(INDEX(Base_Typologie!$A$6:$P$1003,MATCH(A34,Base_Typologie!$A:$A,0)-5,MATCH(Typologie_Espace_Public,Base_Typologie!$6:$6,0)),TableauScoreTypologie2,2,FALSE)*Crit6),0,VLOOKUP(INDEX(Base_Typologie!$A$6:$P$1003,MATCH(A34,Base_Typologie!$A:$A,0)-5,MATCH(Typologie_Espace_Public,Base_Typologie!$6:$6,0)),TableauScoreTypologie2,2,FALSE)*Crit6)","v":30},1,1,1,1,1,1,1,1,1,1,1,1,{"$f":"(SUM(B34:I34)+W34*1.5)*J34*K34*L34*M34*N34*O34*P34*Q34*R34*S34*T34*U34","v":254.25},{"$f":"IF(Base_Arbres!V112<>\"\",VLOOKUP($A34,Base_Arbres,22,FALSE)*Crit7,\"\")","v":50}]
[{"$f":"IF(Base_Arbres!A31<>\"\",Base_Arbres!A31,\"\")","v":"Micocoulier de Julian Cannabaceae"},{"$f":"IF(Base_Arbres!A31<>\"\",VLOOKUP($A35,Base_Arbres,3,FALSE)*Crit1,\"\")","v":23.450000000000003},{"$f":"IF(Base_Arbres!A31<>\"\",VLOOKUP($A35,Base_Arbres,4,FALSE)*Crit2,\"\")","v":28.5},{"$f":"IF(Base_Arbres!A31<>\"\",VLOOKUP($A35,Base_Arbres,5,FALSE)*Crit3,\"\")","v":30.75},{"$f":"IF(Base_Arbres!A31<>\"\",VLOOKUP($A35,Base_Arbres,6,FALSE)*Crit4,\"\")","v":4},{"$f":"IF(Base_Arbres!B31<>\"\",VLOOKUP($A35,Base_Arbres,7,FALSE)*Crit5,\"\")","v":28.5},{"$f":"IF(Base_Arbres!C31<>\"\",VLOOKUP($A35,Base_Arbres,8,FALSE)*crit8,\"\")","v":13.35},{"$f":"IF(Base_Arbres!D31<>\"\",VLOOKUP($A35,Base_Arbres,9,FALSE)*crit9,\"\")","v":15},{"$f":"IF(ISNA(VLOOKUP(INDEX(Base_Typologie!$A$6:$P$1003,MATCH(A35,Base_Typologie!$A:$A,0)-5,MATCH(Typologie_Espace_Public,Base_Typologie!$6:$6,0)),TableauScoreTypologie2,2,FALSE)*Crit6),0,VLOOKUP(INDEX(Base_Typologie!$A$6:$P$1003,MATCH(A35,Base_Typologie!$A:$A,0)-5,MATCH(Typologie_Espace_Public,Base_Typologie!$6:$6,0)),TableauScoreTypologie2,2,FALSE)*Crit6)","v":50},1,1,1,1,1,1,1,1,1,1,1,1,253.55,{"$f":"IF(Base_Arbres!V103<>\"\",VLOOKUP($A35,Base_Arbres,22,FALSE)*Crit7,\"\")","v":40}]
[{"$f":"IF(Base_Arbres!A90<>\"\",Base_Arbres!A90,\"\")","v":"Merisier 'Landscape Bloom'"},{"$f":"IF(Base_Arbres!A90<>\"\",VLOOKUP($A36,Base_Arbres,3,FALSE)*Crit1,\"\")","v":34.85},{"$f":"IF(Base_Arbres!A90<>\"\",VLOOKUP($A36,Base_Arbres,4,FALSE)*Crit2,\"\")","v":24.6},{"$f":"IF(Base_Arbres!A90<>\"\",VLOOKUP($A36,Base_Arbres,5,FALSE)*Crit3,\"\")","v":31.9},{"$f":"IF(Base_Arbres!A90<>\"\",VLOOKUP($A36,Base_Arbres,6,FALSE)*Crit4,\"\")","v":19},{"$f":"IF(Base_Arbres!B90<>\"\",VLOOKUP($A36,Base_Arbres,7,FALSE)*Crit5,\"\")","v":29.5},{"$f":"IF(Base_Arbres!C90<>\"\",VLOOKUP($A36,Base_Arbres,8,FALSE)*crit8,\"\")","v":13.35},{"$f":"IF(Base_Arbres!D90<>\"\",VLOOKUP($A36,Base_Arbres,9,FALSE)*crit9,\"\")","v":15},{"$f":"IF(ISNA(VLOOKUP(INDEX(Base_Typologie!$A$6:$P$1003,MATCH(A36,Base_Typologie!$A:$A,0)-5,MATCH(Typologie_Espace_Public,Base_Typologie!$6:$6,0)),TableauScoreTypologie2,2,FALSE)*Crit6),0,VLOOKUP(INDEX(Base_Typologie!$A$6:$P$1003,MATCH(A36,Base_Typologie!$A:$A,0)-5,MATCH(Typologie_Espace_Public,Base_Typologie!$6:$6,0)),TableauScoreTypologie2,2,FALSE)*Crit6)","v":10},1,1,1,1,1,1,1,1,1,1,1,1,253.2,{"$f":"IF(Base_Arbres!V113<>\"\",VLOOKUP($A36,Base_Arbres,22,FALSE)*Crit7,\"\")","v":50}]
[{"$f":"IF(Base_Arbres!A127<>\"\",Base_Arbres!A127,\"\")","v":"Orme hybride 'Columella'"},{"$f":"IF(Base_Arbres!A127<>\"\",VLOOKUP($A37,Base_Arbres,3,FALSE)*Crit1,\"\")","v":28.35},{"$f":"IF(Base_Arbres!A127<>\"\",VLOOKUP($A37,Base_Arbres,4,FALSE)*Crit2,\"\")","v":20.7},{"$f":"IF(Base_Arbres!A127<>\"\",VLOOKUP($A37,Base_Arbres,5,FALSE)*Crit3,\"\")","v":22.3},{"$f":"IF(Base_Arbres!A127<>\"\",VLOOKUP($A37,Base_Arbres,6,FALSE)*Crit4,\"\")","v":8.5},{"$f":"IF(Base_Arbres!B127<>\"\",VLOOKUP($A37,Base_Arbres,7,FALSE)*Crit5,\"\")","v":22},{"$f":"IF(Base_Arbres!C127<>\"\",VLOOKUP($A37,Base_Arbres,8,FALSE)*crit8,\"\")","v":20},{"$f":"IF(Base_Arbres!D127<>\"\",VLOOKUP($A37,Base_Arbres,9,FALSE)*crit9,\"\")","v":15},{"$f":"IF(ISNA(VLOOKUP(INDEX(Base_Typologie!$A$6:$P$1003,MATCH(A37,Base_Typologie!$A:$A,0)-5,MATCH(Typologie_Espace_Public,Base_Typologie!$6:$6,0)),TableauScoreTypologie2,2,FALSE)*Crit6),0,VLOOKUP(INDEX(Base_Typologie!$A$6:$P$1003,MATCH(A37,Base_Typologie!$A:$A,0)-5,MATCH(Typologie_Espace_Public,Base_Typologie!$6:$6,0)),TableauScoreTypologie2,2,FALSE)*Crit6)","v":10},1,1,1,1,1,1,1,1,1,1,1,1,251.85,{"$f":"IF(Base_Arbres!V121<>\"\",VLOOKUP($A37,Base_Arbres,22,FALSE)*Crit7,\"\")","v":70}]
[{"$f":"IF(Base_Arbres!A92<>\"\",Base_Arbres!A92,\"\")","v":"Cerisier à grappes"},{"$f":"IF(Base_Arbres!A92<>\"\",VLOOKUP($A38,Base_Arbres,3,FALSE)*Crit1,\"\")","v":32.799999999999997},{"$f":"IF(Base_Arbres!A92<>\"\",VLOOKUP($A38,Base_Arbres,4,FALSE)*Crit2,\"\")","v":22.3},{"$f":"IF(Base_Arbres!A92<>\"\",VLOOKUP($A38,Base_Arbres,5,FALSE)*Crit3,\"\")","v":31.549999999999997},{"$f":"IF(Base_Arbres!A92<>\"\",VLOOKUP($A38,Base_Arbres,6,FALSE)*Crit4,\"\")","v":25},{"$f":"IF(Base_Arbres!B92<>\"\",VLOOKUP($A38,Base_Arbres,7,FALSE)*Crit5,\"\")","v":30},{"$f":"IF(Base_Arbres!C92<>\"\",VLOOKUP($A38,Base_Arbres,8,FALSE)*crit8,\"\")","v":10},{"$f":"IF(Base_Arbres!D92<>\"\",VLOOKUP($A38,Base_Arbres,9,FALSE)*crit9,\"\")","v":15},{"$f":"IF(ISNA(VLOOKUP(INDEX(Base_Typologie!$A$6:$P$1003,MATCH(A38,Base_Typologie!$A:$A,0)-5,MATCH(Typologie_Espace_Public,Base_Typologie!$6:$6,0)),TableauScoreTypologie2,2,FALSE)*Crit6),0,VLOOKUP(INDEX(Base_Typologie!$A$6:$P$1003,MATCH(A38,Base_Typologie!$A:$A,0)-5,MATCH(Typologie_Espace_Public,Base_Typologie!$6:$6,0)),TableauScoreTypologie2,2,FALSE)*Crit6)","v":10},1,1,1,1,1,1,1,1,1,1,1,1,251.64999999999998,{"$f":"IF(Base_Arbres!V72<>\"\",VLOOKUP($A38,Base_Arbres,22,FALSE)*Crit7,\"\")","v":50}]
[{"$f":"IF(Base_Arbres!A13<>\"\",Base_Arbres!A13,\"\")","v":"Arbre à soie"},{"$f":"IF(Base_Arbres!A13<>\"\",VLOOKUP($A39,Base_Arbres,3,FALSE)*Crit1,\"\")","v":27.25},{"$f":"IF(Base_Arbres!A13<>\"\",VLOOKUP($A39,Base_Arbres,4,FALSE)*Crit2,\"\")","v":19.350000000000001},{"$f":"IF(Base_Arbres!A13<>\"\",VLOOKUP($A39,Base_Arbres,5,FALSE)*Crit3,\"\")","v":23.25},{"$f":"IF(Base_Arbres!A13<>\"\",VLOOKUP($A39,Base_Arbres,6,FALSE)*Crit4,\"\")","v":10.5},{"$f":"IF(Base_Arbres!B13<>\"\",VLOOKUP($A39,Base_Arbres,7,FALSE)*Crit5,\"\")","v":25},{"$f":"IF(Base_Arbres!C13<>\"\",VLOOKUP($A39,Base_Arbres,8,FALSE)*crit8,\"\")","v":6.65},{"$f":"IF(Base_Arbres!D13<>\"\",VLOOKUP($A39,Base_Arbres,9,FALSE)*crit9,\"\")","v":15},{"$f":"IF(ISNA(VLOOKUP(INDEX(Base_Typologie!$A$6:$P$1003,MATCH(A39,Base_Typologie!$A:$A,0)-5,MATCH(Typologie_Espace_Public,Base_Typologie!$6:$6,0)),TableauScoreTypologie2,2,FALSE)*Crit6),0,VLOOKUP(INDEX(Base_Typologie!$A$6:$P$1003,MATCH(A39,Base_Typologie!$A:$A,0)-5,MATCH(Typologie_Espace_Public,Base_Typologie!$6:$6,0)),TableauScoreTypologie2,2,FALSE)*Crit6)","v":30},1,1,1,1,1,1,1,1,1,1,1,1,247,{"$f":"IF(Base_Arbres!V117<>\"\",VLOOKUP($A39,Base_Arbres,22,FALSE)*Crit7,\"\")","v":60}]
[{"$f":"IF(Base_Arbres!A45<>\"\",Base_Arbres!A45,\"\")","v":"Fusain d’Europe"},{"$f":"IF(Base_Arbres!A45<>\"\",VLOOKUP($A40,Base_Arbres,3,FALSE)*Crit1,\"\")","v":22.5},{"$f":"IF(Base_Arbres!A45<>\"\",VLOOKUP($A40,Base_Arbres,4,FALSE)*Crit2,\"\")","v":21.5},{"$f":"IF(Base_Arbres!A45<>\"\",VLOOKUP($A40,Base_Arbres,5,FALSE)*Crit3,\"\")","v":23.25},{"$f":"IF(Base_Arbres!A45<>\"\",VLOOKUP($A40,Base_Arbres,6,FALSE)*Crit4,\"\")","v":23},{"$f":"IF(Base_Arbres!B45<>\"\",VLOOKUP($A40,Base_Arbres,7,FALSE)*Crit5,\"\")","v":26.5},{"$f":"IF(Base_Arbres!C45<>\"\",VLOOKUP($A40,Base_Arbres,8,FALSE)*crit8,\"\")","v":10},{"$f":"IF(Base_Arbres!D45<>\"\",VLOOKUP($A40,Base_Arbres,9,FALSE)*crit9,\"\")","v":0},{"$f":"IF(ISNA(VLOOKUP(INDEX(Base_Typologie!$A$6:$P$1003,MATCH(A40,Base_Typologie!$A:$A,0)-5,MATCH(Typologie_Espace_Public,Base_Typologie!$6:$6,0)),TableauScoreTypologie2,2,FALSE)*Crit6),0,VLOOKUP(INDEX(Base_Typologie!$A$6:$P$1003,MATCH(A40,Base_Typologie!$A:$A,0)-5,MATCH(Typologie_Espace_Public,Base_Typologie!$6:$6,0)),TableauScoreTypologie2,2,FALSE)*Crit6)","v":30},1,1,1,1,1,1,1,1,1,1,1,1,246.75,{"$f":"IF(Base_Arbres!V41<>\"\",VLOOKUP($A40,Base_Arbres,22,FALSE)*Crit7,\"\")","v":60}]
[{"$f":"IF(Base_Arbres!A17<>\"\",Base_Arbres!A17,\"\")","v":"Amélanchier arborescent Robin Hill"},{"$f":"IF(Base_Arbres!A17<>\"\",VLOOKUP($A41,Base_Arbres,3,FALSE)*Crit1,\"\")","v":21.9},{"$f":"IF(Base_Arbres!A17<>\"\",VLOOKUP($A41,Base_Arbres,4,FALSE)*Crit2,\"\")","v":22.549999999999997},{"$f":"IF(Base_Arbres!A17<>\"\",VLOOKUP($A41,Base_Arbres,5,FALSE)*Crit3,\"\")","v":21.65},{"$f":"IF(Base_Arbres!A17<>\"\",VLOOKUP($A41,Base_Arbres,6,FALSE)*Crit4,\"\")","v":6.5},{"$f":"IF(Base_Arbres!B17<>\"\",VLOOKUP($A41,Base_Arbres,7,FALSE)*Crit5,\"\")","v":23.5},{"$f":"IF(Base_Arbres!C17<>\"\",VLOOKUP($A41,Base_Arbres,8,FALSE)*crit8,\"\")","v":6.65},{"$f":"IF(Base_Arbres!D17<>\"\",VLOOKUP($A41,Base_Arbres,9,FALSE)*crit9,\"\")","v":15},{"$f":"IF(ISNA(VLOOKUP(INDEX(Base_Typologie!$A$6:$P$1003,MATCH(A41,Base_Typologie!$A:$A,0)-5,MATCH(Typologie_Espace_Public,Base_Typologie!$6:$6,0)),TableauScoreTypologie2,2,FALSE)*Crit6),0,VLOOKUP(INDEX(Base_Typologie!$A$6:$P$1003,MATCH(A41,Base_Typologie!$A:$A,0)-5,MATCH(Typologie_Espace_Public,Base_Typologie!$6:$6,0)),TableauScoreTypologie2,2,FALSE)*Crit6)","v":50},1,1,1,1,1,1,1,1,1,1,1,1,242.75,{"$f":"IF(Base_Arbres!V69<>\"\",VLOOKUP($A41,Base_Arbres,22,FALSE)*Crit7,\"\")","v":50}]
[{"$f":"IF(Base_Arbres!A63<>\"\",Base_Arbres!A63,\"\")","v":"Copalme d'Orient"},{"$f":"IF(Base_Arbres!A63<>\"\",VLOOKUP($A42,Base_Arbres,3,FALSE)*Crit1,\"\")","v":31.5},{"$f":"IF(Base_Arbres!A63<>\"\",VLOOKUP($A42,Base_Arbres,4,FALSE)*Crit2,\"\")","v":21.9},{"$f":"IF(Base_Arbres!A63<>\"\",VLOOKUP($A42,Base_Arbres,5,FALSE)*Crit3,\"\")","v":30.65},{"$f":"IF(Base_Arbres!A63<>\"\",VLOOKUP($A42,Base_Arbres,6,FALSE)*Crit4,\"\")","v":8.5},{"$f":"IF(Base_Arbres!B63<>\"\",VLOOKUP($A42,Base_Arbres,7,FALSE)*Crit5,\"\")","v":30},{"$f":"IF(Base_Arbres!C63<>\"\",VLOOKUP($A42,Base_Arbres,8,FALSE)*crit8,\"\")","v":10},{"$f":"IF(Base_Arbres!D63<>\"\",VLOOKUP($A42,Base_Arbres,9,FALSE)*crit9,\"\")","v":15},{"$f":"IF(ISNA(VLOOKUP(INDEX(Base_Typologie!$A$6:$P$1003,MATCH(A42,Base_Typologie!$A:$A,0)-5,MATCH(Typologie_Espace_Public,Base_Typologie!$6:$6,0)),TableauScoreTypologie2,2,FALSE)*Crit6),0,VLOOKUP(INDEX(Base_Typologie!$A$6:$P$1003,MATCH(A42,Base_Typologie!$A:$A,0)-5,MATCH(Typologie_Espace_Public,Base_Typologie!$6:$6,0)),TableauScoreTypologie2,2,FALSE)*Crit6)","v":50},1,1,1,1,1,1,1,1,1,1,1,1,242.55,{"$f":"IF(Base_Arbres!V91<>\"\",VLOOKUP($A42,Base_Arbres,22,FALSE)*Crit7,\"\")","v":30}]
[{"$f":"IF(Base_Arbres!A93<>\"\",Base_Arbres!A93,\"\")","v":"Cerisier de Sargent"},{"$f":"IF(Base_Arbres!A93<>\"\",VLOOKUP($A43,Base_Arbres,3,FALSE)*Crit1,\"\")","v":35.5},{"$f":"IF(Base_Arbres!A93<>\"\",VLOOKUP($A43,Base_Arbres,4,FALSE)*Crit2,\"\")","v":23.900000000000002},{"$f":"IF(Base_Arbres!A93<>\"\",VLOOKUP($A43,Base_Arbres,5,FALSE)*Crit3,\"\")","v":34.799999999999997},{"$f":"IF(Base_Arbres!A93<>\"\",VLOOKUP($A43,Base_Arbres,6,FALSE)*Crit4,\"\")","v":21},{"$f":"IF(Base_Arbres!B93<>\"\",VLOOKUP($A43,Base_Arbres,7,FALSE)*Crit5,\"\")","v":31.5},{"$f":"IF(Base_Arbres!C93<>\"\",VLOOKUP($A43,Base_Arbres,8,FALSE)*crit8,\"\")","v":6.65},{"$f":"IF(Base_Arbres!D93<>\"\",VLOOKUP($A43,Base_Arbres,9,FALSE)*crit9,\"\")","v":15},{"$f":"IF(ISNA(VLOOKUP(INDEX(Base_Typologie!$A$6:$P$1003,MATCH(A43,Base_Typologie!$A:$A,0)-5,MATCH(Typologie_Espace_Public,Base_Typologie!$6:$6,0)),TableauScoreTypologie2,2,FALSE)*Crit6),0,VLOOKUP(INDEX(Base_Typologie!$A$6:$P$1003,MATCH(A43,Base_Typologie!$A:$A,0)-5,MATCH(Typologie_Espace_Public,Base_Typologie!$6:$6,0)),TableauScoreTypologie2,2,FALSE)*Crit6)","v":10},1,1,1,1,1,1,1,1,1,1,1,1,238.35,{"$f":"IF(Base_Arbres!V5<>\"\",VLOOKUP($A43,Base_Arbres,22,FALSE)*Crit7,\"\")","v":40}]
[{"$f":"IF(Base_Arbres!A67<>\"\",Base_Arbres!A67,\"\")","v":"Magnolia de Kobé"},{"$f":"IF(Base_Arbres!A67<>\"\",VLOOKUP($A44,Base_Arbres,3,FALSE)*Crit1,\"\")","v":25.7},{"$f":"IF(Base_Arbres!A67<>\"\",VLOOKUP($A44,Base_Arbres,4,FALSE)*Crit2,\"\")","v":24.849999999999998},{"$f":"IF(Base_Arbres!A67<>\"\",VLOOKUP($A44,Base_Arbres,5,FALSE)*Crit3,\"\")","v":26.65},{"$f":"IF(Base_Arbres!A67<>\"\",VLOOKUP($A44,Base_Arbres,6,FALSE)*Crit4,\"\")","v":6.5},{"$f":"IF(Base_Arbres!B67<>\"\",VLOOKUP($A44,Base_Arbres,7,FALSE)*Crit5,\"\")","v":26},{"$f":"IF(Base_Arbres!C67<>\"\",VLOOKUP($A44,Base_Arbres,8,FALSE)*crit8,\"\")","v":13.35},{"$f":"IF(Base_Arbres!D67<>\"\",VLOOKUP($A44,Base_Arbres,9,FALSE)*crit9,\"\")","v":15},{"$f":"IF(ISNA(VLOOKUP(INDEX(Base_Typologie!$A$6:$P$1003,MATCH(A44,Base_Typologie!$A:$A,0)-5,MATCH(Typologie_Espace_Public,Base_Typologie!$6:$6,0)),TableauScoreTypologie2,2,FALSE)*Crit6),0,VLOOKUP(INDEX(Base_Typologie!$A$6:$P$1003,MATCH(A44,Base_Typologie!$A:$A,0)-5,MATCH(Typologie_Espace_Public,Base_Typologie!$6:$6,0)),TableauScoreTypologie2,2,FALSE)*Crit6)","v":50},1,1,1,1,1,1,1,1,1,1,1,1,233.04999999999998,{"$f":"IF(Base_Arbres!V108<>\"\",VLOOKUP($A44,Base_Arbres,22,FALSE)*Crit7,\"\")","v":30}]
[{"$f":"IF(Base_Arbres!A57<>\"\",Base_Arbres!A57,\"\")","v":"Houx commun"},{"$f":"IF(Base_Arbres!A57<>\"\",VLOOKUP($A45,Base_Arbres,3,FALSE)*Crit1,\"\")","v":26.6},{"$f":"IF(Base_Arbres!A57<>\"\",VLOOKUP($A45,Base_Arbres,4,FALSE)*Crit2,\"\")","v":27.25},{"$f":"IF(Base_Arbres!A57<>\"\",VLOOKUP($A45,Base_Arbres,5,FALSE)*Crit3,\"\")","v":29.4},{"$f":"IF(Base_Arbres!A57<>\"\",VLOOKUP($A45,Base_Arbres,6,FALSE)*Crit4,\"\")","v":27},{"$f":"IF(Base_Arbres!B57<>\"\",VLOOKUP($A45,Base_Arbres,7,FALSE)*Crit5,\"\")","v":32.5},{"$f":"IF(Base_Arbres!C57<>\"\",VLOOKUP($A45,Base_Arbres,8,FALSE)*crit8,\"\")","v":10},{"$f":"IF(Base_Arbres!D57<>\"\",VLOOKUP($A45,Base_Arbres,9,FALSE)*crit9,\"\")","v":0},{"$f":"IF(ISNA(VLOOKUP(INDEX(Base_Typologie!$A$6:$P$1003,MATCH(A45,Base_Typologie!$A:$A,0)-5,MATCH(Typologie_Espace_Public,Base_Typologie!$6:$6,0)),TableauScoreTypologie2,2,FALSE)*Crit6),0,VLOOKUP(INDEX(Base_Typologie!$A$6:$P$1003,MATCH(A45,Base_Typologie!$A:$A,0)-5,MATCH(Typologie_Espace_Public,Base_Typologie!$6:$6,0)),TableauScoreTypologie2,2,FALSE)*Crit6)","v":10},1,1,1,1,1,1,1,1,1,1,1,1,222.75,{"$f":"IF(Base_Arbres!V45<>\"\",VLOOKUP($A45,Base_Arbres,22,FALSE)*Crit7,\"\")","v":40}]
[{"$f":"IF(Base_Arbres!A80<>\"\",Base_Arbres!A80,\"\")","v":"Seringa, Jasmin des poètes"},{"$f":"IF(Base_Arbres!A80<>\"\",VLOOKUP($A46,Base_Arbres,3,FALSE)*Crit1,\"\")","v":25.65},{"$f":"IF(Base_Arbres!A80<>\"\",VLOOKUP($A46,Base_Arbres,4,FALSE)*Crit2,\"\")","v":19.099999999999998},{"$f":"IF(Base_Arbres!A80<>\"\",VLOOKUP($A46,Base_Arbres,5,FALSE)*Crit3,\"\")","v":19.05},{"$f":"IF(Base_Arbres!A80<>\"\",VLOOKUP($A46,Base_Arbres,6,FALSE)*Crit4,\"\")","v":6.5},{"$f":"IF(Base_Arbres!B80<>\"\",VLOOKUP($A46,Base_Arbres,7,FALSE)*Crit5,\"\")","v":19.5},{"$f":"IF(Base_Arbres!C80<>\"\",VLOOKUP($A46,Base_Arbres,8,FALSE)*crit8,\"\")","v":10},{"$f":"IF(Base_Arbres!D80<>\"\",VLOOKUP($A46,Base_Arbres,9,FALSE)*crit9,\"\")","v":15},{"$f":"IF(ISNA(VLOOKUP(INDEX(Base_Typologie!$A$6:$P$1003,MATCH(A46,Base_Typologie!$A:$A,0)-5,MATCH(Typologie_Espace_Public,Base_Typologie!$6:$6,0)),TableauScoreTypologie2,2,FALSE)*Crit6),0,VLOOKUP(INDEX(Base_Typologie!$A$6:$P$1003,MATCH(A46,Base_Typologie!$A:$A,0)-5,MATCH(Typologie_Espace_Public,Base_Typologie!$6:$6,0)),TableauScoreTypologie2,2,FALSE)*Crit6)","v":10},1,1,1,1,1,1,1,1,1,1,1,1,214.8,{"$f":"IF(Base_Arbres!V109<>\"\",VLOOKUP($A46,Base_Arbres,22,FALSE)*Crit7,\"\")","v":60}]
[{"$f":"IF(Base_Arbres!A43<>\"\",Base_Arbres!A43,\"\")","v":"Arbre aux mouchoirs"},{"$f":"IF(Base_Arbres!A43<>\"\",VLOOKUP($A47,Base_Arbres,3,FALSE)*Crit1,\"\")","v":23.95},{"$f":"IF(Base_Arbres!A43<>\"\",VLOOKUP($A47,Base_Arbres,4,FALSE)*Crit2,\"\")","v":29.1},{"$f":"IF(Base_Arbres!A43<>\"\",VLOOKUP($A47,Base_Arbres,5,FALSE)*Crit3,\"\")","v":33.25},{"$f":"IF(Base_Arbres!A43<>\"\",VLOOKUP($A47,Base_Arbres,6,FALSE)*Crit4,\"\")","v":6.5},{"$f":"IF(Base_Arbres!B43<>\"\",VLOOKUP($A47,Base_Arbres,7,FALSE)*Crit5,\"\")","v":31.5},{"$f":"IF(Base_Arbres!C43<>\"\",VLOOKUP($A47,Base_Arbres,8,FALSE)*crit8,\"\")","v":20},{"$f":"IF(Base_Arbres!D43<>\"\",VLOOKUP($A47,Base_Arbres,9,FALSE)*crit9,\"\")","v":15},{"$f":"IF(ISNA(VLOOKUP(INDEX(Base_Typologie!$A$6:$P$1003,MATCH(A47,Base_Typologie!$A:$A,0)-5,MATCH(Typologie_Espace_Public,Base_Typologie!$6:$6,0)),TableauScoreTypologie2,2,FALSE)*Crit6),0,VLOOKUP(INDEX(Base_Typologie!$A$6:$P$1003,MATCH(A47,Base_Typologie!$A:$A,0)-5,MATCH(Typologie_Espace_Public,Base_Typologie!$6:$6,0)),TableauScoreTypologie2,2,FALSE)*Crit6)","v":10},1,1,1,1,1,1,1,1,1,1,1,1,214.3,{"$f":"IF(Base_Arbres!V131<>\"\",VLOOKUP($A47,Base_Arbres,22,FALSE)*Crit7,\"\")","v":30}]
[{"$f":"IF(Base_Arbres!A72<>\"\",Base_Arbres!A72,\"\")","v":"Pommier de Sukawa"},{"$f":"IF(Base_Arbres!A72<>\"\",VLOOKUP($A48,Base_Arbres,3,FALSE)*Crit1,\"\")","v":21.9},{"$f":"IF(Base_Arbres!A72<>\"\",VLOOKUP($A48,Base_Arbres,4,FALSE)*Crit2,\"\")","v":27.549999999999997},{"$f":"IF(Base_Arbres!A72<>\"\",VLOOKUP($A48,Base_Arbres,5,FALSE)*Crit3,\"\")","v":27.9},{"$f":"IF(Base_Arbres!A72<>\"\",VLOOKUP($A48,Base_Arbres,6,FALSE)*Crit4,\"\")","v":14.5},{"$f":"IF(Base_Arbres!B72<>\"\",VLOOKUP($A48,Base_Arbres,7,FALSE)*Crit5,\"\")","v":26},{"$f":"IF(Base_Arbres!C72<>\"\",VLOOKUP($A48,Base_Arbres,8,FALSE)*crit8,\"\")","v":10},{"$f":"IF(Base_Arbres!D72<>\"\",VLOOKUP($A48,Base_Arbres,9,FALSE)*crit9,\"\")","v":15},{"$f":"IF(ISNA(VLOOKUP(INDEX(Base_Typologie!$A$6:$P$1003,MATCH(A48,Base_Typologie!$A:$A,0)-5,MATCH(Typologie_Espace_Public,Base_Typologie!$6:$6,0)),TableauScoreTypologie2,2,FALSE)*Crit6),0,VLOOKUP(INDEX(Base_Typologie!$A$6:$P$1003,MATCH(A48,Base_Typologie!$A:$A,0)-5,MATCH(Typologie_Espace_Public,Base_Typologie!$6:$6,0)),TableauScoreTypologie2,2,FALSE)*Crit6)","v":10},1,1,1,1,1,1,1,1,1,1,1,1,212.85,{"$f":"IF(Base_Arbres!V70<>\"\",VLOOKUP($A48,Base_Arbres,22,FALSE)*Crit7,\"\")","v":40}]
[{"$f":"IF(Base_Arbres!A68<>\"\",Base_Arbres!A68,\"\")","v":"Magnolia de Kobé ‘Isis’"},{"$f":"IF(Base_Arbres!A68<>\"\",VLOOKUP($A49,Base_Arbres,3,FALSE)*Crit1,\"\")","v":30.099999999999998},{"$f":"IF(Base_Arbres!A68<>\"\",VLOOKUP($A49,Base_Arbres,4,FALSE)*Crit2,\"\")","v":20.7},{"$f":"IF(Base_Arbres!A68<>\"\",VLOOKUP($A49,Base_Arbres,5,FALSE)*Crit3,\"\")","v":27},{"$f":"IF(Base_Arbres!A68<>\"\",VLOOKUP($A49,Base_Arbres,6,FALSE)*Crit4,\"\")","v":6.5},{"$f":"IF(Base_Arbres!B68<>\"\",VLOOKUP($A49,Base_Arbres,7,FALSE)*Crit5,\"\")","v":24.5},{"$f":"IF(Base_Arbres!C68<>\"\",VLOOKUP($A49,Base_Arbres,8,FALSE)*crit8,\"\")","v":13.35},{"$f":"IF(Base_Arbres!D68<>\"\",VLOOKUP($A49,Base_Arbres,9,FALSE)*crit9,\"\")","v":15},{"$f":"IF(ISNA(VLOOKUP(INDEX(Base_Typologie!$A$6:$P$1003,MATCH(A49,Base_Typologie!$A:$A,0)-5,MATCH(Typologie_Espace_Public,Base_Typologie!$6:$6,0)),TableauScoreTypologie2,2,FALSE)*Crit6),0,VLOOKUP(INDEX(Base_Typologie!$A$6:$P$1003,MATCH(A49,Base_Typologie!$A:$A,0)-5,MATCH(Typologie_Espace_Public,Base_Typologie!$6:$6,0)),TableauScoreTypologie2,2,FALSE)*Crit6)","v":50},1,1,1,1,1,1,1,1,1,1,1,1,202.14999999999998,{"$f":"IF(Base_Arbres!V102<>\"\",VLOOKUP($A49,Base_Arbres,22,FALSE)*Crit7,\"\")","v":10}]
[{"$f":"IF(Base_Arbres!A118<>\"\",Base_Arbres!A118,\"\")","v":"Sorbier des oiseleurs fastigiata"},{"$f":"IF(Base_Arbres!A118<>\"\",VLOOKUP($A50,Base_Arbres,3,FALSE)*Crit1,\"\")","v":18.100000000000001},{"$f":"IF(Base_Arbres!A118<>\"\",VLOOKUP($A50,Base_Arbres,4,FALSE)*Crit2,\"\")","v":25.25},{"$f":"IF(Base_Arbres!A118<>\"\",VLOOKUP($A50,Base_Arbres,5,FALSE)*Crit3,\"\")","v":22.9},{"$f":"IF(Base_Arbres!A118<>\"\",VLOOKUP($A50,Base_Arbres,6,FALSE)*Crit4,\"\")","v":19},{"$f":"IF(Base_Arbres!B118<>\"\",VLOOKUP($A50,Base_Arbres,7,FALSE)*Crit5,\"\")","v":26},{"$f":"IF(Base_Arbres!C118<>\"\",VLOOKUP($A50,Base_Arbres,8,FALSE)*crit8,\"\")","v":13.35},{"$f":"IF(Base_Arbres!D118<>\"\",VLOOKUP($A50,Base_Arbres,9,FALSE)*crit9,\"\")","v":15},{"$f":"IF(ISNA(VLOOKUP(INDEX(Base_Typologie!$A$6:$P$1003,MATCH(A50,Base_Typologie!$A:$A,0)-5,MATCH(Typologie_Espace_Public,Base_Typologie!$6:$6,0)),TableauScoreTypologie2,2,FALSE)*Crit6),0,VLOOKUP(INDEX(Base_Typologie!$A$6:$P$1003,MATCH(A50,Base_Typologie!$A:$A,0)-5,MATCH(Typologie_Espace_Public,Base_Typologie!$6:$6,0)),TableauScoreTypologie2,2,FALSE)*Crit6)","v":10},1,1,1,1,1,1,1,1,1,1,1,1,194.6,{"$f":"IF(Base_Arbres!V134<>\"\",VLOOKUP($A50,Base_Arbres,22,FALSE)*Crit7,\"\")","v":30}]
[{"$f":"IF(Base_Arbres!A95<>\"\",Base_Arbres!A95,\"\")","v":"Cerisier d'hiver"},{"$f":"IF(Base_Arbres!A95<>\"\",VLOOKUP($A51,Base_Arbres,3,FALSE)*Crit1,\"\")","v":25.950000000000003},{"$f":"IF(Base_Arbres!A95<>\"\",VLOOKUP($A51,Base_Arbres,4,FALSE)*Crit2,\"\")","v":23.900000000000002},{"$f":"IF(Base_Arbres!A95<>\"\",VLOOKUP($A51,Base_Arbres,5,FALSE)*Crit3,\"\")","v":28.55},{"$f":"IF(Base_Arbres!A95<>\"\",VLOOKUP($A51,Base_Arbres,6,FALSE)*Crit4,\"\")","v":19},{"$f":"IF(Base_Arbres!B95<>\"\",VLOOKUP($A51,Base_Arbres,7,FALSE)*Crit5,\"\")","v":28},{"$f":"IF(Base_Arbres!C95<>\"\",VLOOKUP($A51,Base_Arbres,8,FALSE)*crit8,\"\")","v":6.65},{"$f":"IF(Base_Arbres!D95<>\"\",VLOOKUP($A51,Base_Arbres,9,FALSE)*crit9,\"\")","v":15},{"$f":"IF(ISNA(VLOOKUP(INDEX(Base_Typologie!$A$6:$P$1003,MATCH(A51,Base_Typologie!$A:$A,0)-5,MATCH(Typologie_Espace_Public,Base_Typologie!$6:$6,0)),TableauScoreTypologie2,2,FALSE)*Crit6),0,VLOOKUP(INDEX(Base_Typologie!$A$6:$P$1003,MATCH(A51,Base_Typologie!$A:$A,0)-5,MATCH(Typologie_Espace_Public,Base_Typologie!$6:$6,0)),TableauScoreTypologie2,2,FALSE)*Crit6)","v":10},1,1,1,1,1,1,1,1,1,1,1,1,187.05,{"$f":"IF(Base_Arbres!V83<>\"\",VLOOKUP($A51,Base_Arbres,22,FALSE)*Crit7,\"\")","v":20}]
[{"$f":"IF(Base_Arbres!A36<>\"\",Base_Arbres!A36,\"\")","v":"Arbre de neige"},{"$f":"IF(Base_Arbres!A36<>\"\",VLOOKUP($A52,Base_Arbres,3,FALSE)*Crit1,\"\")","v":23.1},{"$f":"IF(Base_Arbres!A36<>\"\",VLOOKUP($A52,Base_Arbres,4,FALSE)*Crit2,\"\")","v":28.25},{"$f":"IF(Base_Arbres!A36<>\"\",VLOOKUP($A52,Base_Arbres,5,FALSE)*Crit3,\"\")","v":31.05},{"$f":"IF(Base_Arbres!A36<>\"\",VLOOKUP($A52,Base_Arbres,6,FALSE)*Crit4,\"\")","v":6.5},{"$f":"IF(Base_Arbres!B36<>\"\",VLOOKUP($A52,Base_Arbres,7,FALSE)*Crit5,\"\")","v":31},{"$f":"IF(Base_Arbres!C36<>\"\",VLOOKUP($A52,Base_Arbres,8,FALSE)*crit8,\"\")","v":10},{"$f":"IF(Base_Arbres!D36<>\"\",VLOOKUP($A52,Base_Arbres,9,FALSE)*crit9,\"\")","v":15},{"$f":"IF(ISNA(VLOOKUP(INDEX(Base_Typologie!$A$6:$P$1003,MATCH(A52,Base_Typologie!$A:$A,0)-5,MATCH(Typologie_Espace_Public,Base_Typologie!$6:$6,0)),TableauScoreTypologie2,2,FALSE)*Crit6),0,VLOOKUP(INDEX(Base_Typologie!$A$6:$P$1003,MATCH(A52,Base_Typologie!$A:$A,0)-5,MATCH(Typologie_Espace_Public,Base_Typologie!$6:$6,0)),TableauScoreTypologie2,2,FALSE)*Crit6)","v":10},1,1,1,1,1,1,1,1,1,1,1,1,184.9,{"$f":"IF(Base_Arbres!V92<>\"\",VLOOKUP($A52,Base_Arbres,22,FALSE)*Crit7,\"\")","v":20}]
[{"$f":"IF(Base_Arbres!A81<>\"\",Base_Arbres!A81,\"\")","v":"Epicéa commun"},{"$f":"IF(Base_Arbres!A81<>\"\",VLOOKUP($A53,Base_Arbres,3,FALSE)*Crit1,\"\")","v":17.2},{"$f":"IF(Base_Arbres!A81<>\"\",VLOOKUP($A53,Base_Arbres,4,FALSE)*Crit2,\"\")","v":35.550000000000004},{"$f":"IF(Base_Arbres!A81<>\"\",VLOOKUP($A53,Base_Arbres,5,FALSE)*Crit3,\"\")","v":23.450000000000003},{"$f":"IF(Base_Arbres!A81<>\"\",VLOOKUP($A53,Base_Arbres,6,FALSE)*Crit4,\"\")","v":10.5},{"$f":"IF(Base_Arbres!B81<>\"\",VLOOKUP($A53,Base_Arbres,7,FALSE)*Crit5,\"\")","v":29},{"$f":"IF(Base_Arbres!C81<>\"\",VLOOKUP($A53,Base_Arbres,8,FALSE)*crit8,\"\")","v":20},{"$f":"IF(Base_Arbres!D81<>\"\",VLOOKUP($A53,Base_Arbres,9,FALSE)*crit9,\"\")","v":15},{"$f":"IF(ISNA(VLOOKUP(INDEX(Base_Typologie!$A$6:$P$1003,MATCH(A53,Base_Typologie!$A:$A,0)-5,MATCH(Typologie_Espace_Public,Base_Typologie!$6:$6,0)),TableauScoreTypologie2,2,FALSE)*Crit6),0,VLOOKUP(INDEX(Base_Typologie!$A$6:$P$1003,MATCH(A53,Base_Typologie!$A:$A,0)-5,MATCH(Typologie_Espace_Public,Base_Typologie!$6:$6,0)),TableauScoreTypologie2,2,FALSE)*Crit6)","v":10},1,1,1,1,1,1,1,1,1,1,1,1,175.7,{"$f":"IF(Base_Arbres!V111<>\"\",VLOOKUP($A53,Base_Arbres,22,FALSE)*Crit7,\"\")","v":10}]
[{"$f":"IF(Base_Arbres!A70<>\"\",Base_Arbres!A70,\"\")","v":"Pommier d'ornement japonais Brouwers Beauty"},{"$f":"IF(Base_Arbres!A70<>\"\",VLOOKUP($A54,Base_Arbres,3,FALSE)*Crit1,\"\")","v":18},{"$f":"IF(Base_Arbres!A70<>\"\",VLOOKUP($A54,Base_Arbres,4,FALSE)*Crit2,\"\")","v":25.9},{"$f":"IF(Base_Arbres!A70<>\"\",VLOOKUP($A54,Base_Arbres,5,FALSE)*Crit3,\"\")","v":22.599999999999998},{"$f":"IF(Base_Arbres!A70<>\"\",VLOOKUP($A54,Base_Arbres,6,FALSE)*Crit4,\"\")","v":19},{"$f":"IF(Base_Arbres!B70<>\"\",VLOOKUP($A54,Base_Arbres,7,FALSE)*Crit5,\"\")","v":23},{"$f":"IF(Base_Arbres!C70<>\"\",VLOOKUP($A54,Base_Arbres,8,FALSE)*crit8,\"\")","v":10},{"$f":"IF(Base_Arbres!D70<>\"\",VLOOKUP($A54,Base_Arbres,9,FALSE)*crit9,\"\")","v":15},{"$f":"IF(ISNA(VLOOKUP(INDEX(Base_Typologie!$A$6:$P$1003,MATCH(A54,Base_Typologie!$A:$A,0)-5,MATCH(Typologie_Espace_Public,Base_Typologie!$6:$6,0)),TableauScoreTypologie2,2,FALSE)*Crit6),0,VLOOKUP(INDEX(Base_Typologie!$A$6:$P$1003,MATCH(A54,Base_Typologie!$A:$A,0)-5,MATCH(Typologie_Espace_Public,Base_Typologie!$6:$6,0)),TableauScoreTypologie2,2,FALSE)*Crit6)","v":10},1,1,1,1,1,1,1,1,1,1,1,1,173.5,{"$f":"IF(Base_Arbres!A106<>\"\",VLOOKUP($A54,Base_Arbres,22,FALSE)*Crit7,\"\")","v":20}]
[{"$f":"IF(Base_Arbres!A125<>\"\",Base_Arbres!A125,\"\")","v":"Tilleul à grandes feuilles"},{"$f":"IF(Base_Arbres!A125<>\"\",VLOOKUP($A55,Base_Arbres,3,FALSE)*Crit1,\"\")","v":29.5},{"$f":"IF(Base_Arbres!A125<>\"\",VLOOKUP($A55,Base_Arbres,4,FALSE)*Crit2,\"\")","v":32.450000000000003},{"$f":"IF(Base_Arbres!A125<>\"\",VLOOKUP($A55,Base_Arbres,5,FALSE)*Crit3,\"\")","v":41.550000000000004},{"$f":"IF(Base_Arbres!A125<>\"\",VLOOKUP($A55,Base_Arbres,6,FALSE)*Crit4,\"\")","v":33.5},{"$f":"IF(Base_Arbres!B125<>\"\",VLOOKUP($A55,Base_Arbres,7,FALSE)*Crit5,\"\")","v":41},{"$f":"IF(Base_Arbres!C125<>\"\",VLOOKUP($A55,Base_Arbres,8,FALSE)*crit8,\"\")","v":40},{"$f":"IF(Base_Arbres!D125<>\"\",VLOOKUP($A55,Base_Arbres,9,FALSE)*crit9,\"\")","v":15},{"$f":"IF(ISNA(VLOOKUP(INDEX(Base_Typologie!$A$6:$P$1003,MATCH(A55,Base_Typologie!$A:$A,0)-5,MATCH(Typologie_Espace_Public,Base_Typologie!$6:$6,0)),TableauScoreTypologie2,2,FALSE)*Crit6),0,VLOOKUP(INDEX(Base_Typologie!$A$6:$P$1003,MATCH(A55,Base_Typologie!$A:$A,0)-5,MATCH(Typologie_Espace_Public,Base_Typologie!$6:$6,0)),TableauScoreTypologie2,2,FALSE)*Crit6)","v":50},1,1,1,1,1,1,1,1,1,1,1,1,418,{"$f":"IF(Base_Arbres!V47<>\"\",VLOOKUP($A55,Base_Arbres,22,FALSE)*Crit7,\"\")","v":90}]
[{"$f":"IF(Base_Arbres!A86<>\"\",Base_Arbres!A86,\"\")","v":"Platane commun"},{"$f":"IF(Base_Arbres!A86<>\"\",VLOOKUP($A56,Base_Arbres,3,FALSE)*Crit1,\"\")","v":41.3},{"$f":"IF(Base_Arbres!A86<>\"\",VLOOKUP($A56,Base_Arbres,4,FALSE)*Crit2,\"\")","v":27.400000000000002},{"$f":"IF(Base_Arbres!A86<>\"\",VLOOKUP($A56,Base_Arbres,5,FALSE)*Crit3,\"\")","v":43.849999999999994},{"$f":"IF(Base_Arbres!A86<>\"\",VLOOKUP($A56,Base_Arbres,6,FALSE)*Crit4,\"\")","v":14.5},{"$f":"IF(Base_Arbres!B86<>\"\",VLOOKUP($A56,Base_Arbres,7,FALSE)*Crit5,\"\")","v":40},{"$f":"IF(Base_Arbres!C86<>\"\",VLOOKUP($A56,Base_Arbres,8,FALSE)*crit8,\"\")","v":50},{"$f":"IF(Base_Arbres!D86<>\"\",VLOOKUP($A56,Base_Arbres,9,FALSE)*crit9,\"\")","v":15},{"$f":"IF(ISNA(VLOOKUP(INDEX(Base_Typologie!$A$6:$P$1003,MATCH(A56,Base_Typologie!$A:$A,0)-5,MATCH(Typologie_Espace_Public,Base_Typologie!$6:$6,0)),TableauScoreTypologie2,2,FALSE)*Crit6),0,VLOOKUP(INDEX(Base_Typologie!$A$6:$P$1003,MATCH(A56,Base_Typologie!$A:$A,0)-5,MATCH(Typologie_Espace_Public,Base_Typologie!$6:$6,0)),TableauScoreTypologie2,2,FALSE)*Crit6)","v":50},1,1,1,1,1,1,1,1,1,1,1,1,402.05,{"$f":"IF(Base_Arbres!V126<>\"\",VLOOKUP($A56,Base_Arbres,22,FALSE)*Crit7,\"\")","v":80}]
[{"$f":"IF(Base_Arbres!A85<>\"\",Base_Arbres!A85,\"\")","v":"Platane d'Orient"},{"$f":"IF(Base_Arbres!A85<>\"\",VLOOKUP($A57,Base_Arbres,3,FALSE)*Crit1,\"\")","v":35.6},{"$f":"IF(Base_Arbres!A85<>\"\",VLOOKUP($A57,Base_Arbres,4,FALSE)*Crit2,\"\")","v":29.700000000000003},{"$f":"IF(Base_Arbres!A85<>\"\",VLOOKUP($A57,Base_Arbres,5,FALSE)*Crit3,\"\")","v":42.599999999999994},{"$f":"IF(Base_Arbres!A85<>\"\",VLOOKUP($A57,Base_Arbres,6,FALSE)*Crit4,\"\")","v":8.5},{"$f":"IF(Base_Arbres!B85<>\"\",VLOOKUP($A57,Base_Arbres,7,FALSE)*Crit5,\"\")","v":35.5},{"$f":"IF(Base_Arbres!C85<>\"\",VLOOKUP($A57,Base_Arbres,8,FALSE)*crit8,\"\")","v":50},{"$f":"IF(Base_Arbres!D85<>\"\",VLOOKUP($A57,Base_Arbres,9,FALSE)*crit9,\"\")","v":15},{"$f":"IF(ISNA(VLOOKUP(INDEX(Base_Typologie!$A$6:$P$1003,MATCH(A57,Base_Typologie!$A:$A,0)-5,MATCH(Typologie_Espace_Public,Base_Typologie!$6:$6,0)),TableauScoreTypologie2,2,FALSE)*Crit6),0,VLOOKUP(INDEX(Base_Typologie!$A$6:$P$1003,MATCH(A57,Base_Typologie!$A:$A,0)-5,MATCH(Typologie_Espace_Public,Base_Typologie!$6:$6,0)),TableauScoreTypologie2,2,FALSE)*Crit6)","v":50},1,1,1,1,1,1,1,1,1,1,1,1,401.9,{"$f":"IF(Base_Arbres!V67<>\"\",VLOOKUP($A57,Base_Arbres,22,FALSE)*Crit7,\"\")","v":90}]
[{"$f":"IF(Base_Arbres!A124<>\"\",Base_Arbres!A124,\"\")","v":"Tilleul à petites feuilles"},{"$f":"IF(Base_Arbres!A124<>\"\",VLOOKUP($A58,Base_Arbres,3,FALSE)*Crit1,\"\")","v":25.65},{"$f":"IF(Base_Arbres!A124<>\"\",VLOOKUP($A58,Base_Arbres,4,FALSE)*Crit2,\"\")","v":30.150000000000002},{"$f":"IF(Base_Arbres!A124<>\"\",VLOOKUP($A58,Base_Arbres,5,FALSE)*Crit3,\"\")","v":36.549999999999997},{"$f":"IF(Base_Arbres!A124<>\"\",VLOOKUP($A58,Base_Arbres,6,FALSE)*Crit4,\"\")","v":37.5},{"$f":"IF(Base_Arbres!B124<>\"\",VLOOKUP($A58,Base_Arbres,7,FALSE)*Crit5,\"\")","v":38},{"$f":"IF(Base_Arbres!C124<>\"\",VLOOKUP($A58,Base_Arbres,8,FALSE)*crit8,\"\")","v":16.649999999999999},{"$f":"IF(Base_Arbres!D124<>\"\",VLOOKUP($A58,Base_Arbres,9,FALSE)*crit9,\"\")","v":15},{"$f":"IF(ISNA(VLOOKUP(INDEX(Base_Typologie!$A$6:$P$1003,MATCH(A58,Base_Typologie!$A:$A,0)-5,MATCH(Typologie_Espace_Public,Base_Typologie!$6:$6,0)),TableauScoreTypologie2,2,FALSE)*Crit6),0,VLOOKUP(INDEX(Base_Typologie!$A$6:$P$1003,MATCH(A58,Base_Typologie!$A:$A,0)-5,MATCH(Typologie_Espace_Public,Base_Typologie!$6:$6,0)),TableauScoreTypologie2,2,FALSE)*Crit6)","v":50},1,1,1,1,1,1,1,1,1,1,1,1,399.5,{"$f":"IF(Base_Arbres!V93<>\"\",VLOOKUP($A58,Base_Arbres,22,FALSE)*Crit7,\"\")","v":100}]
[{"$f":"IF(Base_Arbres!A104<>\"\",Base_Arbres!A104,\"\")","v":"Chêne sessile, Chêne rouvre"},{"$f":"IF(Base_Arbres!A104<>\"\",VLOOKUP($A59,Base_Arbres,3,FALSE)*Crit1,\"\")","v":39.25},{"$f":"IF(Base_Arbres!A104<>\"\",VLOOKUP($A59,Base_Arbres,4,FALSE)*Crit2,\"\")","v":26.150000000000002},{"$f":"IF(Base_Arbres!A104<>\"\",VLOOKUP($A59,Base_Arbres,5,FALSE)*Crit3,\"\")","v":42.199999999999996},{"$f":"IF(Base_Arbres!A104<>\"\",VLOOKUP($A59,Base_Arbres,6,FALSE)*Crit4,\"\")","v":37.5},{"$f":"IF(Base_Arbres!B104<>\"\",VLOOKUP($A59,Base_Arbres,7,FALSE)*Crit5,\"\")","v":36.5},{"$f":"IF(Base_Arbres!C104<>\"\",VLOOKUP($A59,Base_Arbres,8,FALSE)*crit8,\"\")","v":40},{"$f":"IF(Base_Arbres!D104<>\"\",VLOOKUP($A59,Base_Arbres,9,FALSE)*crit9,\"\")","v":15},{"$f":"IF(ISNA(VLOOKUP(INDEX(Base_Typologie!$A$6:$P$1003,MATCH(A59,Base_Typologie!$A:$A,0)-5,MATCH(Typologie_Espace_Public,Base_Typologie!$6:$6,0)),TableauScoreTypologie2,2,FALSE)*Crit6),0,VLOOKUP(INDEX(Base_Typologie!$A$6:$P$1003,MATCH(A59,Base_Typologie!$A:$A,0)-5,MATCH(Typologie_Espace_Public,Base_Typologie!$6:$6,0)),TableauScoreTypologie2,2,FALSE)*Crit6)","v":10},1,1,1,1,1,1,1,1,1,1,1,1,396.6,{"$f":"IF(Base_Arbres!V68<>\"\",VLOOKUP($A59,Base_Arbres,22,FALSE)*Crit7,\"\")","v":100}]
[{"$f":"IF(Base_Arbres!A6<>\"\",Base_Arbres!A6,\"\")","v":"Érable plane"},{"$f":"IF(Base_Arbres!A6<>\"\",VLOOKUP($A60,Base_Arbres,3,FALSE)*Crit1,\"\")","v":34.5},{"$f":"IF(Base_Arbres!A6<>\"\",VLOOKUP($A60,Base_Arbres,4,FALSE)*Crit2,\"\")","v":29},{"$f":"IF(Base_Arbres!A6<>\"\",VLOOKUP($A60,Base_Arbres,5,FALSE)*Crit3,\"\")","v":42.199999999999996},{"$f":"IF(Base_Arbres!A6<>\"\",VLOOKUP($A60,Base_Arbres,6,FALSE)*Crit4,\"\")","v":23},{"$f":"IF(Base_Arbres!B6<>\"\",VLOOKUP($A60,Base_Arbres,7,FALSE)*Crit5,\"\")","v":41},{"$f":"IF(Base_Arbres!C6<>\"\",VLOOKUP($A60,Base_Arbres,8,FALSE)*crit8,\"\")","v":16.649999999999999},{"$f":"IF(Base_Arbres!D6<>\"\",VLOOKUP($A60,Base_Arbres,9,FALSE)*crit9,\"\")","v":15},{"$f":"IF(ISNA(VLOOKUP(INDEX(Base_Typologie!$A$6:$P$1003,MATCH(A60,Base_Typologie!$A:$A,0)-5,MATCH(Typologie_Espace_Public,Base_Typologie!$6:$6,0)),TableauScoreTypologie2,2,FALSE)*Crit6),0,VLOOKUP(INDEX(Base_Typologie!$A$6:$P$1003,MATCH(A60,Base_Typologie!$A:$A,0)-5,MATCH(Typologie_Espace_Public,Base_Typologie!$6:$6,0)),TableauScoreTypologie2,2,FALSE)*Crit6)","v":50},1,1,1,1,1,1,1,1,1,1,1,1,386.35,{"$f":"IF(Base_Arbres!V55<>\"\",VLOOKUP($A60,Base_Arbres,22,FALSE)*Crit7,\"\")","v":90}]
[{"$f":"IF(Base_Arbres!A100<>\"\",Base_Arbres!A100,\"\")","v":"Chêne de Hongrie"},{"$f":"IF(Base_Arbres!A100<>\"\",VLOOKUP($A61,Base_Arbres,3,FALSE)*Crit1,\"\")","v":40},{"$f":"IF(Base_Arbres!A100<>\"\",VLOOKUP($A61,Base_Arbres,4,FALSE)*Crit2,\"\")","v":26.25},{"$f":"IF(Base_Arbres!A100<>\"\",VLOOKUP($A61,Base_Arbres,5,FALSE)*Crit3,\"\")","v":42.9},{"$f":"IF(Base_Arbres!A100<>\"\",VLOOKUP($A61,Base_Arbres,6,FALSE)*Crit4,\"\")","v":27},{"$f":"IF(Base_Arbres!B100<>\"\",VLOOKUP($A61,Base_Arbres,7,FALSE)*Crit5,\"\")","v":37.5},{"$f":"IF(Base_Arbres!C100<>\"\",VLOOKUP($A61,Base_Arbres,8,FALSE)*crit8,\"\")","v":20},{"$f":"IF(Base_Arbres!D100<>\"\",VLOOKUP($A61,Base_Arbres,9,FALSE)*crit9,\"\")","v":15},{"$f":"IF(ISNA(VLOOKUP(INDEX(Base_Typologie!$A$6:$P$1003,MATCH(A61,Base_Typologie!$A:$A,0)-5,MATCH(Typologie_Espace_Public,Base_Typologie!$6:$6,0)),TableauScoreTypologie2,2,FALSE)*Crit6),0,VLOOKUP(INDEX(Base_Typologie!$A$6:$P$1003,MATCH(A61,Base_Typologie!$A:$A,0)-5,MATCH(Typologie_Espace_Public,Base_Typologie!$6:$6,0)),TableauScoreTypologie2,2,FALSE)*Crit6)","v":50},1,1,1,1,1,1,1,1,1,1,1,1,378.65,{"$f":"IF(Base_Arbres!V12<>\"\",VLOOKUP($A61,Base_Arbres,22,FALSE)*Crit7,\"\")","v":80}]
[{"$f":"IF(Base_Arbres!A39<>\"\",Base_Arbres!A39,\"\")","v":"Noisetier de Byzance"},{"$f":"IF(Base_Arbres!A39<>\"\",VLOOKUP($A62,Base_Arbres,3,FALSE)*Crit1,\"\")","v":30.85},{"$f":"IF(Base_Arbres!A39<>\"\",VLOOKUP($A62,Base_Arbres,4,FALSE)*Crit2,\"\")","v":26.85},{"$f":"IF(Base_Arbres!A39<>\"\",VLOOKUP($A62,Base_Arbres,5,FALSE)*Crit3,\"\")","v":37.599999999999994},{"$f":"IF(Base_Arbres!A39<>\"\",VLOOKUP($A62,Base_Arbres,6,FALSE)*Crit4,\"\")","v":12.5},{"$f":"IF(Base_Arbres!B39<>\"\",VLOOKUP($A62,Base_Arbres,7,FALSE)*Crit5,\"\")","v":35.5},{"$f":"IF(Base_Arbres!C39<>\"\",VLOOKUP($A62,Base_Arbres,8,FALSE)*crit8,\"\")","v":16.649999999999999},{"$f":"IF(Base_Arbres!D39<>\"\",VLOOKUP($A62,Base_Arbres,9,FALSE)*crit9,\"\")","v":50},{"$f":"IF(ISNA(VLOOKUP(INDEX(Base_Typologie!$A$6:$P$1003,MATCH(A62,Base_Typologie!$A:$A,0)-5,MATCH(Typologie_Espace_Public,Base_Typologie!$6:$6,0)),TableauScoreTypologie2,2,FALSE)*Crit6),0,VLOOKUP(INDEX(Base_Typologie!$A$6:$P$1003,MATCH(A62,Base_Typologie!$A:$A,0)-5,MATCH(Typologie_Espace_Public,Base_Typologie!$6:$6,0)),TableauScoreTypologie2,2,FALSE)*Crit6)","v":30},1,1,1,1,1,1,1,1,1,1,1,1,374.95000000000005,{"$f":"IF(Base_Arbres!V82<>\"\",VLOOKUP($A62,Base_Arbres,22,FALSE)*Crit7,\"\")","v":90}]
[{"$f":"IF(Base_Arbres!A106<>\"\",Base_Arbres!A106,\"\")","v":"Chêne pédonculé"},{"$f":"IF(Base_Arbres!A106<>\"\",VLOOKUP($A63,Base_Arbres,3,FALSE)*Crit1,\"\")","v":40},{"$f":"IF(Base_Arbres!A106<>\"\",VLOOKUP($A63,Base_Arbres,4,FALSE)*Crit2,\"\")","v":25},{"$f":"IF(Base_Arbres!A106<>\"\",VLOOKUP($A63,Base_Arbres,5,FALSE)*Crit3,\"\")","v":40},{"$f":"IF(Base_Arbres!A106<>\"\",VLOOKUP($A63,Base_Arbres,6,FALSE)*Crit4,\"\")","v":40},{"$f":"IF(Base_Arbres!A106<>\"\",VLOOKUP($A63,Base_Arbres,7,FALSE)*Crit5,\"\")","v":37},{"$f":"IF(Base_Arbres!A106<>\"\",VLOOKUP($A63,Base_Arbres,8,FALSE)*crit8,\"\")","v":40},{"$f":"IF(Base_Arbres!A106<>\"\",VLOOKUP($A63,Base_Arbres,9,FALSE)*crit9,\"\")","v":15},{"$f":"IF(ISNA(VLOOKUP(INDEX(Base_Typologie!$A$6:$P$1003,MATCH(A63,Base_Typologie!$A:$A,0)-5,MATCH(Typologie_Espace_Public,Base_Typologie!$6:$6,0)),TableauScoreTypologie2,2,FALSE)*Crit6),0,VLOOKUP(INDEX(Base_Typologie!$A$6:$P$1003,MATCH(A63,Base_Typologie!$A:$A,0)-5,MATCH(Typologie_Espace_Public,Base_Typologie!$6:$6,0)),TableauScoreTypologie2,2,FALSE)*Crit6)","v":10},1,1,1,1,1,1,1,1,1,1,1,1,367,{"$f":"IF(Base_Arbres!V90<>\"\",VLOOKUP($A63,Base_Arbres,22,FALSE)*Crit7,\"\")","v":80}]
[{"$f":"IF(Base_Arbres!A101<>\"\",Base_Arbres!A101,\"\")","v":"Chêne vert"},{"$f":"IF(Base_Arbres!A101<>\"\",VLOOKUP($A64,Base_Arbres,3,FALSE)*Crit1,\"\")","v":23.95},{"$f":"IF(Base_Arbres!A101<>\"\",VLOOKUP($A64,Base_Arbres,4,FALSE)*Crit2,\"\")","v":31.400000000000002},{"$f":"IF(Base_Arbres!A101<>\"\",VLOOKUP($A64,Base_Arbres,5,FALSE)*Crit3,\"\")","v":33.75},{"$f":"IF(Base_Arbres!A101<>\"\",VLOOKUP($A64,Base_Arbres,6,FALSE)*Crit4,\"\")","v":23},{"$f":"IF(Base_Arbres!B101<>\"\",VLOOKUP($A64,Base_Arbres,7,FALSE)*Crit5,\"\")","v":33},{"$f":"IF(Base_Arbres!C101<>\"\",VLOOKUP($A64,Base_Arbres,8,FALSE)*crit8,\"\")","v":20},{"$f":"IF(Base_Arbres!D101<>\"\",VLOOKUP($A64,Base_Arbres,9,FALSE)*crit9,\"\")","v":15},{"$f":"IF(ISNA(VLOOKUP(INDEX(Base_Typologie!$A$6:$P$1003,MATCH(A64,Base_Typologie!$A:$A,0)-5,MATCH(Typologie_Espace_Public,Base_Typologie!$6:$6,0)),TableauScoreTypologie2,2,FALSE)*Crit6),0,VLOOKUP(INDEX(Base_Typologie!$A$6:$P$1003,MATCH(A64,Base_Typologie!$A:$A,0)-5,MATCH(Typologie_Espace_Public,Base_Typologie!$6:$6,0)),TableauScoreTypologie2,2,FALSE)*Crit6)","v":50},1,1,1,1,1,1,1,1,1,1,1,1,365.1,{"$f":"IF(Base_Arbres!V115<>\"\",VLOOKUP($A64,Base_Arbres,22,FALSE)*Crit7,\"\")","v":90}]
[{"$f":"IF(Base_Arbres!A4<>\"\",Base_Arbres!A4,\"\")","v":"Érable champêtre"},{"$f":"IF(Base_Arbres!A4<>\"\",VLOOKUP($A65,Base_Arbres,3,FALSE)*Crit1,\"\")","v":32.950000000000003},{"$f":"IF(Base_Arbres!A4<>\"\",VLOOKUP($A65,Base_Arbres,4,FALSE)*Crit2,\"\")","v":22.400000000000002},{"$f":"IF(Base_Arbres!A4<>\"\",VLOOKUP($A65,Base_Arbres,5,FALSE)*Crit3,\"\")","v":33.15},{"$f":"IF(Base_Arbres!A4<>\"\",VLOOKUP($A65,Base_Arbres,6,FALSE)*Crit4,\"\")","v":31.5},{"$f":"IF(Base_Arbres!B4<>\"\",VLOOKUP($A65,Base_Arbres,7,FALSE)*Crit5,\"\")","v":35},{"$f":"IF(Base_Arbres!C4<>\"\",VLOOKUP($A65,Base_Arbres,8,FALSE)*crit8,\"\")","v":10},{"$f":"IF(Base_Arbres!D4<>\"\",VLOOKUP($A65,Base_Arbres,9,FALSE)*crit9,\"\")","v":15},{"$f":"IF(ISNA(VLOOKUP(INDEX(Base_Typologie!$A$6:$P$1003,MATCH(A65,Base_Typologie!$A:$A,0)-5,MATCH(Typologie_Espace_Public,Base_Typologie!$6:$6,0)),TableauScoreTypologie2,2,FALSE)*Crit6),0,VLOOKUP(INDEX(Base_Typologie!$A$6:$P$1003,MATCH(A65,Base_Typologie!$A:$A,0)-5,MATCH(Typologie_Espace_Public,Base_Typologie!$6:$6,0)),TableauScoreTypologie2,2,FALSE)*Crit6)","v":30},1,1,1,1,1,1,1,1,1,1,1,1,360,{"$f":"IF(Base_Arbres!V57<>\"\",VLOOKUP($A65,Base_Arbres,22,FALSE)*Crit7,\"\")","v":100}]
[{"$f":"IF(Base_Arbres!A84<>\"\",Base_Arbres!A84,\"\")","v":"Platane d’Occident"},{"$f":"IF(Base_Arbres!A84<>\"\",VLOOKUP($A66,Base_Arbres,3,FALSE)*Crit1,\"\")","v":40.099999999999994},{"$f":"IF(Base_Arbres!A84<>\"\",VLOOKUP($A66,Base_Arbres,4,FALSE)*Crit2,\"\")","v":27.400000000000002},{"$f":"IF(Base_Arbres!A84<>\"\",VLOOKUP($A66,Base_Arbres,5,FALSE)*Crit3,\"\")","v":40.75},{"$f":"IF(Base_Arbres!A84<>\"\",VLOOKUP($A66,Base_Arbres,6,FALSE)*Crit4,\"\")","v":8.5},{"$f":"IF(Base_Arbres!B84<>\"\",VLOOKUP($A66,Base_Arbres,7,FALSE)*Crit5,\"\")","v":34},{"$f":"IF(Base_Arbres!C84<>\"\",VLOOKUP($A66,Base_Arbres,8,FALSE)*crit8,\"\")","v":40},{"$f":"IF(Base_Arbres!D84<>\"\",VLOOKUP($A66,Base_Arbres,9,FALSE)*crit9,\"\")","v":15},{"$f":"IF(ISNA(VLOOKUP(INDEX(Base_Typologie!$A$6:$P$1003,MATCH(A66,Base_Typologie!$A:$A,0)-5,MATCH(Typologie_Espace_Public,Base_Typologie!$6:$6,0)),TableauScoreTypologie2,2,FALSE)*Crit6),0,VLOOKUP(INDEX(Base_Typologie!$A$6:$P$1003,MATCH(A66,Base_Typologie!$A:$A,0)-5,MATCH(Typologie_Espace_Public,Base_Typologie!$6:$6,0)),TableauScoreTypologie2,2,FALSE)*Crit6)","v":50},{"$f":"IF(A66<>\"\",IF(LEFT(VLOOKUP($A66,Base_Arbres,10,FALSE),1)>=LEFT(Cont_Racines,1),0,1),0)","v":1},{"$f":"IF(A66<>\"\",IF(LEFT(VLOOKUP($A66,Base_Arbres,11,FALSE),1)>=LEFT(Cont_Branches,1),0,1),0)","v":1},{"$f":"IF(A66<>\"\",IF(LEFT(VLOOKUP($A66,Base_Arbres,12,FALSE),1)>=LEFT(Cont_Chablis,1),0,1),0)","v":1},{"$f":"IF(A66<>\"\",IF(LEFT(VLOOKUP($A66,Base_Arbres,13,FALSE),1)>=LEFT(Cont_Fructifications,1),0,1),0)","v":1},{"$f":"IF(A66<>\"\",IF(LEFT(VLOOKUP($A66,Base_Arbres,14,FALSE),1)>=LEFT(Cont_Miellat,1),0,1),0)","v":1},{"$f":"IF(A66<>\"\",IF(LEFT(VLOOKUP($A66,Base_Arbres,15,FALSE),1)>=LEFT(Cont_Fruits_Toxiques,1),0,1),0)","v":1},{"$f":"IF(A66<>\"\",IF(LEFT(VLOOKUP($A66,Base_Arbres,16,FALSE),1)>=LEFT(Cont_Hauteur,1),0,1),0)","v":1},{"$f":"IF(A66<>\"\",IF(LEFT(VLOOKUP($A66,Base_Arbres,17,FALSE),1)>=LEFT(Cont_Envergure,1),0,1),0)","v":1},{"$f":"IF(A66<>\"\",IF(LEFT(VLOOKUP($A66,Base_Arbres,18,FALSE),1)>=LEFT(Cont_pollen,1),0,1),0)","v":1},{"$f":"IF(B66<>\"\",IF(LEFT(VLOOKUP($A66,Base_Arbres,19,FALSE),1)>=LEFT(Cont_malodo,1),0,1),0)","v":1},{"$f":"IF(A66<>\"\",IF(LEFT(VLOOKUP($A66,Base_Arbres,20,FALSE),1)>=LEFT(Cont_chenilles,1),0,1),0)","v":1},{"$f":"IF(A66<>\"\",IF(LEFT(VLOOKUP($A66,Base_Arbres,21,FALSE),1)>=LEFT(Cont_epineux,1),0,1),0)","v":1},{"$f":"(SUM(B66:I66)+W66*1.5)*J66*K66*L66*M66*N66*O66*P66*Q66*R66*S66*T66*U66","v":345.75},{"$f":"IF(Base_Arbres!V32<>\"\",VLOOKUP($A66,Base_Arbres,22,FALSE)*Crit7,\"\")","v":60}]
[{"$f":"IF(Base_Arbres!A98<>\"\",Base_Arbres!A98,\"\")","v":"Chêne blanc"},{"$f":"IF(Base_Arbres!A98<>\"\",VLOOKUP($A67,Base_Arbres,3,FALSE)*Crit1,\"\")","v":31.65},{"$f":"IF(Base_Arbres!A98<>\"\",VLOOKUP($A67,Base_Arbres,4,FALSE)*Crit2,\"\")","v":33},{"$f":"IF(Base_Arbres!A98<>\"\",VLOOKUP($A67,Base_Arbres,5,FALSE)*Crit3,\"\")","v":44.699999999999996},{"$f":"IF(Base_Arbres!A98<>\"\",VLOOKUP($A67,Base_Arbres,6,FALSE)*Crit4,\"\")","v":25},{"$f":"IF(Base_Arbres!B98<>\"\",VLOOKUP($A67,Base_Arbres,7,FALSE)*Crit5,\"\")","v":39.5},{"$f":"IF(Base_Arbres!C98<>\"\",VLOOKUP($A67,Base_Arbres,8,FALSE)*crit8,\"\")","v":40},{"$f":"IF(Base_Arbres!D98<>\"\",VLOOKUP($A67,Base_Arbres,9,FALSE)*crit9,\"\")","v":15},{"$f":"IF(ISNA(VLOOKUP(INDEX(Base_Typologie!$A$6:$P$1003,MATCH(A67,Base_Typologie!$A:$A,0)-5,MATCH(Typologie_Espace_Public,Base_Typologie!$6:$6,0)),TableauScoreTypologie2,2,FALSE)*Crit6),0,VLOOKUP(INDEX(Base_Typologie!$A$6:$P$1003,MATCH(A67,Base_Typologie!$A:$A,0)-5,MATCH(Typologie_Espace_Public,Base_Typologie!$6:$6,0)),TableauScoreTypologie2,2,FALSE)*Crit6)","v":10},1,1,1,1,1,1,1,1,1,1,1,1,343.85,{"$f":"IF(Base_Arbres!V37<>\"\",VLOOKUP($A67,Base_Arbres,22,FALSE)*Crit7,\"\")","v":70}]
[{"$f":"IF(Base_Arbres!A99<>\"\",Base_Arbres!A99,\"\")","v":"Chêne chevelu de bourgogne"},{"$f":"IF(Base_Arbres!A99<>\"\",VLOOKUP($A68,Base_Arbres,3,FALSE)*Crit1,\"\")","v":31.45},{"$f":"IF(Base_Arbres!A99<>\"\",VLOOKUP($A68,Base_Arbres,4,FALSE)*Crit2,\"\")","v":26.85},{"$f":"IF(Base_Arbres!A99<>\"\",VLOOKUP($A68,Base_Arbres,5,FALSE)*Crit3,\"\")","v":37.9},{"$f":"IF(Base_Arbres!A99<>\"\",VLOOKUP($A68,Base_Arbres,6,FALSE)*Crit4,\"\")","v":23},{"$f":"IF(Base_Arbres!B99<>\"\",VLOOKUP($A68,Base_Arbres,7,FALSE)*Crit5,\"\")","v":33.5},{"$f":"IF(Base_Arbres!C99<>\"\",VLOOKUP($A68,Base_Arbres,8,FALSE)*crit8,\"\")","v":20},{"$f":"IF(Base_Arbres!D99<>\"\",VLOOKUP($A68,Base_Arbres,9,FALSE)*crit9,\"\")","v":15},{"$f":"IF(ISNA(VLOOKUP(INDEX(Base_Typologie!$A$6:$P$1003,MATCH(A68,Base_Typologie!$A:$A,0)-5,MATCH(Typologie_Espace_Public,Base_Typologie!$6:$6,0)),TableauScoreTypologie2,2,FALSE)*Crit6),0,VLOOKUP(INDEX(Base_Typologie!$A$6:$P$1003,MATCH(A68,Base_Typologie!$A:$A,0)-5,MATCH(Typologie_Espace_Public,Base_Typologie!$6:$6,0)),TableauScoreTypologie2,2,FALSE)*Crit6)","v":10},1,1,1,1,1,1,1,1,1,1,1,1,332.7,{"$f":"IF(Base_Arbres!V63<>\"\",VLOOKUP($A68,Base_Arbres,22,FALSE)*Crit7,\"\")","v":90}]
[{"$f":"IF(Base_Arbres!A126<>\"\",Base_Arbres!A126,\"\")","v":"Tilleul de Crimée"},{"$f":"IF(Base_Arbres!A126<>\"\",VLOOKUP($A69,Base_Arbres,3,FALSE)*Crit1,\"\")","v":29.5},{"$f":"IF(Base_Arbres!A126<>\"\",VLOOKUP($A69,Base_Arbres,4,FALSE)*Crit2,\"\")","v":26.75},{"$f":"IF(Base_Arbres!A126<>\"\",VLOOKUP($A69,Base_Arbres,5,FALSE)*Crit3,\"\")","v":35.299999999999997},{"$f":"IF(Base_Arbres!A126<>\"\",VLOOKUP($A69,Base_Arbres,6,FALSE)*Crit4,\"\")","v":16.5},{"$f":"IF(Base_Arbres!B126<>\"\",VLOOKUP($A69,Base_Arbres,7,FALSE)*Crit5,\"\")","v":34},{"$f":"IF(Base_Arbres!C126<>\"\",VLOOKUP($A69,Base_Arbres,8,FALSE)*crit8,\"\")","v":16.649999999999999},{"$f":"IF(Base_Arbres!D126<>\"\",VLOOKUP($A69,Base_Arbres,9,FALSE)*crit9,\"\")","v":15},{"$f":"IF(ISNA(VLOOKUP(INDEX(Base_Typologie!$A$6:$P$1003,MATCH(A69,Base_Typologie!$A:$A,0)-5,MATCH(Typologie_Espace_Public,Base_Typologie!$6:$6,0)),TableauScoreTypologie2,2,FALSE)*Crit6),0,VLOOKUP(INDEX(Base_Typologie!$A$6:$P$1003,MATCH(A69,Base_Typologie!$A:$A,0)-5,MATCH(Typologie_Espace_Public,Base_Typologie!$6:$6,0)),TableauScoreTypologie2,2,FALSE)*Crit6)","v":50},1,1,1,1,1,1,1,1,1,1,1,1,328.70000000000005,{"$f":"IF(Base_Arbres!V73<>\"\",VLOOKUP($A69,Base_Arbres,22,FALSE)*Crit7,\"\")","v":70}]
[{"$f":"IF(Base_Arbres!A105<>\"\",Base_Arbres!A105,\"\")","v":"Chêne pubescent"},{"$f":"IF(Base_Arbres!A105<>\"\",VLOOKUP($A70,Base_Arbres,3,FALSE)*Crit1,\"\")","v":23.700000000000003},{"$f":"IF(Base_Arbres!A105<>\"\",VLOOKUP($A70,Base_Arbres,4,FALSE)*Crit2,\"\")","v":27.9},{"$f":"IF(Base_Arbres!A105<>\"\",VLOOKUP($A70,Base_Arbres,5,FALSE)*Crit3,\"\")","v":32.599999999999994},{"$f":"IF(Base_Arbres!A105<>\"\",VLOOKUP($A70,Base_Arbres,6,FALSE)*Crit4,\"\")","v":33.5},{"$f":"IF(Base_Arbres!B105<>\"\",VLOOKUP($A70,Base_Arbres,7,FALSE)*Crit5,\"\")","v":32},{"$f":"IF(Base_Arbres!C105<>\"\",VLOOKUP($A70,Base_Arbres,8,FALSE)*crit8,\"\")","v":13.35},{"$f":"IF(Base_Arbres!D105<>\"\",VLOOKUP($A70,Base_Arbres,9,FALSE)*crit9,\"\")","v":15},{"$f":"IF(ISNA(VLOOKUP(INDEX(Base_Typologie!$A$6:$P$1003,MATCH(A70,Base_Typologie!$A:$A,0)-5,MATCH(Typologie_Espace_Public,Base_Typologie!$6:$6,0)),TableauScoreTypologie2,2,FALSE)*Crit6),0,VLOOKUP(INDEX(Base_Typologie!$A$6:$P$1003,MATCH(A70,Base_Typologie!$A:$A,0)-5,MATCH(Typologie_Espace_Public,Base_Typologie!$6:$6,0)),TableauScoreTypologie2,2,FALSE)*Crit6)","v":10},1,1,1,1,1,1,1,1,1,1,1,1,323.04999999999995,{"$f":"IF(Base_Arbres!V114<>\"\",VLOOKUP($A70,Base_Arbres,22,FALSE)*Crit7,\"\")","v":90}]
[{"$f":"IF(Base_Arbres!A22<>\"\",Base_Arbres!A22,\"\")","v":"Charme commun"},{"$f":"IF(Base_Arbres!A22<>\"\",VLOOKUP($A71,Base_Arbres,3,FALSE)*Crit1,\"\")","v":19.350000000000001},{"$f":"IF(Base_Arbres!A22<>\"\",VLOOKUP($A71,Base_Arbres,4,FALSE)*Crit2,\"\")","v":31},{"$f":"IF(Base_Arbres!A22<>\"\",VLOOKUP($A71,Base_Arbres,5,FALSE)*Crit3,\"\")","v":35},{"$f":"IF(Base_Arbres!A22<>\"\",VLOOKUP($A71,Base_Arbres,6,FALSE)*Crit4,\"\")","v":29},{"$f":"IF(Base_Arbres!B22<>\"\",VLOOKUP($A71,Base_Arbres,7,FALSE)*Crit5,\"\")","v":37.5},{"$f":"IF(Base_Arbres!C22<>\"\",VLOOKUP($A71,Base_Arbres,8,FALSE)*crit8,\"\")","v":20},{"$f":"IF(Base_Arbres!D22<>\"\",VLOOKUP($A71,Base_Arbres,9,FALSE)*crit9,\"\")","v":15},{"$f":"IF(ISNA(VLOOKUP(INDEX(Base_Typologie!$A$6:$P$1003,MATCH(A71,Base_Typologie!$A:$A,0)-5,MATCH(Typologie_Espace_Public,Base_Typologie!$6:$6,0)),TableauScoreTypologie2,2,FALSE)*Crit6),0,VLOOKUP(INDEX(Base_Typologie!$A$6:$P$1003,MATCH(A71,Base_Typologie!$A:$A,0)-5,MATCH(Typologie_Espace_Public,Base_Typologie!$6:$6,0)),TableauScoreTypologie2,2,FALSE)*Crit6)","v":30},1,1,1,1,1,1,1,1,1,1,1,1,321.85000000000002,{"$f":"IF(Base_Arbres!V54<>\"\",VLOOKUP($A71,Base_Arbres,22,FALSE)*Crit7,\"\")","v":70}]
[{"$f":"IF(Base_Arbres!A107<>\"\",Base_Arbres!A107,\"\")","v":"Chêne rouge d’Amérique"},{"$f":"IF(Base_Arbres!A107<>\"\",VLOOKUP($A72,Base_Arbres,3,FALSE)*Crit1,\"\")","v":39.4},{"$f":"IF(Base_Arbres!A107<>\"\",VLOOKUP($A72,Base_Arbres,4,FALSE)*Crit2,\"\")","v":26.25},{"$f":"IF(Base_Arbres!A107<>\"\",VLOOKUP($A72,Base_Arbres,5,FALSE)*Crit3,\"\")","v":41.349999999999994},{"$f":"IF(Base_Arbres!A107<>\"\",VLOOKUP($A72,Base_Arbres,6,FALSE)*Crit4,\"\")","v":10},{"$f":"IF(Base_Arbres!B107<>\"\",VLOOKUP($A72,Base_Arbres,7,FALSE)*Crit5,\"\")","v":34.5},{"$f":"IF(Base_Arbres!C107<>\"\",VLOOKUP($A72,Base_Arbres,8,FALSE)*crit8,\"\")","v":20},{"$f":"IF(Base_Arbres!D107<>\"\",VLOOKUP($A72,Base_Arbres,9,FALSE)*crit9,\"\")","v":15},{"$f":"IF(ISNA(VLOOKUP(INDEX(Base_Typologie!$A$6:$P$1003,MATCH(A72,Base_Typologie!$A:$A,0)-5,MATCH(Typologie_Espace_Public,Base_Typologie!$6:$6,0)),TableauScoreTypologie2,2,FALSE)*Crit6),0,VLOOKUP(INDEX(Base_Typologie!$A$6:$P$1003,MATCH(A72,Base_Typologie!$A:$A,0)-5,MATCH(Typologie_Espace_Public,Base_Typologie!$6:$6,0)),TableauScoreTypologie2,2,FALSE)*Crit6)","v":10},1,1,1,1,1,1,1,1,1,1,1,1,316.5,{"$f":"IF(Base_Arbres!V129<>\"\",VLOOKUP($A72,Base_Arbres,22,FALSE)*Crit7,\"\")","v":80}]
[{"$f":"IF(Base_Arbres!A103<>\"\",Base_Arbres!A103,\"\")","v":"Chêne du Caucase"},{"$f":"IF(Base_Arbres!A103<>\"\",VLOOKUP($A73,Base_Arbres,3,FALSE)*Crit1,\"\")","v":26.5},{"$f":"IF(Base_Arbres!A103<>\"\",VLOOKUP($A73,Base_Arbres,4,FALSE)*Crit2,\"\")","v":29.6},{"$f":"IF(Base_Arbres!A103<>\"\",VLOOKUP($A73,Base_Arbres,5,FALSE)*Crit3,\"\")","v":38.75},{"$f":"IF(Base_Arbres!A103<>\"\",VLOOKUP($A73,Base_Arbres,6,FALSE)*Crit4,\"\")","v":23},{"$f":"IF(Base_Arbres!B103<>\"\",VLOOKUP($A73,Base_Arbres,7,FALSE)*Crit5,\"\")","v":36},{"$f":"IF(Base_Arbres!C103<>\"\",VLOOKUP($A73,Base_Arbres,8,FALSE)*crit8,\"\")","v":13.35},{"$f":"IF(Base_Arbres!D103<>\"\",VLOOKUP($A73,Base_Arbres,9,FALSE)*crit9,\"\")","v":15},{"$f":"IF(ISNA(VLOOKUP(INDEX(Base_Typologie!$A$6:$P$1003,MATCH(A73,Base_Typologie!$A:$A,0)-5,MATCH(Typologie_Espace_Public,Base_Typologie!$6:$6,0)),TableauScoreTypologie2,2,FALSE)*Crit6),0,VLOOKUP(INDEX(Base_Typologie!$A$6:$P$1003,MATCH(A73,Base_Typologie!$A:$A,0)-5,MATCH(Typologie_Espace_Public,Base_Typologie!$6:$6,0)),TableauScoreTypologie2,2,FALSE)*Crit6)","v":10},1,1,1,1,1,1,1,1,1,1,1,1,312.2,{"$f":"IF(Base_Arbres!V65<>\"\",VLOOKUP($A73,Base_Arbres,22,FALSE)*Crit7,\"\")","v":80}]
[{"$f":"IF(Base_Arbres!A52<>\"\",Base_Arbres!A52,\"\")","v":"Frêne à fleurs colonnaire"},{"$f":"IF(Base_Arbres!A52<>\"\",VLOOKUP($A74,Base_Arbres,3,FALSE)*Crit1,\"\")","v":29.5},{"$f":"IF(Base_Arbres!A52<>\"\",VLOOKUP($A74,Base_Arbres,4,FALSE)*Crit2,\"\")","v":20.7},{"$f":"IF(Base_Arbres!A52<>\"\",VLOOKUP($A74,Base_Arbres,5,FALSE)*Crit3,\"\")","v":25.4},{"$f":"IF(Base_Arbres!A52<>\"\",VLOOKUP($A74,Base_Arbres,6,FALSE)*Crit4,\"\")","v":16.5},{"$f":"IF(Base_Arbres!B52<>\"\",VLOOKUP($A74,Base_Arbres,7,FALSE)*Crit5,\"\")","v":24.5},{"$f":"IF(Base_Arbres!C52<>\"\",VLOOKUP($A74,Base_Arbres,8,FALSE)*crit8,\"\")","v":10},{"$f":"IF(Base_Arbres!D52<>\"\",VLOOKUP($A74,Base_Arbres,9,FALSE)*crit9,\"\")","v":15},{"$f":"IF(ISNA(VLOOKUP(INDEX(Base_Typologie!$A$6:$P$1003,MATCH(A74,Base_Typologie!$A:$A,0)-5,MATCH(Typologie_Espace_Public,Base_Typologie!$6:$6,0)),TableauScoreTypologie2,2,FALSE)*Crit6),0,VLOOKUP(INDEX(Base_Typologie!$A$6:$P$1003,MATCH(A74,Base_Typologie!$A:$A,0)-5,MATCH(Typologie_Espace_Public,Base_Typologie!$6:$6,0)),TableauScoreTypologie2,2,FALSE)*Crit6)","v":50},1,1,1,1,1,1,1,1,1,1,1,1,311.60000000000002,{"$f":"IF(Base_Arbres!V29<>\"\",VLOOKUP($A74,Base_Arbres,22,FALSE)*Crit7,\"\")","v":80}]
[{"$f":"IF(Base_Arbres!A109<>\"\",Base_Arbres!A109,\"\")","v":"Chêne de Turner Pseudoturneri"},{"$f":"IF(Base_Arbres!A109<>\"\",VLOOKUP($A75,Base_Arbres,3,FALSE)*Crit1,\"\")","v":33.75},{"$f":"IF(Base_Arbres!A109<>\"\",VLOOKUP($A75,Base_Arbres,4,FALSE)*Crit2,\"\")","v":25.85},{"$f":"IF(Base_Arbres!A109<>\"\",VLOOKUP($A75,Base_Arbres,5,FALSE)*Crit3,\"\")","v":33.15},{"$f":"IF(Base_Arbres!A109<>\"\",VLOOKUP($A75,Base_Arbres,6,FALSE)*Crit4,\"\")","v":25},{"$f":"IF(Base_Arbres!B109<>\"\",VLOOKUP($A75,Base_Arbres,7,FALSE)*Crit5,\"\")","v":31.5},{"$f":"IF(Base_Arbres!C109<>\"\",VLOOKUP($A75,Base_Arbres,8,FALSE)*crit8,\"\")","v":10},{"$f":"IF(Base_Arbres!D109<>\"\",VLOOKUP($A75,Base_Arbres,9,FALSE)*crit9,\"\")","v":15},{"$f":"IF(ISNA(VLOOKUP(INDEX(Base_Typologie!$A$6:$P$1003,MATCH(A75,Base_Typologie!$A:$A,0)-5,MATCH(Typologie_Espace_Public,Base_Typologie!$6:$6,0)),TableauScoreTypologie2,2,FALSE)*Crit6),0,VLOOKUP(INDEX(Base_Typologie!$A$6:$P$1003,MATCH(A75,Base_Typologie!$A:$A,0)-5,MATCH(Typologie_Espace_Public,Base_Typologie!$6:$6,0)),TableauScoreTypologie2,2,FALSE)*Crit6)","v":10},1,1,1,1,1,1,1,1,1,1,1,1,304.25,{"$f":"IF(Base_Arbres!V79<>\"\",VLOOKUP($A75,Base_Arbres,22,FALSE)*Crit7,\"\")","v":80}]
[{"$f":"IF(Base_Arbres!A38<>\"\",Base_Arbres!A38,\"\")","v":"Noisetier commun"},{"$f":"IF(Base_Arbres!A38<>\"\",VLOOKUP($A76,Base_Arbres,3,FALSE)*Crit1,\"\")","v":17.7},{"$f":"IF(Base_Arbres!A38<>\"\",VLOOKUP($A76,Base_Arbres,4,FALSE)*Crit2,\"\")","v":30.4},{"$f":"IF(Base_Arbres!A38<>\"\",VLOOKUP($A76,Base_Arbres,5,FALSE)*Crit3,\"\")","v":33.15},{"$f":"IF(Base_Arbres!A38<>\"\",VLOOKUP($A76,Base_Arbres,6,FALSE)*Crit4,\"\")","v":31.5},{"$f":"IF(Base_Arbres!B38<>\"\",VLOOKUP($A76,Base_Arbres,7,FALSE)*Crit5,\"\")","v":34.5},{"$f":"IF(Base_Arbres!C38<>\"\",VLOOKUP($A76,Base_Arbres,8,FALSE)*crit8,\"\")","v":6.65},{"$f":"IF(Base_Arbres!D38<>\"\",VLOOKUP($A76,Base_Arbres,9,FALSE)*crit9,\"\")","v":50},{"$f":"IF(ISNA(VLOOKUP(INDEX(Base_Typologie!$A$6:$P$1003,MATCH(A76,Base_Typologie!$A:$A,0)-5,MATCH(Typologie_Espace_Public,Base_Typologie!$6:$6,0)),TableauScoreTypologie2,2,FALSE)*Crit6),0,VLOOKUP(INDEX(Base_Typologie!$A$6:$P$1003,MATCH(A76,Base_Typologie!$A:$A,0)-5,MATCH(Typologie_Espace_Public,Base_Typologie!$6:$6,0)),TableauScoreTypologie2,2,FALSE)*Crit6)","v":10},1,1,1,1,1,1,1,1,1,1,1,1,288.89999999999998,{"$f":"IF(Base_Arbres!V30<>\"\",VLOOKUP($A76,Base_Arbres,22,FALSE)*Crit7,\"\")","v":50}]
[{"$f":"IF(Base_Arbres!A62<>\"\",Base_Arbres!A62,\"\")","v":"Troène commun"},{"$f":"IF(Base_Arbres!A62<>\"\",VLOOKUP($A77,Base_Arbres,3,FALSE)*Crit1,\"\")","v":29.8},{"$f":"IF(Base_Arbres!A62<>\"\",VLOOKUP($A77,Base_Arbres,4,FALSE)*Crit2,\"\")","v":23.5},{"$f":"IF(Base_Arbres!A62<>\"\",VLOOKUP($A77,Base_Arbres,5,FALSE)*Crit3,\"\")","v":26.549999999999997},{"$f":"IF(Base_Arbres!A62<>\"\",VLOOKUP($A77,Base_Arbres,6,FALSE)*Crit4,\"\")","v":25},{"$f":"IF(Base_Arbres!B62<>\"\",VLOOKUP($A77,Base_Arbres,7,FALSE)*Crit5,\"\")","v":28.5},{"$f":"IF(Base_Arbres!C62<>\"\",VLOOKUP($A77,Base_Arbres,8,FALSE)*crit8,\"\")","v":10},{"$f":"IF(Base_Arbres!D62<>\"\",VLOOKUP($A77,Base_Arbres,9,FALSE)*crit9,\"\")","v":0},{"$f":"IF(ISNA(VLOOKUP(INDEX(Base_Typologie!$A$6:$P$1003,MATCH(A77,Base_Typologie!$A:$A,0)-5,MATCH(Typologie_Espace_Public,Base_Typologie!$6:$6,0)),TableauScoreTypologie2,2,FALSE)*Crit6),0,VLOOKUP(INDEX(Base_Typologie!$A$6:$P$1003,MATCH(A77,Base_Typologie!$A:$A,0)-5,MATCH(Typologie_Espace_Public,Base_Typologie!$6:$6,0)),TableauScoreTypologie2,2,FALSE)*Crit6)","v":10},1,1,1,1,1,1,1,1,1,1,1,1,288.35000000000002,{"$f":"IF(Base_Arbres!V33<>\"\",VLOOKUP($A77,Base_Arbres,22,FALSE)*Crit7,\"\")","v":90}]
[{"$f":"IF(Base_Arbres!A46<>\"\",Base_Arbres!A46,\"\")","v":"Hêtre commun"},{"$f":"IF(Base_Arbres!A46<>\"\",VLOOKUP($A78,Base_Arbres,3,FALSE)*Crit1,\"\")","v":31.5},{"$f":"IF(Base_Arbres!A46<>\"\",VLOOKUP($A78,Base_Arbres,4,FALSE)*Crit2,\"\")","v":27.25},{"$f":"IF(Base_Arbres!A46<>\"\",VLOOKUP($A78,Base_Arbres,5,FALSE)*Crit3,\"\")","v":36.9},{"$f":"IF(Base_Arbres!A46<>\"\",VLOOKUP($A78,Base_Arbres,6,FALSE)*Crit4,\"\")","v":35.5},{"$f":"IF(Base_Arbres!B46<>\"\",VLOOKUP($A78,Base_Arbres,7,FALSE)*Crit5,\"\")","v":38.5},{"$f":"IF(Base_Arbres!C46<>\"\",VLOOKUP($A78,Base_Arbres,8,FALSE)*crit8,\"\")","v":40},{"$f":"IF(Base_Arbres!D46<>\"\",VLOOKUP($A78,Base_Arbres,9,FALSE)*crit9,\"\")","v":15},{"$f":"IF(ISNA(VLOOKUP(INDEX(Base_Typologie!$A$6:$P$1003,MATCH(A78,Base_Typologie!$A:$A,0)-5,MATCH(Typologie_Espace_Public,Base_Typologie!$6:$6,0)),TableauScoreTypologie2,2,FALSE)*Crit6),0,VLOOKUP(INDEX(Base_Typologie!$A$6:$P$1003,MATCH(A78,Base_Typologie!$A:$A,0)-5,MATCH(Typologie_Espace_Public,Base_Typologie!$6:$6,0)),TableauScoreTypologie2,2,FALSE)*Crit6)","v":10},1,1,1,1,1,1,1,1,1,1,1,1,279.64999999999998,{"$f":"IF(Base_Arbres!V28<>\"\",VLOOKUP($A78,Base_Arbres,22,FALSE)*Crit7,\"\")","v":30}]
[{"$f":"IF(Base_Arbres!A102<>\"\",Base_Arbres!A102,\"\")","v":"Chêne à feuilles de laurier"},{"$f":"IF(Base_Arbres!A102<>\"\",VLOOKUP($A79,Base_Arbres,3,FALSE)*Crit1,\"\")","v":25.950000000000003},{"$f":"IF(Base_Arbres!A102<>\"\",VLOOKUP($A79,Base_Arbres,4,FALSE)*Crit2,\"\")","v":29.6},{"$f":"IF(Base_Arbres!A102<>\"\",VLOOKUP($A79,Base_Arbres,5,FALSE)*Crit3,\"\")","v":34.799999999999997},{"$f":"IF(Base_Arbres!A102<>\"\",VLOOKUP($A79,Base_Arbres,6,FALSE)*Crit4,\"\")","v":25},{"$f":"IF(Base_Arbres!B102<>\"\",VLOOKUP($A79,Base_Arbres,7,FALSE)*Crit5,\"\")","v":32},{"$f":"IF(Base_Arbres!C102<>\"\",VLOOKUP($A79,Base_Arbres,8,FALSE)*crit8,\"\")","v":10},{"$f":"IF(Base_Arbres!D102<>\"\",VLOOKUP($A79,Base_Arbres,9,FALSE)*crit9,\"\")","v":15},{"$f":"IF(ISNA(VLOOKUP(INDEX(Base_Typologie!$A$6:$P$1003,MATCH(A79,Base_Typologie!$A:$A,0)-5,MATCH(Typologie_Espace_Public,Base_Typologie!$6:$6,0)),TableauScoreTypologie2,2,FALSE)*Crit6),0,VLOOKUP(INDEX(Base_Typologie!$A$6:$P$1003,MATCH(A79,Base_Typologie!$A:$A,0)-5,MATCH(Typologie_Espace_Public,Base_Typologie!$6:$6,0)),TableauScoreTypologie2,2,FALSE)*Crit6)","v":30},1,1,1,1,1,1,1,1,1,1,1,1,277.35000000000002,{"$f":"IF(Base_Arbres!V123<>\"\",VLOOKUP($A79,Base_Arbres,22,FALSE)*Crit7,\"\")","v":50}]
[{"$f":"IF(Base_Arbres!A2<>\"\",Base_Arbres!A2,\"\")","v":"Sapin du colorado"},{"$f":"IF(Base_Arbres!A2<>\"\",VLOOKUP($A80,Base_Arbres,3,FALSE)*Crit1,\"\")","v":21},{"$f":"IF(Base_Arbres!A2<>\"\",VLOOKUP($A80,Base_Arbres,4,FALSE)*Crit2,\"\")","v":37.85},{"$f":"IF(Base_Arbres!A2<>\"\",VLOOKUP($A80,Base_Arbres,5,FALSE)*Crit3,\"\")","v":28.450000000000003},{"$f":"IF(Base_Arbres!A2<>\"\",VLOOKUP($A80,Base_Arbres,6,FALSE)*Crit4,\"\")","v":5},{"$f":"IF(Base_Arbres!B2<>\"\",VLOOKUP($A80,Base_Arbres,7,FALSE)*Crit5,\"\")","v":31.5},{"$f":"IF(Base_Arbres!C2<>\"\",VLOOKUP($A80,Base_Arbres,8,FALSE)*crit8,\"\")","v":20},{"$f":"IF(Base_Arbres!D2<>\"\",VLOOKUP($A80,Base_Arbres,9,FALSE)*crit9,\"\")","v":15},{"$f":"IF(ISNA(VLOOKUP(INDEX(Base_Typologie!$A$6:$P$1003,MATCH(A80,Base_Typologie!$A:$A,0)-5,MATCH(Typologie_Espace_Public,Base_Typologie!$6:$6,0)),TableauScoreTypologie2,2,FALSE)*Crit6),0,VLOOKUP(INDEX(Base_Typologie!$A$6:$P$1003,MATCH(A80,Base_Typologie!$A:$A,0)-5,MATCH(Typologie_Espace_Public,Base_Typologie!$6:$6,0)),TableauScoreTypologie2,2,FALSE)*Crit6)","v":10},1,1,1,1,1,1,1,1,1,1,1,1,273.8,{"$f":"IF(Base_Arbres!V75<>\"\",VLOOKUP($A80,Base_Arbres,22,FALSE)*Crit7,\"\")","v":70}]
[{"$f":"IF(Base_Arbres!A112<>\"\",Base_Arbres!A112,\"\")","v":"Osier vert"},{"$f":"IF(Base_Arbres!A112<>\"\",VLOOKUP($A81,Base_Arbres,3,FALSE)*Crit1,\"\")","v":22.599999999999998},{"$f":"IF(Base_Arbres!A112<>\"\",VLOOKUP($A81,Base_Arbres,4,FALSE)*Crit2,\"\")","v":28.35},{"$f":"IF(Base_Arbres!A112<>\"\",VLOOKUP($A81,Base_Arbres,5,FALSE)*Crit3,\"\")","v":27.3},{"$f":"IF(Base_Arbres!A112<>\"\",VLOOKUP($A81,Base_Arbres,6,FALSE)*Crit4,\"\")","v":37.5},{"$f":"IF(Base_Arbres!B112<>\"\",VLOOKUP($A81,Base_Arbres,7,FALSE)*Crit5,\"\")","v":26.5},{"$f":"IF(Base_Arbres!C112<>\"\",VLOOKUP($A81,Base_Arbres,8,FALSE)*crit8,\"\")","v":13.35},{"$f":"IF(Base_Arbres!D112<>\"\",VLOOKUP($A81,Base_Arbres,9,FALSE)*crit9,\"\")","v":15},{"$f":"IF(ISNA(VLOOKUP(INDEX(Base_Typologie!$A$6:$P$1003,MATCH(A81,Base_Typologie!$A:$A,0)-5,MATCH(Typologie_Espace_Public,Base_Typologie!$6:$6,0)),TableauScoreTypologie2,2,FALSE)*Crit6),0,VLOOKUP(INDEX(Base_Typologie!$A$6:$P$1003,MATCH(A81,Base_Typologie!$A:$A,0)-5,MATCH(Typologie_Espace_Public,Base_Typologie!$6:$6,0)),TableauScoreTypologie2,2,FALSE)*Crit6)","v":10},1,1,1,1,1,1,1,1,1,1,1,1,270.60000000000002,{"$f":"IF(Base_Arbres!V76<>\"\",VLOOKUP($A81,Base_Arbres,22,FALSE)*Crit7,\"\")","v":60}]
[{"$f":"IF(Base_Arbres!A3<>\"\",Base_Arbres!A3,\"\")","v":"Sapin d'Espagne"},{"$f":"IF(Base_Arbres!A3<>\"\",VLOOKUP($A82,Base_Arbres,3,FALSE)*Crit1,\"\")","v":16.25},{"$f":"IF(Base_Arbres!A3<>\"\",VLOOKUP($A82,Base_Arbres,4,FALSE)*Crit2,\"\")","v":35},{"$f":"IF(Base_Arbres!A3<>\"\",VLOOKUP($A82,Base_Arbres,5,FALSE)*Crit3,\"\")","v":22.200000000000003},{"$f":"IF(Base_Arbres!A3<>\"\",VLOOKUP($A82,Base_Arbres,6,FALSE)*Crit4,\"\")","v":4},{"$f":"IF(Base_Arbres!B3<>\"\",VLOOKUP($A82,Base_Arbres,7,FALSE)*Crit5,\"\")","v":25.5},{"$f":"IF(Base_Arbres!C3<>\"\",VLOOKUP($A82,Base_Arbres,8,FALSE)*crit8,\"\")","v":16.649999999999999},{"$f":"IF(Base_Arbres!D3<>\"\",VLOOKUP($A82,Base_Arbres,9,FALSE)*crit9,\"\")","v":15},{"$f":"IF(ISNA(VLOOKUP(INDEX(Base_Typologie!$A$6:$P$1003,MATCH(A82,Base_Typologie!$A:$A,0)-5,MATCH(Typologie_Espace_Public,Base_Typologie!$6:$6,0)),TableauScoreTypologie2,2,FALSE)*Crit6),0,VLOOKUP(INDEX(Base_Typologie!$A$6:$P$1003,MATCH(A82,Base_Typologie!$A:$A,0)-5,MATCH(Typologie_Espace_Public,Base_Typologie!$6:$6,0)),TableauScoreTypologie2,2,FALSE)*Crit6)","v":10},1,1,1,1,1,1,1,1,1,1,1,1,264.60000000000002,{"$f":"IF(Base_Arbres!V77<>\"\",VLOOKUP($A82,Base_Arbres,22,FALSE)*Crit7,\"\")","v":80}]
[{"$f":"IF(Base_Arbres!A40<>\"\",Base_Arbres!A40,\"\")","v":"Noisetier de Byzance ‘VDB Obelisk’"},{"$f":"IF(Base_Arbres!A40<>\"\",VLOOKUP($A83,Base_Arbres,3,FALSE)*Crit1,\"\")","v":23.35},{"$f":"IF(Base_Arbres!A40<>\"\",VLOOKUP($A83,Base_Arbres,4,FALSE)*Crit2,\"\")","v":28.4},{"$f":"IF(Base_Arbres!A40<>\"\",VLOOKUP($A83,Base_Arbres,5,FALSE)*Crit3,\"\")","v":31.65},{"$f":"IF(Base_Arbres!A40<>\"\",VLOOKUP($A83,Base_Arbres,6,FALSE)*Crit4,\"\")","v":10.5},{"$f":"IF(Base_Arbres!B40<>\"\",VLOOKUP($A83,Base_Arbres,7,FALSE)*Crit5,\"\")","v":30.5},{"$f":"IF(Base_Arbres!C40<>\"\",VLOOKUP($A83,Base_Arbres,8,FALSE)*crit8,\"\")","v":10},{"$f":"IF(Base_Arbres!D40<>\"\",VLOOKUP($A83,Base_Arbres,9,FALSE)*crit9,\"\")","v":30},{"$f":"IF(ISNA(VLOOKUP(INDEX(Base_Typologie!$A$6:$P$1003,MATCH(A83,Base_Typologie!$A:$A,0)-5,MATCH(Typologie_Espace_Public,Base_Typologie!$6:$6,0)),TableauScoreTypologie2,2,FALSE)*Crit6),0,VLOOKUP(INDEX(Base_Typologie!$A$6:$P$1003,MATCH(A83,Base_Typologie!$A:$A,0)-5,MATCH(Typologie_Espace_Public,Base_Typologie!$6:$6,0)),TableauScoreTypologie2,2,FALSE)*Crit6)","v":50},1,1,1,1,1,1,1,1,1,1,1,1,259.39999999999998,{"$f":"IF(Base_Arbres!V78<>\"\",VLOOKUP($A83,Base_Arbres,22,FALSE)*Crit7,\"\")","v":30}]
[{"$f":"IF(Base_Arbres!A24<>\"\",Base_Arbres!A24,\"\")","v":"Charme d'Orient"},{"$f":"IF(Base_Arbres!A24<>\"\",VLOOKUP($A84,Base_Arbres,3,FALSE)*Crit1,\"\")","v":14.350000000000001},{"$f":"IF(Base_Arbres!A24<>\"\",VLOOKUP($A84,Base_Arbres,4,FALSE)*Crit2,\"\")","v":28.75},{"$f":"IF(Base_Arbres!A24<>\"\",VLOOKUP($A84,Base_Arbres,5,FALSE)*Crit3,\"\")","v":26.9},{"$f":"IF(Base_Arbres!A24<>\"\",VLOOKUP($A84,Base_Arbres,6,FALSE)*Crit4,\"\")","v":8.5},{"$f":"IF(Base_Arbres!B24<>\"\",VLOOKUP($A84,Base_Arbres,7,FALSE)*Crit5,\"\")","v":27.5},{"$f":"IF(Base_Arbres!C24<>\"\",VLOOKUP($A84,Base_Arbres,8,FALSE)*crit8,\"\")","v":13.35},{"$f":"IF(Base_Arbres!D24<>\"\",VLOOKUP($A84,Base_Arbres,9,FALSE)*crit9,\"\")","v":15},{"$f":"IF(ISNA(VLOOKUP(INDEX(Base_Typologie!$A$6:$P$1003,MATCH(A84,Base_Typologie!$A:$A,0)-5,MATCH(Typologie_Espace_Public,Base_Typologie!$6:$6,0)),TableauScoreTypologie2,2,FALSE)*Crit6),0,VLOOKUP(INDEX(Base_Typologie!$A$6:$P$1003,MATCH(A84,Base_Typologie!$A:$A,0)-5,MATCH(Typologie_Espace_Public,Base_Typologie!$6:$6,0)),TableauScoreTypologie2,2,FALSE)*Crit6)","v":50},1,1,1,1,1,1,1,1,1,1,1,1,259.35000000000002,{"$f":"IF(Base_Arbres!V79<>\"\",VLOOKUP($A84,Base_Arbres,22,FALSE)*Crit7,\"\")","v":50}]
[{"$f":"IF(Base_Arbres!A15<>\"\",Base_Arbres!A15,\"\")","v":"Aulne blanc"},{"$f":"IF(Base_Arbres!A15<>\"\",VLOOKUP($A85,Base_Arbres,3,FALSE)*Crit1,\"\")","v":21.549999999999997},{"$f":"IF(Base_Arbres!A15<>\"\",VLOOKUP($A85,Base_Arbres,4,FALSE)*Crit2,\"\")","v":27.7},{"$f":"IF(Base_Arbres!A15<>\"\",VLOOKUP($A85,Base_Arbres,5,FALSE)*Crit3,\"\")","v":28.25},{"$f":"IF(Base_Arbres!A15<>\"\",VLOOKUP($A85,Base_Arbres,6,FALSE)*Crit4,\"\")","v":14.5},{"$f":"IF(Base_Arbres!B15<>\"\",VLOOKUP($A85,Base_Arbres,7,FALSE)*Crit5,\"\")","v":29},{"$f":"IF(Base_Arbres!C15<>\"\",VLOOKUP($A85,Base_Arbres,8,FALSE)*crit8,\"\")","v":6.65},{"$f":"IF(Base_Arbres!D15<>\"\",VLOOKUP($A85,Base_Arbres,9,FALSE)*crit9,\"\")","v":15},{"$f":"IF(ISNA(VLOOKUP(INDEX(Base_Typologie!$A$6:$P$1003,MATCH(A85,Base_Typologie!$A:$A,0)-5,MATCH(Typologie_Espace_Public,Base_Typologie!$6:$6,0)),TableauScoreTypologie2,2,FALSE)*Crit6),0,VLOOKUP(INDEX(Base_Typologie!$A$6:$P$1003,MATCH(A85,Base_Typologie!$A:$A,0)-5,MATCH(Typologie_Espace_Public,Base_Typologie!$6:$6,0)),TableauScoreTypologie2,2,FALSE)*Crit6)","v":10},1,1,1,1,1,1,1,1,1,1,1,1,257.64999999999998,{"$f":"IF(Base_Arbres!V80<>\"\",VLOOKUP($A85,Base_Arbres,22,FALSE)*Crit7,\"\")","v":70}]
[{"$f":"IF(Base_Arbres!A23<>\"\",Base_Arbres!A23,\"\")","v":"Charme commun 'Frans Fontaine'"},{"$f":"IF(Base_Arbres!A23<>\"\",VLOOKUP($A86,Base_Arbres,3,FALSE)*Crit1,\"\")","v":30.299999999999997},{"$f":"IF(Base_Arbres!A23<>\"\",VLOOKUP($A86,Base_Arbres,4,FALSE)*Crit2,\"\")","v":21.150000000000002},{"$f":"IF(Base_Arbres!A23<>\"\",VLOOKUP($A86,Base_Arbres,5,FALSE)*Crit3,\"\")","v":27.5},{"$f":"IF(Base_Arbres!A23<>\"\",VLOOKUP($A86,Base_Arbres,6,FALSE)*Crit4,\"\")","v":16.5},{"$f":"IF(Base_Arbres!B23<>\"\",VLOOKUP($A86,Base_Arbres,7,FALSE)*Crit5,\"\")","v":28.5},{"$f":"IF(Base_Arbres!C23<>\"\",VLOOKUP($A86,Base_Arbres,8,FALSE)*crit8,\"\")","v":13.35},{"$f":"IF(Base_Arbres!D23<>\"\",VLOOKUP($A86,Base_Arbres,9,FALSE)*crit9,\"\")","v":15},{"$f":"IF(ISNA(VLOOKUP(INDEX(Base_Typologie!$A$6:$P$1003,MATCH(A86,Base_Typologie!$A:$A,0)-5,MATCH(Typologie_Espace_Public,Base_Typologie!$6:$6,0)),TableauScoreTypologie2,2,FALSE)*Crit6),0,VLOOKUP(INDEX(Base_Typologie!$A$6:$P$1003,MATCH(A86,Base_Typologie!$A:$A,0)-5,MATCH(Typologie_Espace_Public,Base_Typologie!$6:$6,0)),TableauScoreTypologie2,2,FALSE)*Crit6)","v":30},1,1,1,1,1,1,1,1,1,1,1,1,257.3,{"$f":"IF(Base_Arbres!V44<>\"\",VLOOKUP($A86,Base_Arbres,22,FALSE)*Crit7,\"\")","v":50}]
[{"$f":"IF(Base_Arbres!A108<>\"\",Base_Arbres!A108,\"\")","v":"Chêne du Mexique Maya"},{"$f":"IF(Base_Arbres!A108<>\"\",VLOOKUP($A87,Base_Arbres,3,FALSE)*Crit1,\"\")","v":30},{"$f":"IF(Base_Arbres!A108<>\"\",VLOOKUP($A87,Base_Arbres,4,FALSE)*Crit2,\"\")","v":30},{"$f":"IF(Base_Arbres!A108<>\"\",VLOOKUP($A87,Base_Arbres,5,FALSE)*Crit3,\"\")","v":35},{"$f":"IF(Base_Arbres!A108<>\"\",VLOOKUP($A87,Base_Arbres,6,FALSE)*Crit4,\"\")","v":15},{"$f":"IF(Base_Arbres!B108<>\"\",VLOOKUP($A87,Base_Arbres,7,FALSE)*Crit5,\"\")","v":32},{"$f":"IF(Base_Arbres!C108<>\"\",VLOOKUP($A87,Base_Arbres,8,FALSE)*crit8,\"\")","v":10},{"$f":"IF(Base_Arbres!D108<>\"\",VLOOKUP($A87,Base_Arbres,9,FALSE)*crit9,\"\")","v":15},{"$f":"IF(ISNA(VLOOKUP(INDEX(Base_Typologie!$A$6:$P$1003,MATCH(A87,Base_Typologie!$A:$A,0)-5,MATCH(Typologie_Espace_Public,Base_Typologie!$6:$6,0)),TableauScoreTypologie2,2,FALSE)*Crit6),0,VLOOKUP(INDEX(Base_Typologie!$A$6:$P$1003,MATCH(A87,Base_Typologie!$A:$A,0)-5,MATCH(Typologie_Espace_Public,Base_Typologie!$6:$6,0)),TableauScoreTypologie2,2,FALSE)*Crit6)","v":10},1,1,1,1,1,1,1,1,1,1,1,1,252,{"$f":"IF(Base_Arbres!V56<>\"\",VLOOKUP($A87,Base_Arbres,22,FALSE)*Crit7,\"\")","v":50}]
[{"$f":"IF(Base_Arbres!A111<>\"\",Base_Arbres!A111,\"\")","v":"Saule de Babylone, Saule pleureur à bois vert"},{"$f":"IF(Base_Arbres!A111<>\"\",VLOOKUP($A88,Base_Arbres,3,FALSE)*Crit1,\"\")","v":19.05},{"$f":"IF(Base_Arbres!A111<>\"\",VLOOKUP($A88,Base_Arbres,4,FALSE)*Crit2,\"\")","v":31.9},{"$f":"IF(Base_Arbres!A111<>\"\",VLOOKUP($A88,Base_Arbres,5,FALSE)*Crit3,\"\")","v":30.4},{"$f":"IF(Base_Arbres!A111<>\"\",VLOOKUP($A88,Base_Arbres,6,FALSE)*Crit4,\"\")","v":25},{"$f":"IF(Base_Arbres!B111<>\"\",VLOOKUP($A88,Base_Arbres,7,FALSE)*Crit5,\"\")","v":30.5},{"$f":"IF(Base_Arbres!C111<>\"\",VLOOKUP($A88,Base_Arbres,8,FALSE)*crit8,\"\")","v":16.649999999999999},{"$f":"IF(Base_Arbres!D111<>\"\",VLOOKUP($A88,Base_Arbres,9,FALSE)*crit9,\"\")","v":15},{"$f":"IF(ISNA(VLOOKUP(INDEX(Base_Typologie!$A$6:$P$1003,MATCH(A88,Base_Typologie!$A:$A,0)-5,MATCH(Typologie_Espace_Public,Base_Typologie!$6:$6,0)),TableauScoreTypologie2,2,FALSE)*Crit6),0,VLOOKUP(INDEX(Base_Typologie!$A$6:$P$1003,MATCH(A88,Base_Typologie!$A:$A,0)-5,MATCH(Typologie_Espace_Public,Base_Typologie!$6:$6,0)),TableauScoreTypologie2,2,FALSE)*Crit6)","v":10},1,1,1,1,1,1,1,1,1,1,1,1,223.5,{"$f":"IF(Base_Arbres!V133<>\"\",VLOOKUP($A88,Base_Arbres,22,FALSE)*Crit7,\"\")","v":30}]
[{"$f":"IF(Base_Arbres!A47<>\"\",Base_Arbres!A47,\"\")","v":"Hêtre commun ‘Dawyck ’"},{"$f":"IF(Base_Arbres!A47<>\"\",VLOOKUP($A89,Base_Arbres,3,FALSE)*Crit1,\"\")","v":24.6},{"$f":"IF(Base_Arbres!A47<>\"\",VLOOKUP($A89,Base_Arbres,4,FALSE)*Crit2,\"\")","v":23.450000000000003},{"$f":"IF(Base_Arbres!A47<>\"\",VLOOKUP($A89,Base_Arbres,5,FALSE)*Crit3,\"\")","v":26.25},{"$f":"IF(Base_Arbres!A47<>\"\",VLOOKUP($A89,Base_Arbres,6,FALSE)*Crit4,\"\")","v":27},{"$f":"IF(Base_Arbres!B47<>\"\",VLOOKUP($A89,Base_Arbres,7,FALSE)*Crit5,\"\")","v":27},{"$f":"IF(Base_Arbres!C47<>\"\",VLOOKUP($A89,Base_Arbres,8,FALSE)*crit8,\"\")","v":20},{"$f":"IF(Base_Arbres!D47<>\"\",VLOOKUP($A89,Base_Arbres,9,FALSE)*crit9,\"\")","v":15},{"$f":"IF(ISNA(VLOOKUP(INDEX(Base_Typologie!$A$6:$P$1003,MATCH(A89,Base_Typologie!$A:$A,0)-5,MATCH(Typologie_Espace_Public,Base_Typologie!$6:$6,0)),TableauScoreTypologie2,2,FALSE)*Crit6),0,VLOOKUP(INDEX(Base_Typologie!$A$6:$P$1003,MATCH(A89,Base_Typologie!$A:$A,0)-5,MATCH(Typologie_Espace_Public,Base_Typologie!$6:$6,0)),TableauScoreTypologie2,2,FALSE)*Crit6)","v":10},1,1,1,1,1,1,1,1,1,1,1,1,188.3,{"$f":"IF(Base_Arbres!V76<>\"\",VLOOKUP($A89,Base_Arbres,22,FALSE)*Crit7,\"\")","v":10}]
[{"$f":"IF(Base_Arbres!A18<>\"\",Base_Arbres!A18,\"\")","v":"Bouleau à écorce rouge, Bouleau de Chine"},{"$f":"IF(Base_Arbres!A18<>\"\",VLOOKUP($A90,Base_Arbres,3,FALSE)*Crit1,\"\")","v":17.5},{"$f":"IF(Base_Arbres!A18<>\"\",VLOOKUP($A90,Base_Arbres,4,FALSE)*Crit2,\"\")","v":25.25},{"$f":"IF(Base_Arbres!A18<>\"\",VLOOKUP($A90,Base_Arbres,5,FALSE)*Crit3,\"\")","v":21.349999999999998},{"$f":"IF(Base_Arbres!A18<>\"\",VLOOKUP($A90,Base_Arbres,6,FALSE)*Crit4,\"\")","v":6.5},{"$f":"IF(Base_Arbres!B18<>\"\",VLOOKUP($A90,Base_Arbres,7,FALSE)*Crit5,\"\")","v":25.5},{"$f":"IF(Base_Arbres!C18<>\"\",VLOOKUP($A90,Base_Arbres,8,FALSE)*crit8,\"\")","v":10},{"$f":"IF(Base_Arbres!D18<>\"\",VLOOKUP($A90,Base_Arbres,9,FALSE)*crit9,\"\")","v":15},{"$f":"IF(ISNA(VLOOKUP(INDEX(Base_Typologie!$A$6:$P$1003,MATCH(A90,Base_Typologie!$A:$A,0)-5,MATCH(Typologie_Espace_Public,Base_Typologie!$6:$6,0)),TableauScoreTypologie2,2,FALSE)*Crit6),0,VLOOKUP(INDEX(Base_Typologie!$A$6:$P$1003,MATCH(A90,Base_Typologie!$A:$A,0)-5,MATCH(Typologie_Espace_Public,Base_Typologie!$6:$6,0)),TableauScoreTypologie2,2,FALSE)*Crit6)","v":10},1,1,1,1,1,1,1,1,1,1,1,1,161.1,{"$f":"IF(Base_Arbres!V127<>\"\",VLOOKUP($A90,Base_Arbres,22,FALSE)*Crit7,\"\")","v":20}]
[{"$f":"IF(Base_Arbres!A48<>\"\",Base_Arbres!A48,\"\")","v":"Frêne d'Amérique, Frêne blanc"},{"$f":"IF(Base_Arbres!A48<>\"\",VLOOKUP($A91,Base_Arbres,3,FALSE)*Crit1,\"\")","v":30.099999999999998},{"$f":"IF(Base_Arbres!A48<>\"\",VLOOKUP($A91,Base_Arbres,4,FALSE)*Crit2,\"\")","v":32.85},{"$f":"IF(Base_Arbres!A48<>\"\",VLOOKUP($A91,Base_Arbres,5,FALSE)*Crit3,\"\")","v":39.5},{"$f":"IF(Base_Arbres!A48<>\"\",VLOOKUP($A91,Base_Arbres,6,FALSE)*Crit4,\"\")","v":19},{"$f":"IF(Base_Arbres!B48<>\"\",VLOOKUP($A91,Base_Arbres,7,FALSE)*Crit5,\"\")","v":35},{"$f":"IF(Base_Arbres!C48<>\"\",VLOOKUP($A91,Base_Arbres,8,FALSE)*crit8,\"\")","v":20},{"$f":"IF(Base_Arbres!D48<>\"\",VLOOKUP($A91,Base_Arbres,9,FALSE)*crit9,\"\")","v":15},{"$f":"IF(ISNA(VLOOKUP(INDEX(Base_Typologie!$A$6:$P$1003,MATCH(A91,Base_Typologie!$A:$A,0)-5,MATCH(Typologie_Espace_Public,Base_Typologie!$6:$6,0)),TableauScoreTypologie2,2,FALSE)*Crit6),0,VLOOKUP(INDEX(Base_Typologie!$A$6:$P$1003,MATCH(A91,Base_Typologie!$A:$A,0)-5,MATCH(Typologie_Espace_Public,Base_Typologie!$6:$6,0)),TableauScoreTypologie2,2,FALSE)*Crit6)","v":50},1,1,1,1,1,1,1,1,1,1,1,1,376.45,{"$f":"IF(Base_Arbres!V59<>\"\",VLOOKUP($A91,Base_Arbres,22,FALSE)*Crit7,\"\")","v":90}]
[{"$f":"IF(Base_Arbres!A7<>\"\",Base_Arbres!A7,\"\")","v":"Érable sycomore"},{"$f":"IF(Base_Arbres!A7<>\"\",VLOOKUP($A92,Base_Arbres,3,FALSE)*Crit1,\"\")","v":29.15},{"$f":"IF(Base_Arbres!A7<>\"\",VLOOKUP($A92,Base_Arbres,4,FALSE)*Crit2,\"\")","v":31.5},{"$f":"IF(Base_Arbres!A7<>\"\",VLOOKUP($A92,Base_Arbres,5,FALSE)*Crit3,\"\")","v":40.650000000000006},{"$f":"IF(Base_Arbres!A7<>\"\",VLOOKUP($A92,Base_Arbres,6,FALSE)*Crit4,\"\")","v":29},{"$f":"IF(Base_Arbres!B7<>\"\",VLOOKUP($A92,Base_Arbres,7,FALSE)*Crit5,\"\")","v":38.5},{"$f":"IF(Base_Arbres!C7<>\"\",VLOOKUP($A92,Base_Arbres,8,FALSE)*crit8,\"\")","v":40},{"$f":"IF(Base_Arbres!D7<>\"\",VLOOKUP($A92,Base_Arbres,9,FALSE)*crit9,\"\")","v":15},{"$f":"IF(ISNA(VLOOKUP(INDEX(Base_Typologie!$A$6:$P$1003,MATCH(A92,Base_Typologie!$A:$A,0)-5,MATCH(Typologie_Espace_Public,Base_Typologie!$6:$6,0)),TableauScoreTypologie2,2,FALSE)*Crit6),0,VLOOKUP(INDEX(Base_Typologie!$A$6:$P$1003,MATCH(A92,Base_Typologie!$A:$A,0)-5,MATCH(Typologie_Espace_Public,Base_Typologie!$6:$6,0)),TableauScoreTypologie2,2,FALSE)*Crit6)","v":30},1,1,1,1,1,1,1,1,1,1,1,1,328.8,{"$f":"IF(Base_Arbres!V95<>\"\",VLOOKUP($A92,Base_Arbres,22,FALSE)*Crit7,\"\")","v":50}]
[{"$f":"IF(Base_Arbres!A11<>\"\",Base_Arbres!A11,\"\")","v":"Marronnier d’Inde"},{"$f":"IF(Base_Arbres!A11<>\"\",VLOOKUP($A93,Base_Arbres,3,FALSE)*Crit1,\"\")","v":40.650000000000006},{"$f":"IF(Base_Arbres!A11<>\"\",VLOOKUP($A93,Base_Arbres,4,FALSE)*Crit2,\"\")","v":27},{"$f":"IF(Base_Arbres!A11<>\"\",VLOOKUP($A93,Base_Arbres,5,FALSE)*Crit3,\"\")","v":43.449999999999996},{"$f":"IF(Base_Arbres!A11<>\"\",VLOOKUP($A93,Base_Arbres,6,FALSE)*Crit4,\"\")","v":21},{"$f":"IF(Base_Arbres!B11<>\"\",VLOOKUP($A93,Base_Arbres,7,FALSE)*Crit5,\"\")","v":40.5},{"$f":"IF(Base_Arbres!C11<>\"\",VLOOKUP($A93,Base_Arbres,8,FALSE)*crit8,\"\")","v":40},{"$f":"IF(Base_Arbres!D11<>\"\",VLOOKUP($A93,Base_Arbres,9,FALSE)*crit9,\"\")","v":15},{"$f":"IF(ISNA(VLOOKUP(INDEX(Base_Typologie!$A$6:$P$1003,MATCH(A93,Base_Typologie!$A:$A,0)-5,MATCH(Typologie_Espace_Public,Base_Typologie!$6:$6,0)),TableauScoreTypologie2,2,FALSE)*Crit6),0,VLOOKUP(INDEX(Base_Typologie!$A$6:$P$1003,MATCH(A93,Base_Typologie!$A:$A,0)-5,MATCH(Typologie_Espace_Public,Base_Typologie!$6:$6,0)),TableauScoreTypologie2,2,FALSE)*Crit6)","v":30},1,1,1,1,1,1,1,1,1,1,1,1,347.6,{"$f":"IF(Base_Arbres!V43<>\"\",VLOOKUP($A93,Base_Arbres,22,FALSE)*Crit7,\"\")","v":60}]
[{"$f":"IF(Base_Arbres!A19<>\"\",Base_Arbres!A19,\"\")","v":"Bouleau pendant"},{"$f":"IF(Base_Arbres!A19<>\"\",VLOOKUP($A94,Base_Arbres,3,FALSE)*Crit1,\"\")","v":31.7},{"$f":"IF(Base_Arbres!A19<>\"\",VLOOKUP($A94,Base_Arbres,4,FALSE)*Crit2,\"\")","v":21.65},{"$f":"IF(Base_Arbres!A19<>\"\",VLOOKUP($A94,Base_Arbres,5,FALSE)*Crit3,\"\")","v":29.900000000000002},{"$f":"IF(Base_Arbres!A19<>\"\",VLOOKUP($A94,Base_Arbres,6,FALSE)*Crit4,\"\")","v":33.5},{"$f":"IF(Base_Arbres!B19<>\"\",VLOOKUP($A94,Base_Arbres,7,FALSE)*Crit5,\"\")","v":32.5},{"$f":"IF(Base_Arbres!C19<>\"\",VLOOKUP($A94,Base_Arbres,8,FALSE)*crit8,\"\")","v":16.649999999999999},{"$f":"IF(Base_Arbres!D19<>\"\",VLOOKUP($A94,Base_Arbres,9,FALSE)*crit9,\"\")","v":15},{"$f":"IF(ISNA(VLOOKUP(INDEX(Base_Typologie!$A$6:$P$1003,MATCH(A94,Base_Typologie!$A:$A,0)-5,MATCH(Typologie_Espace_Public,Base_Typologie!$6:$6,0)),TableauScoreTypologie2,2,FALSE)*Crit6),0,VLOOKUP(INDEX(Base_Typologie!$A$6:$P$1003,MATCH(A94,Base_Typologie!$A:$A,0)-5,MATCH(Typologie_Espace_Public,Base_Typologie!$6:$6,0)),TableauScoreTypologie2,2,FALSE)*Crit6)","v":10},1,1,1,1,1,1,1,1,1,1,1,1,340.9,{"$f":"IF(Base_Arbres!V71<>\"\",VLOOKUP($A94,Base_Arbres,22,FALSE)*Crit7,\"\")","v":100}]
[{"$f":"IF(Base_Arbres!A50<>\"\",Base_Arbres!A50,\"\")","v":"Frêne commun, Frêne élevé"},{"$f":"IF(Base_Arbres!A50<>\"\",VLOOKUP($A95,Base_Arbres,3,FALSE)*Crit1,\"\")","v":22.85},{"$f":"IF(Base_Arbres!A50<>\"\",VLOOKUP($A95,Base_Arbres,4,FALSE)*Crit2,\"\")","v":28.849999999999998},{"$f":"IF(Base_Arbres!A50<>\"\",VLOOKUP($A95,Base_Arbres,5,FALSE)*Crit3,\"\")","v":29.15},{"$f":"IF(Base_Arbres!A50<>\"\",VLOOKUP($A95,Base_Arbres,6,FALSE)*Crit4,\"\")","v":31.5},{"$f":"IF(Base_Arbres!B50<>\"\",VLOOKUP($A95,Base_Arbres,7,FALSE)*Crit5,\"\")","v":30},{"$f":"IF(Base_Arbres!C50<>\"\",VLOOKUP($A95,Base_Arbres,8,FALSE)*crit8,\"\")","v":40},{"$f":"IF(Base_Arbres!D50<>\"\",VLOOKUP($A95,Base_Arbres,9,FALSE)*crit9,\"\")","v":15},{"$f":"IF(ISNA(VLOOKUP(INDEX(Base_Typologie!$A$6:$P$1003,MATCH(A95,Base_Typologie!$A:$A,0)-5,MATCH(Typologie_Espace_Public,Base_Typologie!$6:$6,0)),TableauScoreTypologie2,2,FALSE)*Crit6),0,VLOOKUP(INDEX(Base_Typologie!$A$6:$P$1003,MATCH(A95,Base_Typologie!$A:$A,0)-5,MATCH(Typologie_Espace_Public,Base_Typologie!$6:$6,0)),TableauScoreTypologie2,2,FALSE)*Crit6)","v":10},1,1,1,1,1,1,1,1,1,1,1,1,312.35000000000002,{"$f":"IF(Base_Arbres!V132<>\"\",VLOOKUP($A95,Base_Arbres,22,FALSE)*Crit7,\"\")","v":70}]
[{"$f":"IF(Base_Arbres!A113<>\"\",Base_Arbres!A113,\"\")","v":"Sureau noir"},{"$f":"IF(Base_Arbres!A113<>\"\",VLOOKUP($A96,Base_Arbres,3,FALSE)*Crit1,\"\")","v":30.65},{"$f":"IF(Base_Arbres!A113<>\"\",VLOOKUP($A96,Base_Arbres,4,FALSE)*Crit2,\"\")","v":21},{"$f":"IF(Base_Arbres!A113<>\"\",VLOOKUP($A96,Base_Arbres,5,FALSE)*Crit3,\"\")","v":25.85},{"$f":"IF(Base_Arbres!A113<>\"\",VLOOKUP($A96,Base_Arbres,6,FALSE)*Crit4,\"\")","v":29},{"$f":"IF(Base_Arbres!B113<>\"\",VLOOKUP($A96,Base_Arbres,7,FALSE)*Crit5,\"\")","v":23.5},{"$f":"IF(Base_Arbres!C113<>\"\",VLOOKUP($A96,Base_Arbres,8,FALSE)*crit8,\"\")","v":10},{"$f":"IF(Base_Arbres!D113<>\"\",VLOOKUP($A96,Base_Arbres,9,FALSE)*crit9,\"\")","v":40},{"$f":"IF(ISNA(VLOOKUP(INDEX(Base_Typologie!$A$6:$P$1003,MATCH(A96,Base_Typologie!$A:$A,0)-5,MATCH(Typologie_Espace_Public,Base_Typologie!$6:$6,0)),TableauScoreTypologie2,2,FALSE)*Crit6),0,VLOOKUP(INDEX(Base_Typologie!$A$6:$P$1003,MATCH(A96,Base_Typologie!$A:$A,0)-5,MATCH(Typologie_Espace_Public,Base_Typologie!$6:$6,0)),TableauScoreTypologie2,2,FALSE)*Crit6)","v":10},1,1,1,1,1,1,1,1,1,1,1,1,295,{"$f":"IF(Base_Arbres!V118<>\"\",VLOOKUP($A96,Base_Arbres,22,FALSE)*Crit7,\"\")","v":70}]
[{"$f":"IF(Base_Arbres!A53<>\"\",Base_Arbres!A53,\"\")","v":"Frêne rouge d'Amérique"},{"$f":"IF(Base_Arbres!A53<>\"\",VLOOKUP($A97,Base_Arbres,3,FALSE)*Crit1,\"\")","v":29.4},{"$f":"IF(Base_Arbres!A53<>\"\",VLOOKUP($A97,Base_Arbres,4,FALSE)*Crit2,\"\")","v":31.7},{"$f":"IF(Base_Arbres!A53<>\"\",VLOOKUP($A97,Base_Arbres,5,FALSE)*Crit3,\"\")","v":40.099999999999994},{"$f":"IF(Base_Arbres!A53<>\"\",VLOOKUP($A97,Base_Arbres,6,FALSE)*Crit4,\"\")","v":19},{"$f":"IF(Base_Arbres!B53<>\"\",VLOOKUP($A97,Base_Arbres,7,FALSE)*Crit5,\"\")","v":35.5},{"$f":"IF(Base_Arbres!C53<>\"\",VLOOKUP($A97,Base_Arbres,8,FALSE)*crit8,\"\")","v":13.35},{"$f":"IF(Base_Arbres!D53<>\"\",VLOOKUP($A97,Base_Arbres,9,FALSE)*crit9,\"\")","v":15},{"$f":"IF(ISNA(VLOOKUP(INDEX(Base_Typologie!$A$6:$P$1003,MATCH(A97,Base_Typologie!$A:$A,0)-5,MATCH(Typologie_Espace_Public,Base_Typologie!$6:$6,0)),TableauScoreTypologie2,2,FALSE)*Crit6),0,VLOOKUP(INDEX(Base_Typologie!$A$6:$P$1003,MATCH(A97,Base_Typologie!$A:$A,0)-5,MATCH(Typologie_Espace_Public,Base_Typologie!$6:$6,0)),TableauScoreTypologie2,2,FALSE)*Crit6)","v":50},1,1,1,1,1,1,1,1,1,1,1,1,339.04999999999995,{"$f":"IF(Base_Arbres!V2<>\"\",VLOOKUP($A97,Base_Arbres,22,FALSE)*Crit7,\"\")","v":70}]
[{"$f":"IF(Base_Arbres!A110<>\"\",Base_Arbres!A110,\"\")","v":"Saule blanc"},{"$f":"IF(Base_Arbres!A110<>\"\",VLOOKUP($A98,Base_Arbres,3,FALSE)*Crit1,\"\")","v":17.3},{"$f":"IF(Base_Arbres!A110<>\"\",VLOOKUP($A98,Base_Arbres,4,FALSE)*Crit2,\"\")","v":30.85},{"$f":"IF(Base_Arbres!A110<>\"\",VLOOKUP($A98,Base_Arbres,5,FALSE)*Crit3,\"\")","v":27.1},{"$f":"IF(Base_Arbres!A110<>\"\",VLOOKUP($A98,Base_Arbres,6,FALSE)*Crit4,\"\")","v":39.5},{"$f":"IF(Base_Arbres!B110<>\"\",VLOOKUP($A98,Base_Arbres,7,FALSE)*Crit5,\"\")","v":30.5},{"$f":"IF(Base_Arbres!C110<>\"\",VLOOKUP($A98,Base_Arbres,8,FALSE)*crit8,\"\")","v":36.65},{"$f":"IF(Base_Arbres!D110<>\"\",VLOOKUP($A98,Base_Arbres,9,FALSE)*crit9,\"\")","v":15},{"$f":"IF(ISNA(VLOOKUP(INDEX(Base_Typologie!$A$6:$P$1003,MATCH(A98,Base_Typologie!$A:$A,0)-5,MATCH(Typologie_Espace_Public,Base_Typologie!$6:$6,0)),TableauScoreTypologie2,2,FALSE)*Crit6),0,VLOOKUP(INDEX(Base_Typologie!$A$6:$P$1003,MATCH(A98,Base_Typologie!$A:$A,0)-5,MATCH(Typologie_Espace_Public,Base_Typologie!$6:$6,0)),TableauScoreTypologie2,2,FALSE)*Crit6)","v":10},1,1,1,1,1,1,1,1,1,1,1,1,{"$f":"(SUM(B98:I98)+W98*1.5)*J98*K98*L98*M98*N98*O98*P98*Q98*R98*S98*T98*U98","v":296.89999999999998},{"$f":"IF(Base_Arbres!V77<>\"\",VLOOKUP($A98,Base_Arbres,22,FALSE)*Crit7,\"\")","v":60}]
[{"$f":"IF(Base_Arbres!A28<>\"\",Base_Arbres!A28,\"\")","v":"Cèdre de l’Atlas"},{"$f":"IF(Base_Arbres!A28<>\"\",VLOOKUP($A99,Base_Arbres,3,FALSE)*Crit1,\"\")","v":19.25},{"$f":"IF(Base_Arbres!A28<>\"\",VLOOKUP($A99,Base_Arbres,4,FALSE)*Crit2,\"\")","v":36.800000000000004},{"$f":"IF(Base_Arbres!A28<>\"\",VLOOKUP($A99,Base_Arbres,5,FALSE)*Crit3,\"\")","v":25.099999999999998},{"$f":"IF(Base_Arbres!A28<>\"\",VLOOKUP($A99,Base_Arbres,6,FALSE)*Crit4,\"\")","v":4},{"$f":"IF(Base_Arbres!B28<>\"\",VLOOKUP($A99,Base_Arbres,7,FALSE)*Crit5,\"\")","v":28.5},{"$f":"IF(Base_Arbres!C28<>\"\",VLOOKUP($A99,Base_Arbres,8,FALSE)*crit8,\"\")","v":50},{"$f":"IF(Base_Arbres!D28<>\"\",VLOOKUP($A99,Base_Arbres,9,FALSE)*crit9,\"\")","v":15},{"$f":"IF(ISNA(VLOOKUP(INDEX(Base_Typologie!$A$6:$P$1003,MATCH(A99,Base_Typologie!$A:$A,0)-5,MATCH(Typologie_Espace_Public,Base_Typologie!$6:$6,0)),TableauScoreTypologie2,2,FALSE)*Crit6),0,VLOOKUP(INDEX(Base_Typologie!$A$6:$P$1003,MATCH(A99,Base_Typologie!$A:$A,0)-5,MATCH(Typologie_Espace_Public,Base_Typologie!$6:$6,0)),TableauScoreTypologie2,2,FALSE)*Crit6)","v":30},1,1,1,1,1,1,1,1,1,1,1,1,343.65,{"$f":"IF(Base_Arbres!V36<>\"\",VLOOKUP($A99,Base_Arbres,22,FALSE)*Crit7,\"\")","v":90}]
[{"$f":"IF(Base_Arbres!A87<>\"\",Base_Arbres!A87,\"\")","v":"Peuplier blanc"},{"$f":"IF(Base_Arbres!A87<>\"\",VLOOKUP($A100,Base_Arbres,3,FALSE)*Crit1,\"\")","v":23.35},{"$f":"IF(Base_Arbres!A87<>\"\",VLOOKUP($A100,Base_Arbres,4,FALSE)*Crit2,\"\")","v":28.75},{"$f":"IF(Base_Arbres!A87<>\"\",VLOOKUP($A100,Base_Arbres,5,FALSE)*Crit3,\"\")","v":30.4},{"$f":"IF(Base_Arbres!A87<>\"\",VLOOKUP($A100,Base_Arbres,6,FALSE)*Crit4,\"\")","v":25},{"$f":"IF(Base_Arbres!B87<>\"\",VLOOKUP($A100,Base_Arbres,7,FALSE)*Crit5,\"\")","v":29},{"$f":"IF(Base_Arbres!C87<>\"\",VLOOKUP($A100,Base_Arbres,8,FALSE)*crit8,\"\")","v":36.65},{"$f":"IF(Base_Arbres!D87<>\"\",VLOOKUP($A100,Base_Arbres,9,FALSE)*crit9,\"\")","v":15},{"$f":"IF(ISNA(VLOOKUP(INDEX(Base_Typologie!$A$6:$P$1003,MATCH(A100,Base_Typologie!$A:$A,0)-5,MATCH(Typologie_Espace_Public,Base_Typologie!$6:$6,0)),TableauScoreTypologie2,2,FALSE)*Crit6),0,VLOOKUP(INDEX(Base_Typologie!$A$6:$P$1003,MATCH(A100,Base_Typologie!$A:$A,0)-5,MATCH(Typologie_Espace_Public,Base_Typologie!$6:$6,0)),TableauScoreTypologie2,2,FALSE)*Crit6)","v":10},1,1,1,1,1,1,1,1,1,1,1,1,288.14999999999998,{"$f":"IF(Base_Arbres!V60<>\"\",VLOOKUP($A100,Base_Arbres,22,FALSE)*Crit7,\"\")","v":60}]
[{"$f":"IF(Base_Arbres!A123<>\"\",Base_Arbres!A123,\"\")","v":"Sophora du Japon"},{"$f":"IF(Base_Arbres!A123<>\"\",VLOOKUP($A101,Base_Arbres,3,FALSE)*Crit1,\"\")","v":23.700000000000003},{"$f":"IF(Base_Arbres!A123<>\"\",VLOOKUP($A101,Base_Arbres,4,FALSE)*Crit2,\"\")","v":27.9},{"$f":"IF(Base_Arbres!A123<>\"\",VLOOKUP($A101,Base_Arbres,5,FALSE)*Crit3,\"\")","v":32.599999999999994},{"$f":"IF(Base_Arbres!A123<>\"\",VLOOKUP($A101,Base_Arbres,6,FALSE)*Crit4,\"\")","v":12.5},{"$f":"IF(Base_Arbres!B123<>\"\",VLOOKUP($A101,Base_Arbres,7,FALSE)*Crit5,\"\")","v":33.5},{"$f":"IF(Base_Arbres!C123<>\"\",VLOOKUP($A101,Base_Arbres,8,FALSE)*crit8,\"\")","v":16.649999999999999},{"$f":"IF(Base_Arbres!D123<>\"\",VLOOKUP($A101,Base_Arbres,9,FALSE)*crit9,\"\")","v":15},{"$f":"IF(ISNA(VLOOKUP(INDEX(Base_Typologie!$A$6:$P$1003,MATCH(A101,Base_Typologie!$A:$A,0)-5,MATCH(Typologie_Espace_Public,Base_Typologie!$6:$6,0)),TableauScoreTypologie2,2,FALSE)*Crit6),0,VLOOKUP(INDEX(Base_Typologie!$A$6:$P$1003,MATCH(A101,Base_Typologie!$A:$A,0)-5,MATCH(Typologie_Espace_Public,Base_Typologie!$6:$6,0)),TableauScoreTypologie2,2,FALSE)*Crit6)","v":50},1,1,1,1,1,1,1,1,1,1,1,1,346.85,{"$f":"IF(Base_Arbres!V31<>\"\",VLOOKUP($A101,Base_Arbres,22,FALSE)*Crit7,\"\")","v":90}]
[{"$f":"IF(Base_Arbres!A79<>\"\",Base_Arbres!A79,\"\")","v":"Paulownia tomenteux ou impérial"},{"$f":"IF(Base_Arbres!A79<>\"\",VLOOKUP($A102,Base_Arbres,3,FALSE)*Crit1,\"\")","v":25.85},{"$f":"IF(Base_Arbres!A79<>\"\",VLOOKUP($A102,Base_Arbres,4,FALSE)*Crit2,\"\")","v":36},{"$f":"IF(Base_Arbres!A79<>\"\",VLOOKUP($A102,Base_Arbres,5,FALSE)*Crit3,\"\")","v":42},{"$f":"IF(Base_Arbres!A79<>\"\",VLOOKUP($A102,Base_Arbres,6,FALSE)*Crit4,\"\")","v":4},{"$f":"IF(Base_Arbres!B79<>\"\",VLOOKUP($A102,Base_Arbres,7,FALSE)*Crit5,\"\")","v":37},{"$f":"IF(Base_Arbres!C79<>\"\",VLOOKUP($A102,Base_Arbres,8,FALSE)*crit8,\"\")","v":16.649999999999999},{"$f":"IF(Base_Arbres!D79<>\"\",VLOOKUP($A102,Base_Arbres,9,FALSE)*crit9,\"\")","v":15},{"$f":"IF(ISNA(VLOOKUP(INDEX(Base_Typologie!$A$6:$P$1003,MATCH(A102,Base_Typologie!$A:$A,0)-5,MATCH(Typologie_Espace_Public,Base_Typologie!$6:$6,0)),TableauScoreTypologie2,2,FALSE)*Crit6),0,VLOOKUP(INDEX(Base_Typologie!$A$6:$P$1003,MATCH(A102,Base_Typologie!$A:$A,0)-5,MATCH(Typologie_Espace_Public,Base_Typologie!$6:$6,0)),TableauScoreTypologie2,2,FALSE)*Crit6)","v":30},1,1,1,1,1,1,1,1,1,1,1,1,311.5,{"$f":"IF(Base_Arbres!V13<>\"\",VLOOKUP($A102,Base_Arbres,22,FALSE)*Crit7,\"\")","v":70}]
[{"$f":"IF(Base_Arbres!A16<>\"\",Base_Arbres!A16,\"\")","v":"Aulne de Späth"},{"$f":"IF(Base_Arbres!A16<>\"\",VLOOKUP($A103,Base_Arbres,3,FALSE)*Crit1,\"\")","v":23.2},{"$f":"IF(Base_Arbres!A16<>\"\",VLOOKUP($A103,Base_Arbres,4,FALSE)*Crit2,\"\")","v":28.700000000000003},{"$f":"IF(Base_Arbres!A16<>\"\",VLOOKUP($A103,Base_Arbres,5,FALSE)*Crit3,\"\")","v":28.849999999999998},{"$f":"IF(Base_Arbres!A16<>\"\",VLOOKUP($A103,Base_Arbres,6,FALSE)*Crit4,\"\")","v":8.5},{"$f":"IF(Base_Arbres!B16<>\"\",VLOOKUP($A103,Base_Arbres,7,FALSE)*Crit5,\"\")","v":28},{"$f":"IF(Base_Arbres!C16<>\"\",VLOOKUP($A103,Base_Arbres,8,FALSE)*crit8,\"\")","v":6.65},{"$f":"IF(Base_Arbres!D16<>\"\",VLOOKUP($A103,Base_Arbres,9,FALSE)*crit9,\"\")","v":15},{"$f":"IF(ISNA(VLOOKUP(INDEX(Base_Typologie!$A$6:$P$1003,MATCH(A103,Base_Typologie!$A:$A,0)-5,MATCH(Typologie_Espace_Public,Base_Typologie!$6:$6,0)),TableauScoreTypologie2,2,FALSE)*Crit6),0,VLOOKUP(INDEX(Base_Typologie!$A$6:$P$1003,MATCH(A103,Base_Typologie!$A:$A,0)-5,MATCH(Typologie_Espace_Public,Base_Typologie!$6:$6,0)),TableauScoreTypologie2,2,FALSE)*Crit6)","v":10},1,1,1,1,1,1,1,1,1,1,1,1,283.89999999999998,{"$f":"IF(Base_Arbres!V74<>\"\",VLOOKUP($A103,Base_Arbres,22,FALSE)*Crit7,\"\")","v":90}]
[{"$f":"IF(Base_Arbres!A14<>\"\",Base_Arbres!A14,\"\")","v":"Aulne glutineux"},{"$f":"IF(Base_Arbres!A14<>\"\",VLOOKUP($A104,Base_Arbres,3,FALSE)*Crit1,\"\")","v":25.6},{"$f":"IF(Base_Arbres!A14<>\"\",VLOOKUP($A104,Base_Arbres,4,FALSE)*Crit2,\"\")","v":24.4},{"$f":"IF(Base_Arbres!A14<>\"\",VLOOKUP($A104,Base_Arbres,5,FALSE)*Crit3,\"\")","v":27.599999999999998},{"$f":"IF(Base_Arbres!A14<>\"\",VLOOKUP($A104,Base_Arbres,6,FALSE)*Crit4,\"\")","v":35.5},{"$f":"IF(Base_Arbres!B14<>\"\",VLOOKUP($A104,Base_Arbres,7,FALSE)*Crit5,\"\")","v":29},{"$f":"IF(Base_Arbres!C14<>\"\",VLOOKUP($A104,Base_Arbres,8,FALSE)*crit8,\"\")","v":16.649999999999999},{"$f":"IF(Base_Arbres!D14<>\"\",VLOOKUP($A104,Base_Arbres,9,FALSE)*crit9,\"\")","v":15},{"$f":"IF(ISNA(VLOOKUP(INDEX(Base_Typologie!$A$6:$P$1003,MATCH(A104,Base_Typologie!$A:$A,0)-5,MATCH(Typologie_Espace_Public,Base_Typologie!$6:$6,0)),TableauScoreTypologie2,2,FALSE)*Crit6),0,VLOOKUP(INDEX(Base_Typologie!$A$6:$P$1003,MATCH(A104,Base_Typologie!$A:$A,0)-5,MATCH(Typologie_Espace_Public,Base_Typologie!$6:$6,0)),TableauScoreTypologie2,2,FALSE)*Crit6)","v":10},1,1,1,1,1,1,1,1,1,1,1,1,288.75,{"$f":"IF(Base_Arbres!V3<>\"\",VLOOKUP($A104,Base_Arbres,22,FALSE)*Crit7,\"\")","v":70}]
[{"$f":"IF(Base_Arbres!A56<>\"\",Base_Arbres!A56,\"\")","v":"Févier d’Amérique"},{"$f":"IF(Base_Arbres!A56<>\"\",VLOOKUP($A105,Base_Arbres,3,FALSE)*Crit1,\"\")","v":22.549999999999997},{"$f":"IF(Base_Arbres!A56<>\"\",VLOOKUP($A105,Base_Arbres,4,FALSE)*Crit2,\"\")","v":27.200000000000003},{"$f":"IF(Base_Arbres!A56<>\"\",VLOOKUP($A105,Base_Arbres,5,FALSE)*Crit3,\"\")","v":30.85},{"$f":"IF(Base_Arbres!A56<>\"\",VLOOKUP($A105,Base_Arbres,6,FALSE)*Crit4,\"\")","v":16.5},{"$f":"IF(Base_Arbres!B56<>\"\",VLOOKUP($A105,Base_Arbres,7,FALSE)*Crit5,\"\")","v":33},{"$f":"IF(Base_Arbres!C56<>\"\",VLOOKUP($A105,Base_Arbres,8,FALSE)*crit8,\"\")","v":20},{"$f":"IF(Base_Arbres!D56<>\"\",VLOOKUP($A105,Base_Arbres,9,FALSE)*crit9,\"\")","v":0},{"$f":"IF(ISNA(VLOOKUP(INDEX(Base_Typologie!$A$6:$P$1003,MATCH(A105,Base_Typologie!$A:$A,0)-5,MATCH(Typologie_Espace_Public,Base_Typologie!$6:$6,0)),TableauScoreTypologie2,2,FALSE)*Crit6),0,VLOOKUP(INDEX(Base_Typologie!$A$6:$P$1003,MATCH(A105,Base_Typologie!$A:$A,0)-5,MATCH(Typologie_Espace_Public,Base_Typologie!$6:$6,0)),TableauScoreTypologie2,2,FALSE)*Crit6)","v":30},1,1,1,1,1,1,1,1,1,1,1,1,315.10000000000002,{"$f":"IF(Base_Arbres!V61<>\"\",VLOOKUP($A105,Base_Arbres,22,FALSE)*Crit7,\"\")","v":90}]
[{"$f":"IF(Base_Arbres!A29<>\"\",Base_Arbres!A29,\"\")","v":"Cèdre du Liban"},{"$f":"IF(Base_Arbres!A29<>\"\",VLOOKUP($A106,Base_Arbres,3,FALSE)*Crit1,\"\")","v":19.5},{"$f":"IF(Base_Arbres!A29<>\"\",VLOOKUP($A106,Base_Arbres,4,FALSE)*Crit2,\"\")","v":36.200000000000003},{"$f":"IF(Base_Arbres!A29<>\"\",VLOOKUP($A106,Base_Arbres,5,FALSE)*Crit3,\"\")","v":27},{"$f":"IF(Base_Arbres!A29<>\"\",VLOOKUP($A106,Base_Arbres,6,FALSE)*Crit4,\"\")","v":4},{"$f":"IF(Base_Arbres!B29<>\"\",VLOOKUP($A106,Base_Arbres,7,FALSE)*Crit5,\"\")","v":29},{"$f":"IF(Base_Arbres!C29<>\"\",VLOOKUP($A106,Base_Arbres,8,FALSE)*crit8,\"\")","v":50},{"$f":"IF(Base_Arbres!D29<>\"\",VLOOKUP($A106,Base_Arbres,9,FALSE)*crit9,\"\")","v":15},{"$f":"IF(ISNA(VLOOKUP(INDEX(Base_Typologie!$A$6:$P$1003,MATCH(A106,Base_Typologie!$A:$A,0)-5,MATCH(Typologie_Espace_Public,Base_Typologie!$6:$6,0)),TableauScoreTypologie2,2,FALSE)*Crit6),0,VLOOKUP(INDEX(Base_Typologie!$A$6:$P$1003,MATCH(A106,Base_Typologie!$A:$A,0)-5,MATCH(Typologie_Espace_Public,Base_Typologie!$6:$6,0)),TableauScoreTypologie2,2,FALSE)*Crit6)","v":30},1,1,1,1,1,1,1,1,1,1,1,1,330.7,{"$f":"IF(Base_Arbres!V80<>\"\",VLOOKUP($A106,Base_Arbres,22,FALSE)*Crit7,\"\")","v":80}]
[{"$f":"IF(Base_Arbres!A27<>\"\",Base_Arbres!A27,\"\")","v":"Catalpa commun"},{"$f":"IF(Base_Arbres!A27<>\"\",VLOOKUP($A107,Base_Arbres,3,FALSE)*Crit1,\"\")","v":28.1},{"$f":"IF(Base_Arbres!A27<>\"\",VLOOKUP($A107,Base_Arbres,4,FALSE)*Crit2,\"\")","v":32},{"$f":"IF(Base_Arbres!A27<>\"\",VLOOKUP($A107,Base_Arbres,5,FALSE)*Crit3,\"\")","v":37.9},{"$f":"IF(Base_Arbres!A27<>\"\",VLOOKUP($A107,Base_Arbres,6,FALSE)*Crit4,\"\")","v":6.5},{"$f":"IF(Base_Arbres!B27<>\"\",VLOOKUP($A107,Base_Arbres,7,FALSE)*Crit5,\"\")","v":33.5},{"$f":"IF(Base_Arbres!C27<>\"\",VLOOKUP($A107,Base_Arbres,8,FALSE)*crit8,\"\")","v":16.649999999999999},{"$f":"IF(Base_Arbres!D27<>\"\",VLOOKUP($A107,Base_Arbres,9,FALSE)*crit9,\"\")","v":15},{"$f":"IF(ISNA(VLOOKUP(INDEX(Base_Typologie!$A$6:$P$1003,MATCH(A107,Base_Typologie!$A:$A,0)-5,MATCH(Typologie_Espace_Public,Base_Typologie!$6:$6,0)),TableauScoreTypologie2,2,FALSE)*Crit6),0,VLOOKUP(INDEX(Base_Typologie!$A$6:$P$1003,MATCH(A107,Base_Typologie!$A:$A,0)-5,MATCH(Typologie_Espace_Public,Base_Typologie!$6:$6,0)),TableauScoreTypologie2,2,FALSE)*Crit6)","v":50},1,1,1,1,1,1,1,1,1,1,1,1,324.64999999999998,{"$f":"IF(Base_Arbres!V11<>\"\",VLOOKUP($A107,Base_Arbres,22,FALSE)*Crit7,\"\")","v":70}]
[{"$f":"IF(Base_Arbres!A88<>\"\",Base_Arbres!A88,\"\")","v":"Peuplier tremble"},{"$f":"IF(Base_Arbres!A88<>\"\",VLOOKUP($A108,Base_Arbres,3,FALSE)*Crit1,\"\")","v":33.450000000000003},{"$f":"IF(Base_Arbres!A88<>\"\",VLOOKUP($A108,Base_Arbres,4,FALSE)*Crit2,\"\")","v":23.4},{"$f":"IF(Base_Arbres!A88<>\"\",VLOOKUP($A108,Base_Arbres,5,FALSE)*Crit3,\"\")","v":33.25},{"$f":"IF(Base_Arbres!A88<>\"\",VLOOKUP($A108,Base_Arbres,6,FALSE)*Crit4,\"\")","v":31.5},{"$f":"IF(Base_Arbres!B88<>\"\",VLOOKUP($A108,Base_Arbres,7,FALSE)*Crit5,\"\")","v":34},{"$f":"IF(Base_Arbres!C88<>\"\",VLOOKUP($A108,Base_Arbres,8,FALSE)*crit8,\"\")","v":20},"dcds",{"$f":"IF(ISNA(VLOOKUP(INDEX(Base_Typologie!$A$6:$P$1003,MATCH(A108,Base_Typologie!$A:$A,0)-5,MATCH(Typologie_Espace_Public,Base_Typologie!$6:$6,0)),TableauScoreTypologie2,2,FALSE)*Crit6),0,VLOOKUP(INDEX(Base_Typologie!$A$6:$P$1003,MATCH(A108,Base_Typologie!$A:$A,0)-5,MATCH(Typologie_Espace_Public,Base_Typologie!$6:$6,0)),TableauScoreTypologie2,2,FALSE)*Crit6)","v":10},1,1,1,1,1,1,1,1,1,1,1,1,290.60000000000002,{"$f":"IF(Base_Arbres!V39<>\"\",VLOOKUP($A108,Base_Arbres,22,FALSE)*Crit7,\"\")","v":70}]
[{"$f":"IF(Base_Arbres!A44<>\"\",Base_Arbres!A44,\"\")","v":"Arbre à Gutta-Percha"},{"$f":"IF(Base_Arbres!A44<>\"\",VLOOKUP($A109,Base_Arbres,3,FALSE)*Crit1,\"\")","v":31.9},{"$f":"IF(Base_Arbres!A44<>\"\",VLOOKUP($A109,Base_Arbres,4,FALSE)*Crit2,\"\")","v":27.1},{"$f":"IF(Base_Arbres!A44<>\"\",VLOOKUP($A109,Base_Arbres,5,FALSE)*Crit3,\"\")","v":37.9},{"$f":"IF(Base_Arbres!A44<>\"\",VLOOKUP($A109,Base_Arbres,6,FALSE)*Crit4,\"\")","v":5},{"$f":"IF(Base_Arbres!B44<>\"\",VLOOKUP($A109,Base_Arbres,7,FALSE)*Crit5,\"\")","v":36},{"$f":"IF(Base_Arbres!C44<>\"\",VLOOKUP($A109,Base_Arbres,8,FALSE)*crit8,\"\")","v":20},{"$f":"IF(Base_Arbres!D44<>\"\",VLOOKUP($A109,Base_Arbres,9,FALSE)*crit9,\"\")","v":15},{"$f":"IF(ISNA(VLOOKUP(INDEX(Base_Typologie!$A$6:$P$1003,MATCH(A109,Base_Typologie!$A:$A,0)-5,MATCH(Typologie_Espace_Public,Base_Typologie!$6:$6,0)),TableauScoreTypologie2,2,FALSE)*Crit6),0,VLOOKUP(INDEX(Base_Typologie!$A$6:$P$1003,MATCH(A109,Base_Typologie!$A:$A,0)-5,MATCH(Typologie_Espace_Public,Base_Typologie!$6:$6,0)),TableauScoreTypologie2,2,FALSE)*Crit6)","v":30},1,1,1,1,1,1,1,1,1,1,1,1,307.89999999999998,{"$f":"IF(Base_Arbres!V86<>\"\",VLOOKUP($A109,Base_Arbres,22,FALSE)*Crit7,\"\")","v":70}]
[{"$f":"IF(Base_Arbres!A130<>\"\",Base_Arbres!A130,\"\")","v":"Orme champêtre"},{"$f":"IF(Base_Arbres!A130<>\"\",VLOOKUP($A110,Base_Arbres,3,FALSE)*Crit1,\"\")","v":30.35},{"$f":"IF(Base_Arbres!A130<>\"\",VLOOKUP($A110,Base_Arbres,4,FALSE)*Crit2,\"\")","v":26.549999999999997},{"$f":"IF(Base_Arbres!A130<>\"\",VLOOKUP($A110,Base_Arbres,5,FALSE)*Crit3,\"\")","v":35.099999999999994},{"$f":"IF(Base_Arbres!A130<>\"\",VLOOKUP($A110,Base_Arbres,6,FALSE)*Crit4,\"\")","v":23},{"$f":"IF(Base_Arbres!B130<>\"\",VLOOKUP($A110,Base_Arbres,7,FALSE)*Crit5,\"\")","v":33.5},{"$f":"IF(Base_Arbres!C130<>\"\",VLOOKUP($A110,Base_Arbres,8,FALSE)*crit8,\"\")","v":20},{"$f":"IF(Base_Arbres!D130<>\"\",VLOOKUP($A110,Base_Arbres,9,FALSE)*crit9,\"\")","v":15},{"$f":"IF(ISNA(VLOOKUP(INDEX(Base_Typologie!$A$6:$P$1003,MATCH(A110,Base_Typologie!$A:$A,0)-5,MATCH(Typologie_Espace_Public,Base_Typologie!$6:$6,0)),TableauScoreTypologie2,2,FALSE)*Crit6),0,VLOOKUP(INDEX(Base_Typologie!$A$6:$P$1003,MATCH(A110,Base_Typologie!$A:$A,0)-5,MATCH(Typologie_Espace_Public,Base_Typologie!$6:$6,0)),TableauScoreTypologie2,2,FALSE)*Crit6)","v":30},1,1,1,1,1,1,1,1,1,1,1,1,288.5,{"$f":"IF(Base_Arbres!V38<>\"\",VLOOKUP($A110,Base_Arbres,22,FALSE)*Crit7,\"\")","v":50}]
[{"$f":"IF(Base_Arbres!A49<>\"\",Base_Arbres!A49,\"\")","v":"Frêne à feuilles étroites, Frêne du midi, Frêne oxyphylle"},{"$f":"IF(Base_Arbres!A49<>\"\",VLOOKUP($A111,Base_Arbres,3,FALSE)*Crit1,\"\")","v":27.85},{"$f":"IF(Base_Arbres!A49<>\"\",VLOOKUP($A111,Base_Arbres,4,FALSE)*Crit2,\"\")","v":25.4},{"$f":"IF(Base_Arbres!A49<>\"\",VLOOKUP($A111,Base_Arbres,5,FALSE)*Crit3,\"\")","v":31.05},{"$f":"IF(Base_Arbres!A49<>\"\",VLOOKUP($A111,Base_Arbres,6,FALSE)*Crit4,\"\")","v":25},{"$f":"IF(Base_Arbres!B49<>\"\",VLOOKUP($A111,Base_Arbres,7,FALSE)*Crit5,\"\")","v":29},{"$f":"IF(Base_Arbres!C49<>\"\",VLOOKUP($A111,Base_Arbres,8,FALSE)*crit8,\"\")","v":20},null,{"$f":"IF(ISNA(VLOOKUP(INDEX(Base_Typologie!$A$6:$P$1003,MATCH(A111,Base_Typologie!$A:$A,0)-5,MATCH(Typologie_Espace_Public,Base_Typologie!$6:$6,0)),TableauScoreTypologie2,2,FALSE)*Crit6),0,VLOOKUP(INDEX(Base_Typologie!$A$6:$P$1003,MATCH(A111,Base_Typologie!$A:$A,0)-5,MATCH(Typologie_Espace_Public,Base_Typologie!$6:$6,0)),TableauScoreTypologie2,2,FALSE)*Crit6)","v":50},1,1,1,1,1,1,1,1,1,1,1,1,343.3,{"$f":"IF(Base_Arbres!V48<>\"\",VLOOKUP($A111,Base_Arbres,22,FALSE)*Crit7,\"\")","v":90}]
[{"$f":"IF(Base_Arbres!A82<>\"\",Base_Arbres!A82,\"\")","v":"Pin sylvestre"},{"$f":"IF(Base_Arbres!A82<>\"\",VLOOKUP($A112,Base_Arbres,3,FALSE)*Crit1,\"\")","v":19.25},{"$f":"IF(Base_Arbres!A82<>\"\",VLOOKUP($A112,Base_Arbres,4,FALSE)*Crit2,\"\")","v":36.800000000000004},{"$f":"IF(Base_Arbres!A82<>\"\",VLOOKUP($A112,Base_Arbres,5,FALSE)*Crit3,\"\")","v":25.099999999999998},{"$f":"IF(Base_Arbres!A82<>\"\",VLOOKUP($A112,Base_Arbres,6,FALSE)*Crit4,\"\")","v":23},{"$f":"IF(Base_Arbres!B82<>\"\",VLOOKUP($A112,Base_Arbres,7,FALSE)*Crit5,\"\")","v":29.5},{"$f":"IF(Base_Arbres!C82<>\"\",VLOOKUP($A112,Base_Arbres,8,FALSE)*crit8,\"\")","v":16.649999999999999},{"$f":"IF(Base_Arbres!D82<>\"\",VLOOKUP($A112,Base_Arbres,9,FALSE)*crit9,\"\")","v":15},{"$f":"IF(ISNA(VLOOKUP(INDEX(Base_Typologie!$A$6:$P$1003,MATCH(A112,Base_Typologie!$A:$A,0)-5,MATCH(Typologie_Espace_Public,Base_Typologie!$6:$6,0)),TableauScoreTypologie2,2,FALSE)*Crit6),0,VLOOKUP(INDEX(Base_Typologie!$A$6:$P$1003,MATCH(A112,Base_Typologie!$A:$A,0)-5,MATCH(Typologie_Espace_Public,Base_Typologie!$6:$6,0)),TableauScoreTypologie2,2,FALSE)*Crit6)","v":30},1,1,1,1,1,1,1,1,1,1,1,1,315.3,{"$f":"IF(Base_Arbres!V58<>\"\",VLOOKUP($A112,Base_Arbres,22,FALSE)*Crit7,\"\")","v":80}]
[{"$f":"IF(Base_Arbres!A65<>\"\",Base_Arbres!A65,\"\")","v":"Tulipier de Virginie"},{"$f":"IF(Base_Arbres!A65<>\"\",VLOOKUP($A113,Base_Arbres,3,FALSE)*Crit1,\"\")","v":32.85},{"$f":"IF(Base_Arbres!A65<>\"\",VLOOKUP($A113,Base_Arbres,4,FALSE)*Crit2,\"\")","v":23.05},{"$f":"IF(Base_Arbres!A65<>\"\",VLOOKUP($A113,Base_Arbres,5,FALSE)*Crit3,\"\")","v":29.15},{"$f":"IF(Base_Arbres!A65<>\"\",VLOOKUP($A113,Base_Arbres,6,FALSE)*Crit4,\"\")","v":14.5},{"$f":"IF(Base_Arbres!B65<>\"\",VLOOKUP($A113,Base_Arbres,7,FALSE)*Crit5,\"\")","v":30},{"$f":"IF(Base_Arbres!C65<>\"\",VLOOKUP($A113,Base_Arbres,8,FALSE)*crit8,\"\")","v":20},{"$f":"IF(Base_Arbres!D65<>\"\",VLOOKUP($A113,Base_Arbres,9,FALSE)*crit9,\"\")","v":15},{"$f":"IF(ISNA(VLOOKUP(INDEX(Base_Typologie!$A$6:$P$1003,MATCH(A113,Base_Typologie!$A:$A,0)-5,MATCH(Typologie_Espace_Public,Base_Typologie!$6:$6,0)),TableauScoreTypologie2,2,FALSE)*Crit6),0,VLOOKUP(INDEX(Base_Typologie!$A$6:$P$1003,MATCH(A113,Base_Typologie!$A:$A,0)-5,MATCH(Typologie_Espace_Public,Base_Typologie!$6:$6,0)),TableauScoreTypologie2,2,FALSE)*Crit6)","v":50},1,1,1,1,1,1,1,1,1,1,1,1,304.55,{"$f":"IF(Base_Arbres!V50<>\"\",VLOOKUP($A113,Base_Arbres,22,FALSE)*Crit7,\"\")","v":60}]
[{"$f":"IF(Base_Arbres!A75<>\"\",Base_Arbres!A75,\"\")","v":"Tupélo de Chine"},{"$f":"IF(Base_Arbres!A75<>\"\",VLOOKUP($A114,Base_Arbres,3,FALSE)*Crit1,\"\")","v":29.15},{"$f":"IF(Base_Arbres!A75<>\"\",VLOOKUP($A114,Base_Arbres,4,FALSE)*Crit2,\"\")","v":25.85},{"$f":"IF(Base_Arbres!A75<>\"\",VLOOKUP($A114,Base_Arbres,5,FALSE)*Crit3,\"\")","v":32},{"$f":"IF(Base_Arbres!A75<>\"\",VLOOKUP($A114,Base_Arbres,6,FALSE)*Crit4,\"\")","v":14.5},{"$f":"IF(Base_Arbres!B75<>\"\",VLOOKUP($A114,Base_Arbres,7,FALSE)*Crit5,\"\")","v":30},{"$f":"IF(Base_Arbres!C75<>\"\",VLOOKUP($A114,Base_Arbres,8,FALSE)*crit8,\"\")","v":13.35},{"$f":"IF(Base_Arbres!D75<>\"\",VLOOKUP($A114,Base_Arbres,9,FALSE)*crit9,\"\")","v":15},{"$f":"IF(ISNA(VLOOKUP(INDEX(Base_Typologie!$A$6:$P$1003,MATCH(A114,Base_Typologie!$A:$A,0)-5,MATCH(Typologie_Espace_Public,Base_Typologie!$6:$6,0)),TableauScoreTypologie2,2,FALSE)*Crit6),0,VLOOKUP(INDEX(Base_Typologie!$A$6:$P$1003,MATCH(A114,Base_Typologie!$A:$A,0)-5,MATCH(Typologie_Espace_Public,Base_Typologie!$6:$6,0)),TableauScoreTypologie2,2,FALSE)*Crit6)","v":10},1,1,1,1,1,1,1,1,1,1,1,1,259.85000000000002,{"$f":"IF(Base_Arbres!V53<>\"\",VLOOKUP($A114,Base_Arbres,22,FALSE)*Crit7,\"\")","v":60}]
[{"$f":"IF(Base_Arbres!A51<>\"\",Base_Arbres!A51,\"\")","v":"Frêne à fleurs"},{"$f":"IF(Base_Arbres!A51<>\"\",VLOOKUP($A115,Base_Arbres,3,FALSE)*Crit1,\"\")","v":30.950000000000003},{"$f":"IF(Base_Arbres!A51<>\"\",VLOOKUP($A115,Base_Arbres,4,FALSE)*Crit2,\"\")","v":20.85},{"$f":"IF(Base_Arbres!A51<>\"\",VLOOKUP($A115,Base_Arbres,5,FALSE)*Crit3,\"\")","v":30.4},{"$f":"IF(Base_Arbres!A51<>\"\",VLOOKUP($A115,Base_Arbres,6,FALSE)*Crit4,\"\")","v":19},{"$f":"IF(Base_Arbres!B51<>\"\",VLOOKUP($A115,Base_Arbres,7,FALSE)*Crit5,\"\")","v":29.5},{"$f":"IF(Base_Arbres!C51<>\"\",VLOOKUP($A115,Base_Arbres,8,FALSE)*crit8,\"\")","v":10},{"$f":"IF(Base_Arbres!D51<>\"\",VLOOKUP($A115,Base_Arbres,9,FALSE)*crit9,\"\")","v":15},{"$f":"IF(ISNA(VLOOKUP(INDEX(Base_Typologie!$A$6:$P$1003,MATCH(A115,Base_Typologie!$A:$A,0)-5,MATCH(Typologie_Espace_Public,Base_Typologie!$6:$6,0)),TableauScoreTypologie2,2,FALSE)*Crit6),0,VLOOKUP(INDEX(Base_Typologie!$A$6:$P$1003,MATCH(A115,Base_Typologie!$A:$A,0)-5,MATCH(Typologie_Espace_Public,Base_Typologie!$6:$6,0)),TableauScoreTypologie2,2,FALSE)*Crit6)","v":30},1,1,1,1,1,1,1,1,1,1,1,1,305.7,{"$f":"IF(Base_Arbres!V49<>\"\",VLOOKUP($A115,Base_Arbres,22,FALSE)*Crit7,\"\")","v":80}]
[{"$f":"IF(Base_Arbres!A12<>\"\",Base_Arbres!A12,\"\")","v":"Marronnier rouge"},{"$f":"IF(Base_Arbres!A12<>\"\",VLOOKUP($A116,Base_Arbres,3,FALSE)*Crit1,\"\")","v":29.950000000000003},{"$f":"IF(Base_Arbres!A12<>\"\",VLOOKUP($A116,Base_Arbres,4,FALSE)*Crit2,\"\")","v":27},{"$f":"IF(Base_Arbres!A12<>\"\",VLOOKUP($A116,Base_Arbres,5,FALSE)*Crit3,\"\")","v":34.049999999999997},{"$f":"IF(Base_Arbres!A12<>\"\",VLOOKUP($A116,Base_Arbres,6,FALSE)*Crit4,\"\")","v":14.5},{"$f":"IF(Base_Arbres!B12<>\"\",VLOOKUP($A116,Base_Arbres,7,FALSE)*Crit5,\"\")","v":33.5},{"$f":"IF(Base_Arbres!C12<>\"\",VLOOKUP($A116,Base_Arbres,8,FALSE)*crit8,\"\")","v":20},{"$f":"IF(Base_Arbres!D12<>\"\",VLOOKUP($A116,Base_Arbres,9,FALSE)*crit9,\"\")","v":15},{"$f":"IF(ISNA(VLOOKUP(INDEX(Base_Typologie!$A$6:$P$1003,MATCH(A116,Base_Typologie!$A:$A,0)-5,MATCH(Typologie_Espace_Public,Base_Typologie!$6:$6,0)),TableauScoreTypologie2,2,FALSE)*Crit6),0,VLOOKUP(INDEX(Base_Typologie!$A$6:$P$1003,MATCH(A116,Base_Typologie!$A:$A,0)-5,MATCH(Typologie_Espace_Public,Base_Typologie!$6:$6,0)),TableauScoreTypologie2,2,FALSE)*Crit6)","v":30},1,1,1,1,1,1,1,1,1,1,1,1,294,{"$f":"IF(Base_Arbres!V85<>\"\",VLOOKUP($A116,Base_Arbres,22,FALSE)*Crit7,\"\")","v":60}]
[{"$f":"IF(Base_Arbres!A9<>\"\",Base_Arbres!A9,\"\")","v":"Erable rouge Scanlon"},{"$f":"IF(Base_Arbres!A9<>\"\",VLOOKUP($A117,Base_Arbres,3,FALSE)*Crit1,\"\")","v":28.55},{"$f":"IF(Base_Arbres!A9<>\"\",VLOOKUP($A117,Base_Arbres,4,FALSE)*Crit2,\"\")","v":25.45},{"$f":"IF(Base_Arbres!A9<>\"\",VLOOKUP($A117,Base_Arbres,5,FALSE)*Crit3,\"\")","v":32.799999999999997},{"$f":"IF(Base_Arbres!A9<>\"\",VLOOKUP($A117,Base_Arbres,6,FALSE)*Crit4,\"\")","v":16.5},{"$f":"IF(Base_Arbres!B9<>\"\",VLOOKUP($A117,Base_Arbres,7,FALSE)*Crit5,\"\")","v":32.5},{"$f":"IF(Base_Arbres!C9<>\"\",VLOOKUP($A117,Base_Arbres,8,FALSE)*crit8,\"\")","v":20},{"$f":"IF(Base_Arbres!D9<>\"\",VLOOKUP($A117,Base_Arbres,9,FALSE)*crit9,\"\")","v":15},{"$f":"IF(ISNA(VLOOKUP(INDEX(Base_Typologie!$A$6:$P$1003,MATCH(A117,Base_Typologie!$A:$A,0)-5,MATCH(Typologie_Espace_Public,Base_Typologie!$6:$6,0)),TableauScoreTypologie2,2,FALSE)*Crit6),0,VLOOKUP(INDEX(Base_Typologie!$A$6:$P$1003,MATCH(A117,Base_Typologie!$A:$A,0)-5,MATCH(Typologie_Espace_Public,Base_Typologie!$6:$6,0)),TableauScoreTypologie2,2,FALSE)*Crit6)","v":30},1,1,1,1,1,1,1,1,1,1,1,1,290.8,{"$f":"IF(Base_Arbres!V40<>\"\",VLOOKUP($A117,Base_Arbres,22,FALSE)*Crit7,\"\")","v":60}]
[{"$f":"IF(Base_Arbres!A20<>\"\",Base_Arbres!A20,\"\")","v":"Bouleau pubescent"},{"$f":"IF(Base_Arbres!A20<>\"\",VLOOKUP($A118,Base_Arbres,3,FALSE)*Crit1,\"\")","v":20.65},{"$f":"IF(Base_Arbres!A20<>\"\",VLOOKUP($A118,Base_Arbres,4,FALSE)*Crit2,\"\")","v":27.5},{"$f":"IF(Base_Arbres!A20<>\"\",VLOOKUP($A118,Base_Arbres,5,FALSE)*Crit3,\"\")","v":27.1},{"$f":"IF(Base_Arbres!A20<>\"\",VLOOKUP($A118,Base_Arbres,6,FALSE)*Crit4,\"\")","v":29},{"$f":"IF(Base_Arbres!B20<>\"\",VLOOKUP($A118,Base_Arbres,7,FALSE)*Crit5,\"\")","v":30},{"$f":"IF(Base_Arbres!C20<>\"\",VLOOKUP($A118,Base_Arbres,8,FALSE)*crit8,\"\")","v":16.649999999999999},{"$f":"IF(Base_Arbres!D20<>\"\",VLOOKUP($A118,Base_Arbres,9,FALSE)*crit9,\"\")","v":15},{"$f":"IF(ISNA(VLOOKUP(INDEX(Base_Typologie!$A$6:$P$1003,MATCH(A118,Base_Typologie!$A:$A,0)-5,MATCH(Typologie_Espace_Public,Base_Typologie!$6:$6,0)),TableauScoreTypologie2,2,FALSE)*Crit6),0,VLOOKUP(INDEX(Base_Typologie!$A$6:$P$1003,MATCH(A118,Base_Typologie!$A:$A,0)-5,MATCH(Typologie_Espace_Public,Base_Typologie!$6:$6,0)),TableauScoreTypologie2,2,FALSE)*Crit6)","v":10},1,1,1,1,1,1,1,1,1,1,1,1,250.9,{"$f":"IF(Base_Arbres!V23<>\"\",VLOOKUP($A118,Base_Arbres,22,FALSE)*Crit7,\"\")","v":50}]
[{"$f":"IF(Base_Arbres!A77<>\"\",Base_Arbres!A77,\"\")","v":"Parrotie de Perse, Arbre de fer"},{"$f":"IF(Base_Arbres!A77<>\"\",VLOOKUP($A119,Base_Arbres,3,FALSE)*Crit1,\"\")","v":25.6},{"$f":"IF(Base_Arbres!A77<>\"\",VLOOKUP($A119,Base_Arbres,4,FALSE)*Crit2,\"\")","v":23.700000000000003},{"$f":"IF(Base_Arbres!A77<>\"\",VLOOKUP($A119,Base_Arbres,5,FALSE)*Crit3,\"\")","v":28.849999999999998},{"$f":"IF(Base_Arbres!A77<>\"\",VLOOKUP($A119,Base_Arbres,6,FALSE)*Crit4,\"\")","v":10.5},{"$f":"IF(Base_Arbres!B77<>\"\",VLOOKUP($A119,Base_Arbres,7,FALSE)*Crit5,\"\")","v":28},{"$f":"IF(Base_Arbres!C77<>\"\",VLOOKUP($A119,Base_Arbres,8,FALSE)*crit8,\"\")","v":10},{"$f":"IF(Base_Arbres!D77<>\"\",VLOOKUP($A119,Base_Arbres,9,FALSE)*crit9,\"\")","v":15},{"$f":"IF(ISNA(VLOOKUP(INDEX(Base_Typologie!$A$6:$P$1003,MATCH(A119,Base_Typologie!$A:$A,0)-5,MATCH(Typologie_Espace_Public,Base_Typologie!$6:$6,0)),TableauScoreTypologie2,2,FALSE)*Crit6),0,VLOOKUP(INDEX(Base_Typologie!$A$6:$P$1003,MATCH(A119,Base_Typologie!$A:$A,0)-5,MATCH(Typologie_Espace_Public,Base_Typologie!$6:$6,0)),TableauScoreTypologie2,2,FALSE)*Crit6)","v":10},1,1,1,1,1,1,1,1,1,1,1,1,271.64999999999998,{"$f":"IF(Base_Arbres!V22<>\"\",VLOOKUP($A119,Base_Arbres,22,FALSE)*Crit7,\"\")","v":80}]
[{"$f":"IF(Base_Arbres!A128<>\"\",Base_Arbres!A128,\"\")","v":"Orme de montagne"},{"$f":"IF(Base_Arbres!A128<>\"\",VLOOKUP($A120,Base_Arbres,3,FALSE)*Crit1,\"\")","v":27.5},{"$f":"IF(Base_Arbres!A128<>\"\",VLOOKUP($A120,Base_Arbres,4,FALSE)*Crit2,\"\")","v":30.55},{"$f":"IF(Base_Arbres!A128<>\"\",VLOOKUP($A120,Base_Arbres,5,FALSE)*Crit3,\"\")","v":37.599999999999994},{"$f":"IF(Base_Arbres!A128<>\"\",VLOOKUP($A120,Base_Arbres,6,FALSE)*Crit4,\"\")","v":16.5},{"$f":"IF(Base_Arbres!B128<>\"\",VLOOKUP($A120,Base_Arbres,7,FALSE)*Crit5,\"\")","v":35},{"$f":"IF(Base_Arbres!C128<>\"\",VLOOKUP($A120,Base_Arbres,8,FALSE)*crit8,\"\")","v":40},{"$f":"IF(Base_Arbres!D128<>\"\",VLOOKUP($A120,Base_Arbres,9,FALSE)*crit9,\"\")","v":15},{"$f":"IF(ISNA(VLOOKUP(INDEX(Base_Typologie!$A$6:$P$1003,MATCH(A120,Base_Typologie!$A:$A,0)-5,MATCH(Typologie_Espace_Public,Base_Typologie!$6:$6,0)),TableauScoreTypologie2,2,FALSE)*Crit6),0,VLOOKUP(INDEX(Base_Typologie!$A$6:$P$1003,MATCH(A120,Base_Typologie!$A:$A,0)-5,MATCH(Typologie_Espace_Public,Base_Typologie!$6:$6,0)),TableauScoreTypologie2,2,FALSE)*Crit6)","v":30},1,1,1,1,1,1,1,1,1,1,1,1,292.14999999999998,{"$f":"IF(Base_Arbres!V19<>\"\",VLOOKUP($A120,Base_Arbres,22,FALSE)*Crit7,\"\")","v":40}]
[{"$f":"IF(Base_Arbres!A74<>\"\",Base_Arbres!A74,\"\")","v":"Metaséquoia, Métaséquoia du Sechuan"},{"$f":"IF(Base_Arbres!A74<>\"\",VLOOKUP($A121,Base_Arbres,3,FALSE)*Crit1,\"\")","v":14},{"$f":"IF(Base_Arbres!A74<>\"\",VLOOKUP($A121,Base_Arbres,4,FALSE)*Crit2,\"\")","v":27},{"$f":"IF(Base_Arbres!A74<>\"\",VLOOKUP($A121,Base_Arbres,5,FALSE)*Crit3,\"\")","v":19.25},{"$f":"IF(Base_Arbres!A74<>\"\",VLOOKUP($A121,Base_Arbres,6,FALSE)*Crit4,\"\")","v":5},{"$f":"IF(Base_Arbres!B74<>\"\",VLOOKUP($A121,Base_Arbres,7,FALSE)*Crit5,\"\")","v":22},{"$f":"IF(Base_Arbres!C74<>\"\",VLOOKUP($A121,Base_Arbres,8,FALSE)*crit8,\"\")","v":40},{"$f":"IF(Base_Arbres!D74<>\"\",VLOOKUP($A121,Base_Arbres,9,FALSE)*crit9,\"\")","v":15},{"$f":"IF(ISNA(VLOOKUP(INDEX(Base_Typologie!$A$6:$P$1003,MATCH(A121,Base_Typologie!$A:$A,0)-5,MATCH(Typologie_Espace_Public,Base_Typologie!$6:$6,0)),TableauScoreTypologie2,2,FALSE)*Crit6),0,VLOOKUP(INDEX(Base_Typologie!$A$6:$P$1003,MATCH(A121,Base_Typologie!$A:$A,0)-5,MATCH(Typologie_Espace_Public,Base_Typologie!$6:$6,0)),TableauScoreTypologie2,2,FALSE)*Crit6)","v":50},1,1,1,1,1,1,1,1,1,1,1,1,282.25,{"$f":"IF(Base_Arbres!V14<>\"\",VLOOKUP($A121,Base_Arbres,22,FALSE)*Crit7,\"\")","v":60}]
[{"$f":"IF(Base_Arbres!A8<>\"\",Base_Arbres!A8,\"\")","v":"Érable rouge d'Amérique"},{"$f":"IF(Base_Arbres!A8<>\"\",VLOOKUP($A122,Base_Arbres,3,FALSE)*Crit1,\"\")","v":24.950000000000003},{"$f":"IF(Base_Arbres!A8<>\"\",VLOOKUP($A122,Base_Arbres,4,FALSE)*Crit2,\"\")","v":29},{"$f":"IF(Base_Arbres!A8<>\"\",VLOOKUP($A122,Base_Arbres,5,FALSE)*Crit3,\"\")","v":35.950000000000003},{"$f":"IF(Base_Arbres!A8<>\"\",VLOOKUP($A122,Base_Arbres,6,FALSE)*Crit4,\"\")","v":16.5},{"$f":"IF(Base_Arbres!B8<>\"\",VLOOKUP($A122,Base_Arbres,7,FALSE)*Crit5,\"\")","v":38},{"$f":"IF(Base_Arbres!C8<>\"\",VLOOKUP($A122,Base_Arbres,8,FALSE)*crit8,\"\")","v":20},{"$f":"IF(Base_Arbres!D8<>\"\",VLOOKUP($A122,Base_Arbres,9,FALSE)*crit9,\"\")","v":15},{"$f":"IF(ISNA(VLOOKUP(INDEX(Base_Typologie!$A$6:$P$1003,MATCH(A122,Base_Typologie!$A:$A,0)-5,MATCH(Typologie_Espace_Public,Base_Typologie!$6:$6,0)),TableauScoreTypologie2,2,FALSE)*Crit6),0,VLOOKUP(INDEX(Base_Typologie!$A$6:$P$1003,MATCH(A122,Base_Typologie!$A:$A,0)-5,MATCH(Typologie_Espace_Public,Base_Typologie!$6:$6,0)),TableauScoreTypologie2,2,FALSE)*Crit6)","v":50},1,1,1,1,1,1,1,1,1,1,1,1,289.39999999999998,{"$f":"IF(Base_Arbres!V84<>\"\",VLOOKUP($A122,Base_Arbres,22,FALSE)*Crit7,\"\")","v":40}]
[{"$f":"IF(Base_Arbres!A129<>\"\",Base_Arbres!A129,\"\")","v":"Orme lisse"},{"$f":"IF(Base_Arbres!A129<>\"\",VLOOKUP($A123,Base_Arbres,3,FALSE)*Crit1,\"\")","v":25.6},{"$f":"IF(Base_Arbres!A129<>\"\",VLOOKUP($A123,Base_Arbres,4,FALSE)*Crit2,\"\")","v":29.4},{"$f":"IF(Base_Arbres!A129<>\"\",VLOOKUP($A123,Base_Arbres,5,FALSE)*Crit3,\"\")","v":35.099999999999994},{"$f":"IF(Base_Arbres!A129<>\"\",VLOOKUP($A123,Base_Arbres,6,FALSE)*Crit4,\"\")","v":12.5},{"$f":"IF(Base_Arbres!B129<>\"\",VLOOKUP($A123,Base_Arbres,7,FALSE)*Crit5,\"\")","v":32},{"$f":"IF(Base_Arbres!C129<>\"\",VLOOKUP($A123,Base_Arbres,8,FALSE)*crit8,\"\")","v":20},{"$f":"IF(Base_Arbres!D129<>\"\",VLOOKUP($A123,Base_Arbres,9,FALSE)*crit9,\"\")","v":15},{"$f":"IF(ISNA(VLOOKUP(INDEX(Base_Typologie!$A$6:$P$1003,MATCH(A123,Base_Typologie!$A:$A,0)-5,MATCH(Typologie_Espace_Public,Base_Typologie!$6:$6,0)),TableauScoreTypologie2,2,FALSE)*Crit6),0,VLOOKUP(INDEX(Base_Typologie!$A$6:$P$1003,MATCH(A123,Base_Typologie!$A:$A,0)-5,MATCH(Typologie_Espace_Public,Base_Typologie!$6:$6,0)),TableauScoreTypologie2,2,FALSE)*Crit6)","v":30},1,1,1,1,1,1,1,1,1,1,1,1,244.6,{"$f":"IF(Base_Arbres!V21<>\"\",VLOOKUP($A123,Base_Arbres,22,FALSE)*Crit7,\"\")","v":30}]
[{"$f":"IF(Base_Arbres!A25<>\"\",Base_Arbres!A25,\"\")","v":"Caryer glabre"},{"$f":"IF(Base_Arbres!A25<>\"\",VLOOKUP($A124,Base_Arbres,3,FALSE)*Crit1,\"\")","v":37.599999999999994},{"$f":"IF(Base_Arbres!A25<>\"\",VLOOKUP($A124,Base_Arbres,4,FALSE)*Crit2,\"\")","v":24.849999999999998},{"$f":"IF(Base_Arbres!A25<>\"\",VLOOKUP($A124,Base_Arbres,5,FALSE)*Crit3,\"\")","v":39.15},{"$f":"IF(Base_Arbres!A25<>\"\",VLOOKUP($A124,Base_Arbres,6,FALSE)*Crit4,\"\")","v":6.5},{"$f":"IF(Base_Arbres!B25<>\"\",VLOOKUP($A124,Base_Arbres,7,FALSE)*Crit5,\"\")","v":34},{"$f":"IF(Base_Arbres!C25<>\"\",VLOOKUP($A124,Base_Arbres,8,FALSE)*crit8,\"\")","v":20},{"$f":"IF(Base_Arbres!D25<>\"\",VLOOKUP($A124,Base_Arbres,9,FALSE)*crit9,\"\")","v":15},{"$f":"IF(ISNA(VLOOKUP(INDEX(Base_Typologie!$A$6:$P$1003,MATCH(A124,Base_Typologie!$A:$A,0)-5,MATCH(Typologie_Espace_Public,Base_Typologie!$6:$6,0)),TableauScoreTypologie2,2,FALSE)*Crit6),0,VLOOKUP(INDEX(Base_Typologie!$A$6:$P$1003,MATCH(A124,Base_Typologie!$A:$A,0)-5,MATCH(Typologie_Espace_Public,Base_Typologie!$6:$6,0)),TableauScoreTypologie2,2,FALSE)*Crit6)","v":10},1,1,1,1,1,1,1,1,1,1,1,1,262.10000000000002,{"$f":"IF(Base_Arbres!V52<>\"\",VLOOKUP($A124,Base_Arbres,22,FALSE)*Crit7,\"\")","v":50}]
[{"$f":"IF(Base_Arbres!A60<>\"\",Base_Arbres!A60,\"\")","v":"Savonnier de chine"},{"$f":"IF(Base_Arbres!A60<>\"\",VLOOKUP($A125,Base_Arbres,3,FALSE)*Crit1,\"\")","v":30.5},{"$f":"IF(Base_Arbres!A60<>\"\",VLOOKUP($A125,Base_Arbres,4,FALSE)*Crit2,\"\")","v":20.55},{"$f":"IF(Base_Arbres!A60<>\"\",VLOOKUP($A125,Base_Arbres,5,FALSE)*Crit3,\"\")","v":28},{"$f":"IF(Base_Arbres!A60<>\"\",VLOOKUP($A125,Base_Arbres,6,FALSE)*Crit4,\"\")","v":8.5},{"$f":"IF(Base_Arbres!B60<>\"\",VLOOKUP($A125,Base_Arbres,7,FALSE)*Crit5,\"\")","v":27.5},{"$f":"IF(Base_Arbres!C60<>\"\",VLOOKUP($A125,Base_Arbres,8,FALSE)*crit8,\"\")","v":10},{"$f":"IF(Base_Arbres!D60<>\"\",VLOOKUP($A125,Base_Arbres,9,FALSE)*crit9,\"\")","v":15},{"$f":"IF(ISNA(VLOOKUP(INDEX(Base_Typologie!$A$6:$P$1003,MATCH(A125,Base_Typologie!$A:$A,0)-5,MATCH(Typologie_Espace_Public,Base_Typologie!$6:$6,0)),TableauScoreTypologie2,2,FALSE)*Crit6),0,VLOOKUP(INDEX(Base_Typologie!$A$6:$P$1003,MATCH(A125,Base_Typologie!$A:$A,0)-5,MATCH(Typologie_Espace_Public,Base_Typologie!$6:$6,0)),TableauScoreTypologie2,2,FALSE)*Crit6)","v":10},1,1,1,1,1,1,1,1,1,1,1,1,270.05,{"$f":"IF(Base_Arbres!V64<>\"\",VLOOKUP($A125,Base_Arbres,22,FALSE)*Crit7,\"\")","v":80}]
[{"$f":"IF(Base_Arbres!A69<>\"\",Base_Arbres!A69,\"\")","v":"Pommier sauvage"},{"$f":"IF(Base_Arbres!A69<>\"\",VLOOKUP($A126,Base_Arbres,3,FALSE)*Crit1,\"\")","v":29.4},{"$f":"IF(Base_Arbres!A69<>\"\",VLOOKUP($A126,Base_Arbres,4,FALSE)*Crit2,\"\")","v":20.25},{"$f":"IF(Base_Arbres!A69<>\"\",VLOOKUP($A126,Base_Arbres,5,FALSE)*Crit3,\"\")","v":27.599999999999998},{"$f":"IF(Base_Arbres!A69<>\"\",VLOOKUP($A126,Base_Arbres,6,FALSE)*Crit4,\"\")","v":29},{"$f":"IF(Base_Arbres!B69<>\"\",VLOOKUP($A126,Base_Arbres,7,FALSE)*Crit5,\"\")","v":28},{"$f":"IF(Base_Arbres!C69<>\"\",VLOOKUP($A126,Base_Arbres,8,FALSE)*crit8,\"\")","v":10},{"$f":"IF(Base_Arbres!D69<>\"\",VLOOKUP($A126,Base_Arbres,9,FALSE)*crit9,\"\")","v":30},{"$f":"IF(ISNA(VLOOKUP(INDEX(Base_Typologie!$A$6:$P$1003,MATCH(A126,Base_Typologie!$A:$A,0)-5,MATCH(Typologie_Espace_Public,Base_Typologie!$6:$6,0)),TableauScoreTypologie2,2,FALSE)*Crit6),0,VLOOKUP(INDEX(Base_Typologie!$A$6:$P$1003,MATCH(A126,Base_Typologie!$A:$A,0)-5,MATCH(Typologie_Espace_Public,Base_Typologie!$6:$6,0)),TableauScoreTypologie2,2,FALSE)*Crit6)","v":10},1,1,1,1,1,1,1,1,1,1,1,1,244.25,{"$f":"IF(Base_Arbres!V51<>\"\",VLOOKUP($A126,Base_Arbres,22,FALSE)*Crit7,\"\")","v":40}]
[{"$f":"IF(Base_Arbres!A61<>\"\",Base_Arbres!A61,\"\")","v":"Mélèze d’Europe"},{"$f":"IF(Base_Arbres!A61<>\"\",VLOOKUP($A127,Base_Arbres,3,FALSE)*Crit1,\"\")","v":15.2},{"$f":"IF(Base_Arbres!A61<>\"\",VLOOKUP($A127,Base_Arbres,4,FALSE)*Crit2,\"\")","v":27},{"$f":"IF(Base_Arbres!A61<>\"\",VLOOKUP($A127,Base_Arbres,5,FALSE)*Crit3,\"\")","v":22.400000000000002},{"$f":"IF(Base_Arbres!A61<>\"\",VLOOKUP($A127,Base_Arbres,6,FALSE)*Crit4,\"\")","v":6.5},{"$f":"IF(Base_Arbres!B61<>\"\",VLOOKUP($A127,Base_Arbres,7,FALSE)*Crit5,\"\")","v":25},{"$f":"IF(Base_Arbres!C61<>\"\",VLOOKUP($A127,Base_Arbres,8,FALSE)*crit8,\"\")","v":20},{"$f":"IF(Base_Arbres!D61<>\"\",VLOOKUP($A127,Base_Arbres,9,FALSE)*crit9,\"\")","v":15},{"$f":"IF(ISNA(VLOOKUP(INDEX(Base_Typologie!$A$6:$P$1003,MATCH(A127,Base_Typologie!$A:$A,0)-5,MATCH(Typologie_Espace_Public,Base_Typologie!$6:$6,0)),TableauScoreTypologie2,2,FALSE)*Crit6),0,VLOOKUP(INDEX(Base_Typologie!$A$6:$P$1003,MATCH(A127,Base_Typologie!$A:$A,0)-5,MATCH(Typologie_Espace_Public,Base_Typologie!$6:$6,0)),TableauScoreTypologie2,2,FALSE)*Crit6)","v":10},1,1,1,1,1,1,1,1,1,1,1,1,246.10000000000002,{"$f":"IF(Base_Arbres!V96<>\"\",VLOOKUP($A127,Base_Arbres,22,FALSE)*Crit7,\"\")","v":70}]
[{"$f":"IF(Base_Arbres!A78<>\"\",Base_Arbres!A78,\"\")","v":"Paulownia Fast Blue"},{"$f":"IF(Base_Arbres!A78<>\"\",VLOOKUP($A128,Base_Arbres,3,FALSE)*Crit1,\"\")","v":35.699999999999996},{"$f":"IF(Base_Arbres!A78<>\"\",VLOOKUP($A128,Base_Arbres,4,FALSE)*Crit2,\"\")","v":24.4},{"$f":"IF(Base_Arbres!A78<>\"\",VLOOKUP($A128,Base_Arbres,5,FALSE)*Crit3,\"\")","v":35.4},{"$f":"IF(Base_Arbres!A78<>\"\",VLOOKUP($A128,Base_Arbres,6,FALSE)*Crit4,\"\")","v":4},{"$f":"IF(Base_Arbres!B78<>\"\",VLOOKUP($A128,Base_Arbres,7,FALSE)*Crit5,\"\")","v":29.5},{"$f":"IF(Base_Arbres!C78<>\"\",VLOOKUP($A128,Base_Arbres,8,FALSE)*crit8,\"\")","v":10},{"$f":"IF(Base_Arbres!D78<>\"\",VLOOKUP($A128,Base_Arbres,9,FALSE)*crit9,\"\")","v":15},{"$f":"IF(ISNA(VLOOKUP(INDEX(Base_Typologie!$A$6:$P$1003,MATCH(A128,Base_Typologie!$A:$A,0)-5,MATCH(Typologie_Espace_Public,Base_Typologie!$6:$6,0)),TableauScoreTypologie2,2,FALSE)*Crit6),0,VLOOKUP(INDEX(Base_Typologie!$A$6:$P$1003,MATCH(A128,Base_Typologie!$A:$A,0)-5,MATCH(Typologie_Espace_Public,Base_Typologie!$6:$6,0)),TableauScoreTypologie2,2,FALSE)*Crit6)","v":30},1,1,1,1,1,1,1,1,1,1,1,1,259,{"$f":"IF(Base_Arbres!V20<>\"\",VLOOKUP($A128,Base_Arbres,22,FALSE)*Crit7,\"\")","v":50}]
[{"$f":"IF(Base_Arbres!A83<>\"\",Base_Arbres!A83,\"\")","v":"Pistachier de Chine"},{"$f":"IF(Base_Arbres!A83<>\"\",VLOOKUP($A129,Base_Arbres,3,FALSE)*Crit1,\"\")","v":30},{"$f":"IF(Base_Arbres!A83<>\"\",VLOOKUP($A129,Base_Arbres,4,FALSE)*Crit2,\"\")","v":20.25},{"$f":"IF(Base_Arbres!A83<>\"\",VLOOKUP($A129,Base_Arbres,5,FALSE)*Crit3,\"\")","v":29.15},{"$f":"IF(Base_Arbres!A83<>\"\",VLOOKUP($A129,Base_Arbres,6,FALSE)*Crit4,\"\")","v":4},{"$f":"IF(Base_Arbres!B83<>\"\",VLOOKUP($A129,Base_Arbres,7,FALSE)*Crit5,\"\")","v":28.5},{"$f":"IF(Base_Arbres!C83<>\"\",VLOOKUP($A129,Base_Arbres,8,FALSE)*crit8,\"\")","v":13.35},{"$f":"IF(Base_Arbres!D83<>\"\",VLOOKUP($A129,Base_Arbres,9,FALSE)*crit9,\"\")","v":15},{"$f":"IF(ISNA(VLOOKUP(INDEX(Base_Typologie!$A$6:$P$1003,MATCH(A129,Base_Typologie!$A:$A,0)-5,MATCH(Typologie_Espace_Public,Base_Typologie!$6:$6,0)),TableauScoreTypologie2,2,FALSE)*Crit6),0,VLOOKUP(INDEX(Base_Typologie!$A$6:$P$1003,MATCH(A129,Base_Typologie!$A:$A,0)-5,MATCH(Typologie_Espace_Public,Base_Typologie!$6:$6,0)),TableauScoreTypologie2,2,FALSE)*Crit6)","v":50},1,1,1,1,1,1,1,1,1,1,1,1,280.25,{"$f":"IF(Base_Arbres!V24<>\"\",VLOOKUP($A129,Base_Arbres,22,FALSE)*Crit7,\"\")","v":60}]
[{"$f":"IF(Base_Arbres!A115<>\"\",Base_Arbres!A115,\"\")","v":"Séquoia géant"},{"$f":"IF(Base_Arbres!A115<>\"\",VLOOKUP($A130,Base_Arbres,3,FALSE)*Crit1,\"\")","v":17.549999999999997},{"$f":"IF(Base_Arbres!A115<>\"\",VLOOKUP($A130,Base_Arbres,4,FALSE)*Crit2,\"\")","v":36.1},{"$f":"IF(Base_Arbres!A115<>\"\",VLOOKUP($A130,Base_Arbres,5,FALSE)*Crit3,\"\")","v":23.15},{"$f":"IF(Base_Arbres!A115<>\"\",VLOOKUP($A130,Base_Arbres,6,FALSE)*Crit4,\"\")","v":10.5},{"$f":"IF(Base_Arbres!B115<>\"\",VLOOKUP($A130,Base_Arbres,7,FALSE)*Crit5,\"\")","v":28.5},{"$f":"IF(Base_Arbres!C115<>\"\",VLOOKUP($A130,Base_Arbres,8,FALSE)*crit8,\"\")","v":50},{"$f":"IF(Base_Arbres!D115<>\"\",VLOOKUP($A130,Base_Arbres,9,FALSE)*crit9,\"\")","v":15},{"$f":"IF(ISNA(VLOOKUP(INDEX(Base_Typologie!$A$6:$P$1003,MATCH(A130,Base_Typologie!$A:$A,0)-5,MATCH(Typologie_Espace_Public,Base_Typologie!$6:$6,0)),TableauScoreTypologie2,2,FALSE)*Crit6),0,VLOOKUP(INDEX(Base_Typologie!$A$6:$P$1003,MATCH(A130,Base_Typologie!$A:$A,0)-5,MATCH(Typologie_Espace_Public,Base_Typologie!$6:$6,0)),TableauScoreTypologie2,2,FALSE)*Crit6)","v":10},{"$f":"IF(A130<>\"\",IF(LEFT(VLOOKUP($A130,Base_Arbres,10,FALSE),1)>=LEFT(Cont_Racines,1),0,1),0)","v":1},{"$f":"IF(A130<>\"\",IF(LEFT(VLOOKUP($A130,Base_Arbres,11,FALSE),1)>=LEFT(Cont_Branches,1),0,1),0)","v":1},{"$f":"IF(A130<>\"\",IF(LEFT(VLOOKUP($A130,Base_Arbres,12,FALSE),1)>=LEFT(Cont_Chablis,1),0,1),0)","v":1},{"$f":"IF(A130<>\"\",IF(LEFT(VLOOKUP($A130,Base_Arbres,13,FALSE),1)>=LEFT(Cont_Fructifications,1),0,1),0)","v":1},{"$f":"IF(A130<>\"\",IF(LEFT(VLOOKUP($A130,Base_Arbres,14,FALSE),1)>=LEFT(Cont_Miellat,1),0,1),0)","v":1},{"$f":"IF(A130<>\"\",IF(LEFT(VLOOKUP($A130,Base_Arbres,15,FALSE),1)>=LEFT(Cont_Fruits_Toxiques,1),0,1),0)","v":1},{"$f":"IF(A130<>\"\",IF(LEFT(VLOOKUP($A130,Base_Arbres,16,FALSE),1)>=LEFT(Cont_Hauteur,1),0,1),0)","v":1},{"$f":"IF(A130<>\"\",IF(LEFT(VLOOKUP($A130,Base_Arbres,17,FALSE),1)>=LEFT(Cont_Envergure,1),0,1),0)","v":1},{"$f":"IF(A130<>\"\",IF(LEFT(VLOOKUP($A130,Base_Arbres,18,FALSE),1)>=LEFT(Cont_pollen,1),0,1),0)","v":1},{"$f":"IF(B130<>\"\",IF(LEFT(VLOOKUP($A130,Base_Arbres,19,FALSE),1)>=LEFT(Cont_malodo,1),0,1),0)","v":1},{"$f":"IF(A130<>\"\",IF(LEFT(VLOOKUP($A130,Base_Arbres,20,FALSE),1)>=LEFT(Cont_chenilles,1),0,1),0)","v":1},{"$f":"IF(A130<>\"\",IF(LEFT(VLOOKUP($A130,Base_Arbres,21,FALSE),1)>=LEFT(Cont_epineux,1),0,1),0)","v":1},{"$f":"(SUM(B130:I130)+W130*1.5)*J130*K130*L130*M130*N130*O130*P130*Q130*R130*S130*T130*U130","v":220.8},{"$f":"IF(Base_Arbres!V25<>\"\",VLOOKUP($A130,Base_Arbres,22,FALSE)*Crit7,\"\")","v":20}]
[{"$f":"IF(Base_Arbres!A71<>\"\",Base_Arbres!A71,\"\")","v":"Pommier trilobé"},{"$f":"IF(Base_Arbres!A71<>\"\",VLOOKUP($A131,Base_Arbres,3,FALSE)*Crit1,\"\")","v":20.299999999999997},{"$f":"IF(Base_Arbres!A71<>\"\",VLOOKUP($A131,Base_Arbres,4,FALSE)*Crit2,\"\")","v":26.6},{"$f":"IF(Base_Arbres!A71<>\"\",VLOOKUP($A131,Base_Arbres,5,FALSE)*Crit3,\"\")","v":27.5},{"$f":"IF(Base_Arbres!A71<>\"\",VLOOKUP($A131,Base_Arbres,6,FALSE)*Crit4,\"\")","v":19},{"$f":"IF(Base_Arbres!B71<>\"\",VLOOKUP($A131,Base_Arbres,7,FALSE)*Crit5,\"\")","v":26.5},{"$f":"IF(Base_Arbres!C71<>\"\",VLOOKUP($A131,Base_Arbres,8,FALSE)*crit8,\"\")","v":10},{"$f":"IF(Base_Arbres!D71<>\"\",VLOOKUP($A131,Base_Arbres,9,FALSE)*crit9,\"\")","v":15},{"$f":"IF(ISNA(VLOOKUP(INDEX(Base_Typologie!$A$6:$P$1003,MATCH(A131,Base_Typologie!$A:$A,0)-5,MATCH(Typologie_Espace_Public,Base_Typologie!$6:$6,0)),TableauScoreTypologie2,2,FALSE)*Crit6),0,VLOOKUP(INDEX(Base_Typologie!$A$6:$P$1003,MATCH(A131,Base_Typologie!$A:$A,0)-5,MATCH(Typologie_Espace_Public,Base_Typologie!$6:$6,0)),TableauScoreTypologie2,2,FALSE)*Crit6)","v":10},1,1,1,1,1,1,1,1,1,1,1,1,199.9,{"$f":"IF(Base_Arbres!V81<>\"\",VLOOKUP($A131,Base_Arbres,22,FALSE)*Crit7,\"\")","v":30}]
[{"$f":"IF(Base_Arbres!A21<>\"\",Base_Arbres!A21,\"\")","v":"Bouleau blanc de l'Himalaya"},{"$f":"IF(Base_Arbres!A21<>\"\",VLOOKUP($A132,Base_Arbres,3,FALSE)*Crit1,\"\")","v":25.950000000000003},{"$f":"IF(Base_Arbres!A21<>\"\",VLOOKUP($A132,Base_Arbres,4,FALSE)*Crit2,\"\")","v":23.900000000000002},{"$f":"IF(Base_Arbres!A21<>\"\",VLOOKUP($A132,Base_Arbres,5,FALSE)*Crit3,\"\")","v":28.55},{"$f":"IF(Base_Arbres!A21<>\"\",VLOOKUP($A132,Base_Arbres,6,FALSE)*Crit4,\"\")","v":12.5},{"$f":"IF(Base_Arbres!B21<>\"\",VLOOKUP($A132,Base_Arbres,7,FALSE)*Crit5,\"\")","v":32.5},{"$f":"IF(Base_Arbres!C21<>\"\",VLOOKUP($A132,Base_Arbres,8,FALSE)*crit8,\"\")","v":6.65},{"$f":"IF(Base_Arbres!D21<>\"\",VLOOKUP($A132,Base_Arbres,9,FALSE)*crit9,\"\")","v":15},{"$f":"IF(ISNA(VLOOKUP(INDEX(Base_Typologie!$A$6:$P$1003,MATCH(A132,Base_Typologie!$A:$A,0)-5,MATCH(Typologie_Espace_Public,Base_Typologie!$6:$6,0)),TableauScoreTypologie2,2,FALSE)*Crit6),0,VLOOKUP(INDEX(Base_Typologie!$A$6:$P$1003,MATCH(A132,Base_Typologie!$A:$A,0)-5,MATCH(Typologie_Espace_Public,Base_Typologie!$6:$6,0)),TableauScoreTypologie2,2,FALSE)*Crit6)","v":10},1,1,1,1,1,1,1,1,1,1,1,1,170.05,{"$f":"IF(Base_Arbres!V15<>\"\",VLOOKUP($A132,Base_Arbres,22,FALSE)*Crit7,\"\")","v":10}]
[{"$f":"IF(Base_Arbres!A33<>\"\",Base_Arbres!A33,\"\")","v":"Arbre au caramel"},{"$f":"IF(Base_Arbres!A33<>\"\",VLOOKUP($A133,Base_Arbres,3,FALSE)*Crit1,\"\")","v":32.700000000000003},{"$f":"IF(Base_Arbres!A33<>\"\",VLOOKUP($A133,Base_Arbres,4,FALSE)*Crit2,\"\")","v":23.3},{"$f":"IF(Base_Arbres!A33<>\"\",VLOOKUP($A133,Base_Arbres,5,FALSE)*Crit3,\"\")","v":32.5},{"$f":"IF(Base_Arbres!A33<>\"\",VLOOKUP($A133,Base_Arbres,6,FALSE)*Crit4,\"\")","v":5},{"$f":"IF(Base_Arbres!B33<>\"\",VLOOKUP($A133,Base_Arbres,7,FALSE)*Crit5,\"\")","v":33},{"$f":"IF(Base_Arbres!C33<>\"\",VLOOKUP($A133,Base_Arbres,8,FALSE)*crit8,\"\")","v":10},{"$f":"IF(Base_Arbres!D33<>\"\",VLOOKUP($A133,Base_Arbres,9,FALSE)*crit9,\"\")","v":15},{"$f":"IF(ISNA(VLOOKUP(INDEX(Base_Typologie!$A$6:$P$1003,MATCH(A133,Base_Typologie!$A:$A,0)-5,MATCH(Typologie_Espace_Public,Base_Typologie!$6:$6,0)),TableauScoreTypologie2,2,FALSE)*Crit6),0,VLOOKUP(INDEX(Base_Typologie!$A$6:$P$1003,MATCH(A133,Base_Typologie!$A:$A,0)-5,MATCH(Typologie_Espace_Public,Base_Typologie!$6:$6,0)),TableauScoreTypologie2,2,FALSE)*Crit6)","v":10},1,1,1,1,1,1,1,1,1,1,1,1,206.5,{"$f":"IF(Base_Arbres!V16<>\"\",VLOOKUP($A133,Base_Arbres,22,FALSE)*Crit7,\"\")","v":30}]
[{"$f":"IF(Base_Arbres!A114<>\"\",Base_Arbres!A114,\"\")","v":"Séquoia toujours vert"},{"$f":"IF(Base_Arbres!A114<>\"\",VLOOKUP($A134,Base_Arbres,3,FALSE)*Crit1,\"\")","v":17.350000000000001},{"$f":"IF(Base_Arbres!A114<>\"\",VLOOKUP($A134,Base_Arbres,4,FALSE)*Crit2,\"\")","v":35.65},{"$f":"IF(Base_Arbres!A114<>\"\",VLOOKUP($A134,Base_Arbres,5,FALSE)*Crit3,\"\")","v":22.599999999999998},{"$f":"IF(Base_Arbres!A114<>\"\",VLOOKUP($A134,Base_Arbres,6,FALSE)*Crit4,\"\")","v":8.5},{"$f":"IF(Base_Arbres!B114<>\"\",VLOOKUP($A134,Base_Arbres,7,FALSE)*Crit5,\"\")","v":29.5},{"$f":"IF(Base_Arbres!C114<>\"\",VLOOKUP($A134,Base_Arbres,8,FALSE)*crit8,\"\")","v":50},{"$f":"IF(Base_Arbres!D114<>\"\",VLOOKUP($A134,Base_Arbres,9,FALSE)*crit9,\"\")","v":15},{"$f":"IF(ISNA(VLOOKUP(INDEX(Base_Typologie!$A$6:$P$1003,MATCH(A134,Base_Typologie!$A:$A,0)-5,MATCH(Typologie_Espace_Public,Base_Typologie!$6:$6,0)),TableauScoreTypologie2,2,FALSE)*Crit6),0,VLOOKUP(INDEX(Base_Typologie!$A$6:$P$1003,MATCH(A134,Base_Typologie!$A:$A,0)-5,MATCH(Typologie_Espace_Public,Base_Typologie!$6:$6,0)),TableauScoreTypologie2,2,FALSE)*Crit6)","v":10},1,1,1,1,1,1,1,1,1,1,1,1,188.6,{"$f":"IF(Base_Arbres!V18<>\"\",VLOOKUP($A134,Base_Arbres,22,FALSE)*Crit7,\"\")","v":0}]
[{"$f":"IF(Base_Arbres!A135<>\"\",Base_Arbres!A135,\"\")","v":""},{"$f":"IF(Base_Arbres!A135<>\"\",VLOOKUP($A135,Base_Arbres,3,FALSE)*Crit1,\"\")","v":""},{"$f":"IF(Base_Arbres!A135<>\"\",VLOOKUP($A135,Base_Arbres,4,FALSE)*Crit2,\"\")","v":""},{"$f":"IF(Base_Arbres!A135<>\"\",VLOOKUP($A135,Base_Arbres,5,FALSE)*Crit3,\"\")","v":""},{"$f":"IF(Base_Arbres!A135<>\"\",VLOOKUP($A135,Base_Arbres,6,FALSE)*Crit4,\"\")","v":""},{"$f":"IF(Base_Arbres!B135<>\"\",VLOOKUP($A135,Base_Arbres,7,FALSE)*Crit5,\"\")","v":""},{"$f":"IF(Base_Arbres!C135<>\"\",VLOOKUP($A135,Base_Arbres,8,FALSE)*crit8,\"\")","v":""},{"$f":"IF(Base_Arbres!D135<>\"\",VLOOKUP($A135,Base_Arbres,9,FALSE)*crit9,\"\")","v":""},{"$f":"IF(ISNA(VLOOKUP(INDEX(Base_Typologie!$A$6:$P$1003,MATCH(A135,Base_Typologie!$A:$A,0)-5,MATCH(Typologie_Espace_Public,Base_Typologie!$6:$6,0)),TableauScoreTypologie2,2,FALSE)*Crit6),0,VLOOKUP(INDEX(Base_Typologie!$A$6:$P$1003,MATCH(A135,Base_Typologie!$A:$A,0)-5,MATCH(Typologie_Espace_Public,Base_Typologie!$6:$6,0)),TableauScoreTypologie2,2,FALSE)*Crit6)","v":0},0,0,0,0,0,0,0,0,0,0,0,0,null,{"$f":"IF(Base_Arbres!A238<>\"\",VLOOKUP($A135,Base_Arbres,4,FALSE)*Crit7,\"\")","v":""}]
[{"$f":"IF(Base_Arbres!A136<>\"\",Base_Arbres!A136,\"\")","v":""},{"$f":"IF(Base_Arbres!A136<>\"\",VLOOKUP($A136,Base_Arbres,3,FALSE)*Crit1,\"\")","v":""},{"$f":"IF(Base_Arbres!A136<>\"\",VLOOKUP($A136,Base_Arbres,4,FALSE)*Crit2,\"\")","v":""},{"$f":"IF(Base_Arbres!A136<>\"\",VLOOKUP($A136,Base_Arbres,5,FALSE)*Crit3,\"\")","v":""},{"$f":"IF(Base_Arbres!A136<>\"\",VLOOKUP($A136,Base_Arbres,6,FALSE)*Crit4,\"\")","v":""},{"$f":"IF(Base_Arbres!B136<>\"\",VLOOKUP($A136,Base_Arbres,7,FALSE)*Crit5,\"\")","v":""},{"$f":"IF(Base_Arbres!C136<>\"\",VLOOKUP($A136,Base_Arbres,8,FALSE)*crit8,\"\")","v":""},{"$f":"IF(Base_Arbres!D136<>\"\",VLOOKUP($A136,Base_Arbres,9,FALSE)*crit9,\"\")","v":""},{"$f":"IF(ISNA(VLOOKUP(INDEX(Base_Typologie!$A$6:$P$1003,MATCH(A136,Base_Typologie!$A:$A,0)-5,MATCH(Typologie_Espace_Public,Base_Typologie!$6:$6,0)),TableauScoreTypologie2,2,FALSE)*Crit6),0,VLOOKUP(INDEX(Base_Typologie!$A$6:$P$1003,MATCH(A136,Base_Typologie!$A:$A,0)-5,MATCH(Typologie_Espace_Public,Base_Typologie!$6:$6,0)),TableauScoreTypologie2,2,FALSE)*Crit6)","v":0},0,0,0,0,0,0,0,0,0,0,0,0,null,{"$f":"IF(Base_Arbres!A239<>\"\",VLOOKUP($A136,Base_Arbres,4,FALSE)*Crit7,\"\")","v":""}]
[{"$f":"IF(Base_Arbres!A137<>\"\",Base_Arbres!A137,\"\")","v":""},{"$f":"IF(Base_Arbres!A137<>\"\",VLOOKUP($A137,Base_Arbres,3,FALSE)*Crit1,\"\")","v":""},{"$f":"IF(Base_Arbres!A137<>\"\",VLOOKUP($A137,Base_Arbres,4,FALSE)*Crit2,\"\")","v":""},{"$f":"IF(Base_Arbres!A137<>\"\",VLOOKUP($A137,Base_Arbres,5,FALSE)*Crit3,\"\")","v":""},{"$f":"IF(Base_Arbres!A137<>\"\",VLOOKUP($A137,Base_Arbres,6,FALSE)*Crit4,\"\")","v":""},{"$f":"IF(Base_Arbres!B137<>\"\",VLOOKUP($A137,Base_Arbres,7,FALSE)*Crit5,\"\")","v":""},{"$f":"IF(Base_Arbres!C137<>\"\",VLOOKUP($A137,Base_Arbres,8,FALSE)*crit8,\"\")","v":""},{"$f":"IF(Base_Arbres!D137<>\"\",VLOOKUP($A137,Base_Arbres,9,FALSE)*crit9,\"\")","v":""},{"$f":"IF(ISNA(VLOOKUP(INDEX(Base_Typologie!$A$6:$P$1003,MATCH(A137,Base_Typologie!$A:$A,0)-5,MATCH(Typologie_Espace_Public,Base_Typologie!$6:$6,0)),TableauScoreTypologie2,2,FALSE)*Crit6),0,VLOOKUP(INDEX(Base_Typologie!$A$6:$P$1003,MATCH(A137,Base_Typologie!$A:$A,0)-5,MATCH(Typologie_Espace_Public,Base_Typologie!$6:$6,0)),TableauScoreTypologie2,2,FALSE)*Crit6)","v":0},0,0,0,0,0,0,0,0,0,0,0,0,null,{"$f":"IF(Base_Arbres!A240<>\"\",VLOOKUP($A137,Base_Arbres,4,FALSE)*Crit7,\"\")","v":""}]
[{"$f":"IF(Base_Arbres!A138<>\"\",Base_Arbres!A138,\"\")","v":""},{"$f":"IF(Base_Arbres!A138<>\"\",VLOOKUP($A138,Base_Arbres,3,FALSE)*Crit1,\"\")","v":""},{"$f":"IF(Base_Arbres!A138<>\"\",VLOOKUP($A138,Base_Arbres,4,FALSE)*Crit2,\"\")","v":""},{"$f":"IF(Base_Arbres!A138<>\"\",VLOOKUP($A138,Base_Arbres,5,FALSE)*Crit3,\"\")","v":""},{"$f":"IF(Base_Arbres!A138<>\"\",VLOOKUP($A138,Base_Arbres,6,FALSE)*Crit4,\"\")","v":""},{"$f":"IF(Base_Arbres!B138<>\"\",VLOOKUP($A138,Base_Arbres,7,FALSE)*Crit5,\"\")","v":""},{"$f":"IF(Base_Arbres!C138<>\"\",VLOOKUP($A138,Base_Arbres,8,FALSE)*crit8,\"\")","v":""},{"$f":"IF(Base_Arbres!D138<>\"\",VLOOKUP($A138,Base_Arbres,9,FALSE)*crit9,\"\")","v":""},{"$f":"IF(ISNA(VLOOKUP(INDEX(Base_Typologie!$A$6:$P$1003,MATCH(A138,Base_Typologie!$A:$A,0)-5,MATCH(Typologie_Espace_Public,Base_Typologie!$6:$6,0)),TableauScoreTypologie2,2,FALSE)*Crit6),0,VLOOKUP(INDEX(Base_Typologie!$A$6:$P$1003,MATCH(A138,Base_Typologie!$A:$A,0)-5,MATCH(Typologie_Espace_Public,Base_Typologie!$6:$6,0)),TableauScoreTypologie2,2,FALSE)*Crit6)","v":0},0,0,0,0,0,0,0,0,0,0,0,0,null,{"$f":"IF(Base_Arbres!A241<>\"\",VLOOKUP($A138,Base_Arbres,4,FALSE)*Crit7,\"\")","v":""}]
[{"$f":"IF(Base_Arbres!A139<>\"\",Base_Arbres!A139,\"\")","v":""},{"$f":"IF(Base_Arbres!A139<>\"\",VLOOKUP($A139,Base_Arbres,3,FALSE)*Crit1,\"\")","v":""},{"$f":"IF(Base_Arbres!A139<>\"\",VLOOKUP($A139,Base_Arbres,4,FALSE)*Crit2,\"\")","v":""},{"$f":"IF(Base_Arbres!A139<>\"\",VLOOKUP($A139,Base_Arbres,5,FALSE)*Crit3,\"\")","v":""},{"$f":"IF(Base_Arbres!A139<>\"\",VLOOKUP($A139,Base_Arbres,6,FALSE)*Crit4,\"\")","v":""},{"$f":"IF(Base_Arbres!B139<>\"\",VLOOKUP($A139,Base_Arbres,7,FALSE)*Crit5,\"\")","v":""},{"$f":"IF(Base_Arbres!C139<>\"\",VLOOKUP($A139,Base_Arbres,8,FALSE)*crit8,\"\")","v":""},{"$f":"IF(Base_Arbres!D139<>\"\",VLOOKUP($A139,Base_Arbres,9,FALSE)*crit9,\"\")","v":""},{"$f":"IF(ISNA(VLOOKUP(INDEX(Base_Typologie!$A$6:$P$1003,MATCH(A139,Base_Typologie!$A:$A,0)-5,MATCH(Typologie_Espace_Public,Base_Typologie!$6:$6,0)),TableauScoreTypologie2,2,FALSE)*Crit6),0,VLOOKUP(INDEX(Base_Typologie!$A$6:$P$1003,MATCH(A139,Base_Typologie!$A:$A,0)-5,MATCH(Typologie_Espace_Public,Base_Typologie!$6:$6,0)),TableauScoreTypologie2,2,FALSE)*Crit6)","v":0},0,0,0,0,0,0,0,0,0,0,0,0,null,{"$f":"IF(Base_Arbres!A242<>\"\",VLOOKUP($A139,Base_Arbres,4,FALSE)*Crit7,\"\")","v":""}]
[{"$f":"IF(Base_Arbres!A140<>\"\",Base_Arbres!A140,\"\")","v":""},{"$f":"IF(Base_Arbres!A140<>\"\",VLOOKUP($A140,Base_Arbres,3,FALSE)*Crit1,\"\")","v":""},{"$f":"IF(Base_Arbres!A140<>\"\",VLOOKUP($A140,Base_Arbres,4,FALSE)*Crit2,\"\")","v":""},{"$f":"IF(Base_Arbres!A140<>\"\",VLOOKUP($A140,Base_Arbres,5,FALSE)*Crit3,\"\")","v":""},{"$f":"IF(Base_Arbres!A140<>\"\",VLOOKUP($A140,Base_Arbres,6,FALSE)*Crit4,\"\")","v":""},{"$f":"IF(Base_Arbres!B140<>\"\",VLOOKUP($A140,Base_Arbres,7,FALSE)*Crit5,\"\")","v":""},{"$f":"IF(Base_Arbres!C140<>\"\",VLOOKUP($A140,Base_Arbres,8,FALSE)*crit8,\"\")","v":""},{"$f":"IF(Base_Arbres!D140<>\"\",VLOOKUP($A140,Base_Arbres,9,FALSE)*crit9,\"\")","v":""},{"$f":"IF(ISNA(VLOOKUP(INDEX(Base_Typologie!$A$6:$P$1003,MATCH(A140,Base_Typologie!$A:$A,0)-5,MATCH(Typologie_Espace_Public,Base_Typologie!$6:$6,0)),TableauScoreTypologie2,2,FALSE)*Crit6),0,VLOOKUP(INDEX(Base_Typologie!$A$6:$P$1003,MATCH(A140,Base_Typologie!$A:$A,0)-5,MATCH(Typologie_Espace_Public,Base_Typologie!$6:$6,0)),TableauScoreTypologie2,2,FALSE)*Crit6)","v":0},0,0,0,0,0,0,0,0,0,0,0,0,null,{"$f":"IF(Base_Arbres!A243<>\"\",VLOOKUP($A140,Base_Arbres,4,FALSE)*Crit7,\"\")","v":""}]
[{"$f":"IF(Base_Arbres!A141<>\"\",Base_Arbres!A141,\"\")","v":""},{"$f":"IF(Base_Arbres!A141<>\"\",VLOOKUP($A141,Base_Arbres,3,FALSE)*Crit1,\"\")","v":""},{"$f":"IF(Base_Arbres!A141<>\"\",VLOOKUP($A141,Base_Arbres,4,FALSE)*Crit2,\"\")","v":""},{"$f":"IF(Base_Arbres!A141<>\"\",VLOOKUP($A141,Base_Arbres,5,FALSE)*Crit3,\"\")","v":""},{"$f":"IF(Base_Arbres!A141<>\"\",VLOOKUP($A141,Base_Arbres,6,FALSE)*Crit4,\"\")","v":""},{"$f":"IF(Base_Arbres!B141<>\"\",VLOOKUP($A141,Base_Arbres,7,FALSE)*Crit5,\"\")","v":""},{"$f":"IF(Base_Arbres!C141<>\"\",VLOOKUP($A141,Base_Arbres,8,FALSE)*crit8,\"\")","v":""},{"$f":"IF(Base_Arbres!D141<>\"\",VLOOKUP($A141,Base_Arbres,9,FALSE)*crit9,\"\")","v":""},{"$f":"IF(ISNA(VLOOKUP(INDEX(Base_Typologie!$A$6:$P$1003,MATCH(A141,Base_Typologie!$A:$A,0)-5,MATCH(Typologie_Espace_Public,Base_Typologie!$6:$6,0)),TableauScoreTypologie2,2,FALSE)*Crit6),0,VLOOKUP(INDEX(Base_Typologie!$A$6:$P$1003,MATCH(A141,Base_Typologie!$A:$A,0)-5,MATCH(Typologie_Espace_Public,Base_Typologie!$6:$6,0)),TableauScoreTypologie2,2,FALSE)*Crit6)","v":0},0,0,0,0,0,0,0,0,0,0,0,0,null,{"$f":"IF(Base_Arbres!A244<>\"\",VLOOKUP($A141,Base_Arbres,4,FALSE)*Crit7,\"\")","v":""}]
[{"$f":"IF(Base_Arbres!A142<>\"\",Base_Arbres!A142,\"\")","v":""},{"$f":"IF(Base_Arbres!A142<>\"\",VLOOKUP($A142,Base_Arbres,3,FALSE)*Crit1,\"\")","v":""},{"$f":"IF(Base_Arbres!A142<>\"\",VLOOKUP($A142,Base_Arbres,4,FALSE)*Crit2,\"\")","v":""},{"$f":"IF(Base_Arbres!A142<>\"\",VLOOKUP($A142,Base_Arbres,5,FALSE)*Crit3,\"\")","v":""},{"$f":"IF(Base_Arbres!A142<>\"\",VLOOKUP($A142,Base_Arbres,6,FALSE)*Crit4,\"\")","v":""},{"$f":"IF(Base_Arbres!B142<>\"\",VLOOKUP($A142,Base_Arbres,7,FALSE)*Crit5,\"\")","v":""},{"$f":"IF(Base_Arbres!C142<>\"\",VLOOKUP($A142,Base_Arbres,8,FALSE)*crit8,\"\")","v":""},{"$f":"IF(Base_Arbres!D142<>\"\",VLOOKUP($A142,Base_Arbres,9,FALSE)*crit9,\"\")","v":""},{"$f":"IF(ISNA(VLOOKUP(INDEX(Base_Typologie!$A$6:$P$1003,MATCH(A142,Base_Typologie!$A:$A,0)-5,MATCH(Typologie_Espace_Public,Base_Typologie!$6:$6,0)),TableauScoreTypologie2,2,FALSE)*Crit6),0,VLOOKUP(INDEX(Base_Typologie!$A$6:$P$1003,MATCH(A142,Base_Typologie!$A:$A,0)-5,MATCH(Typologie_Espace_Public,Base_Typologie!$6:$6,0)),TableauScoreTypologie2,2,FALSE)*Crit6)","v":0},0,0,0,0,0,0,0,0,0,0,0,0,null,{"$f":"IF(Base_Arbres!A245<>\"\",VLOOKUP($A142,Base_Arbres,4,FALSE)*Crit7,\"\")","v":""}]
[{"$f":"IF(Base_Arbres!A143<>\"\",Base_Arbres!A143,\"\")","v":""},{"$f":"IF(Base_Arbres!A143<>\"\",VLOOKUP($A143,Base_Arbres,3,FALSE)*Crit1,\"\")","v":""},{"$f":"IF(Base_Arbres!A143<>\"\",VLOOKUP($A143,Base_Arbres,4,FALSE)*Crit2,\"\")","v":""},{"$f":"IF(Base_Arbres!A143<>\"\",VLOOKUP($A143,Base_Arbres,5,FALSE)*Crit3,\"\")","v":""},{"$f":"IF(Base_Arbres!A143<>\"\",VLOOKUP($A143,Base_Arbres,6,FALSE)*Crit4,\"\")","v":""},{"$f":"IF(Base_Arbres!B143<>\"\",VLOOKUP($A143,Base_Arbres,7,FALSE)*Crit5,\"\")","v":""},{"$f":"IF(Base_Arbres!C143<>\"\",VLOOKUP($A143,Base_Arbres,8,FALSE)*crit8,\"\")","v":""},{"$f":"IF(Base_Arbres!D143<>\"\",VLOOKUP($A143,Base_Arbres,9,FALSE)*crit9,\"\")","v":""},{"$f":"IF(ISNA(VLOOKUP(INDEX(Base_Typologie!$A$6:$P$1003,MATCH(A143,Base_Typologie!$A:$A,0)-5,MATCH(Typologie_Espace_Public,Base_Typologie!$6:$6,0)),TableauScoreTypologie2,2,FALSE)*Crit6),0,VLOOKUP(INDEX(Base_Typologie!$A$6:$P$1003,MATCH(A143,Base_Typologie!$A:$A,0)-5,MATCH(Typologie_Espace_Public,Base_Typologie!$6:$6,0)),TableauScoreTypologie2,2,FALSE)*Crit6)","v":0},0,0,0,0,0,0,0,0,0,0,0,0,null,{"$f":"IF(Base_Arbres!A246<>\"\",VLOOKUP($A143,Base_Arbres,4,FALSE)*Crit7,\"\")","v":""}]
[{"$f":"IF(Base_Arbres!A144<>\"\",Base_Arbres!A144,\"\")","v":""},{"$f":"IF(Base_Arbres!A144<>\"\",VLOOKUP($A144,Base_Arbres,3,FALSE)*Crit1,\"\")","v":""},{"$f":"IF(Base_Arbres!A144<>\"\",VLOOKUP($A144,Base_Arbres,4,FALSE)*Crit2,\"\")","v":""},{"$f":"IF(Base_Arbres!A144<>\"\",VLOOKUP($A144,Base_Arbres,5,FALSE)*Crit3,\"\")","v":""},{"$f":"IF(Base_Arbres!A144<>\"\",VLOOKUP($A144,Base_Arbres,6,FALSE)*Crit4,\"\")","v":""},{"$f":"IF(Base_Arbres!B144<>\"\",VLOOKUP($A144,Base_Arbres,7,FALSE)*Crit5,\"\")","v":""},{"$f":"IF(Base_Arbres!C144<>\"\",VLOOKUP($A144,Base_Arbres,8,FALSE)*crit8,\"\")","v":""},{"$f":"IF(Base_Arbres!D144<>\"\",VLOOKUP($A144,Base_Arbres,9,FALSE)*crit9,\"\")","v":""},{"$f":"IF(ISNA(VLOOKUP(INDEX(Base_Typologie!$A$6:$P$1003,MATCH(A144,Base_Typologie!$A:$A,0)-5,MATCH(Typologie_Espace_Public,Base_Typologie!$6:$6,0)),TableauScoreTypologie2,2,FALSE)*Crit6),0,VLOOKUP(INDEX(Base_Typologie!$A$6:$P$1003,MATCH(A144,Base_Typologie!$A:$A,0)-5,MATCH(Typologie_Espace_Public,Base_Typologie!$6:$6,0)),TableauScoreTypologie2,2,FALSE)*Crit6)","v":0},0,0,0,0,0,0,0,0,0,0,0,0,null,{"$f":"IF(Base_Arbres!A247<>\"\",VLOOKUP($A144,Base_Arbres,4,FALSE)*Crit7,\"\")","v":""}]
[{"$f":"IF(Base_Arbres!A145<>\"\",Base_Arbres!A145,\"\")","v":""},{"$f":"IF(Base_Arbres!A145<>\"\",VLOOKUP($A145,Base_Arbres,3,FALSE)*Crit1,\"\")","v":""},{"$f":"IF(Base_Arbres!A145<>\"\",VLOOKUP($A145,Base_Arbres,4,FALSE)*Crit2,\"\")","v":""},{"$f":"IF(Base_Arbres!A145<>\"\",VLOOKUP($A145,Base_Arbres,5,FALSE)*Crit3,\"\")","v":""},{"$f":"IF(Base_Arbres!A145<>\"\",VLOOKUP($A145,Base_Arbres,6,FALSE)*Crit4,\"\")","v":""},{"$f":"IF(Base_Arbres!B145<>\"\",VLOOKUP($A145,Base_Arbres,7,FALSE)*Crit5,\"\")","v":""},{"$f":"IF(Base_Arbres!C145<>\"\",VLOOKUP($A145,Base_Arbres,8,FALSE)*crit8,\"\")","v":""},{"$f":"IF(Base_Arbres!D145<>\"\",VLOOKUP($A145,Base_Arbres,9,FALSE)*crit9,\"\")","v":""},{"$f":"IF(ISNA(VLOOKUP(INDEX(Base_Typologie!$A$6:$P$1003,MATCH(A145,Base_Typologie!$A:$A,0)-5,MATCH(Typologie_Espace_Public,Base_Typologie!$6:$6,0)),TableauScoreTypologie2,2,FALSE)*Crit6),0,VLOOKUP(INDEX(Base_Typologie!$A$6:$P$1003,MATCH(A145,Base_Typologie!$A:$A,0)-5,MATCH(Typologie_Espace_Public,Base_Typologie!$6:$6,0)),TableauScoreTypologie2,2,FALSE)*Crit6)","v":0},0,0,0,0,0,0,0,0,0,0,0,0,null,{"$f":"IF(Base_Arbres!A248<>\"\",VLOOKUP($A145,Base_Arbres,4,FALSE)*Crit7,\"\")","v":""}]
[{"$f":"IF(Base_Arbres!A146<>\"\",Base_Arbres!A146,\"\")","v":""},{"$f":"IF(Base_Arbres!A146<>\"\",VLOOKUP($A146,Base_Arbres,3,FALSE)*Crit1,\"\")","v":""},{"$f":"IF(Base_Arbres!A146<>\"\",VLOOKUP($A146,Base_Arbres,4,FALSE)*Crit2,\"\")","v":""},{"$f":"IF(Base_Arbres!A146<>\"\",VLOOKUP($A146,Base_Arbres,5,FALSE)*Crit3,\"\")","v":""},{"$f":"IF(Base_Arbres!A146<>\"\",VLOOKUP($A146,Base_Arbres,6,FALSE)*Crit4,\"\")","v":""},{"$f":"IF(Base_Arbres!B146<>\"\",VLOOKUP($A146,Base_Arbres,7,FALSE)*Crit5,\"\")","v":""},{"$f":"IF(Base_Arbres!C146<>\"\",VLOOKUP($A146,Base_Arbres,8,FALSE)*crit8,\"\")","v":""},{"$f":"IF(Base_Arbres!D146<>\"\",VLOOKUP($A146,Base_Arbres,9,FALSE)*crit9,\"\")","v":""},{"$f":"IF(ISNA(VLOOKUP(INDEX(Base_Typologie!$A$6:$P$1003,MATCH(A146,Base_Typologie!$A:$A,0)-5,MATCH(Typologie_Espace_Public,Base_Typologie!$6:$6,0)),TableauScoreTypologie2,2,FALSE)*Crit6),0,VLOOKUP(INDEX(Base_Typologie!$A$6:$P$1003,MATCH(A146,Base_Typologie!$A:$A,0)-5,MATCH(Typologie_Espace_Public,Base_Typologie!$6:$6,0)),TableauScoreTypologie2,2,FALSE)*Crit6)","v":0},0,0,0,0,0,0,0,0,0,0,0,0,null,{"$f":"IF(Base_Arbres!A249<>\"\",VLOOKUP($A146,Base_Arbres,4,FALSE)*Crit7,\"\")","v":""}]
[{"$f":"IF(Base_Arbres!A147<>\"\",Base_Arbres!A147,\"\")","v":""},{"$f":"IF(Base_Arbres!A147<>\"\",VLOOKUP($A147,Base_Arbres,3,FALSE)*Crit1,\"\")","v":""},{"$f":"IF(Base_Arbres!A147<>\"\",VLOOKUP($A147,Base_Arbres,4,FALSE)*Crit2,\"\")","v":""},{"$f":"IF(Base_Arbres!A147<>\"\",VLOOKUP($A147,Base_Arbres,5,FALSE)*Crit3,\"\")","v":""},{"$f":"IF(Base_Arbres!A147<>\"\",VLOOKUP($A147,Base_Arbres,6,FALSE)*Crit4,\"\")","v":""},{"$f":"IF(Base_Arbres!B147<>\"\",VLOOKUP($A147,Base_Arbres,7,FALSE)*Crit5,\"\")","v":""},{"$f":"IF(Base_Arbres!C147<>\"\",VLOOKUP($A147,Base_Arbres,8,FALSE)*crit8,\"\")","v":""},{"$f":"IF(Base_Arbres!D147<>\"\",VLOOKUP($A147,Base_Arbres,9,FALSE)*crit9,\"\")","v":""},{"$f":"IF(ISNA(VLOOKUP(INDEX(Base_Typologie!$A$6:$P$1003,MATCH(A147,Base_Typologie!$A:$A,0)-5,MATCH(Typologie_Espace_Public,Base_Typologie!$6:$6,0)),TableauScoreTypologie2,2,FALSE)*Crit6),0,VLOOKUP(INDEX(Base_Typologie!$A$6:$P$1003,MATCH(A147,Base_Typologie!$A:$A,0)-5,MATCH(Typologie_Espace_Public,Base_Typologie!$6:$6,0)),TableauScoreTypologie2,2,FALSE)*Crit6)","v":0},0,0,0,0,0,0,0,0,0,0,0,0,null,{"$f":"IF(Base_Arbres!A250<>\"\",VLOOKUP($A147,Base_Arbres,4,FALSE)*Crit7,\"\")","v":""}]
[{"$f":"IF(Base_Arbres!A148<>\"\",Base_Arbres!A148,\"\")","v":""},{"$f":"IF(Base_Arbres!A148<>\"\",VLOOKUP($A148,Base_Arbres,3,FALSE)*Crit1,\"\")","v":""},{"$f":"IF(Base_Arbres!A148<>\"\",VLOOKUP($A148,Base_Arbres,4,FALSE)*Crit2,\"\")","v":""},{"$f":"IF(Base_Arbres!A148<>\"\",VLOOKUP($A148,Base_Arbres,5,FALSE)*Crit3,\"\")","v":""},{"$f":"IF(Base_Arbres!A148<>\"\",VLOOKUP($A148,Base_Arbres,6,FALSE)*Crit4,\"\")","v":""},{"$f":"IF(Base_Arbres!B148<>\"\",VLOOKUP($A148,Base_Arbres,7,FALSE)*Crit5,\"\")","v":""},{"$f":"IF(Base_Arbres!C148<>\"\",VLOOKUP($A148,Base_Arbres,8,FALSE)*crit8,\"\")","v":""},{"$f":"IF(Base_Arbres!D148<>\"\",VLOOKUP($A148,Base_Arbres,9,FALSE)*crit9,\"\")","v":""},{"$f":"IF(ISNA(VLOOKUP(INDEX(Base_Typologie!$A$6:$P$1003,MATCH(A148,Base_Typologie!$A:$A,0)-5,MATCH(Typologie_Espace_Public,Base_Typologie!$6:$6,0)),TableauScoreTypologie2,2,FALSE)*Crit6),0,VLOOKUP(INDEX(Base_Typologie!$A$6:$P$1003,MATCH(A148,Base_Typologie!$A:$A,0)-5,MATCH(Typologie_Espace_Public,Base_Typologie!$6:$6,0)),TableauScoreTypologie2,2,FALSE)*Crit6)","v":0},0,0,0,0,0,0,0,0,0,0,0,0,null,{"$f":"IF(Base_Arbres!A251<>\"\",VLOOKUP($A148,Base_Arbres,4,FALSE)*Crit7,\"\")","v":""}]
[{"$f":"IF(Base_Arbres!A149<>\"\",Base_Arbres!A149,\"\")","v":""},{"$f":"IF(Base_Arbres!A149<>\"\",VLOOKUP($A149,Base_Arbres,3,FALSE)*Crit1,\"\")","v":""},{"$f":"IF(Base_Arbres!A149<>\"\",VLOOKUP($A149,Base_Arbres,4,FALSE)*Crit2,\"\")","v":""},{"$f":"IF(Base_Arbres!A149<>\"\",VLOOKUP($A149,Base_Arbres,5,FALSE)*Crit3,\"\")","v":""},{"$f":"IF(Base_Arbres!A149<>\"\",VLOOKUP($A149,Base_Arbres,6,FALSE)*Crit4,\"\")","v":""},{"$f":"IF(Base_Arbres!B149<>\"\",VLOOKUP($A149,Base_Arbres,7,FALSE)*Crit5,\"\")","v":""},{"$f":"IF(Base_Arbres!C149<>\"\",VLOOKUP($A149,Base_Arbres,8,FALSE)*crit8,\"\")","v":""},{"$f":"IF(Base_Arbres!D149<>\"\",VLOOKUP($A149,Base_Arbres,9,FALSE)*crit9,\"\")","v":""},{"$f":"IF(ISNA(VLOOKUP(INDEX(Base_Typologie!$A$6:$P$1003,MATCH(A149,Base_Typologie!$A:$A,0)-5,MATCH(Typologie_Espace_Public,Base_Typologie!$6:$6,0)),TableauScoreTypologie2,2,FALSE)*Crit6),0,VLOOKUP(INDEX(Base_Typologie!$A$6:$P$1003,MATCH(A149,Base_Typologie!$A:$A,0)-5,MATCH(Typologie_Espace_Public,Base_Typologie!$6:$6,0)),TableauScoreTypologie2,2,FALSE)*Crit6)","v":0},0,0,0,0,0,0,0,0,0,0,0,0,null,{"$f":"IF(Base_Arbres!A252<>\"\",VLOOKUP($A149,Base_Arbres,4,FALSE)*Crit7,\"\")","v":""}]
[{"$f":"IF(Base_Arbres!A150<>\"\",Base_Arbres!A150,\"\")","v":""},{"$f":"IF(Base_Arbres!A150<>\"\",VLOOKUP($A150,Base_Arbres,3,FALSE)*Crit1,\"\")","v":""},{"$f":"IF(Base_Arbres!A150<>\"\",VLOOKUP($A150,Base_Arbres,4,FALSE)*Crit2,\"\")","v":""},{"$f":"IF(Base_Arbres!A150<>\"\",VLOOKUP($A150,Base_Arbres,5,FALSE)*Crit3,\"\")","v":""},{"$f":"IF(Base_Arbres!A150<>\"\",VLOOKUP($A150,Base_Arbres,6,FALSE)*Crit4,\"\")","v":""},{"$f":"IF(Base_Arbres!B150<>\"\",VLOOKUP($A150,Base_Arbres,7,FALSE)*Crit5,\"\")","v":""},{"$f":"IF(Base_Arbres!C150<>\"\",VLOOKUP($A150,Base_Arbres,8,FALSE)*crit8,\"\")","v":""},{"$f":"IF(Base_Arbres!D150<>\"\",VLOOKUP($A150,Base_Arbres,9,FALSE)*crit9,\"\")","v":""},{"$f":"IF(ISNA(VLOOKUP(INDEX(Base_Typologie!$A$6:$P$1003,MATCH(A150,Base_Typologie!$A:$A,0)-5,MATCH(Typologie_Espace_Public,Base_Typologie!$6:$6,0)),TableauScoreTypologie2,2,FALSE)*Crit6),0,VLOOKUP(INDEX(Base_Typologie!$A$6:$P$1003,MATCH(A150,Base_Typologie!$A:$A,0)-5,MATCH(Typologie_Espace_Public,Base_Typologie!$6:$6,0)),TableauScoreTypologie2,2,FALSE)*Crit6)","v":0},0,0,0,0,0,0,0,0,0,0,0,0,null,{"$f":"IF(Base_Arbres!A253<>\"\",VLOOKUP($A150,Base_Arbres,4,FALSE)*Crit7,\"\")","v":""}]
[{"$f":"IF(Base_Arbres!A151<>\"\",Base_Arbres!A151,\"\")","v":""},{"$f":"IF(Base_Arbres!A151<>\"\",VLOOKUP($A151,Base_Arbres,3,FALSE)*Crit1,\"\")","v":""},{"$f":"IF(Base_Arbres!A151<>\"\",VLOOKUP($A151,Base_Arbres,4,FALSE)*Crit2,\"\")","v":""},{"$f":"IF(Base_Arbres!A151<>\"\",VLOOKUP($A151,Base_Arbres,5,FALSE)*Crit3,\"\")","v":""},{"$f":"IF(Base_Arbres!A151<>\"\",VLOOKUP($A151,Base_Arbres,6,FALSE)*Crit4,\"\")","v":""},{"$f":"IF(Base_Arbres!B151<>\"\",VLOOKUP($A151,Base_Arbres,7,FALSE)*Crit5,\"\")","v":""},{"$f":"IF(Base_Arbres!C151<>\"\",VLOOKUP($A151,Base_Arbres,8,FALSE)*crit8,\"\")","v":""},{"$f":"IF(Base_Arbres!D151<>\"\",VLOOKUP($A151,Base_Arbres,9,FALSE)*crit9,\"\")","v":""},{"$f":"IF(ISNA(VLOOKUP(INDEX(Base_Typologie!$A$6:$P$1003,MATCH(A151,Base_Typologie!$A:$A,0)-5,MATCH(Typologie_Espace_Public,Base_Typologie!$6:$6,0)),TableauScoreTypologie2,2,FALSE)*Crit6),0,VLOOKUP(INDEX(Base_Typologie!$A$6:$P$1003,MATCH(A151,Base_Typologie!$A:$A,0)-5,MATCH(Typologie_Espace_Public,Base_Typologie!$6:$6,0)),TableauScoreTypologie2,2,FALSE)*Crit6)","v":0},0,0,0,0,0,0,0,0,0,0,0,0,null,{"$f":"IF(Base_Arbres!A254<>\"\",VLOOKUP($A151,Base_Arbres,4,FALSE)*Crit7,\"\")","v":""}]
[{"$f":"IF(Base_Arbres!A152<>\"\",Base_Arbres!A152,\"\")","v":""},{"$f":"IF(Base_Arbres!A152<>\"\",VLOOKUP($A152,Base_Arbres,3,FALSE)*Crit1,\"\")","v":""},{"$f":"IF(Base_Arbres!A152<>\"\",VLOOKUP($A152,Base_Arbres,4,FALSE)*Crit2,\"\")","v":""},{"$f":"IF(Base_Arbres!A152<>\"\",VLOOKUP($A152,Base_Arbres,5,FALSE)*Crit3,\"\")","v":""},{"$f":"IF(Base_Arbres!A152<>\"\",VLOOKUP($A152,Base_Arbres,6,FALSE)*Crit4,\"\")","v":""},{"$f":"IF(Base_Arbres!B152<>\"\",VLOOKUP($A152,Base_Arbres,7,FALSE)*Crit5,\"\")","v":""},{"$f":"IF(Base_Arbres!C152<>\"\",VLOOKUP($A152,Base_Arbres,8,FALSE)*crit8,\"\")","v":""},{"$f":"IF(Base_Arbres!D152<>\"\",VLOOKUP($A152,Base_Arbres,9,FALSE)*crit9,\"\")","v":""},{"$f":"IF(ISNA(VLOOKUP(INDEX(Base_Typologie!$A$6:$P$1003,MATCH(A152,Base_Typologie!$A:$A,0)-5,MATCH(Typologie_Espace_Public,Base_Typologie!$6:$6,0)),TableauScoreTypologie2,2,FALSE)*Crit6),0,VLOOKUP(INDEX(Base_Typologie!$A$6:$P$1003,MATCH(A152,Base_Typologie!$A:$A,0)-5,MATCH(Typologie_Espace_Public,Base_Typologie!$6:$6,0)),TableauScoreTypologie2,2,FALSE)*Crit6)","v":0},0,0,0,0,0,0,0,0,0,0,0,0,null,{"$f":"IF(Base_Arbres!A255<>\"\",VLOOKUP($A152,Base_Arbres,4,FALSE)*Crit7,\"\")","v":""}]
[{"$f":"IF(Base_Arbres!A153<>\"\",Base_Arbres!A153,\"\")","v":""},{"$f":"IF(Base_Arbres!A153<>\"\",VLOOKUP($A153,Base_Arbres,3,FALSE)*Crit1,\"\")","v":""},{"$f":"IF(Base_Arbres!A153<>\"\",VLOOKUP($A153,Base_Arbres,4,FALSE)*Crit2,\"\")","v":""},{"$f":"IF(Base_Arbres!A153<>\"\",VLOOKUP($A153,Base_Arbres,5,FALSE)*Crit3,\"\")","v":""},{"$f":"IF(Base_Arbres!A153<>\"\",VLOOKUP($A153,Base_Arbres,6,FALSE)*Crit4,\"\")","v":""},{"$f":"IF(Base_Arbres!B153<>\"\",VLOOKUP($A153,Base_Arbres,7,FALSE)*Crit5,\"\")","v":""},{"$f":"IF(Base_Arbres!C153<>\"\",VLOOKUP($A153,Base_Arbres,8,FALSE)*crit8,\"\")","v":""},{"$f":"IF(Base_Arbres!D153<>\"\",VLOOKUP($A153,Base_Arbres,9,FALSE)*crit9,\"\")","v":""},{"$f":"IF(ISNA(VLOOKUP(INDEX(Base_Typologie!$A$6:$P$1003,MATCH(A153,Base_Typologie!$A:$A,0)-5,MATCH(Typologie_Espace_Public,Base_Typologie!$6:$6,0)),TableauScoreTypologie2,2,FALSE)*Crit6),0,VLOOKUP(INDEX(Base_Typologie!$A$6:$P$1003,MATCH(A153,Base_Typologie!$A:$A,0)-5,MATCH(Typologie_Espace_Public,Base_Typologie!$6:$6,0)),TableauScoreTypologie2,2,FALSE)*Crit6)","v":0},0,0,0,0,0,0,0,0,0,0,0,0,null,{"$f":"IF(Base_Arbres!A256<>\"\",VLOOKUP($A153,Base_Arbres,4,FALSE)*Crit7,\"\")","v":""}]
[{"$f":"IF(Base_Arbres!A154<>\"\",Base_Arbres!A154,\"\")","v":""},{"$f":"IF(Base_Arbres!A154<>\"\",VLOOKUP($A154,Base_Arbres,3,FALSE)*Crit1,\"\")","v":""},{"$f":"IF(Base_Arbres!A154<>\"\",VLOOKUP($A154,Base_Arbres,4,FALSE)*Crit2,\"\")","v":""},{"$f":"IF(Base_Arbres!A154<>\"\",VLOOKUP($A154,Base_Arbres,5,FALSE)*Crit3,\"\")","v":""},{"$f":"IF(Base_Arbres!A154<>\"\",VLOOKUP($A154,Base_Arbres,6,FALSE)*Crit4,\"\")","v":""},{"$f":"IF(Base_Arbres!B154<>\"\",VLOOKUP($A154,Base_Arbres,7,FALSE)*Crit5,\"\")","v":""},{"$f":"IF(Base_Arbres!C154<>\"\",VLOOKUP($A154,Base_Arbres,8,FALSE)*crit8,\"\")","v":""},{"$f":"IF(Base_Arbres!D154<>\"\",VLOOKUP($A154,Base_Arbres,9,FALSE)*crit9,\"\")","v":""},{"$f":"IF(ISNA(VLOOKUP(INDEX(Base_Typologie!$A$6:$P$1003,MATCH(A154,Base_Typologie!$A:$A,0)-5,MATCH(Typologie_Espace_Public,Base_Typologie!$6:$6,0)),TableauScoreTypologie2,2,FALSE)*Crit6),0,VLOOKUP(INDEX(Base_Typologie!$A$6:$P$1003,MATCH(A154,Base_Typologie!$A:$A,0)-5,MATCH(Typologie_Espace_Public,Base_Typologie!$6:$6,0)),TableauScoreTypologie2,2,FALSE)*Crit6)","v":0},0,0,0,0,0,0,0,0,0,0,0,0,null,{"$f":"IF(Base_Arbres!A257<>\"\",VLOOKUP($A154,Base_Arbres,4,FALSE)*Crit7,\"\")","v":""}]
[{"$f":"IF(Base_Arbres!A155<>\"\",Base_Arbres!A155,\"\")","v":""},{"$f":"IF(Base_Arbres!A155<>\"\",VLOOKUP($A155,Base_Arbres,3,FALSE)*Crit1,\"\")","v":""},{"$f":"IF(Base_Arbres!A155<>\"\",VLOOKUP($A155,Base_Arbres,4,FALSE)*Crit2,\"\")","v":""},{"$f":"IF(Base_Arbres!A155<>\"\",VLOOKUP($A155,Base_Arbres,5,FALSE)*Crit3,\"\")","v":""},{"$f":"IF(Base_Arbres!A155<>\"\",VLOOKUP($A155,Base_Arbres,6,FALSE)*Crit4,\"\")","v":""},{"$f":"IF(Base_Arbres!B155<>\"\",VLOOKUP($A155,Base_Arbres,7,FALSE)*Crit5,\"\")","v":""},{"$f":"IF(Base_Arbres!C155<>\"\",VLOOKUP($A155,Base_Arbres,8,FALSE)*crit8,\"\")","v":""},{"$f":"IF(Base_Arbres!D155<>\"\",VLOOKUP($A155,Base_Arbres,9,FALSE)*crit9,\"\")","v":""},{"$f":"IF(ISNA(VLOOKUP(INDEX(Base_Typologie!$A$6:$P$1003,MATCH(A155,Base_Typologie!$A:$A,0)-5,MATCH(Typologie_Espace_Public,Base_Typologie!$6:$6,0)),TableauScoreTypologie2,2,FALSE)*Crit6),0,VLOOKUP(INDEX(Base_Typologie!$A$6:$P$1003,MATCH(A155,Base_Typologie!$A:$A,0)-5,MATCH(Typologie_Espace_Public,Base_Typologie!$6:$6,0)),TableauScoreTypologie2,2,FALSE)*Crit6)","v":0},0,0,0,0,0,0,0,0,0,0,0,0,null,{"$f":"IF(Base_Arbres!A258<>\"\",VLOOKUP($A155,Base_Arbres,4,FALSE)*Crit7,\"\")","v":""}]
[{"$f":"IF(Base_Arbres!A156<>\"\",Base_Arbres!A156,\"\")","v":""},{"$f":"IF(Base_Arbres!A156<>\"\",VLOOKUP($A156,Base_Arbres,3,FALSE)*Crit1,\"\")","v":""},{"$f":"IF(Base_Arbres!A156<>\"\",VLOOKUP($A156,Base_Arbres,4,FALSE)*Crit2,\"\")","v":""},{"$f":"IF(Base_Arbres!A156<>\"\",VLOOKUP($A156,Base_Arbres,5,FALSE)*Crit3,\"\")","v":""},{"$f":"IF(Base_Arbres!A156<>\"\",VLOOKUP($A156,Base_Arbres,6,FALSE)*Crit4,\"\")","v":""},{"$f":"IF(Base_Arbres!B156<>\"\",VLOOKUP($A156,Base_Arbres,7,FALSE)*Crit5,\"\")","v":""},{"$f":"IF(Base_Arbres!C156<>\"\",VLOOKUP($A156,Base_Arbres,8,FALSE)*crit8,\"\")","v":""},{"$f":"IF(Base_Arbres!D156<>\"\",VLOOKUP($A156,Base_Arbres,9,FALSE)*crit9,\"\")","v":""},{"$f":"IF(ISNA(VLOOKUP(INDEX(Base_Typologie!$A$6:$P$1003,MATCH(A156,Base_Typologie!$A:$A,0)-5,MATCH(Typologie_Espace_Public,Base_Typologie!$6:$6,0)),TableauScoreTypologie2,2,FALSE)*Crit6),0,VLOOKUP(INDEX(Base_Typologie!$A$6:$P$1003,MATCH(A156,Base_Typologie!$A:$A,0)-5,MATCH(Typologie_Espace_Public,Base_Typologie!$6:$6,0)),TableauScoreTypologie2,2,FALSE)*Crit6)","v":0},0,0,0,0,0,0,0,0,0,0,0,0,null,{"$f":"IF(Base_Arbres!A259<>\"\",VLOOKUP($A156,Base_Arbres,4,FALSE)*Crit7,\"\")","v":""}]
[{"$f":"IF(Base_Arbres!A157<>\"\",Base_Arbres!A157,\"\")","v":""},{"$f":"IF(Base_Arbres!A157<>\"\",VLOOKUP($A157,Base_Arbres,3,FALSE)*Crit1,\"\")","v":""},{"$f":"IF(Base_Arbres!A157<>\"\",VLOOKUP($A157,Base_Arbres,4,FALSE)*Crit2,\"\")","v":""},{"$f":"IF(Base_Arbres!A157<>\"\",VLOOKUP($A157,Base_Arbres,5,FALSE)*Crit3,\"\")","v":""},{"$f":"IF(Base_Arbres!A157<>\"\",VLOOKUP($A157,Base_Arbres,6,FALSE)*Crit4,\"\")","v":""},{"$f":"IF(Base_Arbres!B157<>\"\",VLOOKUP($A157,Base_Arbres,7,FALSE)*Crit5,\"\")","v":""},{"$f":"IF(Base_Arbres!C157<>\"\",VLOOKUP($A157,Base_Arbres,8,FALSE)*crit8,\"\")","v":""},{"$f":"IF(Base_Arbres!D157<>\"\",VLOOKUP($A157,Base_Arbres,9,FALSE)*crit9,\"\")","v":""},{"$f":"IF(ISNA(VLOOKUP(INDEX(Base_Typologie!$A$6:$P$1003,MATCH(A157,Base_Typologie!$A:$A,0)-5,MATCH(Typologie_Espace_Public,Base_Typologie!$6:$6,0)),TableauScoreTypologie2,2,FALSE)*Crit6),0,VLOOKUP(INDEX(Base_Typologie!$A$6:$P$1003,MATCH(A157,Base_Typologie!$A:$A,0)-5,MATCH(Typologie_Espace_Public,Base_Typologie!$6:$6,0)),TableauScoreTypologie2,2,FALSE)*Crit6)","v":0},0,0,0,0,0,0,0,0,0,0,0,0,null,{"$f":"IF(Base_Arbres!A260<>\"\",VLOOKUP($A157,Base_Arbres,4,FALSE)*Crit7,\"\")","v":""}]
[{"$f":"IF(Base_Arbres!A158<>\"\",Base_Arbres!A158,\"\")","v":""},{"$f":"IF(Base_Arbres!A158<>\"\",VLOOKUP($A158,Base_Arbres,3,FALSE)*Crit1,\"\")","v":""},{"$f":"IF(Base_Arbres!A158<>\"\",VLOOKUP($A158,Base_Arbres,4,FALSE)*Crit2,\"\")","v":""},{"$f":"IF(Base_Arbres!A158<>\"\",VLOOKUP($A158,Base_Arbres,5,FALSE)*Crit3,\"\")","v":""},{"$f":"IF(Base_Arbres!A158<>\"\",VLOOKUP($A158,Base_Arbres,6,FALSE)*Crit4,\"\")","v":""},{"$f":"IF(Base_Arbres!B158<>\"\",VLOOKUP($A158,Base_Arbres,7,FALSE)*Crit5,\"\")","v":""},{"$f":"IF(Base_Arbres!C158<>\"\",VLOOKUP($A158,Base_Arbres,8,FALSE)*crit8,\"\")","v":""},{"$f":"IF(Base_Arbres!D158<>\"\",VLOOKUP($A158,Base_Arbres,9,FALSE)*crit9,\"\")","v":""},{"$f":"IF(ISNA(VLOOKUP(INDEX(Base_Typologie!$A$6:$P$1003,MATCH(A158,Base_Typologie!$A:$A,0)-5,MATCH(Typologie_Espace_Public,Base_Typologie!$6:$6,0)),TableauScoreTypologie2,2,FALSE)*Crit6),0,VLOOKUP(INDEX(Base_Typologie!$A$6:$P$1003,MATCH(A158,Base_Typologie!$A:$A,0)-5,MATCH(Typologie_Espace_Public,Base_Typologie!$6:$6,0)),TableauScoreTypologie2,2,FALSE)*Crit6)","v":0},0,0,0,0,0,0,0,0,0,0,0,0,null,{"$f":"IF(Base_Arbres!A261<>\"\",VLOOKUP($A158,Base_Arbres,4,FALSE)*Crit7,\"\")","v":""}]
[{"$f":"IF(Base_Arbres!A159<>\"\",Base_Arbres!A159,\"\")","v":""},{"$f":"IF(Base_Arbres!A159<>\"\",VLOOKUP($A159,Base_Arbres,3,FALSE)*Crit1,\"\")","v":""},{"$f":"IF(Base_Arbres!A159<>\"\",VLOOKUP($A159,Base_Arbres,4,FALSE)*Crit2,\"\")","v":""},{"$f":"IF(Base_Arbres!A159<>\"\",VLOOKUP($A159,Base_Arbres,5,FALSE)*Crit3,\"\")","v":""},{"$f":"IF(Base_Arbres!A159<>\"\",VLOOKUP($A159,Base_Arbres,6,FALSE)*Crit4,\"\")","v":""},{"$f":"IF(Base_Arbres!B159<>\"\",VLOOKUP($A159,Base_Arbres,7,FALSE)*Crit5,\"\")","v":""},{"$f":"IF(Base_Arbres!C159<>\"\",VLOOKUP($A159,Base_Arbres,8,FALSE)*crit8,\"\")","v":""},{"$f":"IF(Base_Arbres!D159<>\"\",VLOOKUP($A159,Base_Arbres,9,FALSE)*crit9,\"\")","v":""},{"$f":"IF(ISNA(VLOOKUP(INDEX(Base_Typologie!$A$6:$P$1003,MATCH(A159,Base_Typologie!$A:$A,0)-5,MATCH(Typologie_Espace_Public,Base_Typologie!$6:$6,0)),TableauScoreTypologie2,2,FALSE)*Crit6),0,VLOOKUP(INDEX(Base_Typologie!$A$6:$P$1003,MATCH(A159,Base_Typologie!$A:$A,0)-5,MATCH(Typologie_Espace_Public,Base_Typologie!$6:$6,0)),TableauScoreTypologie2,2,FALSE)*Crit6)","v":0},0,0,0,0,0,0,0,0,0,0,0,0,null,{"$f":"IF(Base_Arbres!A262<>\"\",VLOOKUP($A159,Base_Arbres,4,FALSE)*Crit7,\"\")","v":""}]
[{"$f":"IF(Base_Arbres!A160<>\"\",Base_Arbres!A160,\"\")","v":""},{"$f":"IF(Base_Arbres!A160<>\"\",VLOOKUP($A160,Base_Arbres,3,FALSE)*Crit1,\"\")","v":""},{"$f":"IF(Base_Arbres!A160<>\"\",VLOOKUP($A160,Base_Arbres,4,FALSE)*Crit2,\"\")","v":""},{"$f":"IF(Base_Arbres!A160<>\"\",VLOOKUP($A160,Base_Arbres,5,FALSE)*Crit3,\"\")","v":""},{"$f":"IF(Base_Arbres!A160<>\"\",VLOOKUP($A160,Base_Arbres,6,FALSE)*Crit4,\"\")","v":""},{"$f":"IF(Base_Arbres!B160<>\"\",VLOOKUP($A160,Base_Arbres,7,FALSE)*Crit5,\"\")","v":""},{"$f":"IF(Base_Arbres!C160<>\"\",VLOOKUP($A160,Base_Arbres,8,FALSE)*crit8,\"\")","v":""},{"$f":"IF(Base_Arbres!D160<>\"\",VLOOKUP($A160,Base_Arbres,9,FALSE)*crit9,\"\")","v":""},{"$f":"IF(ISNA(VLOOKUP(INDEX(Base_Typologie!$A$6:$P$1003,MATCH(A160,Base_Typologie!$A:$A,0)-5,MATCH(Typologie_Espace_Public,Base_Typologie!$6:$6,0)),TableauScoreTypologie2,2,FALSE)*Crit6),0,VLOOKUP(INDEX(Base_Typologie!$A$6:$P$1003,MATCH(A160,Base_Typologie!$A:$A,0)-5,MATCH(Typologie_Espace_Public,Base_Typologie!$6:$6,0)),TableauScoreTypologie2,2,FALSE)*Crit6)","v":0},0,0,0,0,0,0,0,0,0,0,0,0,null,{"$f":"IF(Base_Arbres!A263<>\"\",VLOOKUP($A160,Base_Arbres,4,FALSE)*Crit7,\"\")","v":""}]
[{"$f":"IF(Base_Arbres!A161<>\"\",Base_Arbres!A161,\"\")","v":""},{"$f":"IF(Base_Arbres!A161<>\"\",VLOOKUP($A161,Base_Arbres,3,FALSE)*Crit1,\"\")","v":""},{"$f":"IF(Base_Arbres!A161<>\"\",VLOOKUP($A161,Base_Arbres,4,FALSE)*Crit2,\"\")","v":""},{"$f":"IF(Base_Arbres!A161<>\"\",VLOOKUP($A161,Base_Arbres,5,FALSE)*Crit3,\"\")","v":""},{"$f":"IF(Base_Arbres!A161<>\"\",VLOOKUP($A161,Base_Arbres,6,FALSE)*Crit4,\"\")","v":""},{"$f":"IF(Base_Arbres!B161<>\"\",VLOOKUP($A161,Base_Arbres,7,FALSE)*Crit5,\"\")","v":""},{"$f":"IF(Base_Arbres!C161<>\"\",VLOOKUP($A161,Base_Arbres,8,FALSE)*crit8,\"\")","v":""},{"$f":"IF(Base_Arbres!D161<>\"\",VLOOKUP($A161,Base_Arbres,9,FALSE)*crit9,\"\")","v":""},{"$f":"IF(ISNA(VLOOKUP(INDEX(Base_Typologie!$A$6:$P$1003,MATCH(A161,Base_Typologie!$A:$A,0)-5,MATCH(Typologie_Espace_Public,Base_Typologie!$6:$6,0)),TableauScoreTypologie2,2,FALSE)*Crit6),0,VLOOKUP(INDEX(Base_Typologie!$A$6:$P$1003,MATCH(A161,Base_Typologie!$A:$A,0)-5,MATCH(Typologie_Espace_Public,Base_Typologie!$6:$6,0)),TableauScoreTypologie2,2,FALSE)*Crit6)","v":0},0,0,0,0,0,0,0,0,0,0,0,0,null,{"$f":"IF(Base_Arbres!A264<>\"\",VLOOKUP($A161,Base_Arbres,4,FALSE)*Crit7,\"\")","v":""}]
[{"$f":"IF(Base_Arbres!A162<>\"\",Base_Arbres!A162,\"\")","v":""},{"$f":"IF(Base_Arbres!A162<>\"\",VLOOKUP($A162,Base_Arbres,3,FALSE)*Crit1,\"\")","v":""},{"$f":"IF(Base_Arbres!A162<>\"\",VLOOKUP($A162,Base_Arbres,4,FALSE)*Crit2,\"\")","v":""},{"$f":"IF(Base_Arbres!A162<>\"\",VLOOKUP($A162,Base_Arbres,5,FALSE)*Crit3,\"\")","v":""},{"$f":"IF(Base_Arbres!A162<>\"\",VLOOKUP($A162,Base_Arbres,6,FALSE)*Crit4,\"\")","v":""},{"$f":"IF(Base_Arbres!B162<>\"\",VLOOKUP($A162,Base_Arbres,7,FALSE)*Crit5,\"\")","v":""},{"$f":"IF(Base_Arbres!C162<>\"\",VLOOKUP($A162,Base_Arbres,8,FALSE)*crit8,\"\")","v":""},{"$f":"IF(Base_Arbres!D162<>\"\",VLOOKUP($A162,Base_Arbres,9,FALSE)*crit9,\"\")","v":""},{"$f":"IF(ISNA(VLOOKUP(INDEX(Base_Typologie!$A$6:$P$1003,MATCH(A162,Base_Typologie!$A:$A,0)-5,MATCH(Typologie_Espace_Public,Base_Typologie!$6:$6,0)),TableauScoreTypologie2,2,FALSE)*Crit6),0,VLOOKUP(INDEX(Base_Typologie!$A$6:$P$1003,MATCH(A162,Base_Typologie!$A:$A,0)-5,MATCH(Typologie_Espace_Public,Base_Typologie!$6:$6,0)),TableauScoreTypologie2,2,FALSE)*Crit6)","v":0},0,0,0,0,0,0,0,0,0,0,0,0,null,{"$f":"IF(Base_Arbres!A265<>\"\",VLOOKUP($A162,Base_Arbres,4,FALSE)*Crit7,\"\")","v":""}]
[{"$f":"IF(Base_Arbres!A163<>\"\",Base_Arbres!A163,\"\")","v":""},{"$f":"IF(Base_Arbres!A163<>\"\",VLOOKUP($A163,Base_Arbres,3,FALSE)*Crit1,\"\")","v":""},{"$f":"IF(Base_Arbres!A163<>\"\",VLOOKUP($A163,Base_Arbres,4,FALSE)*Crit2,\"\")","v":""},{"$f":"IF(Base_Arbres!A163<>\"\",VLOOKUP($A163,Base_Arbres,5,FALSE)*Crit3,\"\")","v":""},{"$f":"IF(Base_Arbres!A163<>\"\",VLOOKUP($A163,Base_Arbres,6,FALSE)*Crit4,\"\")","v":""},{"$f":"IF(Base_Arbres!B163<>\"\",VLOOKUP($A163,Base_Arbres,7,FALSE)*Crit5,\"\")","v":""},{"$f":"IF(Base_Arbres!C163<>\"\",VLOOKUP($A163,Base_Arbres,8,FALSE)*crit8,\"\")","v":""},{"$f":"IF(Base_Arbres!D163<>\"\",VLOOKUP($A163,Base_Arbres,9,FALSE)*crit9,\"\")","v":""},{"$f":"IF(ISNA(VLOOKUP(INDEX(Base_Typologie!$A$6:$P$1003,MATCH(A163,Base_Typologie!$A:$A,0)-5,MATCH(Typologie_Espace_Public,Base_Typologie!$6:$6,0)),TableauScoreTypologie2,2,FALSE)*Crit6),0,VLOOKUP(INDEX(Base_Typologie!$A$6:$P$1003,MATCH(A163,Base_Typologie!$A:$A,0)-5,MATCH(Typologie_Espace_Public,Base_Typologie!$6:$6,0)),TableauScoreTypologie2,2,FALSE)*Crit6)","v":0},0,0,0,0,0,0,0,0,0,0,0,0,null,{"$f":"IF(Base_Arbres!A266<>\"\",VLOOKUP($A163,Base_Arbres,4,FALSE)*Crit7,\"\")","v":""}]
[{"$f":"IF(Base_Arbres!A164<>\"\",Base_Arbres!A164,\"\")","v":""},{"$f":"IF(Base_Arbres!A164<>\"\",VLOOKUP($A164,Base_Arbres,3,FALSE)*Crit1,\"\")","v":""},{"$f":"IF(Base_Arbres!A164<>\"\",VLOOKUP($A164,Base_Arbres,4,FALSE)*Crit2,\"\")","v":""},{"$f":"IF(Base_Arbres!A164<>\"\",VLOOKUP($A164,Base_Arbres,5,FALSE)*Crit3,\"\")","v":""},{"$f":"IF(Base_Arbres!A164<>\"\",VLOOKUP($A164,Base_Arbres,6,FALSE)*Crit4,\"\")","v":""},{"$f":"IF(Base_Arbres!B164<>\"\",VLOOKUP($A164,Base_Arbres,7,FALSE)*Crit5,\"\")","v":""},{"$f":"IF(Base_Arbres!C164<>\"\",VLOOKUP($A164,Base_Arbres,8,FALSE)*crit8,\"\")","v":""},{"$f":"IF(Base_Arbres!D164<>\"\",VLOOKUP($A164,Base_Arbres,9,FALSE)*crit9,\"\")","v":""},{"$f":"IF(ISNA(VLOOKUP(INDEX(Base_Typologie!$A$6:$P$1003,MATCH(A164,Base_Typologie!$A:$A,0)-5,MATCH(Typologie_Espace_Public,Base_Typologie!$6:$6,0)),TableauScoreTypologie2,2,FALSE)*Crit6),0,VLOOKUP(INDEX(Base_Typologie!$A$6:$P$1003,MATCH(A164,Base_Typologie!$A:$A,0)-5,MATCH(Typologie_Espace_Public,Base_Typologie!$6:$6,0)),TableauScoreTypologie2,2,FALSE)*Crit6)","v":0},0,0,0,0,0,0,0,0,0,0,0,0,null,{"$f":"IF(Base_Arbres!A267<>\"\",VLOOKUP($A164,Base_Arbres,4,FALSE)*Crit7,\"\")","v":""}]
[{"$f":"IF(Base_Arbres!A165<>\"\",Base_Arbres!A165,\"\")","v":""},{"$f":"IF(Base_Arbres!A165<>\"\",VLOOKUP($A165,Base_Arbres,3,FALSE)*Crit1,\"\")","v":""},{"$f":"IF(Base_Arbres!A165<>\"\",VLOOKUP($A165,Base_Arbres,4,FALSE)*Crit2,\"\")","v":""},{"$f":"IF(Base_Arbres!A165<>\"\",VLOOKUP($A165,Base_Arbres,5,FALSE)*Crit3,\"\")","v":""},{"$f":"IF(Base_Arbres!A165<>\"\",VLOOKUP($A165,Base_Arbres,6,FALSE)*Crit4,\"\")","v":""},{"$f":"IF(Base_Arbres!B165<>\"\",VLOOKUP($A165,Base_Arbres,7,FALSE)*Crit5,\"\")","v":""},{"$f":"IF(Base_Arbres!C165<>\"\",VLOOKUP($A165,Base_Arbres,8,FALSE)*crit8,\"\")","v":""},{"$f":"IF(Base_Arbres!D165<>\"\",VLOOKUP($A165,Base_Arbres,9,FALSE)*crit9,\"\")","v":""},{"$f":"IF(ISNA(VLOOKUP(INDEX(Base_Typologie!$A$6:$P$1003,MATCH(A165,Base_Typologie!$A:$A,0)-5,MATCH(Typologie_Espace_Public,Base_Typologie!$6:$6,0)),TableauScoreTypologie2,2,FALSE)*Crit6),0,VLOOKUP(INDEX(Base_Typologie!$A$6:$P$1003,MATCH(A165,Base_Typologie!$A:$A,0)-5,MATCH(Typologie_Espace_Public,Base_Typologie!$6:$6,0)),TableauScoreTypologie2,2,FALSE)*Crit6)","v":0},0,0,0,0,0,0,0,0,0,0,0,0,null,{"$f":"IF(Base_Arbres!A268<>\"\",VLOOKUP($A165,Base_Arbres,4,FALSE)*Crit7,\"\")","v":""}]
[{"$f":"IF(Base_Arbres!A166<>\"\",Base_Arbres!A166,\"\")","v":""},{"$f":"IF(Base_Arbres!A166<>\"\",VLOOKUP($A166,Base_Arbres,3,FALSE)*Crit1,\"\")","v":""},{"$f":"IF(Base_Arbres!A166<>\"\",VLOOKUP($A166,Base_Arbres,4,FALSE)*Crit2,\"\")","v":""},{"$f":"IF(Base_Arbres!A166<>\"\",VLOOKUP($A166,Base_Arbres,5,FALSE)*Crit3,\"\")","v":""},{"$f":"IF(Base_Arbres!A166<>\"\",VLOOKUP($A166,Base_Arbres,6,FALSE)*Crit4,\"\")","v":""},{"$f":"IF(Base_Arbres!B166<>\"\",VLOOKUP($A166,Base_Arbres,7,FALSE)*Crit5,\"\")","v":""},{"$f":"IF(Base_Arbres!C166<>\"\",VLOOKUP($A166,Base_Arbres,8,FALSE)*crit8,\"\")","v":""},{"$f":"IF(Base_Arbres!D166<>\"\",VLOOKUP($A166,Base_Arbres,9,FALSE)*crit9,\"\")","v":""},{"$f":"IF(ISNA(VLOOKUP(INDEX(Base_Typologie!$A$6:$P$1003,MATCH(A166,Base_Typologie!$A:$A,0)-5,MATCH(Typologie_Espace_Public,Base_Typologie!$6:$6,0)),TableauScoreTypologie2,2,FALSE)*Crit6),0,VLOOKUP(INDEX(Base_Typologie!$A$6:$P$1003,MATCH(A166,Base_Typologie!$A:$A,0)-5,MATCH(Typologie_Espace_Public,Base_Typologie!$6:$6,0)),TableauScoreTypologie2,2,FALSE)*Crit6)","v":0},0,0,0,0,0,0,0,0,0,0,0,0,null,{"$f":"IF(Base_Arbres!A269<>\"\",VLOOKUP($A166,Base_Arbres,4,FALSE)*Crit7,\"\")","v":""}]
[{"$f":"IF(Base_Arbres!A167<>\"\",Base_Arbres!A167,\"\")","v":""},{"$f":"IF(Base_Arbres!A167<>\"\",VLOOKUP($A167,Base_Arbres,3,FALSE)*Crit1,\"\")","v":""},{"$f":"IF(Base_Arbres!A167<>\"\",VLOOKUP($A167,Base_Arbres,4,FALSE)*Crit2,\"\")","v":""},{"$f":"IF(Base_Arbres!A167<>\"\",VLOOKUP($A167,Base_Arbres,5,FALSE)*Crit3,\"\")","v":""},{"$f":"IF(Base_Arbres!A167<>\"\",VLOOKUP($A167,Base_Arbres,6,FALSE)*Crit4,\"\")","v":""},{"$f":"IF(Base_Arbres!B167<>\"\",VLOOKUP($A167,Base_Arbres,7,FALSE)*Crit5,\"\")","v":""},{"$f":"IF(Base_Arbres!C167<>\"\",VLOOKUP($A167,Base_Arbres,8,FALSE)*crit8,\"\")","v":""},{"$f":"IF(Base_Arbres!D167<>\"\",VLOOKUP($A167,Base_Arbres,9,FALSE)*crit9,\"\")","v":""},{"$f":"IF(ISNA(VLOOKUP(INDEX(Base_Typologie!$A$6:$P$1003,MATCH(A167,Base_Typologie!$A:$A,0)-5,MATCH(Typologie_Espace_Public,Base_Typologie!$6:$6,0)),TableauScoreTypologie2,2,FALSE)*Crit6),0,VLOOKUP(INDEX(Base_Typologie!$A$6:$P$1003,MATCH(A167,Base_Typologie!$A:$A,0)-5,MATCH(Typologie_Espace_Public,Base_Typologie!$6:$6,0)),TableauScoreTypologie2,2,FALSE)*Crit6)","v":0},0,0,0,0,0,0,0,0,0,0,0,0,null,{"$f":"IF(Base_Arbres!A270<>\"\",VLOOKUP($A167,Base_Arbres,4,FALSE)*Crit7,\"\")","v":""}]
[{"$f":"IF(Base_Arbres!A168<>\"\",Base_Arbres!A168,\"\")","v":""},{"$f":"IF(Base_Arbres!A168<>\"\",VLOOKUP($A168,Base_Arbres,3,FALSE)*Crit1,\"\")","v":""},{"$f":"IF(Base_Arbres!A168<>\"\",VLOOKUP($A168,Base_Arbres,4,FALSE)*Crit2,\"\")","v":""},{"$f":"IF(Base_Arbres!A168<>\"\",VLOOKUP($A168,Base_Arbres,5,FALSE)*Crit3,\"\")","v":""},{"$f":"IF(Base_Arbres!A168<>\"\",VLOOKUP($A168,Base_Arbres,6,FALSE)*Crit4,\"\")","v":""},{"$f":"IF(Base_Arbres!B168<>\"\",VLOOKUP($A168,Base_Arbres,7,FALSE)*Crit5,\"\")","v":""},{"$f":"IF(Base_Arbres!C168<>\"\",VLOOKUP($A168,Base_Arbres,8,FALSE)*crit8,\"\")","v":""},{"$f":"IF(Base_Arbres!D168<>\"\",VLOOKUP($A168,Base_Arbres,9,FALSE)*crit9,\"\")","v":""},{"$f":"IF(ISNA(VLOOKUP(INDEX(Base_Typologie!$A$6:$P$1003,MATCH(A168,Base_Typologie!$A:$A,0)-5,MATCH(Typologie_Espace_Public,Base_Typologie!$6:$6,0)),TableauScoreTypologie2,2,FALSE)*Crit6),0,VLOOKUP(INDEX(Base_Typologie!$A$6:$P$1003,MATCH(A168,Base_Typologie!$A:$A,0)-5,MATCH(Typologie_Espace_Public,Base_Typologie!$6:$6,0)),TableauScoreTypologie2,2,FALSE)*Crit6)","v":0},0,0,0,0,0,0,0,0,0,0,0,0,null,{"$f":"IF(Base_Arbres!A271<>\"\",VLOOKUP($A168,Base_Arbres,4,FALSE)*Crit7,\"\")","v":""}]
[{"$f":"IF(Base_Arbres!A169<>\"\",Base_Arbres!A169,\"\")","v":""},{"$f":"IF(Base_Arbres!A169<>\"\",VLOOKUP($A169,Base_Arbres,3,FALSE)*Crit1,\"\")","v":""},{"$f":"IF(Base_Arbres!A169<>\"\",VLOOKUP($A169,Base_Arbres,4,FALSE)*Crit2,\"\")","v":""},{"$f":"IF(Base_Arbres!A169<>\"\",VLOOKUP($A169,Base_Arbres,5,FALSE)*Crit3,\"\")","v":""},{"$f":"IF(Base_Arbres!A169<>\"\",VLOOKUP($A169,Base_Arbres,6,FALSE)*Crit4,\"\")","v":""},{"$f":"IF(Base_Arbres!B169<>\"\",VLOOKUP($A169,Base_Arbres,7,FALSE)*Crit5,\"\")","v":""},{"$f":"IF(Base_Arbres!C169<>\"\",VLOOKUP($A169,Base_Arbres,8,FALSE)*crit8,\"\")","v":""},{"$f":"IF(Base_Arbres!D169<>\"\",VLOOKUP($A169,Base_Arbres,9,FALSE)*crit9,\"\")","v":""},{"$f":"IF(ISNA(VLOOKUP(INDEX(Base_Typologie!$A$6:$P$1003,MATCH(A169,Base_Typologie!$A:$A,0)-5,MATCH(Typologie_Espace_Public,Base_Typologie!$6:$6,0)),TableauScoreTypologie2,2,FALSE)*Crit6),0,VLOOKUP(INDEX(Base_Typologie!$A$6:$P$1003,MATCH(A169,Base_Typologie!$A:$A,0)-5,MATCH(Typologie_Espace_Public,Base_Typologie!$6:$6,0)),TableauScoreTypologie2,2,FALSE)*Crit6)","v":0},0,0,0,0,0,0,0,0,0,0,0,0,null,{"$f":"IF(Base_Arbres!A272<>\"\",VLOOKUP($A169,Base_Arbres,4,FALSE)*Crit7,\"\")","v":""}]
[{"$f":"IF(Base_Arbres!A170<>\"\",Base_Arbres!A170,\"\")","v":""},{"$f":"IF(Base_Arbres!A170<>\"\",VLOOKUP($A170,Base_Arbres,3,FALSE)*Crit1,\"\")","v":""},{"$f":"IF(Base_Arbres!A170<>\"\",VLOOKUP($A170,Base_Arbres,4,FALSE)*Crit2,\"\")","v":""},{"$f":"IF(Base_Arbres!A170<>\"\",VLOOKUP($A170,Base_Arbres,5,FALSE)*Crit3,\"\")","v":""},{"$f":"IF(Base_Arbres!A170<>\"\",VLOOKUP($A170,Base_Arbres,6,FALSE)*Crit4,\"\")","v":""},{"$f":"IF(Base_Arbres!B170<>\"\",VLOOKUP($A170,Base_Arbres,7,FALSE)*Crit5,\"\")","v":""},{"$f":"IF(Base_Arbres!C170<>\"\",VLOOKUP($A170,Base_Arbres,8,FALSE)*crit8,\"\")","v":""},{"$f":"IF(Base_Arbres!D170<>\"\",VLOOKUP($A170,Base_Arbres,9,FALSE)*crit9,\"\")","v":""},{"$f":"IF(ISNA(VLOOKUP(INDEX(Base_Typologie!$A$6:$P$1003,MATCH(A170,Base_Typologie!$A:$A,0)-5,MATCH(Typologie_Espace_Public,Base_Typologie!$6:$6,0)),TableauScoreTypologie2,2,FALSE)*Crit6),0,VLOOKUP(INDEX(Base_Typologie!$A$6:$P$1003,MATCH(A170,Base_Typologie!$A:$A,0)-5,MATCH(Typologie_Espace_Public,Base_Typologie!$6:$6,0)),TableauScoreTypologie2,2,FALSE)*Crit6)","v":0},0,0,0,0,0,0,0,0,0,0,0,0,null,{"$f":"IF(Base_Arbres!A273<>\"\",VLOOKUP($A170,Base_Arbres,4,FALSE)*Crit7,\"\")","v":""}]
[{"$f":"IF(Base_Arbres!A171<>\"\",Base_Arbres!A171,\"\")","v":""},{"$f":"IF(Base_Arbres!A171<>\"\",VLOOKUP($A171,Base_Arbres,3,FALSE)*Crit1,\"\")","v":""},{"$f":"IF(Base_Arbres!A171<>\"\",VLOOKUP($A171,Base_Arbres,4,FALSE)*Crit2,\"\")","v":""},{"$f":"IF(Base_Arbres!A171<>\"\",VLOOKUP($A171,Base_Arbres,5,FALSE)*Crit3,\"\")","v":""},{"$f":"IF(Base_Arbres!A171<>\"\",VLOOKUP($A171,Base_Arbres,6,FALSE)*Crit4,\"\")","v":""},{"$f":"IF(Base_Arbres!B171<>\"\",VLOOKUP($A171,Base_Arbres,7,FALSE)*Crit5,\"\")","v":""},{"$f":"IF(Base_Arbres!C171<>\"\",VLOOKUP($A171,Base_Arbres,8,FALSE)*crit8,\"\")","v":""},{"$f":"IF(Base_Arbres!D171<>\"\",VLOOKUP($A171,Base_Arbres,9,FALSE)*crit9,\"\")","v":""},{"$f":"IF(ISNA(VLOOKUP(INDEX(Base_Typologie!$A$6:$P$1003,MATCH(A171,Base_Typologie!$A:$A,0)-5,MATCH(Typologie_Espace_Public,Base_Typologie!$6:$6,0)),TableauScoreTypologie2,2,FALSE)*Crit6),0,VLOOKUP(INDEX(Base_Typologie!$A$6:$P$1003,MATCH(A171,Base_Typologie!$A:$A,0)-5,MATCH(Typologie_Espace_Public,Base_Typologie!$6:$6,0)),TableauScoreTypologie2,2,FALSE)*Crit6)","v":0},0,0,0,0,0,0,0,0,0,0,0,0,null,{"$f":"IF(Base_Arbres!A274<>\"\",VLOOKUP($A171,Base_Arbres,4,FALSE)*Crit7,\"\")","v":""}]
[{"$f":"IF(Base_Arbres!A172<>\"\",Base_Arbres!A172,\"\")","v":""},{"$f":"IF(Base_Arbres!A172<>\"\",VLOOKUP($A172,Base_Arbres,3,FALSE)*Crit1,\"\")","v":""},{"$f":"IF(Base_Arbres!A172<>\"\",VLOOKUP($A172,Base_Arbres,4,FALSE)*Crit2,\"\")","v":""},{"$f":"IF(Base_Arbres!A172<>\"\",VLOOKUP($A172,Base_Arbres,5,FALSE)*Crit3,\"\")","v":""},{"$f":"IF(Base_Arbres!A172<>\"\",VLOOKUP($A172,Base_Arbres,6,FALSE)*Crit4,\"\")","v":""},{"$f":"IF(Base_Arbres!B172<>\"\",VLOOKUP($A172,Base_Arbres,7,FALSE)*Crit5,\"\")","v":""},{"$f":"IF(Base_Arbres!C172<>\"\",VLOOKUP($A172,Base_Arbres,8,FALSE)*crit8,\"\")","v":""},{"$f":"IF(Base_Arbres!D172<>\"\",VLOOKUP($A172,Base_Arbres,9,FALSE)*crit9,\"\")","v":""},{"$f":"IF(ISNA(VLOOKUP(INDEX(Base_Typologie!$A$6:$P$1003,MATCH(A172,Base_Typologie!$A:$A,0)-5,MATCH(Typologie_Espace_Public,Base_Typologie!$6:$6,0)),TableauScoreTypologie2,2,FALSE)*Crit6),0,VLOOKUP(INDEX(Base_Typologie!$A$6:$P$1003,MATCH(A172,Base_Typologie!$A:$A,0)-5,MATCH(Typologie_Espace_Public,Base_Typologie!$6:$6,0)),TableauScoreTypologie2,2,FALSE)*Crit6)","v":0},0,0,0,0,0,0,0,0,0,0,0,0,null,{"$f":"IF(Base_Arbres!A275<>\"\",VLOOKUP($A172,Base_Arbres,4,FALSE)*Crit7,\"\")","v":""}]
[{"$f":"IF(Base_Arbres!A173<>\"\",Base_Arbres!A173,\"\")","v":""},{"$f":"IF(Base_Arbres!A173<>\"\",VLOOKUP($A173,Base_Arbres,3,FALSE)*Crit1,\"\")","v":""},{"$f":"IF(Base_Arbres!A173<>\"\",VLOOKUP($A173,Base_Arbres,4,FALSE)*Crit2,\"\")","v":""},{"$f":"IF(Base_Arbres!A173<>\"\",VLOOKUP($A173,Base_Arbres,5,FALSE)*Crit3,\"\")","v":""},{"$f":"IF(Base_Arbres!A173<>\"\",VLOOKUP($A173,Base_Arbres,6,FALSE)*Crit4,\"\")","v":""},{"$f":"IF(Base_Arbres!B173<>\"\",VLOOKUP($A173,Base_Arbres,7,FALSE)*Crit5,\"\")","v":""},{"$f":"IF(Base_Arbres!C173<>\"\",VLOOKUP($A173,Base_Arbres,8,FALSE)*crit8,\"\")","v":""},{"$f":"IF(Base_Arbres!D173<>\"\",VLOOKUP($A173,Base_Arbres,9,FALSE)*crit9,\"\")","v":""},{"$f":"IF(ISNA(VLOOKUP(INDEX(Base_Typologie!$A$6:$P$1003,MATCH(A173,Base_Typologie!$A:$A,0)-5,MATCH(Typologie_Espace_Public,Base_Typologie!$6:$6,0)),TableauScoreTypologie2,2,FALSE)*Crit6),0,VLOOKUP(INDEX(Base_Typologie!$A$6:$P$1003,MATCH(A173,Base_Typologie!$A:$A,0)-5,MATCH(Typologie_Espace_Public,Base_Typologie!$6:$6,0)),TableauScoreTypologie2,2,FALSE)*Crit6)","v":0},0,0,0,0,0,0,0,0,0,0,0,0,null,{"$f":"IF(Base_Arbres!A276<>\"\",VLOOKUP($A173,Base_Arbres,4,FALSE)*Crit7,\"\")","v":""}]
[{"$f":"IF(Base_Arbres!A174<>\"\",Base_Arbres!A174,\"\")","v":""},{"$f":"IF(Base_Arbres!A174<>\"\",VLOOKUP($A174,Base_Arbres,3,FALSE)*Crit1,\"\")","v":""},{"$f":"IF(Base_Arbres!A174<>\"\",VLOOKUP($A174,Base_Arbres,4,FALSE)*Crit2,\"\")","v":""},{"$f":"IF(Base_Arbres!A174<>\"\",VLOOKUP($A174,Base_Arbres,5,FALSE)*Crit3,\"\")","v":""},{"$f":"IF(Base_Arbres!A174<>\"\",VLOOKUP($A174,Base_Arbres,6,FALSE)*Crit4,\"\")","v":""},{"$f":"IF(Base_Arbres!B174<>\"\",VLOOKUP($A174,Base_Arbres,7,FALSE)*Crit5,\"\")","v":""},{"$f":"IF(Base_Arbres!C174<>\"\",VLOOKUP($A174,Base_Arbres,8,FALSE)*crit8,\"\")","v":""},{"$f":"IF(Base_Arbres!D174<>\"\",VLOOKUP($A174,Base_Arbres,9,FALSE)*crit9,\"\")","v":""},{"$f":"IF(ISNA(VLOOKUP(INDEX(Base_Typologie!$A$6:$P$1003,MATCH(A174,Base_Typologie!$A:$A,0)-5,MATCH(Typologie_Espace_Public,Base_Typologie!$6:$6,0)),TableauScoreTypologie2,2,FALSE)*Crit6),0,VLOOKUP(INDEX(Base_Typologie!$A$6:$P$1003,MATCH(A174,Base_Typologie!$A:$A,0)-5,MATCH(Typologie_Espace_Public,Base_Typologie!$6:$6,0)),TableauScoreTypologie2,2,FALSE)*Crit6)","v":0},0,0,0,0,0,0,0,0,0,0,0,0,null,{"$f":"IF(Base_Arbres!A277<>\"\",VLOOKUP($A174,Base_Arbres,4,FALSE)*Crit7,\"\")","v":""}]
[{"$f":"IF(Base_Arbres!A175<>\"\",Base_Arbres!A175,\"\")","v":""},{"$f":"IF(Base_Arbres!A175<>\"\",VLOOKUP($A175,Base_Arbres,3,FALSE)*Crit1,\"\")","v":""},{"$f":"IF(Base_Arbres!A175<>\"\",VLOOKUP($A175,Base_Arbres,4,FALSE)*Crit2,\"\")","v":""},{"$f":"IF(Base_Arbres!A175<>\"\",VLOOKUP($A175,Base_Arbres,5,FALSE)*Crit3,\"\")","v":""},{"$f":"IF(Base_Arbres!A175<>\"\",VLOOKUP($A175,Base_Arbres,6,FALSE)*Crit4,\"\")","v":""},{"$f":"IF(Base_Arbres!B175<>\"\",VLOOKUP($A175,Base_Arbres,7,FALSE)*Crit5,\"\")","v":""},{"$f":"IF(Base_Arbres!C175<>\"\",VLOOKUP($A175,Base_Arbres,8,FALSE)*crit8,\"\")","v":""},{"$f":"IF(Base_Arbres!D175<>\"\",VLOOKUP($A175,Base_Arbres,9,FALSE)*crit9,\"\")","v":""},{"$f":"IF(ISNA(VLOOKUP(INDEX(Base_Typologie!$A$6:$P$1003,MATCH(A175,Base_Typologie!$A:$A,0)-5,MATCH(Typologie_Espace_Public,Base_Typologie!$6:$6,0)),TableauScoreTypologie2,2,FALSE)*Crit6),0,VLOOKUP(INDEX(Base_Typologie!$A$6:$P$1003,MATCH(A175,Base_Typologie!$A:$A,0)-5,MATCH(Typologie_Espace_Public,Base_Typologie!$6:$6,0)),TableauScoreTypologie2,2,FALSE)*Crit6)","v":0},0,0,0,0,0,0,0,0,0,0,0,0,null,{"$f":"IF(Base_Arbres!A278<>\"\",VLOOKUP($A175,Base_Arbres,4,FALSE)*Crit7,\"\")","v":""}]
[{"$f":"IF(Base_Arbres!A176<>\"\",Base_Arbres!A176,\"\")","v":""},{"$f":"IF(Base_Arbres!A176<>\"\",VLOOKUP($A176,Base_Arbres,3,FALSE)*Crit1,\"\")","v":""},{"$f":"IF(Base_Arbres!A176<>\"\",VLOOKUP($A176,Base_Arbres,4,FALSE)*Crit2,\"\")","v":""},{"$f":"IF(Base_Arbres!A176<>\"\",VLOOKUP($A176,Base_Arbres,5,FALSE)*Crit3,\"\")","v":""},{"$f":"IF(Base_Arbres!A176<>\"\",VLOOKUP($A176,Base_Arbres,6,FALSE)*Crit4,\"\")","v":""},{"$f":"IF(Base_Arbres!B176<>\"\",VLOOKUP($A176,Base_Arbres,7,FALSE)*Crit5,\"\")","v":""},{"$f":"IF(Base_Arbres!C176<>\"\",VLOOKUP($A176,Base_Arbres,8,FALSE)*crit8,\"\")","v":""},{"$f":"IF(Base_Arbres!D176<>\"\",VLOOKUP($A176,Base_Arbres,9,FALSE)*crit9,\"\")","v":""},{"$f":"IF(ISNA(VLOOKUP(INDEX(Base_Typologie!$A$6:$P$1003,MATCH(A176,Base_Typologie!$A:$A,0)-5,MATCH(Typologie_Espace_Public,Base_Typologie!$6:$6,0)),TableauScoreTypologie2,2,FALSE)*Crit6),0,VLOOKUP(INDEX(Base_Typologie!$A$6:$P$1003,MATCH(A176,Base_Typologie!$A:$A,0)-5,MATCH(Typologie_Espace_Public,Base_Typologie!$6:$6,0)),TableauScoreTypologie2,2,FALSE)*Crit6)","v":0},0,0,0,0,0,0,0,0,0,0,0,0,null,{"$f":"IF(Base_Arbres!A279<>\"\",VLOOKUP($A176,Base_Arbres,4,FALSE)*Crit7,\"\")","v":""}]
[{"$f":"IF(Base_Arbres!A177<>\"\",Base_Arbres!A177,\"\")","v":""},{"$f":"IF(Base_Arbres!A177<>\"\",VLOOKUP($A177,Base_Arbres,3,FALSE)*Crit1,\"\")","v":""},{"$f":"IF(Base_Arbres!A177<>\"\",VLOOKUP($A177,Base_Arbres,4,FALSE)*Crit2,\"\")","v":""},{"$f":"IF(Base_Arbres!A177<>\"\",VLOOKUP($A177,Base_Arbres,5,FALSE)*Crit3,\"\")","v":""},{"$f":"IF(Base_Arbres!A177<>\"\",VLOOKUP($A177,Base_Arbres,6,FALSE)*Crit4,\"\")","v":""},{"$f":"IF(Base_Arbres!B177<>\"\",VLOOKUP($A177,Base_Arbres,7,FALSE)*Crit5,\"\")","v":""},{"$f":"IF(Base_Arbres!C177<>\"\",VLOOKUP($A177,Base_Arbres,8,FALSE)*crit8,\"\")","v":""},{"$f":"IF(Base_Arbres!D177<>\"\",VLOOKUP($A177,Base_Arbres,9,FALSE)*crit9,\"\")","v":""},{"$f":"IF(ISNA(VLOOKUP(INDEX(Base_Typologie!$A$6:$P$1003,MATCH(A177,Base_Typologie!$A:$A,0)-5,MATCH(Typologie_Espace_Public,Base_Typologie!$6:$6,0)),TableauScoreTypologie2,2,FALSE)*Crit6),0,VLOOKUP(INDEX(Base_Typologie!$A$6:$P$1003,MATCH(A177,Base_Typologie!$A:$A,0)-5,MATCH(Typologie_Espace_Public,Base_Typologie!$6:$6,0)),TableauScoreTypologie2,2,FALSE)*Crit6)","v":0},0,0,0,0,0,0,0,0,0,0,0,0,null,{"$f":"IF(Base_Arbres!A280<>\"\",VLOOKUP($A177,Base_Arbres,4,FALSE)*Crit7,\"\")","v":""}]
[{"$f":"IF(Base_Arbres!A178<>\"\",Base_Arbres!A178,\"\")","v":""},{"$f":"IF(Base_Arbres!A178<>\"\",VLOOKUP($A178,Base_Arbres,3,FALSE)*Crit1,\"\")","v":""},{"$f":"IF(Base_Arbres!A178<>\"\",VLOOKUP($A178,Base_Arbres,4,FALSE)*Crit2,\"\")","v":""},{"$f":"IF(Base_Arbres!A178<>\"\",VLOOKUP($A178,Base_Arbres,5,FALSE)*Crit3,\"\")","v":""},{"$f":"IF(Base_Arbres!A178<>\"\",VLOOKUP($A178,Base_Arbres,6,FALSE)*Crit4,\"\")","v":""},{"$f":"IF(Base_Arbres!B178<>\"\",VLOOKUP($A178,Base_Arbres,7,FALSE)*Crit5,\"\")","v":""},{"$f":"IF(Base_Arbres!C178<>\"\",VLOOKUP($A178,Base_Arbres,8,FALSE)*crit8,\"\")","v":""},{"$f":"IF(Base_Arbres!D178<>\"\",VLOOKUP($A178,Base_Arbres,9,FALSE)*crit9,\"\")","v":""},{"$f":"IF(ISNA(VLOOKUP(INDEX(Base_Typologie!$A$6:$P$1003,MATCH(A178,Base_Typologie!$A:$A,0)-5,MATCH(Typologie_Espace_Public,Base_Typologie!$6:$6,0)),TableauScoreTypologie2,2,FALSE)*Crit6),0,VLOOKUP(INDEX(Base_Typologie!$A$6:$P$1003,MATCH(A178,Base_Typologie!$A:$A,0)-5,MATCH(Typologie_Espace_Public,Base_Typologie!$6:$6,0)),TableauScoreTypologie2,2,FALSE)*Crit6)","v":0},0,0,0,0,0,0,0,0,0,0,0,0,null,{"$f":"IF(Base_Arbres!A281<>\"\",VLOOKUP($A178,Base_Arbres,4,FALSE)*Crit7,\"\")","v":""}]
[{"$f":"IF(Base_Arbres!A179<>\"\",Base_Arbres!A179,\"\")","v":""},{"$f":"IF(Base_Arbres!A179<>\"\",VLOOKUP($A179,Base_Arbres,3,FALSE)*Crit1,\"\")","v":""},{"$f":"IF(Base_Arbres!A179<>\"\",VLOOKUP($A179,Base_Arbres,4,FALSE)*Crit2,\"\")","v":""},{"$f":"IF(Base_Arbres!A179<>\"\",VLOOKUP($A179,Base_Arbres,5,FALSE)*Crit3,\"\")","v":""},{"$f":"IF(Base_Arbres!A179<>\"\",VLOOKUP($A179,Base_Arbres,6,FALSE)*Crit4,\"\")","v":""},{"$f":"IF(Base_Arbres!B179<>\"\",VLOOKUP($A179,Base_Arbres,7,FALSE)*Crit5,\"\")","v":""},{"$f":"IF(Base_Arbres!C179<>\"\",VLOOKUP($A179,Base_Arbres,8,FALSE)*crit8,\"\")","v":""},{"$f":"IF(Base_Arbres!D179<>\"\",VLOOKUP($A179,Base_Arbres,9,FALSE)*crit9,\"\")","v":""},{"$f":"IF(ISNA(VLOOKUP(INDEX(Base_Typologie!$A$6:$P$1003,MATCH(A179,Base_Typologie!$A:$A,0)-5,MATCH(Typologie_Espace_Public,Base_Typologie!$6:$6,0)),TableauScoreTypologie2,2,FALSE)*Crit6),0,VLOOKUP(INDEX(Base_Typologie!$A$6:$P$1003,MATCH(A179,Base_Typologie!$A:$A,0)-5,MATCH(Typologie_Espace_Public,Base_Typologie!$6:$6,0)),TableauScoreTypologie2,2,FALSE)*Crit6)","v":0},0,0,0,0,0,0,0,0,0,0,0,0,null,{"$f":"IF(Base_Arbres!A282<>\"\",VLOOKUP($A179,Base_Arbres,4,FALSE)*Crit7,\"\")","v":""}]
[{"$f":"IF(Base_Arbres!A180<>\"\",Base_Arbres!A180,\"\")","v":""},{"$f":"IF(Base_Arbres!A180<>\"\",VLOOKUP($A180,Base_Arbres,3,FALSE)*Crit1,\"\")","v":""},{"$f":"IF(Base_Arbres!A180<>\"\",VLOOKUP($A180,Base_Arbres,4,FALSE)*Crit2,\"\")","v":""},{"$f":"IF(Base_Arbres!A180<>\"\",VLOOKUP($A180,Base_Arbres,5,FALSE)*Crit3,\"\")","v":""},{"$f":"IF(Base_Arbres!A180<>\"\",VLOOKUP($A180,Base_Arbres,6,FALSE)*Crit4,\"\")","v":""},{"$f":"IF(Base_Arbres!B180<>\"\",VLOOKUP($A180,Base_Arbres,7,FALSE)*Crit5,\"\")","v":""},{"$f":"IF(Base_Arbres!C180<>\"\",VLOOKUP($A180,Base_Arbres,8,FALSE)*crit8,\"\")","v":""},{"$f":"IF(Base_Arbres!D180<>\"\",VLOOKUP($A180,Base_Arbres,9,FALSE)*crit9,\"\")","v":""},{"$f":"IF(ISNA(VLOOKUP(INDEX(Base_Typologie!$A$6:$P$1003,MATCH(A180,Base_Typologie!$A:$A,0)-5,MATCH(Typologie_Espace_Public,Base_Typologie!$6:$6,0)),TableauScoreTypologie2,2,FALSE)*Crit6),0,VLOOKUP(INDEX(Base_Typologie!$A$6:$P$1003,MATCH(A180,Base_Typologie!$A:$A,0)-5,MATCH(Typologie_Espace_Public,Base_Typologie!$6:$6,0)),TableauScoreTypologie2,2,FALSE)*Crit6)","v":0},0,0,0,0,0,0,0,0,0,0,0,0,null,{"$f":"IF(Base_Arbres!A283<>\"\",VLOOKUP($A180,Base_Arbres,4,FALSE)*Crit7,\"\")","v":""}]
[{"$f":"IF(Base_Arbres!A181<>\"\",Base_Arbres!A181,\"\")","v":""},{"$f":"IF(Base_Arbres!A181<>\"\",VLOOKUP($A181,Base_Arbres,3,FALSE)*Crit1,\"\")","v":""},{"$f":"IF(Base_Arbres!A181<>\"\",VLOOKUP($A181,Base_Arbres,4,FALSE)*Crit2,\"\")","v":""},{"$f":"IF(Base_Arbres!A181<>\"\",VLOOKUP($A181,Base_Arbres,5,FALSE)*Crit3,\"\")","v":""},{"$f":"IF(Base_Arbres!A181<>\"\",VLOOKUP($A181,Base_Arbres,6,FALSE)*Crit4,\"\")","v":""},{"$f":"IF(Base_Arbres!B181<>\"\",VLOOKUP($A181,Base_Arbres,7,FALSE)*Crit5,\"\")","v":""},{"$f":"IF(Base_Arbres!C181<>\"\",VLOOKUP($A181,Base_Arbres,8,FALSE)*crit8,\"\")","v":""},{"$f":"IF(Base_Arbres!D181<>\"\",VLOOKUP($A181,Base_Arbres,9,FALSE)*crit9,\"\")","v":""},{"$f":"IF(ISNA(VLOOKUP(INDEX(Base_Typologie!$A$6:$P$1003,MATCH(A181,Base_Typologie!$A:$A,0)-5,MATCH(Typologie_Espace_Public,Base_Typologie!$6:$6,0)),TableauScoreTypologie2,2,FALSE)*Crit6),0,VLOOKUP(INDEX(Base_Typologie!$A$6:$P$1003,MATCH(A181,Base_Typologie!$A:$A,0)-5,MATCH(Typologie_Espace_Public,Base_Typologie!$6:$6,0)),TableauScoreTypologie2,2,FALSE)*Crit6)","v":0},0,0,0,0,0,0,0,0,0,0,0,0,null,{"$f":"IF(Base_Arbres!A284<>\"\",VLOOKUP($A181,Base_Arbres,4,FALSE)*Crit7,\"\")","v":""}]
[{"$f":"IF(Base_Arbres!A182<>\"\",Base_Arbres!A182,\"\")","v":""},{"$f":"IF(Base_Arbres!A182<>\"\",VLOOKUP($A182,Base_Arbres,3,FALSE)*Crit1,\"\")","v":""},{"$f":"IF(Base_Arbres!A182<>\"\",VLOOKUP($A182,Base_Arbres,4,FALSE)*Crit2,\"\")","v":""},{"$f":"IF(Base_Arbres!A182<>\"\",VLOOKUP($A182,Base_Arbres,5,FALSE)*Crit3,\"\")","v":""},{"$f":"IF(Base_Arbres!A182<>\"\",VLOOKUP($A182,Base_Arbres,6,FALSE)*Crit4,\"\")","v":""},{"$f":"IF(Base_Arbres!B182<>\"\",VLOOKUP($A182,Base_Arbres,7,FALSE)*Crit5,\"\")","v":""},{"$f":"IF(Base_Arbres!C182<>\"\",VLOOKUP($A182,Base_Arbres,8,FALSE)*crit8,\"\")","v":""},{"$f":"IF(Base_Arbres!D182<>\"\",VLOOKUP($A182,Base_Arbres,9,FALSE)*crit9,\"\")","v":""},{"$f":"IF(ISNA(VLOOKUP(INDEX(Base_Typologie!$A$6:$P$1003,MATCH(A182,Base_Typologie!$A:$A,0)-5,MATCH(Typologie_Espace_Public,Base_Typologie!$6:$6,0)),TableauScoreTypologie2,2,FALSE)*Crit6),0,VLOOKUP(INDEX(Base_Typologie!$A$6:$P$1003,MATCH(A182,Base_Typologie!$A:$A,0)-5,MATCH(Typologie_Espace_Public,Base_Typologie!$6:$6,0)),TableauScoreTypologie2,2,FALSE)*Crit6)","v":0},0,0,0,0,0,0,0,0,0,0,0,0,null,{"$f":"IF(Base_Arbres!A285<>\"\",VLOOKUP($A182,Base_Arbres,4,FALSE)*Crit7,\"\")","v":""}]
[{"$f":"IF(Base_Arbres!A183<>\"\",Base_Arbres!A183,\"\")","v":""},{"$f":"IF(Base_Arbres!A183<>\"\",VLOOKUP($A183,Base_Arbres,3,FALSE)*Crit1,\"\")","v":""},{"$f":"IF(Base_Arbres!A183<>\"\",VLOOKUP($A183,Base_Arbres,4,FALSE)*Crit2,\"\")","v":""},{"$f":"IF(Base_Arbres!A183<>\"\",VLOOKUP($A183,Base_Arbres,5,FALSE)*Crit3,\"\")","v":""},{"$f":"IF(Base_Arbres!A183<>\"\",VLOOKUP($A183,Base_Arbres,6,FALSE)*Crit4,\"\")","v":""},{"$f":"IF(Base_Arbres!B183<>\"\",VLOOKUP($A183,Base_Arbres,7,FALSE)*Crit5,\"\")","v":""},{"$f":"IF(Base_Arbres!C183<>\"\",VLOOKUP($A183,Base_Arbres,8,FALSE)*crit8,\"\")","v":""},{"$f":"IF(Base_Arbres!D183<>\"\",VLOOKUP($A183,Base_Arbres,9,FALSE)*crit9,\"\")","v":""},{"$f":"IF(ISNA(VLOOKUP(INDEX(Base_Typologie!$A$6:$P$1003,MATCH(A183,Base_Typologie!$A:$A,0)-5,MATCH(Typologie_Espace_Public,Base_Typologie!$6:$6,0)),TableauScoreTypologie2,2,FALSE)*Crit6),0,VLOOKUP(INDEX(Base_Typologie!$A$6:$P$1003,MATCH(A183,Base_Typologie!$A:$A,0)-5,MATCH(Typologie_Espace_Public,Base_Typologie!$6:$6,0)),TableauScoreTypologie2,2,FALSE)*Crit6)","v":0},0,0,0,0,0,0,0,0,0,0,0,0,null,{"$f":"IF(Base_Arbres!A286<>\"\",VLOOKUP($A183,Base_Arbres,4,FALSE)*Crit7,\"\")","v":""}]
[{"$f":"IF(Base_Arbres!A184<>\"\",Base_Arbres!A184,\"\")","v":""},{"$f":"IF(Base_Arbres!A184<>\"\",VLOOKUP($A184,Base_Arbres,3,FALSE)*Crit1,\"\")","v":""},{"$f":"IF(Base_Arbres!A184<>\"\",VLOOKUP($A184,Base_Arbres,4,FALSE)*Crit2,\"\")","v":""},{"$f":"IF(Base_Arbres!A184<>\"\",VLOOKUP($A184,Base_Arbres,5,FALSE)*Crit3,\"\")","v":""},{"$f":"IF(Base_Arbres!A184<>\"\",VLOOKUP($A184,Base_Arbres,6,FALSE)*Crit4,\"\")","v":""},{"$f":"IF(Base_Arbres!B184<>\"\",VLOOKUP($A184,Base_Arbres,7,FALSE)*Crit5,\"\")","v":""},{"$f":"IF(Base_Arbres!C184<>\"\",VLOOKUP($A184,Base_Arbres,8,FALSE)*crit8,\"\")","v":""},{"$f":"IF(Base_Arbres!D184<>\"\",VLOOKUP($A184,Base_Arbres,9,FALSE)*crit9,\"\")","v":""},{"$f":"IF(ISNA(VLOOKUP(INDEX(Base_Typologie!$A$6:$P$1003,MATCH(A184,Base_Typologie!$A:$A,0)-5,MATCH(Typologie_Espace_Public,Base_Typologie!$6:$6,0)),TableauScoreTypologie2,2,FALSE)*Crit6),0,VLOOKUP(INDEX(Base_Typologie!$A$6:$P$1003,MATCH(A184,Base_Typologie!$A:$A,0)-5,MATCH(Typologie_Espace_Public,Base_Typologie!$6:$6,0)),TableauScoreTypologie2,2,FALSE)*Crit6)","v":0},0,0,0,0,0,0,0,0,0,0,0,0,null,{"$f":"IF(Base_Arbres!A287<>\"\",VLOOKUP($A184,Base_Arbres,4,FALSE)*Crit7,\"\")","v":""}]
[{"$f":"IF(Base_Arbres!A185<>\"\",Base_Arbres!A185,\"\")","v":""},{"$f":"IF(Base_Arbres!A185<>\"\",VLOOKUP($A185,Base_Arbres,3,FALSE)*Crit1,\"\")","v":""},{"$f":"IF(Base_Arbres!A185<>\"\",VLOOKUP($A185,Base_Arbres,4,FALSE)*Crit2,\"\")","v":""},{"$f":"IF(Base_Arbres!A185<>\"\",VLOOKUP($A185,Base_Arbres,5,FALSE)*Crit3,\"\")","v":""},{"$f":"IF(Base_Arbres!A185<>\"\",VLOOKUP($A185,Base_Arbres,6,FALSE)*Crit4,\"\")","v":""},{"$f":"IF(Base_Arbres!B185<>\"\",VLOOKUP($A185,Base_Arbres,7,FALSE)*Crit5,\"\")","v":""},{"$f":"IF(Base_Arbres!C185<>\"\",VLOOKUP($A185,Base_Arbres,8,FALSE)*crit8,\"\")","v":""},{"$f":"IF(Base_Arbres!D185<>\"\",VLOOKUP($A185,Base_Arbres,9,FALSE)*crit9,\"\")","v":""},{"$f":"IF(ISNA(VLOOKUP(INDEX(Base_Typologie!$A$6:$P$1003,MATCH(A185,Base_Typologie!$A:$A,0)-5,MATCH(Typologie_Espace_Public,Base_Typologie!$6:$6,0)),TableauScoreTypologie2,2,FALSE)*Crit6),0,VLOOKUP(INDEX(Base_Typologie!$A$6:$P$1003,MATCH(A185,Base_Typologie!$A:$A,0)-5,MATCH(Typologie_Espace_Public,Base_Typologie!$6:$6,0)),TableauScoreTypologie2,2,FALSE)*Crit6)","v":0},0,0,0,0,0,0,0,0,0,0,0,0,null,{"$f":"IF(Base_Arbres!A288<>\"\",VLOOKUP($A185,Base_Arbres,4,FALSE)*Crit7,\"\")","v":""}]
[{"$f":"IF(Base_Arbres!A186<>\"\",Base_Arbres!A186,\"\")","v":""},{"$f":"IF(Base_Arbres!A186<>\"\",VLOOKUP($A186,Base_Arbres,3,FALSE)*Crit1,\"\")","v":""},{"$f":"IF(Base_Arbres!A186<>\"\",VLOOKUP($A186,Base_Arbres,4,FALSE)*Crit2,\"\")","v":""},{"$f":"IF(Base_Arbres!A186<>\"\",VLOOKUP($A186,Base_Arbres,5,FALSE)*Crit3,\"\")","v":""},{"$f":"IF(Base_Arbres!A186<>\"\",VLOOKUP($A186,Base_Arbres,6,FALSE)*Crit4,\"\")","v":""},{"$f":"IF(Base_Arbres!B186<>\"\",VLOOKUP($A186,Base_Arbres,7,FALSE)*Crit5,\"\")","v":""},{"$f":"IF(Base_Arbres!C186<>\"\",VLOOKUP($A186,Base_Arbres,8,FALSE)*crit8,\"\")","v":""},{"$f":"IF(Base_Arbres!D186<>\"\",VLOOKUP($A186,Base_Arbres,9,FALSE)*crit9,\"\")","v":""},{"$f":"IF(ISNA(VLOOKUP(INDEX(Base_Typologie!$A$6:$P$1003,MATCH(A186,Base_Typologie!$A:$A,0)-5,MATCH(Typologie_Espace_Public,Base_Typologie!$6:$6,0)),TableauScoreTypologie2,2,FALSE)*Crit6),0,VLOOKUP(INDEX(Base_Typologie!$A$6:$P$1003,MATCH(A186,Base_Typologie!$A:$A,0)-5,MATCH(Typologie_Espace_Public,Base_Typologie!$6:$6,0)),TableauScoreTypologie2,2,FALSE)*Crit6)","v":0},0,0,0,0,0,0,0,0,0,0,0,0,null,{"$f":"IF(Base_Arbres!A289<>\"\",VLOOKUP($A186,Base_Arbres,4,FALSE)*Crit7,\"\")","v":""}]
[{"$f":"IF(Base_Arbres!A187<>\"\",Base_Arbres!A187,\"\")","v":""},{"$f":"IF(Base_Arbres!A187<>\"\",VLOOKUP($A187,Base_Arbres,3,FALSE)*Crit1,\"\")","v":""},{"$f":"IF(Base_Arbres!A187<>\"\",VLOOKUP($A187,Base_Arbres,4,FALSE)*Crit2,\"\")","v":""},{"$f":"IF(Base_Arbres!A187<>\"\",VLOOKUP($A187,Base_Arbres,5,FALSE)*Crit3,\"\")","v":""},{"$f":"IF(Base_Arbres!A187<>\"\",VLOOKUP($A187,Base_Arbres,6,FALSE)*Crit4,\"\")","v":""},{"$f":"IF(Base_Arbres!B187<>\"\",VLOOKUP($A187,Base_Arbres,7,FALSE)*Crit5,\"\")","v":""},{"$f":"IF(Base_Arbres!C187<>\"\",VLOOKUP($A187,Base_Arbres,8,FALSE)*crit8,\"\")","v":""},{"$f":"IF(Base_Arbres!D187<>\"\",VLOOKUP($A187,Base_Arbres,9,FALSE)*crit9,\"\")","v":""},{"$f":"IF(ISNA(VLOOKUP(INDEX(Base_Typologie!$A$6:$P$1003,MATCH(A187,Base_Typologie!$A:$A,0)-5,MATCH(Typologie_Espace_Public,Base_Typologie!$6:$6,0)),TableauScoreTypologie2,2,FALSE)*Crit6),0,VLOOKUP(INDEX(Base_Typologie!$A$6:$P$1003,MATCH(A187,Base_Typologie!$A:$A,0)-5,MATCH(Typologie_Espace_Public,Base_Typologie!$6:$6,0)),TableauScoreTypologie2,2,FALSE)*Crit6)","v":0},0,0,0,0,0,0,0,0,0,0,0,0,null,{"$f":"IF(Base_Arbres!A290<>\"\",VLOOKUP($A187,Base_Arbres,4,FALSE)*Crit7,\"\")","v":""}]
[{"$f":"IF(Base_Arbres!A188<>\"\",Base_Arbres!A188,\"\")","v":""},{"$f":"IF(Base_Arbres!A188<>\"\",VLOOKUP($A188,Base_Arbres,3,FALSE)*Crit1,\"\")","v":""},{"$f":"IF(Base_Arbres!A188<>\"\",VLOOKUP($A188,Base_Arbres,4,FALSE)*Crit2,\"\")","v":""},{"$f":"IF(Base_Arbres!A188<>\"\",VLOOKUP($A188,Base_Arbres,5,FALSE)*Crit3,\"\")","v":""},{"$f":"IF(Base_Arbres!A188<>\"\",VLOOKUP($A188,Base_Arbres,6,FALSE)*Crit4,\"\")","v":""},{"$f":"IF(Base_Arbres!B188<>\"\",VLOOKUP($A188,Base_Arbres,7,FALSE)*Crit5,\"\")","v":""},{"$f":"IF(Base_Arbres!C188<>\"\",VLOOKUP($A188,Base_Arbres,8,FALSE)*crit8,\"\")","v":""},{"$f":"IF(Base_Arbres!D188<>\"\",VLOOKUP($A188,Base_Arbres,9,FALSE)*crit9,\"\")","v":""},{"$f":"IF(ISNA(VLOOKUP(INDEX(Base_Typologie!$A$6:$P$1003,MATCH(A188,Base_Typologie!$A:$A,0)-5,MATCH(Typologie_Espace_Public,Base_Typologie!$6:$6,0)),TableauScoreTypologie2,2,FALSE)*Crit6),0,VLOOKUP(INDEX(Base_Typologie!$A$6:$P$1003,MATCH(A188,Base_Typologie!$A:$A,0)-5,MATCH(Typologie_Espace_Public,Base_Typologie!$6:$6,0)),TableauScoreTypologie2,2,FALSE)*Crit6)","v":0},0,0,0,0,0,0,0,0,0,0,0,0,null,{"$f":"IF(Base_Arbres!A291<>\"\",VLOOKUP($A188,Base_Arbres,4,FALSE)*Crit7,\"\")","v":""}]
[{"$f":"IF(Base_Arbres!A189<>\"\",Base_Arbres!A189,\"\")","v":""},{"$f":"IF(Base_Arbres!A189<>\"\",VLOOKUP($A189,Base_Arbres,3,FALSE)*Crit1,\"\")","v":""},{"$f":"IF(Base_Arbres!A189<>\"\",VLOOKUP($A189,Base_Arbres,4,FALSE)*Crit2,\"\")","v":""},{"$f":"IF(Base_Arbres!A189<>\"\",VLOOKUP($A189,Base_Arbres,5,FALSE)*Crit3,\"\")","v":""},{"$f":"IF(Base_Arbres!A189<>\"\",VLOOKUP($A189,Base_Arbres,6,FALSE)*Crit4,\"\")","v":""},{"$f":"IF(Base_Arbres!B189<>\"\",VLOOKUP($A189,Base_Arbres,7,FALSE)*Crit5,\"\")","v":""},{"$f":"IF(Base_Arbres!C189<>\"\",VLOOKUP($A189,Base_Arbres,8,FALSE)*crit8,\"\")","v":""},{"$f":"IF(Base_Arbres!D189<>\"\",VLOOKUP($A189,Base_Arbres,9,FALSE)*crit9,\"\")","v":""},{"$f":"IF(ISNA(VLOOKUP(INDEX(Base_Typologie!$A$6:$P$1003,MATCH(A189,Base_Typologie!$A:$A,0)-5,MATCH(Typologie_Espace_Public,Base_Typologie!$6:$6,0)),TableauScoreTypologie2,2,FALSE)*Crit6),0,VLOOKUP(INDEX(Base_Typologie!$A$6:$P$1003,MATCH(A189,Base_Typologie!$A:$A,0)-5,MATCH(Typologie_Espace_Public,Base_Typologie!$6:$6,0)),TableauScoreTypologie2,2,FALSE)*Crit6)","v":0},0,0,0,0,0,0,0,0,0,0,0,0,null,{"$f":"IF(Base_Arbres!A292<>\"\",VLOOKUP($A189,Base_Arbres,4,FALSE)*Crit7,\"\")","v":""}]
[{"$f":"IF(Base_Arbres!A190<>\"\",Base_Arbres!A190,\"\")","v":""},{"$f":"IF(Base_Arbres!A190<>\"\",VLOOKUP($A190,Base_Arbres,3,FALSE)*Crit1,\"\")","v":""},{"$f":"IF(Base_Arbres!A190<>\"\",VLOOKUP($A190,Base_Arbres,4,FALSE)*Crit2,\"\")","v":""},{"$f":"IF(Base_Arbres!A190<>\"\",VLOOKUP($A190,Base_Arbres,5,FALSE)*Crit3,\"\")","v":""},{"$f":"IF(Base_Arbres!A190<>\"\",VLOOKUP($A190,Base_Arbres,6,FALSE)*Crit4,\"\")","v":""},{"$f":"IF(Base_Arbres!B190<>\"\",VLOOKUP($A190,Base_Arbres,7,FALSE)*Crit5,\"\")","v":""},{"$f":"IF(Base_Arbres!C190<>\"\",VLOOKUP($A190,Base_Arbres,8,FALSE)*crit8,\"\")","v":""},{"$f":"IF(Base_Arbres!D190<>\"\",VLOOKUP($A190,Base_Arbres,9,FALSE)*crit9,\"\")","v":""},{"$f":"IF(ISNA(VLOOKUP(INDEX(Base_Typologie!$A$6:$P$1003,MATCH(A190,Base_Typologie!$A:$A,0)-5,MATCH(Typologie_Espace_Public,Base_Typologie!$6:$6,0)),TableauScoreTypologie2,2,FALSE)*Crit6),0,VLOOKUP(INDEX(Base_Typologie!$A$6:$P$1003,MATCH(A190,Base_Typologie!$A:$A,0)-5,MATCH(Typologie_Espace_Public,Base_Typologie!$6:$6,0)),TableauScoreTypologie2,2,FALSE)*Crit6)","v":0},0,0,0,0,0,0,0,0,0,0,0,0,null,{"$f":"IF(Base_Arbres!A293<>\"\",VLOOKUP($A190,Base_Arbres,4,FALSE)*Crit7,\"\")","v":""}]
[{"$f":"IF(Base_Arbres!A191<>\"\",Base_Arbres!A191,\"\")","v":""},{"$f":"IF(Base_Arbres!A191<>\"\",VLOOKUP($A191,Base_Arbres,3,FALSE)*Crit1,\"\")","v":""},{"$f":"IF(Base_Arbres!A191<>\"\",VLOOKUP($A191,Base_Arbres,4,FALSE)*Crit2,\"\")","v":""},{"$f":"IF(Base_Arbres!A191<>\"\",VLOOKUP($A191,Base_Arbres,5,FALSE)*Crit3,\"\")","v":""},{"$f":"IF(Base_Arbres!A191<>\"\",VLOOKUP($A191,Base_Arbres,6,FALSE)*Crit4,\"\")","v":""},{"$f":"IF(Base_Arbres!B191<>\"\",VLOOKUP($A191,Base_Arbres,7,FALSE)*Crit5,\"\")","v":""},{"$f":"IF(Base_Arbres!C191<>\"\",VLOOKUP($A191,Base_Arbres,8,FALSE)*crit8,\"\")","v":""},{"$f":"IF(Base_Arbres!D191<>\"\",VLOOKUP($A191,Base_Arbres,9,FALSE)*crit9,\"\")","v":""},{"$f":"IF(ISNA(VLOOKUP(INDEX(Base_Typologie!$A$6:$P$1003,MATCH(A191,Base_Typologie!$A:$A,0)-5,MATCH(Typologie_Espace_Public,Base_Typologie!$6:$6,0)),TableauScoreTypologie2,2,FALSE)*Crit6),0,VLOOKUP(INDEX(Base_Typologie!$A$6:$P$1003,MATCH(A191,Base_Typologie!$A:$A,0)-5,MATCH(Typologie_Espace_Public,Base_Typologie!$6:$6,0)),TableauScoreTypologie2,2,FALSE)*Crit6)","v":0},0,0,0,0,0,0,0,0,0,0,0,0,null,{"$f":"IF(Base_Arbres!A294<>\"\",VLOOKUP($A191,Base_Arbres,4,FALSE)*Crit7,\"\")","v":""}]
[{"$f":"IF(Base_Arbres!A192<>\"\",Base_Arbres!A192,\"\")","v":""},{"$f":"IF(Base_Arbres!A192<>\"\",VLOOKUP($A192,Base_Arbres,3,FALSE)*Crit1,\"\")","v":""},{"$f":"IF(Base_Arbres!A192<>\"\",VLOOKUP($A192,Base_Arbres,4,FALSE)*Crit2,\"\")","v":""},{"$f":"IF(Base_Arbres!A192<>\"\",VLOOKUP($A192,Base_Arbres,5,FALSE)*Crit3,\"\")","v":""},{"$f":"IF(Base_Arbres!A192<>\"\",VLOOKUP($A192,Base_Arbres,6,FALSE)*Crit4,\"\")","v":""},{"$f":"IF(Base_Arbres!B192<>\"\",VLOOKUP($A192,Base_Arbres,7,FALSE)*Crit5,\"\")","v":""},{"$f":"IF(Base_Arbres!C192<>\"\",VLOOKUP($A192,Base_Arbres,8,FALSE)*crit8,\"\")","v":""},{"$f":"IF(Base_Arbres!D192<>\"\",VLOOKUP($A192,Base_Arbres,9,FALSE)*crit9,\"\")","v":""},{"$f":"IF(ISNA(VLOOKUP(INDEX(Base_Typologie!$A$6:$P$1003,MATCH(A192,Base_Typologie!$A:$A,0)-5,MATCH(Typologie_Espace_Public,Base_Typologie!$6:$6,0)),TableauScoreTypologie2,2,FALSE)*Crit6),0,VLOOKUP(INDEX(Base_Typologie!$A$6:$P$1003,MATCH(A192,Base_Typologie!$A:$A,0)-5,MATCH(Typologie_Espace_Public,Base_Typologie!$6:$6,0)),TableauScoreTypologie2,2,FALSE)*Crit6)","v":0},0,0,0,0,0,0,0,0,0,0,0,0,null,{"$f":"IF(Base_Arbres!A295<>\"\",VLOOKUP($A192,Base_Arbres,4,FALSE)*Crit7,\"\")","v":""}]
[{"$f":"IF(Base_Arbres!A193<>\"\",Base_Arbres!A193,\"\")","v":""},{"$f":"IF(Base_Arbres!A193<>\"\",VLOOKUP($A193,Base_Arbres,3,FALSE)*Crit1,\"\")","v":""},{"$f":"IF(Base_Arbres!A193<>\"\",VLOOKUP($A193,Base_Arbres,4,FALSE)*Crit2,\"\")","v":""},{"$f":"IF(Base_Arbres!A193<>\"\",VLOOKUP($A193,Base_Arbres,5,FALSE)*Crit3,\"\")","v":""},{"$f":"IF(Base_Arbres!A193<>\"\",VLOOKUP($A193,Base_Arbres,6,FALSE)*Crit4,\"\")","v":""},{"$f":"IF(Base_Arbres!B193<>\"\",VLOOKUP($A193,Base_Arbres,7,FALSE)*Crit5,\"\")","v":""},{"$f":"IF(Base_Arbres!C193<>\"\",VLOOKUP($A193,Base_Arbres,8,FALSE)*crit8,\"\")","v":""},{"$f":"IF(Base_Arbres!D193<>\"\",VLOOKUP($A193,Base_Arbres,9,FALSE)*crit9,\"\")","v":""},{"$f":"IF(ISNA(VLOOKUP(INDEX(Base_Typologie!$A$6:$P$1003,MATCH(A193,Base_Typologie!$A:$A,0)-5,MATCH(Typologie_Espace_Public,Base_Typologie!$6:$6,0)),TableauScoreTypologie2,2,FALSE)*Crit6),0,VLOOKUP(INDEX(Base_Typologie!$A$6:$P$1003,MATCH(A193,Base_Typologie!$A:$A,0)-5,MATCH(Typologie_Espace_Public,Base_Typologie!$6:$6,0)),TableauScoreTypologie2,2,FALSE)*Crit6)","v":0},0,0,0,0,0,0,0,0,0,0,0,0,null,{"$f":"IF(Base_Arbres!A296<>\"\",VLOOKUP($A193,Base_Arbres,4,FALSE)*Crit7,\"\")","v":""}]
[{"$f":"IF(Base_Arbres!A194<>\"\",Base_Arbres!A194,\"\")","v":""},{"$f":"IF(Base_Arbres!A194<>\"\",VLOOKUP($A194,Base_Arbres,3,FALSE)*Crit1,\"\")","v":""},{"$f":"IF(Base_Arbres!A194<>\"\",VLOOKUP($A194,Base_Arbres,4,FALSE)*Crit2,\"\")","v":""},{"$f":"IF(Base_Arbres!A194<>\"\",VLOOKUP($A194,Base_Arbres,5,FALSE)*Crit3,\"\")","v":""},{"$f":"IF(Base_Arbres!A194<>\"\",VLOOKUP($A194,Base_Arbres,6,FALSE)*Crit4,\"\")","v":""},{"$f":"IF(Base_Arbres!B194<>\"\",VLOOKUP($A194,Base_Arbres,7,FALSE)*Crit5,\"\")","v":""},{"$f":"IF(Base_Arbres!C194<>\"\",VLOOKUP($A194,Base_Arbres,8,FALSE)*crit8,\"\")","v":""},{"$f":"IF(Base_Arbres!D194<>\"\",VLOOKUP($A194,Base_Arbres,9,FALSE)*crit9,\"\")","v":""},{"$f":"IF(ISNA(VLOOKUP(INDEX(Base_Typologie!$A$6:$P$1003,MATCH(A194,Base_Typologie!$A:$A,0)-5,MATCH(Typologie_Espace_Public,Base_Typologie!$6:$6,0)),TableauScoreTypologie2,2,FALSE)*Crit6),0,VLOOKUP(INDEX(Base_Typologie!$A$6:$P$1003,MATCH(A194,Base_Typologie!$A:$A,0)-5,MATCH(Typologie_Espace_Public,Base_Typologie!$6:$6,0)),TableauScoreTypologie2,2,FALSE)*Crit6)","v":0},{"$f":"IF(A194<>\"\",IF(LEFT(VLOOKUP($A194,Base_Arbres,10,FALSE),1)>=LEFT(Cont_Racines,1),0,1),0)","v":0},{"$f":"IF(A194<>\"\",IF(LEFT(VLOOKUP($A194,Base_Arbres,11,FALSE),1)>=LEFT(Cont_Branches,1),0,1),0)","v":0},{"$f":"IF(A194<>\"\",IF(LEFT(VLOOKUP($A194,Base_Arbres,12,FALSE),1)>=LEFT(Cont_Chablis,1),0,1),0)","v":0},{"$f":"IF(A194<>\"\",IF(LEFT(VLOOKUP($A194,Base_Arbres,13,FALSE),1)>=LEFT(Cont_Fructifications,1),0,1),0)","v":0},{"$f":"IF(A194<>\"\",IF(LEFT(VLOOKUP($A194,Base_Arbres,14,FALSE),1)>=LEFT(Cont_Miellat,1),0,1),0)","v":0},{"$f":"IF(A194<>\"\",IF(LEFT(VLOOKUP($A194,Base_Arbres,15,FALSE),1)>=LEFT(Cont_Fruits_Toxiques,1),0,1),0)","v":0},{"$f":"IF(A194<>\"\",IF(LEFT(VLOOKUP($A194,Base_Arbres,16,FALSE),1)>=LEFT(Cont_Hauteur,1),0,1),0)","v":0},{"$f":"IF(A194<>\"\",IF(LEFT(VLOOKUP($A194,Base_Arbres,17,FALSE),1)>=LEFT(Cont_Envergure,1),0,1),0)","v":0},{"$f":"IF(A194<>\"\",IF(LEFT(VLOOKUP($A194,Base_Arbres,18,FALSE),1)>=LEFT(Cont_pollen,1),0,1),0)","v":0},{"$f":"IF(B194<>\"\",IF(LEFT(VLOOKUP($A194,Base_Arbres,19,FALSE),1)>=LEFT(Cont_malodo,1),0,1),0)","v":0},{"$f":"IF(A194<>\"\",IF(LEFT(VLOOKUP($A194,Base_Arbres,20,FALSE),1)>=LEFT(Cont_chenilles,1),0,1),0)","v":0},{"$f":"IF(A194<>\"\",IF(LEFT(VLOOKUP($A194,Base_Arbres,21,FALSE),1)>=LEFT(Cont_epineux,1),0,1),0)","v":0},null,{"$f":"IF(Base_Arbres!A297<>\"\",VLOOKUP($A194,Base_Arbres,4,FALSE)*Crit7,\"\")","v":""}]
[{"$f":"IF(Base_Arbres!A195<>\"\",Base_Arbres!A195,\"\")","v":""},{"$f":"IF(Base_Arbres!A195<>\"\",VLOOKUP($A195,Base_Arbres,3,FALSE)*Crit1,\"\")","v":""},{"$f":"IF(Base_Arbres!A195<>\"\",VLOOKUP($A195,Base_Arbres,4,FALSE)*Crit2,\"\")","v":""},{"$f":"IF(Base_Arbres!A195<>\"\",VLOOKUP($A195,Base_Arbres,5,FALSE)*Crit3,\"\")","v":""},{"$f":"IF(Base_Arbres!A195<>\"\",VLOOKUP($A195,Base_Arbres,6,FALSE)*Crit4,\"\")","v":""},{"$f":"IF(Base_Arbres!B195<>\"\",VLOOKUP($A195,Base_Arbres,7,FALSE)*Crit5,\"\")","v":""},{"$f":"IF(Base_Arbres!C195<>\"\",VLOOKUP($A195,Base_Arbres,8,FALSE)*crit8,\"\")","v":""},{"$f":"IF(Base_Arbres!D195<>\"\",VLOOKUP($A195,Base_Arbres,9,FALSE)*crit9,\"\")","v":""},{"$f":"IF(ISNA(VLOOKUP(INDEX(Base_Typologie!$A$6:$P$1003,MATCH(A195,Base_Typologie!$A:$A,0)-5,MATCH(Typologie_Espace_Public,Base_Typologie!$6:$6,0)),TableauScoreTypologie2,2,FALSE)*Crit6),0,VLOOKUP(INDEX(Base_Typologie!$A$6:$P$1003,MATCH(A195,Base_Typologie!$A:$A,0)-5,MATCH(Typologie_Espace_Public,Base_Typologie!$6:$6,0)),TableauScoreTypologie2,2,FALSE)*Crit6)","v":0},0,0,0,0,0,0,0,0,0,0,0,0,null,{"$f":"IF(Base_Arbres!A298<>\"\",VLOOKUP($A195,Base_Arbres,4,FALSE)*Crit7,\"\")","v":""}]
[{"$f":"IF(Base_Arbres!A196<>\"\",Base_Arbres!A196,\"\")","v":""},{"$f":"IF(Base_Arbres!A196<>\"\",VLOOKUP($A196,Base_Arbres,3,FALSE)*Crit1,\"\")","v":""},{"$f":"IF(Base_Arbres!A196<>\"\",VLOOKUP($A196,Base_Arbres,4,FALSE)*Crit2,\"\")","v":""},{"$f":"IF(Base_Arbres!A196<>\"\",VLOOKUP($A196,Base_Arbres,5,FALSE)*Crit3,\"\")","v":""},{"$f":"IF(Base_Arbres!A196<>\"\",VLOOKUP($A196,Base_Arbres,6,FALSE)*Crit4,\"\")","v":""},{"$f":"IF(Base_Arbres!B196<>\"\",VLOOKUP($A196,Base_Arbres,7,FALSE)*Crit5,\"\")","v":""},{"$f":"IF(Base_Arbres!C196<>\"\",VLOOKUP($A196,Base_Arbres,8,FALSE)*crit8,\"\")","v":""},{"$f":"IF(Base_Arbres!D196<>\"\",VLOOKUP($A196,Base_Arbres,9,FALSE)*crit9,\"\")","v":""},{"$f":"IF(ISNA(VLOOKUP(INDEX(Base_Typologie!$A$6:$P$1003,MATCH(A196,Base_Typologie!$A:$A,0)-5,MATCH(Typologie_Espace_Public,Base_Typologie!$6:$6,0)),TableauScoreTypologie2,2,FALSE)*Crit6),0,VLOOKUP(INDEX(Base_Typologie!$A$6:$P$1003,MATCH(A196,Base_Typologie!$A:$A,0)-5,MATCH(Typologie_Espace_Public,Base_Typologie!$6:$6,0)),TableauScoreTypologie2,2,FALSE)*Crit6)","v":0},0,0,0,0,0,0,0,0,0,0,0,0,null,{"$f":"IF(Base_Arbres!A299<>\"\",VLOOKUP($A196,Base_Arbres,4,FALSE)*Crit7,\"\")","v":""}]
[{"$f":"IF(Base_Arbres!A197<>\"\",Base_Arbres!A197,\"\")","v":""},{"$f":"IF(Base_Arbres!A197<>\"\",VLOOKUP($A197,Base_Arbres,3,FALSE)*Crit1,\"\")","v":""},{"$f":"IF(Base_Arbres!A197<>\"\",VLOOKUP($A197,Base_Arbres,4,FALSE)*Crit2,\"\")","v":""},{"$f":"IF(Base_Arbres!A197<>\"\",VLOOKUP($A197,Base_Arbres,5,FALSE)*Crit3,\"\")","v":""},{"$f":"IF(Base_Arbres!A197<>\"\",VLOOKUP($A197,Base_Arbres,6,FALSE)*Crit4,\"\")","v":""},{"$f":"IF(Base_Arbres!B197<>\"\",VLOOKUP($A197,Base_Arbres,7,FALSE)*Crit5,\"\")","v":""},{"$f":"IF(Base_Arbres!C197<>\"\",VLOOKUP($A197,Base_Arbres,8,FALSE)*crit8,\"\")","v":""},{"$f":"IF(Base_Arbres!D197<>\"\",VLOOKUP($A197,Base_Arbres,9,FALSE)*crit9,\"\")","v":""},{"$f":"IF(ISNA(VLOOKUP(INDEX(Base_Typologie!$A$6:$P$1003,MATCH(A197,Base_Typologie!$A:$A,0)-5,MATCH(Typologie_Espace_Public,Base_Typologie!$6:$6,0)),TableauScoreTypologie2,2,FALSE)*Crit6),0,VLOOKUP(INDEX(Base_Typologie!$A$6:$P$1003,MATCH(A197,Base_Typologie!$A:$A,0)-5,MATCH(Typologie_Espace_Public,Base_Typologie!$6:$6,0)),TableauScoreTypologie2,2,FALSE)*Crit6)","v":0},0,0,0,0,0,0,0,0,0,0,0,0,null,{"$f":"IF(Base_Arbres!A300<>\"\",VLOOKUP($A197,Base_Arbres,4,FALSE)*Crit7,\"\")","v":""}]
[{"$f":"IF(Base_Arbres!A198<>\"\",Base_Arbres!A198,\"\")","v":""},{"$f":"IF(Base_Arbres!A198<>\"\",VLOOKUP($A198,Base_Arbres,3,FALSE)*Crit1,\"\")","v":""},{"$f":"IF(Base_Arbres!A198<>\"\",VLOOKUP($A198,Base_Arbres,4,FALSE)*Crit2,\"\")","v":""},{"$f":"IF(Base_Arbres!A198<>\"\",VLOOKUP($A198,Base_Arbres,5,FALSE)*Crit3,\"\")","v":""},{"$f":"IF(Base_Arbres!A198<>\"\",VLOOKUP($A198,Base_Arbres,6,FALSE)*Crit4,\"\")","v":""},{"$f":"IF(Base_Arbres!B198<>\"\",VLOOKUP($A198,Base_Arbres,7,FALSE)*Crit5,\"\")","v":""},{"$f":"IF(Base_Arbres!C198<>\"\",VLOOKUP($A198,Base_Arbres,8,FALSE)*crit8,\"\")","v":""},{"$f":"IF(Base_Arbres!D198<>\"\",VLOOKUP($A198,Base_Arbres,9,FALSE)*crit9,\"\")","v":""},{"$f":"IF(ISNA(VLOOKUP(INDEX(Base_Typologie!$A$6:$P$1003,MATCH(A198,Base_Typologie!$A:$A,0)-5,MATCH(Typologie_Espace_Public,Base_Typologie!$6:$6,0)),TableauScoreTypologie2,2,FALSE)*Crit6),0,VLOOKUP(INDEX(Base_Typologie!$A$6:$P$1003,MATCH(A198,Base_Typologie!$A:$A,0)-5,MATCH(Typologie_Espace_Public,Base_Typologie!$6:$6,0)),TableauScoreTypologie2,2,FALSE)*Crit6)","v":0},0,0,0,0,0,0,0,0,0,0,0,0,null,{"$f":"IF(Base_Arbres!A301<>\"\",VLOOKUP($A198,Base_Arbres,4,FALSE)*Crit7,\"\")","v":""}]
[{"$f":"IF(Base_Arbres!A199<>\"\",Base_Arbres!A199,\"\")","v":""},{"$f":"IF(Base_Arbres!A199<>\"\",VLOOKUP($A199,Base_Arbres,3,FALSE)*Crit1,\"\")","v":""},{"$f":"IF(Base_Arbres!A199<>\"\",VLOOKUP($A199,Base_Arbres,4,FALSE)*Crit2,\"\")","v":""},{"$f":"IF(Base_Arbres!A199<>\"\",VLOOKUP($A199,Base_Arbres,5,FALSE)*Crit3,\"\")","v":""},{"$f":"IF(Base_Arbres!A199<>\"\",VLOOKUP($A199,Base_Arbres,6,FALSE)*Crit4,\"\")","v":""},{"$f":"IF(Base_Arbres!B199<>\"\",VLOOKUP($A199,Base_Arbres,7,FALSE)*Crit5,\"\")","v":""},{"$f":"IF(Base_Arbres!C199<>\"\",VLOOKUP($A199,Base_Arbres,8,FALSE)*crit8,\"\")","v":""},{"$f":"IF(Base_Arbres!D199<>\"\",VLOOKUP($A199,Base_Arbres,9,FALSE)*crit9,\"\")","v":""},{"$f":"IF(ISNA(VLOOKUP(INDEX(Base_Typologie!$A$6:$P$1003,MATCH(A199,Base_Typologie!$A:$A,0)-5,MATCH(Typologie_Espace_Public,Base_Typologie!$6:$6,0)),TableauScoreTypologie2,2,FALSE)*Crit6),0,VLOOKUP(INDEX(Base_Typologie!$A$6:$P$1003,MATCH(A199,Base_Typologie!$A:$A,0)-5,MATCH(Typologie_Espace_Public,Base_Typologie!$6:$6,0)),TableauScoreTypologie2,2,FALSE)*Crit6)","v":0},0,0,0,0,0,0,0,0,0,0,0,0,null,{"$f":"IF(Base_Arbres!A302<>\"\",VLOOKUP($A199,Base_Arbres,4,FALSE)*Crit7,\"\")","v":""}]
[{"$f":"IF(Base_Arbres!A200<>\"\",Base_Arbres!A200,\"\")","v":""},{"$f":"IF(Base_Arbres!A200<>\"\",VLOOKUP($A200,Base_Arbres,3,FALSE)*Crit1,\"\")","v":""},{"$f":"IF(Base_Arbres!A200<>\"\",VLOOKUP($A200,Base_Arbres,4,FALSE)*Crit2,\"\")","v":""},{"$f":"IF(Base_Arbres!A200<>\"\",VLOOKUP($A200,Base_Arbres,5,FALSE)*Crit3,\"\")","v":""},{"$f":"IF(Base_Arbres!A200<>\"\",VLOOKUP($A200,Base_Arbres,6,FALSE)*Crit4,\"\")","v":""},{"$f":"IF(Base_Arbres!B200<>\"\",VLOOKUP($A200,Base_Arbres,7,FALSE)*Crit5,\"\")","v":""},{"$f":"IF(Base_Arbres!C200<>\"\",VLOOKUP($A200,Base_Arbres,8,FALSE)*crit8,\"\")","v":""},{"$f":"IF(Base_Arbres!D200<>\"\",VLOOKUP($A200,Base_Arbres,9,FALSE)*crit9,\"\")","v":""},{"$f":"IF(ISNA(VLOOKUP(INDEX(Base_Typologie!$A$6:$P$1003,MATCH(A200,Base_Typologie!$A:$A,0)-5,MATCH(Typologie_Espace_Public,Base_Typologie!$6:$6,0)),TableauScoreTypologie2,2,FALSE)*Crit6),0,VLOOKUP(INDEX(Base_Typologie!$A$6:$P$1003,MATCH(A200,Base_Typologie!$A:$A,0)-5,MATCH(Typologie_Espace_Public,Base_Typologie!$6:$6,0)),TableauScoreTypologie2,2,FALSE)*Crit6)","v":0},0,0,0,0,0,0,0,0,0,0,0,0,null,{"$f":"IF(Base_Arbres!A303<>\"\",VLOOKUP($A200,Base_Arbres,4,FALSE)*Crit7,\"\")","v":""}]
[{"$f":"IF(Base_Arbres!A201<>\"\",Base_Arbres!A201,\"\")","v":""},{"$f":"IF(Base_Arbres!A201<>\"\",VLOOKUP($A201,Base_Arbres,3,FALSE)*Crit1,\"\")","v":""},{"$f":"IF(Base_Arbres!A201<>\"\",VLOOKUP($A201,Base_Arbres,4,FALSE)*Crit2,\"\")","v":""},{"$f":"IF(Base_Arbres!A201<>\"\",VLOOKUP($A201,Base_Arbres,5,FALSE)*Crit3,\"\")","v":""},{"$f":"IF(Base_Arbres!A201<>\"\",VLOOKUP($A201,Base_Arbres,6,FALSE)*Crit4,\"\")","v":""},{"$f":"IF(Base_Arbres!B201<>\"\",VLOOKUP($A201,Base_Arbres,7,FALSE)*Crit5,\"\")","v":""},{"$f":"IF(Base_Arbres!C201<>\"\",VLOOKUP($A201,Base_Arbres,8,FALSE)*crit8,\"\")","v":""},{"$f":"IF(Base_Arbres!D201<>\"\",VLOOKUP($A201,Base_Arbres,9,FALSE)*crit9,\"\")","v":""},{"$f":"IF(ISNA(VLOOKUP(INDEX(Base_Typologie!$A$6:$P$1003,MATCH(A201,Base_Typologie!$A:$A,0)-5,MATCH(Typologie_Espace_Public,Base_Typologie!$6:$6,0)),TableauScoreTypologie2,2,FALSE)*Crit6),0,VLOOKUP(INDEX(Base_Typologie!$A$6:$P$1003,MATCH(A201,Base_Typologie!$A:$A,0)-5,MATCH(Typologie_Espace_Public,Base_Typologie!$6:$6,0)),TableauScoreTypologie2,2,FALSE)*Crit6)","v":0},0,0,0,0,0,0,0,0,0,0,0,0,null,{"$f":"IF(Base_Arbres!A304<>\"\",VLOOKUP($A201,Base_Arbres,4,FALSE)*Crit7,\"\")","v":""}]
[{"$f":"IF(Base_Arbres!A202<>\"\",Base_Arbres!A202,\"\")","v":""},{"$f":"IF(Base_Arbres!A202<>\"\",VLOOKUP($A202,Base_Arbres,3,FALSE)*Crit1,\"\")","v":""},{"$f":"IF(Base_Arbres!A202<>\"\",VLOOKUP($A202,Base_Arbres,4,FALSE)*Crit2,\"\")","v":""},{"$f":"IF(Base_Arbres!A202<>\"\",VLOOKUP($A202,Base_Arbres,5,FALSE)*Crit3,\"\")","v":""},{"$f":"IF(Base_Arbres!A202<>\"\",VLOOKUP($A202,Base_Arbres,6,FALSE)*Crit4,\"\")","v":""},{"$f":"IF(Base_Arbres!B202<>\"\",VLOOKUP($A202,Base_Arbres,7,FALSE)*Crit5,\"\")","v":""},{"$f":"IF(Base_Arbres!C202<>\"\",VLOOKUP($A202,Base_Arbres,8,FALSE)*crit8,\"\")","v":""},{"$f":"IF(Base_Arbres!D202<>\"\",VLOOKUP($A202,Base_Arbres,9,FALSE)*crit9,\"\")","v":""},{"$f":"IF(ISNA(VLOOKUP(INDEX(Base_Typologie!$A$6:$P$1003,MATCH(A202,Base_Typologie!$A:$A,0)-5,MATCH(Typologie_Espace_Public,Base_Typologie!$6:$6,0)),TableauScoreTypologie2,2,FALSE)*Crit6),0,VLOOKUP(INDEX(Base_Typologie!$A$6:$P$1003,MATCH(A202,Base_Typologie!$A:$A,0)-5,MATCH(Typologie_Espace_Public,Base_Typologie!$6:$6,0)),TableauScoreTypologie2,2,FALSE)*Crit6)","v":0},0,0,0,0,0,0,0,0,0,0,0,0,null,{"$f":"IF(Base_Arbres!A305<>\"\",VLOOKUP($A202,Base_Arbres,4,FALSE)*Crit7,\"\")","v":""}]
[{"$f":"IF(Base_Arbres!A203<>\"\",Base_Arbres!A203,\"\")","v":""},{"$f":"IF(Base_Arbres!A203<>\"\",VLOOKUP($A203,Base_Arbres,3,FALSE)*Crit1,\"\")","v":""},{"$f":"IF(Base_Arbres!A203<>\"\",VLOOKUP($A203,Base_Arbres,4,FALSE)*Crit2,\"\")","v":""},{"$f":"IF(Base_Arbres!A203<>\"\",VLOOKUP($A203,Base_Arbres,5,FALSE)*Crit3,\"\")","v":""},{"$f":"IF(Base_Arbres!A203<>\"\",VLOOKUP($A203,Base_Arbres,6,FALSE)*Crit4,\"\")","v":""},{"$f":"IF(Base_Arbres!B203<>\"\",VLOOKUP($A203,Base_Arbres,7,FALSE)*Crit5,\"\")","v":""},{"$f":"IF(Base_Arbres!C203<>\"\",VLOOKUP($A203,Base_Arbres,8,FALSE)*crit8,\"\")","v":""},{"$f":"IF(Base_Arbres!D203<>\"\",VLOOKUP($A203,Base_Arbres,9,FALSE)*crit9,\"\")","v":""},{"$f":"IF(ISNA(VLOOKUP(INDEX(Base_Typologie!$A$6:$P$1003,MATCH(A203,Base_Typologie!$A:$A,0)-5,MATCH(Typologie_Espace_Public,Base_Typologie!$6:$6,0)),TableauScoreTypologie2,2,FALSE)*Crit6),0,VLOOKUP(INDEX(Base_Typologie!$A$6:$P$1003,MATCH(A203,Base_Typologie!$A:$A,0)-5,MATCH(Typologie_Espace_Public,Base_Typologie!$6:$6,0)),TableauScoreTypologie2,2,FALSE)*Crit6)","v":0},0,0,0,0,0,0,0,0,0,0,0,0,null,{"$f":"IF(Base_Arbres!A306<>\"\",VLOOKUP($A203,Base_Arbres,4,FALSE)*Crit7,\"\")","v":""}]
[{"$f":"IF(Base_Arbres!A204<>\"\",Base_Arbres!A204,\"\")","v":""},{"$f":"IF(Base_Arbres!A204<>\"\",VLOOKUP($A204,Base_Arbres,3,FALSE)*Crit1,\"\")","v":""},{"$f":"IF(Base_Arbres!A204<>\"\",VLOOKUP($A204,Base_Arbres,4,FALSE)*Crit2,\"\")","v":""},{"$f":"IF(Base_Arbres!A204<>\"\",VLOOKUP($A204,Base_Arbres,5,FALSE)*Crit3,\"\")","v":""},{"$f":"IF(Base_Arbres!A204<>\"\",VLOOKUP($A204,Base_Arbres,6,FALSE)*Crit4,\"\")","v":""},{"$f":"IF(Base_Arbres!B204<>\"\",VLOOKUP($A204,Base_Arbres,7,FALSE)*Crit5,\"\")","v":""},{"$f":"IF(Base_Arbres!C204<>\"\",VLOOKUP($A204,Base_Arbres,8,FALSE)*crit8,\"\")","v":""},{"$f":"IF(Base_Arbres!D204<>\"\",VLOOKUP($A204,Base_Arbres,9,FALSE)*crit9,\"\")","v":""},{"$f":"IF(ISNA(VLOOKUP(INDEX(Base_Typologie!$A$6:$P$1003,MATCH(A204,Base_Typologie!$A:$A,0)-5,MATCH(Typologie_Espace_Public,Base_Typologie!$6:$6,0)),TableauScoreTypologie2,2,FALSE)*Crit6),0,VLOOKUP(INDEX(Base_Typologie!$A$6:$P$1003,MATCH(A204,Base_Typologie!$A:$A,0)-5,MATCH(Typologie_Espace_Public,Base_Typologie!$6:$6,0)),TableauScoreTypologie2,2,FALSE)*Crit6)","v":0},0,0,0,0,0,0,0,0,0,0,0,0,null,{"$f":"IF(Base_Arbres!A307<>\"\",VLOOKUP($A204,Base_Arbres,4,FALSE)*Crit7,\"\")","v":""}]
[{"$f":"IF(Base_Arbres!A205<>\"\",Base_Arbres!A205,\"\")","v":""},{"$f":"IF(Base_Arbres!A205<>\"\",VLOOKUP($A205,Base_Arbres,3,FALSE)*Crit1,\"\")","v":""},{"$f":"IF(Base_Arbres!A205<>\"\",VLOOKUP($A205,Base_Arbres,4,FALSE)*Crit2,\"\")","v":""},{"$f":"IF(Base_Arbres!A205<>\"\",VLOOKUP($A205,Base_Arbres,5,FALSE)*Crit3,\"\")","v":""},{"$f":"IF(Base_Arbres!A205<>\"\",VLOOKUP($A205,Base_Arbres,6,FALSE)*Crit4,\"\")","v":""},{"$f":"IF(Base_Arbres!B205<>\"\",VLOOKUP($A205,Base_Arbres,7,FALSE)*Crit5,\"\")","v":""},{"$f":"IF(Base_Arbres!C205<>\"\",VLOOKUP($A205,Base_Arbres,8,FALSE)*crit8,\"\")","v":""},{"$f":"IF(Base_Arbres!D205<>\"\",VLOOKUP($A205,Base_Arbres,9,FALSE)*crit9,\"\")","v":""},{"$f":"IF(ISNA(VLOOKUP(INDEX(Base_Typologie!$A$6:$P$1003,MATCH(A205,Base_Typologie!$A:$A,0)-5,MATCH(Typologie_Espace_Public,Base_Typologie!$6:$6,0)),TableauScoreTypologie2,2,FALSE)*Crit6),0,VLOOKUP(INDEX(Base_Typologie!$A$6:$P$1003,MATCH(A205,Base_Typologie!$A:$A,0)-5,MATCH(Typologie_Espace_Public,Base_Typologie!$6:$6,0)),TableauScoreTypologie2,2,FALSE)*Crit6)","v":0},0,0,0,0,0,0,0,0,0,0,0,0,null,{"$f":"IF(Base_Arbres!A308<>\"\",VLOOKUP($A205,Base_Arbres,4,FALSE)*Crit7,\"\")","v":""}]
[{"$f":"IF(Base_Arbres!A206<>\"\",Base_Arbres!A206,\"\")","v":""},{"$f":"IF(Base_Arbres!A206<>\"\",VLOOKUP($A206,Base_Arbres,3,FALSE)*Crit1,\"\")","v":""},{"$f":"IF(Base_Arbres!A206<>\"\",VLOOKUP($A206,Base_Arbres,4,FALSE)*Crit2,\"\")","v":""},{"$f":"IF(Base_Arbres!A206<>\"\",VLOOKUP($A206,Base_Arbres,5,FALSE)*Crit3,\"\")","v":""},{"$f":"IF(Base_Arbres!A206<>\"\",VLOOKUP($A206,Base_Arbres,6,FALSE)*Crit4,\"\")","v":""},{"$f":"IF(Base_Arbres!B206<>\"\",VLOOKUP($A206,Base_Arbres,7,FALSE)*Crit5,\"\")","v":""},{"$f":"IF(Base_Arbres!C206<>\"\",VLOOKUP($A206,Base_Arbres,8,FALSE)*crit8,\"\")","v":""},{"$f":"IF(Base_Arbres!D206<>\"\",VLOOKUP($A206,Base_Arbres,9,FALSE)*crit9,\"\")","v":""},{"$f":"IF(ISNA(VLOOKUP(INDEX(Base_Typologie!$A$6:$P$1003,MATCH(A206,Base_Typologie!$A:$A,0)-5,MATCH(Typologie_Espace_Public,Base_Typologie!$6:$6,0)),TableauScoreTypologie2,2,FALSE)*Crit6),0,VLOOKUP(INDEX(Base_Typologie!$A$6:$P$1003,MATCH(A206,Base_Typologie!$A:$A,0)-5,MATCH(Typologie_Espace_Public,Base_Typologie!$6:$6,0)),TableauScoreTypologie2,2,FALSE)*Crit6)","v":0},0,0,0,0,0,0,0,0,0,0,0,0,null,{"$f":"IF(Base_Arbres!A309<>\"\",VLOOKUP($A206,Base_Arbres,4,FALSE)*Crit7,\"\")","v":""}]
[{"$f":"IF(Base_Arbres!A207<>\"\",Base_Arbres!A207,\"\")","v":""},{"$f":"IF(Base_Arbres!A207<>\"\",VLOOKUP($A207,Base_Arbres,3,FALSE)*Crit1,\"\")","v":""},{"$f":"IF(Base_Arbres!A207<>\"\",VLOOKUP($A207,Base_Arbres,4,FALSE)*Crit2,\"\")","v":""},{"$f":"IF(Base_Arbres!A207<>\"\",VLOOKUP($A207,Base_Arbres,5,FALSE)*Crit3,\"\")","v":""},{"$f":"IF(Base_Arbres!A207<>\"\",VLOOKUP($A207,Base_Arbres,6,FALSE)*Crit4,\"\")","v":""},{"$f":"IF(Base_Arbres!B207<>\"\",VLOOKUP($A207,Base_Arbres,7,FALSE)*Crit5,\"\")","v":""},{"$f":"IF(Base_Arbres!C207<>\"\",VLOOKUP($A207,Base_Arbres,8,FALSE)*crit8,\"\")","v":""},{"$f":"IF(Base_Arbres!D207<>\"\",VLOOKUP($A207,Base_Arbres,9,FALSE)*crit9,\"\")","v":""},{"$f":"IF(ISNA(VLOOKUP(INDEX(Base_Typologie!$A$6:$P$1003,MATCH(A207,Base_Typologie!$A:$A,0)-5,MATCH(Typologie_Espace_Public,Base_Typologie!$6:$6,0)),TableauScoreTypologie2,2,FALSE)*Crit6),0,VLOOKUP(INDEX(Base_Typologie!$A$6:$P$1003,MATCH(A207,Base_Typologie!$A:$A,0)-5,MATCH(Typologie_Espace_Public,Base_Typologie!$6:$6,0)),TableauScoreTypologie2,2,FALSE)*Crit6)","v":0},0,0,0,0,0,0,0,0,0,0,0,0,null,{"$f":"IF(Base_Arbres!A310<>\"\",VLOOKUP($A207,Base_Arbres,4,FALSE)*Crit7,\"\")","v":""}]
[{"$f":"IF(Base_Arbres!A208<>\"\",Base_Arbres!A208,\"\")","v":""},{"$f":"IF(Base_Arbres!A208<>\"\",VLOOKUP($A208,Base_Arbres,3,FALSE)*Crit1,\"\")","v":""},{"$f":"IF(Base_Arbres!A208<>\"\",VLOOKUP($A208,Base_Arbres,4,FALSE)*Crit2,\"\")","v":""},{"$f":"IF(Base_Arbres!A208<>\"\",VLOOKUP($A208,Base_Arbres,5,FALSE)*Crit3,\"\")","v":""},{"$f":"IF(Base_Arbres!A208<>\"\",VLOOKUP($A208,Base_Arbres,6,FALSE)*Crit4,\"\")","v":""},{"$f":"IF(Base_Arbres!B208<>\"\",VLOOKUP($A208,Base_Arbres,7,FALSE)*Crit5,\"\")","v":""},{"$f":"IF(Base_Arbres!C208<>\"\",VLOOKUP($A208,Base_Arbres,8,FALSE)*crit8,\"\")","v":""},{"$f":"IF(Base_Arbres!D208<>\"\",VLOOKUP($A208,Base_Arbres,9,FALSE)*crit9,\"\")","v":""},{"$f":"IF(ISNA(VLOOKUP(INDEX(Base_Typologie!$A$6:$P$1003,MATCH(A208,Base_Typologie!$A:$A,0)-5,MATCH(Typologie_Espace_Public,Base_Typologie!$6:$6,0)),TableauScoreTypologie2,2,FALSE)*Crit6),0,VLOOKUP(INDEX(Base_Typologie!$A$6:$P$1003,MATCH(A208,Base_Typologie!$A:$A,0)-5,MATCH(Typologie_Espace_Public,Base_Typologie!$6:$6,0)),TableauScoreTypologie2,2,FALSE)*Crit6)","v":0},0,0,0,0,0,0,0,0,0,0,0,0,null,{"$f":"IF(Base_Arbres!A311<>\"\",VLOOKUP($A208,Base_Arbres,4,FALSE)*Crit7,\"\")","v":""}]
[{"$f":"IF(Base_Arbres!A209<>\"\",Base_Arbres!A209,\"\")","v":""},{"$f":"IF(Base_Arbres!A209<>\"\",VLOOKUP($A209,Base_Arbres,3,FALSE)*Crit1,\"\")","v":""},{"$f":"IF(Base_Arbres!A209<>\"\",VLOOKUP($A209,Base_Arbres,4,FALSE)*Crit2,\"\")","v":""},{"$f":"IF(Base_Arbres!A209<>\"\",VLOOKUP($A209,Base_Arbres,5,FALSE)*Crit3,\"\")","v":""},{"$f":"IF(Base_Arbres!A209<>\"\",VLOOKUP($A209,Base_Arbres,6,FALSE)*Crit4,\"\")","v":""},{"$f":"IF(Base_Arbres!B209<>\"\",VLOOKUP($A209,Base_Arbres,7,FALSE)*Crit5,\"\")","v":""},{"$f":"IF(Base_Arbres!C209<>\"\",VLOOKUP($A209,Base_Arbres,8,FALSE)*crit8,\"\")","v":""},{"$f":"IF(Base_Arbres!D209<>\"\",VLOOKUP($A209,Base_Arbres,9,FALSE)*crit9,\"\")","v":""},{"$f":"IF(ISNA(VLOOKUP(INDEX(Base_Typologie!$A$6:$P$1003,MATCH(A209,Base_Typologie!$A:$A,0)-5,MATCH(Typologie_Espace_Public,Base_Typologie!$6:$6,0)),TableauScoreTypologie2,2,FALSE)*Crit6),0,VLOOKUP(INDEX(Base_Typologie!$A$6:$P$1003,MATCH(A209,Base_Typologie!$A:$A,0)-5,MATCH(Typologie_Espace_Public,Base_Typologie!$6:$6,0)),TableauScoreTypologie2,2,FALSE)*Crit6)","v":0},0,0,0,0,0,0,0,0,0,0,0,0,null,{"$f":"IF(Base_Arbres!A312<>\"\",VLOOKUP($A209,Base_Arbres,4,FALSE)*Crit7,\"\")","v":""}]
[{"$f":"IF(Base_Arbres!A210<>\"\",Base_Arbres!A210,\"\")","v":""},{"$f":"IF(Base_Arbres!A210<>\"\",VLOOKUP($A210,Base_Arbres,3,FALSE)*Crit1,\"\")","v":""},{"$f":"IF(Base_Arbres!A210<>\"\",VLOOKUP($A210,Base_Arbres,4,FALSE)*Crit2,\"\")","v":""},{"$f":"IF(Base_Arbres!A210<>\"\",VLOOKUP($A210,Base_Arbres,5,FALSE)*Crit3,\"\")","v":""},{"$f":"IF(Base_Arbres!A210<>\"\",VLOOKUP($A210,Base_Arbres,6,FALSE)*Crit4,\"\")","v":""},{"$f":"IF(Base_Arbres!B210<>\"\",VLOOKUP($A210,Base_Arbres,7,FALSE)*Crit5,\"\")","v":""},{"$f":"IF(Base_Arbres!C210<>\"\",VLOOKUP($A210,Base_Arbres,8,FALSE)*crit8,\"\")","v":""},{"$f":"IF(Base_Arbres!D210<>\"\",VLOOKUP($A210,Base_Arbres,9,FALSE)*crit9,\"\")","v":""},{"$f":"IF(ISNA(VLOOKUP(INDEX(Base_Typologie!$A$6:$P$1003,MATCH(A210,Base_Typologie!$A:$A,0)-5,MATCH(Typologie_Espace_Public,Base_Typologie!$6:$6,0)),TableauScoreTypologie2,2,FALSE)*Crit6),0,VLOOKUP(INDEX(Base_Typologie!$A$6:$P$1003,MATCH(A210,Base_Typologie!$A:$A,0)-5,MATCH(Typologie_Espace_Public,Base_Typologie!$6:$6,0)),TableauScoreTypologie2,2,FALSE)*Crit6)","v":0},0,0,0,0,0,0,0,0,0,0,0,0,null,{"$f":"IF(Base_Arbres!A313<>\"\",VLOOKUP($A210,Base_Arbres,4,FALSE)*Crit7,\"\")","v":""}]
[{"$f":"IF(Base_Arbres!A211<>\"\",Base_Arbres!A211,\"\")","v":""},{"$f":"IF(Base_Arbres!A211<>\"\",VLOOKUP($A211,Base_Arbres,3,FALSE)*Crit1,\"\")","v":""},{"$f":"IF(Base_Arbres!A211<>\"\",VLOOKUP($A211,Base_Arbres,4,FALSE)*Crit2,\"\")","v":""},{"$f":"IF(Base_Arbres!A211<>\"\",VLOOKUP($A211,Base_Arbres,5,FALSE)*Crit3,\"\")","v":""},{"$f":"IF(Base_Arbres!A211<>\"\",VLOOKUP($A211,Base_Arbres,6,FALSE)*Crit4,\"\")","v":""},{"$f":"IF(Base_Arbres!B211<>\"\",VLOOKUP($A211,Base_Arbres,7,FALSE)*Crit5,\"\")","v":""},{"$f":"IF(Base_Arbres!C211<>\"\",VLOOKUP($A211,Base_Arbres,8,FALSE)*crit8,\"\")","v":""},{"$f":"IF(Base_Arbres!D211<>\"\",VLOOKUP($A211,Base_Arbres,9,FALSE)*crit9,\"\")","v":""},{"$f":"IF(ISNA(VLOOKUP(INDEX(Base_Typologie!$A$6:$P$1003,MATCH(A211,Base_Typologie!$A:$A,0)-5,MATCH(Typologie_Espace_Public,Base_Typologie!$6:$6,0)),TableauScoreTypologie2,2,FALSE)*Crit6),0,VLOOKUP(INDEX(Base_Typologie!$A$6:$P$1003,MATCH(A211,Base_Typologie!$A:$A,0)-5,MATCH(Typologie_Espace_Public,Base_Typologie!$6:$6,0)),TableauScoreTypologie2,2,FALSE)*Crit6)","v":0},0,0,0,0,0,0,0,0,0,0,0,0,null,{"$f":"IF(Base_Arbres!A314<>\"\",VLOOKUP($A211,Base_Arbres,4,FALSE)*Crit7,\"\")","v":""}]
[{"$f":"IF(Base_Arbres!A212<>\"\",Base_Arbres!A212,\"\")","v":""},{"$f":"IF(Base_Arbres!A212<>\"\",VLOOKUP($A212,Base_Arbres,3,FALSE)*Crit1,\"\")","v":""},{"$f":"IF(Base_Arbres!A212<>\"\",VLOOKUP($A212,Base_Arbres,4,FALSE)*Crit2,\"\")","v":""},{"$f":"IF(Base_Arbres!A212<>\"\",VLOOKUP($A212,Base_Arbres,5,FALSE)*Crit3,\"\")","v":""},{"$f":"IF(Base_Arbres!A212<>\"\",VLOOKUP($A212,Base_Arbres,6,FALSE)*Crit4,\"\")","v":""},{"$f":"IF(Base_Arbres!B212<>\"\",VLOOKUP($A212,Base_Arbres,7,FALSE)*Crit5,\"\")","v":""},{"$f":"IF(Base_Arbres!C212<>\"\",VLOOKUP($A212,Base_Arbres,8,FALSE)*crit8,\"\")","v":""},{"$f":"IF(Base_Arbres!D212<>\"\",VLOOKUP($A212,Base_Arbres,9,FALSE)*crit9,\"\")","v":""},{"$f":"IF(ISNA(VLOOKUP(INDEX(Base_Typologie!$A$6:$P$1003,MATCH(A212,Base_Typologie!$A:$A,0)-5,MATCH(Typologie_Espace_Public,Base_Typologie!$6:$6,0)),TableauScoreTypologie2,2,FALSE)*Crit6),0,VLOOKUP(INDEX(Base_Typologie!$A$6:$P$1003,MATCH(A212,Base_Typologie!$A:$A,0)-5,MATCH(Typologie_Espace_Public,Base_Typologie!$6:$6,0)),TableauScoreTypologie2,2,FALSE)*Crit6)","v":0},0,0,0,0,0,0,0,0,0,0,0,0,null,{"$f":"IF(Base_Arbres!A315<>\"\",VLOOKUP($A212,Base_Arbres,4,FALSE)*Crit7,\"\")","v":""}]
[{"$f":"IF(Base_Arbres!A213<>\"\",Base_Arbres!A213,\"\")","v":""},{"$f":"IF(Base_Arbres!A213<>\"\",VLOOKUP($A213,Base_Arbres,3,FALSE)*Crit1,\"\")","v":""},{"$f":"IF(Base_Arbres!A213<>\"\",VLOOKUP($A213,Base_Arbres,4,FALSE)*Crit2,\"\")","v":""},{"$f":"IF(Base_Arbres!A213<>\"\",VLOOKUP($A213,Base_Arbres,5,FALSE)*Crit3,\"\")","v":""},{"$f":"IF(Base_Arbres!A213<>\"\",VLOOKUP($A213,Base_Arbres,6,FALSE)*Crit4,\"\")","v":""},{"$f":"IF(Base_Arbres!B213<>\"\",VLOOKUP($A213,Base_Arbres,7,FALSE)*Crit5,\"\")","v":""},{"$f":"IF(Base_Arbres!C213<>\"\",VLOOKUP($A213,Base_Arbres,8,FALSE)*crit8,\"\")","v":""},{"$f":"IF(Base_Arbres!D213<>\"\",VLOOKUP($A213,Base_Arbres,9,FALSE)*crit9,\"\")","v":""},{"$f":"IF(ISNA(VLOOKUP(INDEX(Base_Typologie!$A$6:$P$1003,MATCH(A213,Base_Typologie!$A:$A,0)-5,MATCH(Typologie_Espace_Public,Base_Typologie!$6:$6,0)),TableauScoreTypologie2,2,FALSE)*Crit6),0,VLOOKUP(INDEX(Base_Typologie!$A$6:$P$1003,MATCH(A213,Base_Typologie!$A:$A,0)-5,MATCH(Typologie_Espace_Public,Base_Typologie!$6:$6,0)),TableauScoreTypologie2,2,FALSE)*Crit6)","v":0},0,0,0,0,0,0,0,0,0,0,0,0,null,{"$f":"IF(Base_Arbres!A316<>\"\",VLOOKUP($A213,Base_Arbres,4,FALSE)*Crit7,\"\")","v":""}]
[{"$f":"IF(Base_Arbres!A214<>\"\",Base_Arbres!A214,\"\")","v":""},{"$f":"IF(Base_Arbres!A214<>\"\",VLOOKUP($A214,Base_Arbres,3,FALSE)*Crit1,\"\")","v":""},{"$f":"IF(Base_Arbres!A214<>\"\",VLOOKUP($A214,Base_Arbres,4,FALSE)*Crit2,\"\")","v":""},{"$f":"IF(Base_Arbres!A214<>\"\",VLOOKUP($A214,Base_Arbres,5,FALSE)*Crit3,\"\")","v":""},{"$f":"IF(Base_Arbres!A214<>\"\",VLOOKUP($A214,Base_Arbres,6,FALSE)*Crit4,\"\")","v":""},{"$f":"IF(Base_Arbres!B214<>\"\",VLOOKUP($A214,Base_Arbres,7,FALSE)*Crit5,\"\")","v":""},{"$f":"IF(Base_Arbres!C214<>\"\",VLOOKUP($A214,Base_Arbres,8,FALSE)*crit8,\"\")","v":""},{"$f":"IF(Base_Arbres!D214<>\"\",VLOOKUP($A214,Base_Arbres,9,FALSE)*crit9,\"\")","v":""},{"$f":"IF(ISNA(VLOOKUP(INDEX(Base_Typologie!$A$6:$P$1003,MATCH(A214,Base_Typologie!$A:$A,0)-5,MATCH(Typologie_Espace_Public,Base_Typologie!$6:$6,0)),TableauScoreTypologie2,2,FALSE)*Crit6),0,VLOOKUP(INDEX(Base_Typologie!$A$6:$P$1003,MATCH(A214,Base_Typologie!$A:$A,0)-5,MATCH(Typologie_Espace_Public,Base_Typologie!$6:$6,0)),TableauScoreTypologie2,2,FALSE)*Crit6)","v":0},0,0,0,0,0,0,0,0,0,0,0,0,null,{"$f":"IF(Base_Arbres!A317<>\"\",VLOOKUP($A214,Base_Arbres,4,FALSE)*Crit7,\"\")","v":""}]
[{"$f":"IF(Base_Arbres!A215<>\"\",Base_Arbres!A215,\"\")","v":""},{"$f":"IF(Base_Arbres!A215<>\"\",VLOOKUP($A215,Base_Arbres,3,FALSE)*Crit1,\"\")","v":""},{"$f":"IF(Base_Arbres!A215<>\"\",VLOOKUP($A215,Base_Arbres,4,FALSE)*Crit2,\"\")","v":""},{"$f":"IF(Base_Arbres!A215<>\"\",VLOOKUP($A215,Base_Arbres,5,FALSE)*Crit3,\"\")","v":""},{"$f":"IF(Base_Arbres!A215<>\"\",VLOOKUP($A215,Base_Arbres,6,FALSE)*Crit4,\"\")","v":""},{"$f":"IF(Base_Arbres!B215<>\"\",VLOOKUP($A215,Base_Arbres,7,FALSE)*Crit5,\"\")","v":""},{"$f":"IF(Base_Arbres!C215<>\"\",VLOOKUP($A215,Base_Arbres,8,FALSE)*crit8,\"\")","v":""},{"$f":"IF(Base_Arbres!D215<>\"\",VLOOKUP($A215,Base_Arbres,9,FALSE)*crit9,\"\")","v":""},{"$f":"IF(ISNA(VLOOKUP(INDEX(Base_Typologie!$A$6:$P$1003,MATCH(A215,Base_Typologie!$A:$A,0)-5,MATCH(Typologie_Espace_Public,Base_Typologie!$6:$6,0)),TableauScoreTypologie2,2,FALSE)*Crit6),0,VLOOKUP(INDEX(Base_Typologie!$A$6:$P$1003,MATCH(A215,Base_Typologie!$A:$A,0)-5,MATCH(Typologie_Espace_Public,Base_Typologie!$6:$6,0)),TableauScoreTypologie2,2,FALSE)*Crit6)","v":0},0,0,0,0,0,0,0,0,0,0,0,0,null,{"$f":"IF(Base_Arbres!A318<>\"\",VLOOKUP($A215,Base_Arbres,4,FALSE)*Crit7,\"\")","v":""}]
[{"$f":"IF(Base_Arbres!A216<>\"\",Base_Arbres!A216,\"\")","v":""},{"$f":"IF(Base_Arbres!A216<>\"\",VLOOKUP($A216,Base_Arbres,3,FALSE)*Crit1,\"\")","v":""},{"$f":"IF(Base_Arbres!A216<>\"\",VLOOKUP($A216,Base_Arbres,4,FALSE)*Crit2,\"\")","v":""},{"$f":"IF(Base_Arbres!A216<>\"\",VLOOKUP($A216,Base_Arbres,5,FALSE)*Crit3,\"\")","v":""},{"$f":"IF(Base_Arbres!A216<>\"\",VLOOKUP($A216,Base_Arbres,6,FALSE)*Crit4,\"\")","v":""},{"$f":"IF(Base_Arbres!B216<>\"\",VLOOKUP($A216,Base_Arbres,7,FALSE)*Crit5,\"\")","v":""},{"$f":"IF(Base_Arbres!C216<>\"\",VLOOKUP($A216,Base_Arbres,8,FALSE)*crit8,\"\")","v":""},{"$f":"IF(Base_Arbres!D216<>\"\",VLOOKUP($A216,Base_Arbres,9,FALSE)*crit9,\"\")","v":""},{"$f":"IF(ISNA(VLOOKUP(INDEX(Base_Typologie!$A$6:$P$1003,MATCH(A216,Base_Typologie!$A:$A,0)-5,MATCH(Typologie_Espace_Public,Base_Typologie!$6:$6,0)),TableauScoreTypologie2,2,FALSE)*Crit6),0,VLOOKUP(INDEX(Base_Typologie!$A$6:$P$1003,MATCH(A216,Base_Typologie!$A:$A,0)-5,MATCH(Typologie_Espace_Public,Base_Typologie!$6:$6,0)),TableauScoreTypologie2,2,FALSE)*Crit6)","v":0},0,0,0,0,0,0,0,0,0,0,0,0,null,{"$f":"IF(Base_Arbres!A319<>\"\",VLOOKUP($A216,Base_Arbres,4,FALSE)*Crit7,\"\")","v":""}]
[{"$f":"IF(Base_Arbres!A217<>\"\",Base_Arbres!A217,\"\")","v":""},{"$f":"IF(Base_Arbres!A217<>\"\",VLOOKUP($A217,Base_Arbres,3,FALSE)*Crit1,\"\")","v":""},{"$f":"IF(Base_Arbres!A217<>\"\",VLOOKUP($A217,Base_Arbres,4,FALSE)*Crit2,\"\")","v":""},{"$f":"IF(Base_Arbres!A217<>\"\",VLOOKUP($A217,Base_Arbres,5,FALSE)*Crit3,\"\")","v":""},{"$f":"IF(Base_Arbres!A217<>\"\",VLOOKUP($A217,Base_Arbres,6,FALSE)*Crit4,\"\")","v":""},{"$f":"IF(Base_Arbres!B217<>\"\",VLOOKUP($A217,Base_Arbres,7,FALSE)*Crit5,\"\")","v":""},{"$f":"IF(Base_Arbres!C217<>\"\",VLOOKUP($A217,Base_Arbres,8,FALSE)*crit8,\"\")","v":""},{"$f":"IF(Base_Arbres!D217<>\"\",VLOOKUP($A217,Base_Arbres,9,FALSE)*crit9,\"\")","v":""},{"$f":"IF(ISNA(VLOOKUP(INDEX(Base_Typologie!$A$6:$P$1003,MATCH(A217,Base_Typologie!$A:$A,0)-5,MATCH(Typologie_Espace_Public,Base_Typologie!$6:$6,0)),TableauScoreTypologie2,2,FALSE)*Crit6),0,VLOOKUP(INDEX(Base_Typologie!$A$6:$P$1003,MATCH(A217,Base_Typologie!$A:$A,0)-5,MATCH(Typologie_Espace_Public,Base_Typologie!$6:$6,0)),TableauScoreTypologie2,2,FALSE)*Crit6)","v":0},0,0,0,0,0,0,0,0,0,0,0,0,null,{"$f":"IF(Base_Arbres!A320<>\"\",VLOOKUP($A217,Base_Arbres,4,FALSE)*Crit7,\"\")","v":""}]
[{"$f":"IF(Base_Arbres!A218<>\"\",Base_Arbres!A218,\"\")","v":""},{"$f":"IF(Base_Arbres!A218<>\"\",VLOOKUP($A218,Base_Arbres,3,FALSE)*Crit1,\"\")","v":""},{"$f":"IF(Base_Arbres!A218<>\"\",VLOOKUP($A218,Base_Arbres,4,FALSE)*Crit2,\"\")","v":""},{"$f":"IF(Base_Arbres!A218<>\"\",VLOOKUP($A218,Base_Arbres,5,FALSE)*Crit3,\"\")","v":""},{"$f":"IF(Base_Arbres!A218<>\"\",VLOOKUP($A218,Base_Arbres,6,FALSE)*Crit4,\"\")","v":""},{"$f":"IF(Base_Arbres!B218<>\"\",VLOOKUP($A218,Base_Arbres,7,FALSE)*Crit5,\"\")","v":""},{"$f":"IF(Base_Arbres!C218<>\"\",VLOOKUP($A218,Base_Arbres,8,FALSE)*crit8,\"\")","v":""},{"$f":"IF(Base_Arbres!D218<>\"\",VLOOKUP($A218,Base_Arbres,9,FALSE)*crit9,\"\")","v":""},{"$f":"IF(ISNA(VLOOKUP(INDEX(Base_Typologie!$A$6:$P$1003,MATCH(A218,Base_Typologie!$A:$A,0)-5,MATCH(Typologie_Espace_Public,Base_Typologie!$6:$6,0)),TableauScoreTypologie2,2,FALSE)*Crit6),0,VLOOKUP(INDEX(Base_Typologie!$A$6:$P$1003,MATCH(A218,Base_Typologie!$A:$A,0)-5,MATCH(Typologie_Espace_Public,Base_Typologie!$6:$6,0)),TableauScoreTypologie2,2,FALSE)*Crit6)","v":0},0,0,0,0,0,0,0,0,0,0,0,0,null,{"$f":"IF(Base_Arbres!A321<>\"\",VLOOKUP($A218,Base_Arbres,4,FALSE)*Crit7,\"\")","v":""}]
[{"$f":"IF(Base_Arbres!A219<>\"\",Base_Arbres!A219,\"\")","v":""},{"$f":"IF(Base_Arbres!A219<>\"\",VLOOKUP($A219,Base_Arbres,3,FALSE)*Crit1,\"\")","v":""},{"$f":"IF(Base_Arbres!A219<>\"\",VLOOKUP($A219,Base_Arbres,4,FALSE)*Crit2,\"\")","v":""},{"$f":"IF(Base_Arbres!A219<>\"\",VLOOKUP($A219,Base_Arbres,5,FALSE)*Crit3,\"\")","v":""},{"$f":"IF(Base_Arbres!A219<>\"\",VLOOKUP($A219,Base_Arbres,6,FALSE)*Crit4,\"\")","v":""},{"$f":"IF(Base_Arbres!B219<>\"\",VLOOKUP($A219,Base_Arbres,7,FALSE)*Crit5,\"\")","v":""},{"$f":"IF(Base_Arbres!C219<>\"\",VLOOKUP($A219,Base_Arbres,8,FALSE)*crit8,\"\")","v":""},{"$f":"IF(Base_Arbres!D219<>\"\",VLOOKUP($A219,Base_Arbres,9,FALSE)*crit9,\"\")","v":""},{"$f":"IF(ISNA(VLOOKUP(INDEX(Base_Typologie!$A$6:$P$1003,MATCH(A219,Base_Typologie!$A:$A,0)-5,MATCH(Typologie_Espace_Public,Base_Typologie!$6:$6,0)),TableauScoreTypologie2,2,FALSE)*Crit6),0,VLOOKUP(INDEX(Base_Typologie!$A$6:$P$1003,MATCH(A219,Base_Typologie!$A:$A,0)-5,MATCH(Typologie_Espace_Public,Base_Typologie!$6:$6,0)),TableauScoreTypologie2,2,FALSE)*Crit6)","v":0},0,0,0,0,0,0,0,0,0,0,0,0,null,{"$f":"IF(Base_Arbres!A322<>\"\",VLOOKUP($A219,Base_Arbres,4,FALSE)*Crit7,\"\")","v":""}]
[{"$f":"IF(Base_Arbres!A220<>\"\",Base_Arbres!A220,\"\")","v":""},{"$f":"IF(Base_Arbres!A220<>\"\",VLOOKUP($A220,Base_Arbres,3,FALSE)*Crit1,\"\")","v":""},{"$f":"IF(Base_Arbres!A220<>\"\",VLOOKUP($A220,Base_Arbres,4,FALSE)*Crit2,\"\")","v":""},{"$f":"IF(Base_Arbres!A220<>\"\",VLOOKUP($A220,Base_Arbres,5,FALSE)*Crit3,\"\")","v":""},{"$f":"IF(Base_Arbres!A220<>\"\",VLOOKUP($A220,Base_Arbres,6,FALSE)*Crit4,\"\")","v":""},{"$f":"IF(Base_Arbres!B220<>\"\",VLOOKUP($A220,Base_Arbres,7,FALSE)*Crit5,\"\")","v":""},{"$f":"IF(Base_Arbres!C220<>\"\",VLOOKUP($A220,Base_Arbres,8,FALSE)*crit8,\"\")","v":""},{"$f":"IF(Base_Arbres!D220<>\"\",VLOOKUP($A220,Base_Arbres,9,FALSE)*crit9,\"\")","v":""},{"$f":"IF(ISNA(VLOOKUP(INDEX(Base_Typologie!$A$6:$P$1003,MATCH(A220,Base_Typologie!$A:$A,0)-5,MATCH(Typologie_Espace_Public,Base_Typologie!$6:$6,0)),TableauScoreTypologie2,2,FALSE)*Crit6),0,VLOOKUP(INDEX(Base_Typologie!$A$6:$P$1003,MATCH(A220,Base_Typologie!$A:$A,0)-5,MATCH(Typologie_Espace_Public,Base_Typologie!$6:$6,0)),TableauScoreTypologie2,2,FALSE)*Crit6)","v":0},0,0,0,0,0,0,0,0,0,0,0,0,null,{"$f":"IF(Base_Arbres!A323<>\"\",VLOOKUP($A220,Base_Arbres,4,FALSE)*Crit7,\"\")","v":""}]
[{"$f":"IF(Base_Arbres!A221<>\"\",Base_Arbres!A221,\"\")","v":""},{"$f":"IF(Base_Arbres!A221<>\"\",VLOOKUP($A221,Base_Arbres,3,FALSE)*Crit1,\"\")","v":""},{"$f":"IF(Base_Arbres!A221<>\"\",VLOOKUP($A221,Base_Arbres,4,FALSE)*Crit2,\"\")","v":""},{"$f":"IF(Base_Arbres!A221<>\"\",VLOOKUP($A221,Base_Arbres,5,FALSE)*Crit3,\"\")","v":""},{"$f":"IF(Base_Arbres!A221<>\"\",VLOOKUP($A221,Base_Arbres,6,FALSE)*Crit4,\"\")","v":""},{"$f":"IF(Base_Arbres!B221<>\"\",VLOOKUP($A221,Base_Arbres,7,FALSE)*Crit5,\"\")","v":""},{"$f":"IF(Base_Arbres!C221<>\"\",VLOOKUP($A221,Base_Arbres,8,FALSE)*crit8,\"\")","v":""},{"$f":"IF(Base_Arbres!D221<>\"\",VLOOKUP($A221,Base_Arbres,9,FALSE)*crit9,\"\")","v":""},{"$f":"IF(ISNA(VLOOKUP(INDEX(Base_Typologie!$A$6:$P$1003,MATCH(A221,Base_Typologie!$A:$A,0)-5,MATCH(Typologie_Espace_Public,Base_Typologie!$6:$6,0)),TableauScoreTypologie2,2,FALSE)*Crit6),0,VLOOKUP(INDEX(Base_Typologie!$A$6:$P$1003,MATCH(A221,Base_Typologie!$A:$A,0)-5,MATCH(Typologie_Espace_Public,Base_Typologie!$6:$6,0)),TableauScoreTypologie2,2,FALSE)*Crit6)","v":0},0,0,0,0,0,0,0,0,0,0,0,0,null,{"$f":"IF(Base_Arbres!A324<>\"\",VLOOKUP($A221,Base_Arbres,4,FALSE)*Crit7,\"\")","v":""}]
[{"$f":"IF(Base_Arbres!A222<>\"\",Base_Arbres!A222,\"\")","v":""},{"$f":"IF(Base_Arbres!A222<>\"\",VLOOKUP($A222,Base_Arbres,3,FALSE)*Crit1,\"\")","v":""},{"$f":"IF(Base_Arbres!A222<>\"\",VLOOKUP($A222,Base_Arbres,4,FALSE)*Crit2,\"\")","v":""},{"$f":"IF(Base_Arbres!A222<>\"\",VLOOKUP($A222,Base_Arbres,5,FALSE)*Crit3,\"\")","v":""},{"$f":"IF(Base_Arbres!A222<>\"\",VLOOKUP($A222,Base_Arbres,6,FALSE)*Crit4,\"\")","v":""},{"$f":"IF(Base_Arbres!B222<>\"\",VLOOKUP($A222,Base_Arbres,7,FALSE)*Crit5,\"\")","v":""},{"$f":"IF(Base_Arbres!C222<>\"\",VLOOKUP($A222,Base_Arbres,8,FALSE)*crit8,\"\")","v":""},{"$f":"IF(Base_Arbres!D222<>\"\",VLOOKUP($A222,Base_Arbres,9,FALSE)*crit9,\"\")","v":""},{"$f":"IF(ISNA(VLOOKUP(INDEX(Base_Typologie!$A$6:$P$1003,MATCH(A222,Base_Typologie!$A:$A,0)-5,MATCH(Typologie_Espace_Public,Base_Typologie!$6:$6,0)),TableauScoreTypologie2,2,FALSE)*Crit6),0,VLOOKUP(INDEX(Base_Typologie!$A$6:$P$1003,MATCH(A222,Base_Typologie!$A:$A,0)-5,MATCH(Typologie_Espace_Public,Base_Typologie!$6:$6,0)),TableauScoreTypologie2,2,FALSE)*Crit6)","v":0},0,0,0,0,0,0,0,0,0,0,0,0,null,{"$f":"IF(Base_Arbres!A325<>\"\",VLOOKUP($A222,Base_Arbres,4,FALSE)*Crit7,\"\")","v":""}]
[{"$f":"IF(Base_Arbres!A223<>\"\",Base_Arbres!A223,\"\")","v":""},{"$f":"IF(Base_Arbres!A223<>\"\",VLOOKUP($A223,Base_Arbres,3,FALSE)*Crit1,\"\")","v":""},{"$f":"IF(Base_Arbres!A223<>\"\",VLOOKUP($A223,Base_Arbres,4,FALSE)*Crit2,\"\")","v":""},{"$f":"IF(Base_Arbres!A223<>\"\",VLOOKUP($A223,Base_Arbres,5,FALSE)*Crit3,\"\")","v":""},{"$f":"IF(Base_Arbres!A223<>\"\",VLOOKUP($A223,Base_Arbres,6,FALSE)*Crit4,\"\")","v":""},{"$f":"IF(Base_Arbres!B223<>\"\",VLOOKUP($A223,Base_Arbres,7,FALSE)*Crit5,\"\")","v":""},{"$f":"IF(Base_Arbres!C223<>\"\",VLOOKUP($A223,Base_Arbres,8,FALSE)*crit8,\"\")","v":""},{"$f":"IF(Base_Arbres!D223<>\"\",VLOOKUP($A223,Base_Arbres,9,FALSE)*crit9,\"\")","v":""},{"$f":"IF(ISNA(VLOOKUP(INDEX(Base_Typologie!$A$6:$P$1003,MATCH(A223,Base_Typologie!$A:$A,0)-5,MATCH(Typologie_Espace_Public,Base_Typologie!$6:$6,0)),TableauScoreTypologie2,2,FALSE)*Crit6),0,VLOOKUP(INDEX(Base_Typologie!$A$6:$P$1003,MATCH(A223,Base_Typologie!$A:$A,0)-5,MATCH(Typologie_Espace_Public,Base_Typologie!$6:$6,0)),TableauScoreTypologie2,2,FALSE)*Crit6)","v":0},0,0,0,0,0,0,0,0,0,0,0,0,null,{"$f":"IF(Base_Arbres!A326<>\"\",VLOOKUP($A223,Base_Arbres,4,FALSE)*Crit7,\"\")","v":""}]
[{"$f":"IF(Base_Arbres!A224<>\"\",Base_Arbres!A224,\"\")","v":""},{"$f":"IF(Base_Arbres!A224<>\"\",VLOOKUP($A224,Base_Arbres,3,FALSE)*Crit1,\"\")","v":""},{"$f":"IF(Base_Arbres!A224<>\"\",VLOOKUP($A224,Base_Arbres,4,FALSE)*Crit2,\"\")","v":""},{"$f":"IF(Base_Arbres!A224<>\"\",VLOOKUP($A224,Base_Arbres,5,FALSE)*Crit3,\"\")","v":""},{"$f":"IF(Base_Arbres!A224<>\"\",VLOOKUP($A224,Base_Arbres,6,FALSE)*Crit4,\"\")","v":""},{"$f":"IF(Base_Arbres!B224<>\"\",VLOOKUP($A224,Base_Arbres,7,FALSE)*Crit5,\"\")","v":""},{"$f":"IF(Base_Arbres!C224<>\"\",VLOOKUP($A224,Base_Arbres,8,FALSE)*crit8,\"\")","v":""},{"$f":"IF(Base_Arbres!D224<>\"\",VLOOKUP($A224,Base_Arbres,9,FALSE)*crit9,\"\")","v":""},{"$f":"IF(ISNA(VLOOKUP(INDEX(Base_Typologie!$A$6:$P$1003,MATCH(A224,Base_Typologie!$A:$A,0)-5,MATCH(Typologie_Espace_Public,Base_Typologie!$6:$6,0)),TableauScoreTypologie2,2,FALSE)*Crit6),0,VLOOKUP(INDEX(Base_Typologie!$A$6:$P$1003,MATCH(A224,Base_Typologie!$A:$A,0)-5,MATCH(Typologie_Espace_Public,Base_Typologie!$6:$6,0)),TableauScoreTypologie2,2,FALSE)*Crit6)","v":0},0,0,0,0,0,0,0,0,0,0,0,0,null,{"$f":"IF(Base_Arbres!A327<>\"\",VLOOKUP($A224,Base_Arbres,4,FALSE)*Crit7,\"\")","v":""}]
[{"$f":"IF(Base_Arbres!A225<>\"\",Base_Arbres!A225,\"\")","v":""},{"$f":"IF(Base_Arbres!A225<>\"\",VLOOKUP($A225,Base_Arbres,3,FALSE)*Crit1,\"\")","v":""},{"$f":"IF(Base_Arbres!A225<>\"\",VLOOKUP($A225,Base_Arbres,4,FALSE)*Crit2,\"\")","v":""},{"$f":"IF(Base_Arbres!A225<>\"\",VLOOKUP($A225,Base_Arbres,5,FALSE)*Crit3,\"\")","v":""},{"$f":"IF(Base_Arbres!A225<>\"\",VLOOKUP($A225,Base_Arbres,6,FALSE)*Crit4,\"\")","v":""},{"$f":"IF(Base_Arbres!B225<>\"\",VLOOKUP($A225,Base_Arbres,7,FALSE)*Crit5,\"\")","v":""},{"$f":"IF(Base_Arbres!C225<>\"\",VLOOKUP($A225,Base_Arbres,8,FALSE)*crit8,\"\")","v":""},{"$f":"IF(Base_Arbres!D225<>\"\",VLOOKUP($A225,Base_Arbres,9,FALSE)*crit9,\"\")","v":""},{"$f":"IF(ISNA(VLOOKUP(INDEX(Base_Typologie!$A$6:$P$1003,MATCH(A225,Base_Typologie!$A:$A,0)-5,MATCH(Typologie_Espace_Public,Base_Typologie!$6:$6,0)),TableauScoreTypologie2,2,FALSE)*Crit6),0,VLOOKUP(INDEX(Base_Typologie!$A$6:$P$1003,MATCH(A225,Base_Typologie!$A:$A,0)-5,MATCH(Typologie_Espace_Public,Base_Typologie!$6:$6,0)),TableauScoreTypologie2,2,FALSE)*Crit6)","v":0},0,0,0,0,0,0,0,0,0,0,0,0,null,{"$f":"IF(Base_Arbres!A328<>\"\",VLOOKUP($A225,Base_Arbres,4,FALSE)*Crit7,\"\")","v":""}]
[{"$f":"IF(Base_Arbres!A226<>\"\",Base_Arbres!A226,\"\")","v":""},{"$f":"IF(Base_Arbres!A226<>\"\",VLOOKUP($A226,Base_Arbres,3,FALSE)*Crit1,\"\")","v":""},{"$f":"IF(Base_Arbres!A226<>\"\",VLOOKUP($A226,Base_Arbres,4,FALSE)*Crit2,\"\")","v":""},{"$f":"IF(Base_Arbres!A226<>\"\",VLOOKUP($A226,Base_Arbres,5,FALSE)*Crit3,\"\")","v":""},{"$f":"IF(Base_Arbres!A226<>\"\",VLOOKUP($A226,Base_Arbres,6,FALSE)*Crit4,\"\")","v":""},{"$f":"IF(Base_Arbres!B226<>\"\",VLOOKUP($A226,Base_Arbres,7,FALSE)*Crit5,\"\")","v":""},{"$f":"IF(Base_Arbres!C226<>\"\",VLOOKUP($A226,Base_Arbres,8,FALSE)*crit8,\"\")","v":""},{"$f":"IF(Base_Arbres!D226<>\"\",VLOOKUP($A226,Base_Arbres,9,FALSE)*crit9,\"\")","v":""},{"$f":"IF(ISNA(VLOOKUP(INDEX(Base_Typologie!$A$6:$P$1003,MATCH(A226,Base_Typologie!$A:$A,0)-5,MATCH(Typologie_Espace_Public,Base_Typologie!$6:$6,0)),TableauScoreTypologie2,2,FALSE)*Crit6),0,VLOOKUP(INDEX(Base_Typologie!$A$6:$P$1003,MATCH(A226,Base_Typologie!$A:$A,0)-5,MATCH(Typologie_Espace_Public,Base_Typologie!$6:$6,0)),TableauScoreTypologie2,2,FALSE)*Crit6)","v":0},0,0,0,0,0,0,0,0,0,0,0,0,null,{"$f":"IF(Base_Arbres!A329<>\"\",VLOOKUP($A226,Base_Arbres,4,FALSE)*Crit7,\"\")","v":""}]
[{"$f":"IF(Base_Arbres!A227<>\"\",Base_Arbres!A227,\"\")","v":""},{"$f":"IF(Base_Arbres!A227<>\"\",VLOOKUP($A227,Base_Arbres,3,FALSE)*Crit1,\"\")","v":""},{"$f":"IF(Base_Arbres!A227<>\"\",VLOOKUP($A227,Base_Arbres,4,FALSE)*Crit2,\"\")","v":""},{"$f":"IF(Base_Arbres!A227<>\"\",VLOOKUP($A227,Base_Arbres,5,FALSE)*Crit3,\"\")","v":""},{"$f":"IF(Base_Arbres!A227<>\"\",VLOOKUP($A227,Base_Arbres,6,FALSE)*Crit4,\"\")","v":""},{"$f":"IF(Base_Arbres!B227<>\"\",VLOOKUP($A227,Base_Arbres,7,FALSE)*Crit5,\"\")","v":""},{"$f":"IF(Base_Arbres!C227<>\"\",VLOOKUP($A227,Base_Arbres,8,FALSE)*crit8,\"\")","v":""},{"$f":"IF(Base_Arbres!D227<>\"\",VLOOKUP($A227,Base_Arbres,9,FALSE)*crit9,\"\")","v":""},{"$f":"IF(ISNA(VLOOKUP(INDEX(Base_Typologie!$A$6:$P$1003,MATCH(A227,Base_Typologie!$A:$A,0)-5,MATCH(Typologie_Espace_Public,Base_Typologie!$6:$6,0)),TableauScoreTypologie2,2,FALSE)*Crit6),0,VLOOKUP(INDEX(Base_Typologie!$A$6:$P$1003,MATCH(A227,Base_Typologie!$A:$A,0)-5,MATCH(Typologie_Espace_Public,Base_Typologie!$6:$6,0)),TableauScoreTypologie2,2,FALSE)*Crit6)","v":0},0,0,0,0,0,0,0,0,0,0,0,0,null,{"$f":"IF(Base_Arbres!A330<>\"\",VLOOKUP($A227,Base_Arbres,4,FALSE)*Crit7,\"\")","v":""}]
[{"$f":"IF(Base_Arbres!A228<>\"\",Base_Arbres!A228,\"\")","v":""},{"$f":"IF(Base_Arbres!A228<>\"\",VLOOKUP($A228,Base_Arbres,3,FALSE)*Crit1,\"\")","v":""},{"$f":"IF(Base_Arbres!A228<>\"\",VLOOKUP($A228,Base_Arbres,4,FALSE)*Crit2,\"\")","v":""},{"$f":"IF(Base_Arbres!A228<>\"\",VLOOKUP($A228,Base_Arbres,5,FALSE)*Crit3,\"\")","v":""},{"$f":"IF(Base_Arbres!A228<>\"\",VLOOKUP($A228,Base_Arbres,6,FALSE)*Crit4,\"\")","v":""},{"$f":"IF(Base_Arbres!B228<>\"\",VLOOKUP($A228,Base_Arbres,7,FALSE)*Crit5,\"\")","v":""},{"$f":"IF(Base_Arbres!C228<>\"\",VLOOKUP($A228,Base_Arbres,8,FALSE)*crit8,\"\")","v":""},{"$f":"IF(Base_Arbres!D228<>\"\",VLOOKUP($A228,Base_Arbres,9,FALSE)*crit9,\"\")","v":""},{"$f":"IF(ISNA(VLOOKUP(INDEX(Base_Typologie!$A$6:$P$1003,MATCH(A228,Base_Typologie!$A:$A,0)-5,MATCH(Typologie_Espace_Public,Base_Typologie!$6:$6,0)),TableauScoreTypologie2,2,FALSE)*Crit6),0,VLOOKUP(INDEX(Base_Typologie!$A$6:$P$1003,MATCH(A228,Base_Typologie!$A:$A,0)-5,MATCH(Typologie_Espace_Public,Base_Typologie!$6:$6,0)),TableauScoreTypologie2,2,FALSE)*Crit6)","v":0},0,0,0,0,0,0,0,0,0,0,0,0,null,{"$f":"IF(Base_Arbres!A331<>\"\",VLOOKUP($A228,Base_Arbres,4,FALSE)*Crit7,\"\")","v":""}]
[{"$f":"IF(Base_Arbres!A229<>\"\",Base_Arbres!A229,\"\")","v":""},{"$f":"IF(Base_Arbres!A229<>\"\",VLOOKUP($A229,Base_Arbres,3,FALSE)*Crit1,\"\")","v":""},{"$f":"IF(Base_Arbres!A229<>\"\",VLOOKUP($A229,Base_Arbres,4,FALSE)*Crit2,\"\")","v":""},{"$f":"IF(Base_Arbres!A229<>\"\",VLOOKUP($A229,Base_Arbres,5,FALSE)*Crit3,\"\")","v":""},{"$f":"IF(Base_Arbres!A229<>\"\",VLOOKUP($A229,Base_Arbres,6,FALSE)*Crit4,\"\")","v":""},{"$f":"IF(Base_Arbres!B229<>\"\",VLOOKUP($A229,Base_Arbres,7,FALSE)*Crit5,\"\")","v":""},{"$f":"IF(Base_Arbres!C229<>\"\",VLOOKUP($A229,Base_Arbres,8,FALSE)*crit8,\"\")","v":""},{"$f":"IF(Base_Arbres!D229<>\"\",VLOOKUP($A229,Base_Arbres,9,FALSE)*crit9,\"\")","v":""},{"$f":"IF(ISNA(VLOOKUP(INDEX(Base_Typologie!$A$6:$P$1003,MATCH(A229,Base_Typologie!$A:$A,0)-5,MATCH(Typologie_Espace_Public,Base_Typologie!$6:$6,0)),TableauScoreTypologie2,2,FALSE)*Crit6),0,VLOOKUP(INDEX(Base_Typologie!$A$6:$P$1003,MATCH(A229,Base_Typologie!$A:$A,0)-5,MATCH(Typologie_Espace_Public,Base_Typologie!$6:$6,0)),TableauScoreTypologie2,2,FALSE)*Crit6)","v":0},0,0,0,0,0,0,0,0,0,0,0,0,null,{"$f":"IF(Base_Arbres!A332<>\"\",VLOOKUP($A229,Base_Arbres,4,FALSE)*Crit7,\"\")","v":""}]
[{"$f":"IF(Base_Arbres!A230<>\"\",Base_Arbres!A230,\"\")","v":""},{"$f":"IF(Base_Arbres!A230<>\"\",VLOOKUP($A230,Base_Arbres,3,FALSE)*Crit1,\"\")","v":""},{"$f":"IF(Base_Arbres!A230<>\"\",VLOOKUP($A230,Base_Arbres,4,FALSE)*Crit2,\"\")","v":""},{"$f":"IF(Base_Arbres!A230<>\"\",VLOOKUP($A230,Base_Arbres,5,FALSE)*Crit3,\"\")","v":""},{"$f":"IF(Base_Arbres!A230<>\"\",VLOOKUP($A230,Base_Arbres,6,FALSE)*Crit4,\"\")","v":""},{"$f":"IF(Base_Arbres!B230<>\"\",VLOOKUP($A230,Base_Arbres,7,FALSE)*Crit5,\"\")","v":""},{"$f":"IF(Base_Arbres!C230<>\"\",VLOOKUP($A230,Base_Arbres,8,FALSE)*crit8,\"\")","v":""},{"$f":"IF(Base_Arbres!D230<>\"\",VLOOKUP($A230,Base_Arbres,9,FALSE)*crit9,\"\")","v":""},{"$f":"IF(ISNA(VLOOKUP(INDEX(Base_Typologie!$A$6:$P$1003,MATCH(A230,Base_Typologie!$A:$A,0)-5,MATCH(Typologie_Espace_Public,Base_Typologie!$6:$6,0)),TableauScoreTypologie2,2,FALSE)*Crit6),0,VLOOKUP(INDEX(Base_Typologie!$A$6:$P$1003,MATCH(A230,Base_Typologie!$A:$A,0)-5,MATCH(Typologie_Espace_Public,Base_Typologie!$6:$6,0)),TableauScoreTypologie2,2,FALSE)*Crit6)","v":0},0,0,0,0,0,0,0,0,0,0,0,0,null,{"$f":"IF(Base_Arbres!A333<>\"\",VLOOKUP($A230,Base_Arbres,4,FALSE)*Crit7,\"\")","v":""}]
[{"$f":"IF(Base_Arbres!A231<>\"\",Base_Arbres!A231,\"\")","v":""},{"$f":"IF(Base_Arbres!A231<>\"\",VLOOKUP($A231,Base_Arbres,3,FALSE)*Crit1,\"\")","v":""},{"$f":"IF(Base_Arbres!A231<>\"\",VLOOKUP($A231,Base_Arbres,4,FALSE)*Crit2,\"\")","v":""},{"$f":"IF(Base_Arbres!A231<>\"\",VLOOKUP($A231,Base_Arbres,5,FALSE)*Crit3,\"\")","v":""},{"$f":"IF(Base_Arbres!A231<>\"\",VLOOKUP($A231,Base_Arbres,6,FALSE)*Crit4,\"\")","v":""},{"$f":"IF(Base_Arbres!B231<>\"\",VLOOKUP($A231,Base_Arbres,7,FALSE)*Crit5,\"\")","v":""},{"$f":"IF(Base_Arbres!C231<>\"\",VLOOKUP($A231,Base_Arbres,8,FALSE)*crit8,\"\")","v":""},{"$f":"IF(Base_Arbres!D231<>\"\",VLOOKUP($A231,Base_Arbres,9,FALSE)*crit9,\"\")","v":""},{"$f":"IF(ISNA(VLOOKUP(INDEX(Base_Typologie!$A$6:$P$1003,MATCH(A231,Base_Typologie!$A:$A,0)-5,MATCH(Typologie_Espace_Public,Base_Typologie!$6:$6,0)),TableauScoreTypologie2,2,FALSE)*Crit6),0,VLOOKUP(INDEX(Base_Typologie!$A$6:$P$1003,MATCH(A231,Base_Typologie!$A:$A,0)-5,MATCH(Typologie_Espace_Public,Base_Typologie!$6:$6,0)),TableauScoreTypologie2,2,FALSE)*Crit6)","v":0},0,0,0,0,0,0,0,0,0,0,0,0,null,{"$f":"IF(Base_Arbres!A334<>\"\",VLOOKUP($A231,Base_Arbres,4,FALSE)*Crit7,\"\")","v":""}]
[{"$f":"IF(Base_Arbres!A232<>\"\",Base_Arbres!A232,\"\")","v":""},{"$f":"IF(Base_Arbres!A232<>\"\",VLOOKUP($A232,Base_Arbres,3,FALSE)*Crit1,\"\")","v":""},{"$f":"IF(Base_Arbres!A232<>\"\",VLOOKUP($A232,Base_Arbres,4,FALSE)*Crit2,\"\")","v":""},{"$f":"IF(Base_Arbres!A232<>\"\",VLOOKUP($A232,Base_Arbres,5,FALSE)*Crit3,\"\")","v":""},{"$f":"IF(Base_Arbres!A232<>\"\",VLOOKUP($A232,Base_Arbres,6,FALSE)*Crit4,\"\")","v":""},{"$f":"IF(Base_Arbres!B232<>\"\",VLOOKUP($A232,Base_Arbres,7,FALSE)*Crit5,\"\")","v":""},{"$f":"IF(Base_Arbres!C232<>\"\",VLOOKUP($A232,Base_Arbres,8,FALSE)*crit8,\"\")","v":""},{"$f":"IF(Base_Arbres!D232<>\"\",VLOOKUP($A232,Base_Arbres,9,FALSE)*crit9,\"\")","v":""},{"$f":"IF(ISNA(VLOOKUP(INDEX(Base_Typologie!$A$6:$P$1003,MATCH(A232,Base_Typologie!$A:$A,0)-5,MATCH(Typologie_Espace_Public,Base_Typologie!$6:$6,0)),TableauScoreTypologie2,2,FALSE)*Crit6),0,VLOOKUP(INDEX(Base_Typologie!$A$6:$P$1003,MATCH(A232,Base_Typologie!$A:$A,0)-5,MATCH(Typologie_Espace_Public,Base_Typologie!$6:$6,0)),TableauScoreTypologie2,2,FALSE)*Crit6)","v":0},0,0,0,0,0,0,0,0,0,0,0,0,null,{"$f":"IF(Base_Arbres!A335<>\"\",VLOOKUP($A232,Base_Arbres,4,FALSE)*Crit7,\"\")","v":""}]
[{"$f":"IF(Base_Arbres!A233<>\"\",Base_Arbres!A233,\"\")","v":""},{"$f":"IF(Base_Arbres!A233<>\"\",VLOOKUP($A233,Base_Arbres,3,FALSE)*Crit1,\"\")","v":""},{"$f":"IF(Base_Arbres!A233<>\"\",VLOOKUP($A233,Base_Arbres,4,FALSE)*Crit2,\"\")","v":""},{"$f":"IF(Base_Arbres!A233<>\"\",VLOOKUP($A233,Base_Arbres,5,FALSE)*Crit3,\"\")","v":""},{"$f":"IF(Base_Arbres!A233<>\"\",VLOOKUP($A233,Base_Arbres,6,FALSE)*Crit4,\"\")","v":""},{"$f":"IF(Base_Arbres!B233<>\"\",VLOOKUP($A233,Base_Arbres,7,FALSE)*Crit5,\"\")","v":""},{"$f":"IF(Base_Arbres!C233<>\"\",VLOOKUP($A233,Base_Arbres,8,FALSE)*crit8,\"\")","v":""},{"$f":"IF(Base_Arbres!D233<>\"\",VLOOKUP($A233,Base_Arbres,9,FALSE)*crit9,\"\")","v":""},{"$f":"IF(ISNA(VLOOKUP(INDEX(Base_Typologie!$A$6:$P$1003,MATCH(A233,Base_Typologie!$A:$A,0)-5,MATCH(Typologie_Espace_Public,Base_Typologie!$6:$6,0)),TableauScoreTypologie2,2,FALSE)*Crit6),0,VLOOKUP(INDEX(Base_Typologie!$A$6:$P$1003,MATCH(A233,Base_Typologie!$A:$A,0)-5,MATCH(Typologie_Espace_Public,Base_Typologie!$6:$6,0)),TableauScoreTypologie2,2,FALSE)*Crit6)","v":0},0,0,0,0,0,0,0,0,0,0,0,0,null,{"$f":"IF(Base_Arbres!A336<>\"\",VLOOKUP($A233,Base_Arbres,4,FALSE)*Crit7,\"\")","v":""}]
[{"$f":"IF(Base_Arbres!A234<>\"\",Base_Arbres!A234,\"\")","v":""},{"$f":"IF(Base_Arbres!A234<>\"\",VLOOKUP($A234,Base_Arbres,3,FALSE)*Crit1,\"\")","v":""},{"$f":"IF(Base_Arbres!A234<>\"\",VLOOKUP($A234,Base_Arbres,4,FALSE)*Crit2,\"\")","v":""},{"$f":"IF(Base_Arbres!A234<>\"\",VLOOKUP($A234,Base_Arbres,5,FALSE)*Crit3,\"\")","v":""},{"$f":"IF(Base_Arbres!A234<>\"\",VLOOKUP($A234,Base_Arbres,6,FALSE)*Crit4,\"\")","v":""},{"$f":"IF(Base_Arbres!B234<>\"\",VLOOKUP($A234,Base_Arbres,7,FALSE)*Crit5,\"\")","v":""},{"$f":"IF(Base_Arbres!C234<>\"\",VLOOKUP($A234,Base_Arbres,8,FALSE)*crit8,\"\")","v":""},{"$f":"IF(Base_Arbres!D234<>\"\",VLOOKUP($A234,Base_Arbres,9,FALSE)*crit9,\"\")","v":""},{"$f":"IF(ISNA(VLOOKUP(INDEX(Base_Typologie!$A$6:$P$1003,MATCH(A234,Base_Typologie!$A:$A,0)-5,MATCH(Typologie_Espace_Public,Base_Typologie!$6:$6,0)),TableauScoreTypologie2,2,FALSE)*Crit6),0,VLOOKUP(INDEX(Base_Typologie!$A$6:$P$1003,MATCH(A234,Base_Typologie!$A:$A,0)-5,MATCH(Typologie_Espace_Public,Base_Typologie!$6:$6,0)),TableauScoreTypologie2,2,FALSE)*Crit6)","v":0},0,0,0,0,0,0,0,0,0,0,0,0,null,{"$f":"IF(Base_Arbres!A337<>\"\",VLOOKUP($A234,Base_Arbres,4,FALSE)*Crit7,\"\")","v":""}]
[{"$f":"IF(Base_Arbres!A235<>\"\",Base_Arbres!A235,\"\")","v":""},{"$f":"IF(Base_Arbres!A235<>\"\",VLOOKUP($A235,Base_Arbres,3,FALSE)*Crit1,\"\")","v":""},{"$f":"IF(Base_Arbres!A235<>\"\",VLOOKUP($A235,Base_Arbres,4,FALSE)*Crit2,\"\")","v":""},{"$f":"IF(Base_Arbres!A235<>\"\",VLOOKUP($A235,Base_Arbres,5,FALSE)*Crit3,\"\")","v":""},{"$f":"IF(Base_Arbres!A235<>\"\",VLOOKUP($A235,Base_Arbres,6,FALSE)*Crit4,\"\")","v":""},{"$f":"IF(Base_Arbres!B235<>\"\",VLOOKUP($A235,Base_Arbres,7,FALSE)*Crit5,\"\")","v":""},{"$f":"IF(Base_Arbres!C235<>\"\",VLOOKUP($A235,Base_Arbres,8,FALSE)*crit8,\"\")","v":""},{"$f":"IF(Base_Arbres!D235<>\"\",VLOOKUP($A235,Base_Arbres,9,FALSE)*crit9,\"\")","v":""},{"$f":"IF(ISNA(VLOOKUP(INDEX(Base_Typologie!$A$6:$P$1003,MATCH(A235,Base_Typologie!$A:$A,0)-5,MATCH(Typologie_Espace_Public,Base_Typologie!$6:$6,0)),TableauScoreTypologie2,2,FALSE)*Crit6),0,VLOOKUP(INDEX(Base_Typologie!$A$6:$P$1003,MATCH(A235,Base_Typologie!$A:$A,0)-5,MATCH(Typologie_Espace_Public,Base_Typologie!$6:$6,0)),TableauScoreTypologie2,2,FALSE)*Crit6)","v":0},0,0,0,0,0,0,0,0,0,0,0,0,null,{"$f":"IF(Base_Arbres!A338<>\"\",VLOOKUP($A235,Base_Arbres,4,FALSE)*Crit7,\"\")","v":""}]
[{"$f":"IF(Base_Arbres!A236<>\"\",Base_Arbres!A236,\"\")","v":""},{"$f":"IF(Base_Arbres!A236<>\"\",VLOOKUP($A236,Base_Arbres,3,FALSE)*Crit1,\"\")","v":""},{"$f":"IF(Base_Arbres!A236<>\"\",VLOOKUP($A236,Base_Arbres,4,FALSE)*Crit2,\"\")","v":""},{"$f":"IF(Base_Arbres!A236<>\"\",VLOOKUP($A236,Base_Arbres,5,FALSE)*Crit3,\"\")","v":""},{"$f":"IF(Base_Arbres!A236<>\"\",VLOOKUP($A236,Base_Arbres,6,FALSE)*Crit4,\"\")","v":""},{"$f":"IF(Base_Arbres!B236<>\"\",VLOOKUP($A236,Base_Arbres,7,FALSE)*Crit5,\"\")","v":""},{"$f":"IF(Base_Arbres!C236<>\"\",VLOOKUP($A236,Base_Arbres,8,FALSE)*crit8,\"\")","v":""},{"$f":"IF(Base_Arbres!D236<>\"\",VLOOKUP($A236,Base_Arbres,9,FALSE)*crit9,\"\")","v":""},{"$f":"IF(ISNA(VLOOKUP(INDEX(Base_Typologie!$A$6:$P$1003,MATCH(A236,Base_Typologie!$A:$A,0)-5,MATCH(Typologie_Espace_Public,Base_Typologie!$6:$6,0)),TableauScoreTypologie2,2,FALSE)*Crit6),0,VLOOKUP(INDEX(Base_Typologie!$A$6:$P$1003,MATCH(A236,Base_Typologie!$A:$A,0)-5,MATCH(Typologie_Espace_Public,Base_Typologie!$6:$6,0)),TableauScoreTypologie2,2,FALSE)*Crit6)","v":0},0,0,0,0,0,0,0,0,0,0,0,0,null,{"$f":"IF(Base_Arbres!A339<>\"\",VLOOKUP($A236,Base_Arbres,4,FALSE)*Crit7,\"\")","v":""}]
[{"$f":"IF(Base_Arbres!A237<>\"\",Base_Arbres!A237,\"\")","v":""},{"$f":"IF(Base_Arbres!A237<>\"\",VLOOKUP($A237,Base_Arbres,3,FALSE)*Crit1,\"\")","v":""},{"$f":"IF(Base_Arbres!A237<>\"\",VLOOKUP($A237,Base_Arbres,4,FALSE)*Crit2,\"\")","v":""},{"$f":"IF(Base_Arbres!A237<>\"\",VLOOKUP($A237,Base_Arbres,5,FALSE)*Crit3,\"\")","v":""},{"$f":"IF(Base_Arbres!A237<>\"\",VLOOKUP($A237,Base_Arbres,6,FALSE)*Crit4,\"\")","v":""},{"$f":"IF(Base_Arbres!B237<>\"\",VLOOKUP($A237,Base_Arbres,7,FALSE)*Crit5,\"\")","v":""},{"$f":"IF(Base_Arbres!C237<>\"\",VLOOKUP($A237,Base_Arbres,8,FALSE)*crit8,\"\")","v":""},{"$f":"IF(Base_Arbres!D237<>\"\",VLOOKUP($A237,Base_Arbres,9,FALSE)*crit9,\"\")","v":""},{"$f":"IF(ISNA(VLOOKUP(INDEX(Base_Typologie!$A$6:$P$1003,MATCH(A237,Base_Typologie!$A:$A,0)-5,MATCH(Typologie_Espace_Public,Base_Typologie!$6:$6,0)),TableauScoreTypologie2,2,FALSE)*Crit6),0,VLOOKUP(INDEX(Base_Typologie!$A$6:$P$1003,MATCH(A237,Base_Typologie!$A:$A,0)-5,MATCH(Typologie_Espace_Public,Base_Typologie!$6:$6,0)),TableauScoreTypologie2,2,FALSE)*Crit6)","v":0},0,0,0,0,0,0,0,0,0,0,0,0,null,{"$f":"IF(Base_Arbres!A340<>\"\",VLOOKUP($A237,Base_Arbres,4,FALSE)*Crit7,\"\")","v":""}]
[{"$f":"IF(Base_Arbres!A238<>\"\",Base_Arbres!A238,\"\")","v":""},{"$f":"IF(Base_Arbres!A238<>\"\",VLOOKUP($A238,Base_Arbres,3,FALSE)*Crit1,\"\")","v":""},{"$f":"IF(Base_Arbres!A238<>\"\",VLOOKUP($A238,Base_Arbres,4,FALSE)*Crit2,\"\")","v":""},{"$f":"IF(Base_Arbres!A238<>\"\",VLOOKUP($A238,Base_Arbres,5,FALSE)*Crit3,\"\")","v":""},{"$f":"IF(Base_Arbres!A238<>\"\",VLOOKUP($A238,Base_Arbres,6,FALSE)*Crit4,\"\")","v":""},{"$f":"IF(Base_Arbres!B238<>\"\",VLOOKUP($A238,Base_Arbres,7,FALSE)*Crit5,\"\")","v":""},{"$f":"IF(Base_Arbres!C238<>\"\",VLOOKUP($A238,Base_Arbres,8,FALSE)*crit8,\"\")","v":""},{"$f":"IF(Base_Arbres!D238<>\"\",VLOOKUP($A238,Base_Arbres,9,FALSE)*crit9,\"\")","v":""},{"$f":"IF(ISNA(VLOOKUP(INDEX(Base_Typologie!$A$6:$P$1003,MATCH(A238,Base_Typologie!$A:$A,0)-5,MATCH(Typologie_Espace_Public,Base_Typologie!$6:$6,0)),TableauScoreTypologie2,2,FALSE)*Crit6),0,VLOOKUP(INDEX(Base_Typologie!$A$6:$P$1003,MATCH(A238,Base_Typologie!$A:$A,0)-5,MATCH(Typologie_Espace_Public,Base_Typologie!$6:$6,0)),TableauScoreTypologie2,2,FALSE)*Crit6)","v":0},0,0,0,0,0,0,0,0,0,0,0,0,null,{"$f":"IF(Base_Arbres!A341<>\"\",VLOOKUP($A238,Base_Arbres,4,FALSE)*Crit7,\"\")","v":""}]
[{"$f":"IF(Base_Arbres!A239<>\"\",Base_Arbres!A239,\"\")","v":""},{"$f":"IF(Base_Arbres!A239<>\"\",VLOOKUP($A239,Base_Arbres,3,FALSE)*Crit1,\"\")","v":""},{"$f":"IF(Base_Arbres!A239<>\"\",VLOOKUP($A239,Base_Arbres,4,FALSE)*Crit2,\"\")","v":""},{"$f":"IF(Base_Arbres!A239<>\"\",VLOOKUP($A239,Base_Arbres,5,FALSE)*Crit3,\"\")","v":""},{"$f":"IF(Base_Arbres!A239<>\"\",VLOOKUP($A239,Base_Arbres,6,FALSE)*Crit4,\"\")","v":""},{"$f":"IF(Base_Arbres!B239<>\"\",VLOOKUP($A239,Base_Arbres,7,FALSE)*Crit5,\"\")","v":""},{"$f":"IF(Base_Arbres!C239<>\"\",VLOOKUP($A239,Base_Arbres,8,FALSE)*crit8,\"\")","v":""},{"$f":"IF(Base_Arbres!D239<>\"\",VLOOKUP($A239,Base_Arbres,9,FALSE)*crit9,\"\")","v":""},{"$f":"IF(ISNA(VLOOKUP(INDEX(Base_Typologie!$A$6:$P$1003,MATCH(A239,Base_Typologie!$A:$A,0)-5,MATCH(Typologie_Espace_Public,Base_Typologie!$6:$6,0)),TableauScoreTypologie2,2,FALSE)*Crit6),0,VLOOKUP(INDEX(Base_Typologie!$A$6:$P$1003,MATCH(A239,Base_Typologie!$A:$A,0)-5,MATCH(Typologie_Espace_Public,Base_Typologie!$6:$6,0)),TableauScoreTypologie2,2,FALSE)*Crit6)","v":0},0,0,0,0,0,0,0,0,0,0,0,0,null,{"$f":"IF(Base_Arbres!A342<>\"\",VLOOKUP($A239,Base_Arbres,4,FALSE)*Crit7,\"\")","v":""}]
[{"$f":"IF(Base_Arbres!A240<>\"\",Base_Arbres!A240,\"\")","v":""},{"$f":"IF(Base_Arbres!A240<>\"\",VLOOKUP($A240,Base_Arbres,3,FALSE)*Crit1,\"\")","v":""},{"$f":"IF(Base_Arbres!A240<>\"\",VLOOKUP($A240,Base_Arbres,4,FALSE)*Crit2,\"\")","v":""},{"$f":"IF(Base_Arbres!A240<>\"\",VLOOKUP($A240,Base_Arbres,5,FALSE)*Crit3,\"\")","v":""},{"$f":"IF(Base_Arbres!A240<>\"\",VLOOKUP($A240,Base_Arbres,6,FALSE)*Crit4,\"\")","v":""},{"$f":"IF(Base_Arbres!B240<>\"\",VLOOKUP($A240,Base_Arbres,7,FALSE)*Crit5,\"\")","v":""},{"$f":"IF(Base_Arbres!C240<>\"\",VLOOKUP($A240,Base_Arbres,8,FALSE)*crit8,\"\")","v":""},{"$f":"IF(Base_Arbres!D240<>\"\",VLOOKUP($A240,Base_Arbres,9,FALSE)*crit9,\"\")","v":""},{"$f":"IF(ISNA(VLOOKUP(INDEX(Base_Typologie!$A$6:$P$1003,MATCH(A240,Base_Typologie!$A:$A,0)-5,MATCH(Typologie_Espace_Public,Base_Typologie!$6:$6,0)),TableauScoreTypologie2,2,FALSE)*Crit6),0,VLOOKUP(INDEX(Base_Typologie!$A$6:$P$1003,MATCH(A240,Base_Typologie!$A:$A,0)-5,MATCH(Typologie_Espace_Public,Base_Typologie!$6:$6,0)),TableauScoreTypologie2,2,FALSE)*Crit6)","v":0},0,0,0,0,0,0,0,0,0,0,0,0,null,{"$f":"IF(Base_Arbres!A343<>\"\",VLOOKUP($A240,Base_Arbres,4,FALSE)*Crit7,\"\")","v":""}]
[{"$f":"IF(Base_Arbres!A241<>\"\",Base_Arbres!A241,\"\")","v":""},{"$f":"IF(Base_Arbres!A241<>\"\",VLOOKUP($A241,Base_Arbres,3,FALSE)*Crit1,\"\")","v":""},{"$f":"IF(Base_Arbres!A241<>\"\",VLOOKUP($A241,Base_Arbres,4,FALSE)*Crit2,\"\")","v":""},{"$f":"IF(Base_Arbres!A241<>\"\",VLOOKUP($A241,Base_Arbres,5,FALSE)*Crit3,\"\")","v":""},{"$f":"IF(Base_Arbres!A241<>\"\",VLOOKUP($A241,Base_Arbres,6,FALSE)*Crit4,\"\")","v":""},{"$f":"IF(Base_Arbres!B241<>\"\",VLOOKUP($A241,Base_Arbres,7,FALSE)*Crit5,\"\")","v":""},{"$f":"IF(Base_Arbres!C241<>\"\",VLOOKUP($A241,Base_Arbres,8,FALSE)*crit8,\"\")","v":""},{"$f":"IF(Base_Arbres!D241<>\"\",VLOOKUP($A241,Base_Arbres,9,FALSE)*crit9,\"\")","v":""},{"$f":"IF(ISNA(VLOOKUP(INDEX(Base_Typologie!$A$6:$P$1003,MATCH(A241,Base_Typologie!$A:$A,0)-5,MATCH(Typologie_Espace_Public,Base_Typologie!$6:$6,0)),TableauScoreTypologie2,2,FALSE)*Crit6),0,VLOOKUP(INDEX(Base_Typologie!$A$6:$P$1003,MATCH(A241,Base_Typologie!$A:$A,0)-5,MATCH(Typologie_Espace_Public,Base_Typologie!$6:$6,0)),TableauScoreTypologie2,2,FALSE)*Crit6)","v":0},0,0,0,0,0,0,0,0,0,0,0,0,null,{"$f":"IF(Base_Arbres!A344<>\"\",VLOOKUP($A241,Base_Arbres,4,FALSE)*Crit7,\"\")","v":""}]
[{"$f":"IF(Base_Arbres!A242<>\"\",Base_Arbres!A242,\"\")","v":""},{"$f":"IF(Base_Arbres!A242<>\"\",VLOOKUP($A242,Base_Arbres,3,FALSE)*Crit1,\"\")","v":""},{"$f":"IF(Base_Arbres!A242<>\"\",VLOOKUP($A242,Base_Arbres,4,FALSE)*Crit2,\"\")","v":""},{"$f":"IF(Base_Arbres!A242<>\"\",VLOOKUP($A242,Base_Arbres,5,FALSE)*Crit3,\"\")","v":""},{"$f":"IF(Base_Arbres!A242<>\"\",VLOOKUP($A242,Base_Arbres,6,FALSE)*Crit4,\"\")","v":""},{"$f":"IF(Base_Arbres!B242<>\"\",VLOOKUP($A242,Base_Arbres,7,FALSE)*Crit5,\"\")","v":""},{"$f":"IF(Base_Arbres!C242<>\"\",VLOOKUP($A242,Base_Arbres,8,FALSE)*crit8,\"\")","v":""},{"$f":"IF(Base_Arbres!D242<>\"\",VLOOKUP($A242,Base_Arbres,9,FALSE)*crit9,\"\")","v":""},{"$f":"IF(ISNA(VLOOKUP(INDEX(Base_Typologie!$A$6:$P$1003,MATCH(A242,Base_Typologie!$A:$A,0)-5,MATCH(Typologie_Espace_Public,Base_Typologie!$6:$6,0)),TableauScoreTypologie2,2,FALSE)*Crit6),0,VLOOKUP(INDEX(Base_Typologie!$A$6:$P$1003,MATCH(A242,Base_Typologie!$A:$A,0)-5,MATCH(Typologie_Espace_Public,Base_Typologie!$6:$6,0)),TableauScoreTypologie2,2,FALSE)*Crit6)","v":0},0,0,0,0,0,0,0,0,0,0,0,0,null,{"$f":"IF(Base_Arbres!A345<>\"\",VLOOKUP($A242,Base_Arbres,4,FALSE)*Crit7,\"\")","v":""}]
[{"$f":"IF(Base_Arbres!A243<>\"\",Base_Arbres!A243,\"\")","v":""},{"$f":"IF(Base_Arbres!A243<>\"\",VLOOKUP($A243,Base_Arbres,3,FALSE)*Crit1,\"\")","v":""},{"$f":"IF(Base_Arbres!A243<>\"\",VLOOKUP($A243,Base_Arbres,4,FALSE)*Crit2,\"\")","v":""},{"$f":"IF(Base_Arbres!A243<>\"\",VLOOKUP($A243,Base_Arbres,5,FALSE)*Crit3,\"\")","v":""},{"$f":"IF(Base_Arbres!A243<>\"\",VLOOKUP($A243,Base_Arbres,6,FALSE)*Crit4,\"\")","v":""},{"$f":"IF(Base_Arbres!B243<>\"\",VLOOKUP($A243,Base_Arbres,7,FALSE)*Crit5,\"\")","v":""},{"$f":"IF(Base_Arbres!C243<>\"\",VLOOKUP($A243,Base_Arbres,8,FALSE)*crit8,\"\")","v":""},{"$f":"IF(Base_Arbres!D243<>\"\",VLOOKUP($A243,Base_Arbres,9,FALSE)*crit9,\"\")","v":""},{"$f":"IF(ISNA(VLOOKUP(INDEX(Base_Typologie!$A$6:$P$1003,MATCH(A243,Base_Typologie!$A:$A,0)-5,MATCH(Typologie_Espace_Public,Base_Typologie!$6:$6,0)),TableauScoreTypologie2,2,FALSE)*Crit6),0,VLOOKUP(INDEX(Base_Typologie!$A$6:$P$1003,MATCH(A243,Base_Typologie!$A:$A,0)-5,MATCH(Typologie_Espace_Public,Base_Typologie!$6:$6,0)),TableauScoreTypologie2,2,FALSE)*Crit6)","v":0},0,0,0,0,0,0,0,0,0,0,0,0,null,{"$f":"IF(Base_Arbres!A346<>\"\",VLOOKUP($A243,Base_Arbres,4,FALSE)*Crit7,\"\")","v":""}]
[{"$f":"IF(Base_Arbres!A244<>\"\",Base_Arbres!A244,\"\")","v":""},{"$f":"IF(Base_Arbres!A244<>\"\",VLOOKUP($A244,Base_Arbres,3,FALSE)*Crit1,\"\")","v":""},{"$f":"IF(Base_Arbres!A244<>\"\",VLOOKUP($A244,Base_Arbres,4,FALSE)*Crit2,\"\")","v":""},{"$f":"IF(Base_Arbres!A244<>\"\",VLOOKUP($A244,Base_Arbres,5,FALSE)*Crit3,\"\")","v":""},{"$f":"IF(Base_Arbres!A244<>\"\",VLOOKUP($A244,Base_Arbres,6,FALSE)*Crit4,\"\")","v":""},{"$f":"IF(Base_Arbres!B244<>\"\",VLOOKUP($A244,Base_Arbres,7,FALSE)*Crit5,\"\")","v":""},{"$f":"IF(Base_Arbres!C244<>\"\",VLOOKUP($A244,Base_Arbres,8,FALSE)*crit8,\"\")","v":""},{"$f":"IF(Base_Arbres!D244<>\"\",VLOOKUP($A244,Base_Arbres,9,FALSE)*crit9,\"\")","v":""},{"$f":"IF(ISNA(VLOOKUP(INDEX(Base_Typologie!$A$6:$P$1003,MATCH(A244,Base_Typologie!$A:$A,0)-5,MATCH(Typologie_Espace_Public,Base_Typologie!$6:$6,0)),TableauScoreTypologie2,2,FALSE)*Crit6),0,VLOOKUP(INDEX(Base_Typologie!$A$6:$P$1003,MATCH(A244,Base_Typologie!$A:$A,0)-5,MATCH(Typologie_Espace_Public,Base_Typologie!$6:$6,0)),TableauScoreTypologie2,2,FALSE)*Crit6)","v":0},0,0,0,0,0,0,0,0,0,0,0,0,null,{"$f":"IF(Base_Arbres!A347<>\"\",VLOOKUP($A244,Base_Arbres,4,FALSE)*Crit7,\"\")","v":""}]
[{"$f":"IF(Base_Arbres!A245<>\"\",Base_Arbres!A245,\"\")","v":""},{"$f":"IF(Base_Arbres!A245<>\"\",VLOOKUP($A245,Base_Arbres,3,FALSE)*Crit1,\"\")","v":""},{"$f":"IF(Base_Arbres!A245<>\"\",VLOOKUP($A245,Base_Arbres,4,FALSE)*Crit2,\"\")","v":""},{"$f":"IF(Base_Arbres!A245<>\"\",VLOOKUP($A245,Base_Arbres,5,FALSE)*Crit3,\"\")","v":""},{"$f":"IF(Base_Arbres!A245<>\"\",VLOOKUP($A245,Base_Arbres,6,FALSE)*Crit4,\"\")","v":""},{"$f":"IF(Base_Arbres!B245<>\"\",VLOOKUP($A245,Base_Arbres,7,FALSE)*Crit5,\"\")","v":""},{"$f":"IF(Base_Arbres!C245<>\"\",VLOOKUP($A245,Base_Arbres,8,FALSE)*crit8,\"\")","v":""},{"$f":"IF(Base_Arbres!D245<>\"\",VLOOKUP($A245,Base_Arbres,9,FALSE)*crit9,\"\")","v":""},{"$f":"IF(ISNA(VLOOKUP(INDEX(Base_Typologie!$A$6:$P$1003,MATCH(A245,Base_Typologie!$A:$A,0)-5,MATCH(Typologie_Espace_Public,Base_Typologie!$6:$6,0)),TableauScoreTypologie2,2,FALSE)*Crit6),0,VLOOKUP(INDEX(Base_Typologie!$A$6:$P$1003,MATCH(A245,Base_Typologie!$A:$A,0)-5,MATCH(Typologie_Espace_Public,Base_Typologie!$6:$6,0)),TableauScoreTypologie2,2,FALSE)*Crit6)","v":0},0,0,0,0,0,0,0,0,0,0,0,0,null,{"$f":"IF(Base_Arbres!A348<>\"\",VLOOKUP($A245,Base_Arbres,4,FALSE)*Crit7,\"\")","v":""}]
[{"$f":"IF(Base_Arbres!A246<>\"\",Base_Arbres!A246,\"\")","v":""},{"$f":"IF(Base_Arbres!A246<>\"\",VLOOKUP($A246,Base_Arbres,3,FALSE)*Crit1,\"\")","v":""},{"$f":"IF(Base_Arbres!A246<>\"\",VLOOKUP($A246,Base_Arbres,4,FALSE)*Crit2,\"\")","v":""},{"$f":"IF(Base_Arbres!A246<>\"\",VLOOKUP($A246,Base_Arbres,5,FALSE)*Crit3,\"\")","v":""},{"$f":"IF(Base_Arbres!A246<>\"\",VLOOKUP($A246,Base_Arbres,6,FALSE)*Crit4,\"\")","v":""},{"$f":"IF(Base_Arbres!B246<>\"\",VLOOKUP($A246,Base_Arbres,7,FALSE)*Crit5,\"\")","v":""},{"$f":"IF(Base_Arbres!C246<>\"\",VLOOKUP($A246,Base_Arbres,8,FALSE)*crit8,\"\")","v":""},{"$f":"IF(Base_Arbres!D246<>\"\",VLOOKUP($A246,Base_Arbres,9,FALSE)*crit9,\"\")","v":""},{"$f":"IF(ISNA(VLOOKUP(INDEX(Base_Typologie!$A$6:$P$1003,MATCH(A246,Base_Typologie!$A:$A,0)-5,MATCH(Typologie_Espace_Public,Base_Typologie!$6:$6,0)),TableauScoreTypologie2,2,FALSE)*Crit6),0,VLOOKUP(INDEX(Base_Typologie!$A$6:$P$1003,MATCH(A246,Base_Typologie!$A:$A,0)-5,MATCH(Typologie_Espace_Public,Base_Typologie!$6:$6,0)),TableauScoreTypologie2,2,FALSE)*Crit6)","v":0},0,0,0,0,0,0,0,0,0,0,0,0,null,{"$f":"IF(Base_Arbres!A349<>\"\",VLOOKUP($A246,Base_Arbres,4,FALSE)*Crit7,\"\")","v":""}]
[{"$f":"IF(Base_Arbres!A247<>\"\",Base_Arbres!A247,\"\")","v":""},{"$f":"IF(Base_Arbres!A247<>\"\",VLOOKUP($A247,Base_Arbres,3,FALSE)*Crit1,\"\")","v":""},{"$f":"IF(Base_Arbres!A247<>\"\",VLOOKUP($A247,Base_Arbres,4,FALSE)*Crit2,\"\")","v":""},{"$f":"IF(Base_Arbres!A247<>\"\",VLOOKUP($A247,Base_Arbres,5,FALSE)*Crit3,\"\")","v":""},{"$f":"IF(Base_Arbres!A247<>\"\",VLOOKUP($A247,Base_Arbres,6,FALSE)*Crit4,\"\")","v":""},{"$f":"IF(Base_Arbres!B247<>\"\",VLOOKUP($A247,Base_Arbres,7,FALSE)*Crit5,\"\")","v":""},{"$f":"IF(Base_Arbres!C247<>\"\",VLOOKUP($A247,Base_Arbres,8,FALSE)*crit8,\"\")","v":""},{"$f":"IF(Base_Arbres!D247<>\"\",VLOOKUP($A247,Base_Arbres,9,FALSE)*crit9,\"\")","v":""},{"$f":"IF(ISNA(VLOOKUP(INDEX(Base_Typologie!$A$6:$P$1003,MATCH(A247,Base_Typologie!$A:$A,0)-5,MATCH(Typologie_Espace_Public,Base_Typologie!$6:$6,0)),TableauScoreTypologie2,2,FALSE)*Crit6),0,VLOOKUP(INDEX(Base_Typologie!$A$6:$P$1003,MATCH(A247,Base_Typologie!$A:$A,0)-5,MATCH(Typologie_Espace_Public,Base_Typologie!$6:$6,0)),TableauScoreTypologie2,2,FALSE)*Crit6)","v":0},0,0,0,0,0,0,0,0,0,0,0,0,null,{"$f":"IF(Base_Arbres!A350<>\"\",VLOOKUP($A247,Base_Arbres,4,FALSE)*Crit7,\"\")","v":""}]
[{"$f":"IF(Base_Arbres!A248<>\"\",Base_Arbres!A248,\"\")","v":""},{"$f":"IF(Base_Arbres!A248<>\"\",VLOOKUP($A248,Base_Arbres,3,FALSE)*Crit1,\"\")","v":""},{"$f":"IF(Base_Arbres!A248<>\"\",VLOOKUP($A248,Base_Arbres,4,FALSE)*Crit2,\"\")","v":""},{"$f":"IF(Base_Arbres!A248<>\"\",VLOOKUP($A248,Base_Arbres,5,FALSE)*Crit3,\"\")","v":""},{"$f":"IF(Base_Arbres!A248<>\"\",VLOOKUP($A248,Base_Arbres,6,FALSE)*Crit4,\"\")","v":""},{"$f":"IF(Base_Arbres!B248<>\"\",VLOOKUP($A248,Base_Arbres,7,FALSE)*Crit5,\"\")","v":""},{"$f":"IF(Base_Arbres!C248<>\"\",VLOOKUP($A248,Base_Arbres,8,FALSE)*crit8,\"\")","v":""},{"$f":"IF(Base_Arbres!D248<>\"\",VLOOKUP($A248,Base_Arbres,9,FALSE)*crit9,\"\")","v":""},{"$f":"IF(ISNA(VLOOKUP(INDEX(Base_Typologie!$A$6:$P$1003,MATCH(A248,Base_Typologie!$A:$A,0)-5,MATCH(Typologie_Espace_Public,Base_Typologie!$6:$6,0)),TableauScoreTypologie2,2,FALSE)*Crit6),0,VLOOKUP(INDEX(Base_Typologie!$A$6:$P$1003,MATCH(A248,Base_Typologie!$A:$A,0)-5,MATCH(Typologie_Espace_Public,Base_Typologie!$6:$6,0)),TableauScoreTypologie2,2,FALSE)*Crit6)","v":0},0,0,0,0,0,0,0,0,0,0,0,0,null,{"$f":"IF(Base_Arbres!A351<>\"\",VLOOKUP($A248,Base_Arbres,4,FALSE)*Crit7,\"\")","v":""}]
[{"$f":"IF(Base_Arbres!A249<>\"\",Base_Arbres!A249,\"\")","v":""},{"$f":"IF(Base_Arbres!A249<>\"\",VLOOKUP($A249,Base_Arbres,3,FALSE)*Crit1,\"\")","v":""},{"$f":"IF(Base_Arbres!A249<>\"\",VLOOKUP($A249,Base_Arbres,4,FALSE)*Crit2,\"\")","v":""},{"$f":"IF(Base_Arbres!A249<>\"\",VLOOKUP($A249,Base_Arbres,5,FALSE)*Crit3,\"\")","v":""},{"$f":"IF(Base_Arbres!A249<>\"\",VLOOKUP($A249,Base_Arbres,6,FALSE)*Crit4,\"\")","v":""},{"$f":"IF(Base_Arbres!B249<>\"\",VLOOKUP($A249,Base_Arbres,7,FALSE)*Crit5,\"\")","v":""},{"$f":"IF(Base_Arbres!C249<>\"\",VLOOKUP($A249,Base_Arbres,8,FALSE)*crit8,\"\")","v":""},{"$f":"IF(Base_Arbres!D249<>\"\",VLOOKUP($A249,Base_Arbres,9,FALSE)*crit9,\"\")","v":""},{"$f":"IF(ISNA(VLOOKUP(INDEX(Base_Typologie!$A$6:$P$1003,MATCH(A249,Base_Typologie!$A:$A,0)-5,MATCH(Typologie_Espace_Public,Base_Typologie!$6:$6,0)),TableauScoreTypologie2,2,FALSE)*Crit6),0,VLOOKUP(INDEX(Base_Typologie!$A$6:$P$1003,MATCH(A249,Base_Typologie!$A:$A,0)-5,MATCH(Typologie_Espace_Public,Base_Typologie!$6:$6,0)),TableauScoreTypologie2,2,FALSE)*Crit6)","v":0},0,0,0,0,0,0,0,0,0,0,0,0,null,{"$f":"IF(Base_Arbres!A352<>\"\",VLOOKUP($A249,Base_Arbres,4,FALSE)*Crit7,\"\")","v":""}]
[{"$f":"IF(Base_Arbres!A250<>\"\",Base_Arbres!A250,\"\")","v":""},{"$f":"IF(Base_Arbres!A250<>\"\",VLOOKUP($A250,Base_Arbres,3,FALSE)*Crit1,\"\")","v":""},{"$f":"IF(Base_Arbres!A250<>\"\",VLOOKUP($A250,Base_Arbres,4,FALSE)*Crit2,\"\")","v":""},{"$f":"IF(Base_Arbres!A250<>\"\",VLOOKUP($A250,Base_Arbres,5,FALSE)*Crit3,\"\")","v":""},{"$f":"IF(Base_Arbres!A250<>\"\",VLOOKUP($A250,Base_Arbres,6,FALSE)*Crit4,\"\")","v":""},{"$f":"IF(Base_Arbres!B250<>\"\",VLOOKUP($A250,Base_Arbres,7,FALSE)*Crit5,\"\")","v":""},{"$f":"IF(Base_Arbres!C250<>\"\",VLOOKUP($A250,Base_Arbres,8,FALSE)*crit8,\"\")","v":""},{"$f":"IF(Base_Arbres!D250<>\"\",VLOOKUP($A250,Base_Arbres,9,FALSE)*crit9,\"\")","v":""},{"$f":"IF(ISNA(VLOOKUP(INDEX(Base_Typologie!$A$6:$P$1003,MATCH(A250,Base_Typologie!$A:$A,0)-5,MATCH(Typologie_Espace_Public,Base_Typologie!$6:$6,0)),TableauScoreTypologie2,2,FALSE)*Crit6),0,VLOOKUP(INDEX(Base_Typologie!$A$6:$P$1003,MATCH(A250,Base_Typologie!$A:$A,0)-5,MATCH(Typologie_Espace_Public,Base_Typologie!$6:$6,0)),TableauScoreTypologie2,2,FALSE)*Crit6)","v":0},0,0,0,0,0,0,0,0,0,0,0,0,null,{"$f":"IF(Base_Arbres!A353<>\"\",VLOOKUP($A250,Base_Arbres,4,FALSE)*Crit7,\"\")","v":""}]
[{"$f":"IF(Base_Arbres!A251<>\"\",Base_Arbres!A251,\"\")","v":""},{"$f":"IF(Base_Arbres!A251<>\"\",VLOOKUP($A251,Base_Arbres,3,FALSE)*Crit1,\"\")","v":""},{"$f":"IF(Base_Arbres!A251<>\"\",VLOOKUP($A251,Base_Arbres,4,FALSE)*Crit2,\"\")","v":""},{"$f":"IF(Base_Arbres!A251<>\"\",VLOOKUP($A251,Base_Arbres,5,FALSE)*Crit3,\"\")","v":""},{"$f":"IF(Base_Arbres!A251<>\"\",VLOOKUP($A251,Base_Arbres,6,FALSE)*Crit4,\"\")","v":""},{"$f":"IF(Base_Arbres!B251<>\"\",VLOOKUP($A251,Base_Arbres,7,FALSE)*Crit5,\"\")","v":""},{"$f":"IF(Base_Arbres!C251<>\"\",VLOOKUP($A251,Base_Arbres,8,FALSE)*crit8,\"\")","v":""},{"$f":"IF(Base_Arbres!D251<>\"\",VLOOKUP($A251,Base_Arbres,9,FALSE)*crit9,\"\")","v":""},{"$f":"IF(ISNA(VLOOKUP(INDEX(Base_Typologie!$A$6:$P$1003,MATCH(A251,Base_Typologie!$A:$A,0)-5,MATCH(Typologie_Espace_Public,Base_Typologie!$6:$6,0)),TableauScoreTypologie2,2,FALSE)*Crit6),0,VLOOKUP(INDEX(Base_Typologie!$A$6:$P$1003,MATCH(A251,Base_Typologie!$A:$A,0)-5,MATCH(Typologie_Espace_Public,Base_Typologie!$6:$6,0)),TableauScoreTypologie2,2,FALSE)*Crit6)","v":0},0,0,0,0,0,0,0,0,0,0,0,0,null,{"$f":"IF(Base_Arbres!A354<>\"\",VLOOKUP($A251,Base_Arbres,4,FALSE)*Crit7,\"\")","v":""}]
[{"$f":"IF(Base_Arbres!A252<>\"\",Base_Arbres!A252,\"\")","v":""},{"$f":"IF(Base_Arbres!A252<>\"\",VLOOKUP($A252,Base_Arbres,3,FALSE)*Crit1,\"\")","v":""},{"$f":"IF(Base_Arbres!A252<>\"\",VLOOKUP($A252,Base_Arbres,4,FALSE)*Crit2,\"\")","v":""},{"$f":"IF(Base_Arbres!A252<>\"\",VLOOKUP($A252,Base_Arbres,5,FALSE)*Crit3,\"\")","v":""},{"$f":"IF(Base_Arbres!A252<>\"\",VLOOKUP($A252,Base_Arbres,6,FALSE)*Crit4,\"\")","v":""},{"$f":"IF(Base_Arbres!B252<>\"\",VLOOKUP($A252,Base_Arbres,7,FALSE)*Crit5,\"\")","v":""},{"$f":"IF(Base_Arbres!C252<>\"\",VLOOKUP($A252,Base_Arbres,8,FALSE)*crit8,\"\")","v":""},{"$f":"IF(Base_Arbres!D252<>\"\",VLOOKUP($A252,Base_Arbres,9,FALSE)*crit9,\"\")","v":""},{"$f":"IF(ISNA(VLOOKUP(INDEX(Base_Typologie!$A$6:$P$1003,MATCH(A252,Base_Typologie!$A:$A,0)-5,MATCH(Typologie_Espace_Public,Base_Typologie!$6:$6,0)),TableauScoreTypologie2,2,FALSE)*Crit6),0,VLOOKUP(INDEX(Base_Typologie!$A$6:$P$1003,MATCH(A252,Base_Typologie!$A:$A,0)-5,MATCH(Typologie_Espace_Public,Base_Typologie!$6:$6,0)),TableauScoreTypologie2,2,FALSE)*Crit6)","v":0},0,0,0,0,0,0,0,0,0,0,0,0,null,{"$f":"IF(Base_Arbres!A355<>\"\",VLOOKUP($A252,Base_Arbres,4,FALSE)*Crit7,\"\")","v":""}]
[{"$f":"IF(Base_Arbres!A253<>\"\",Base_Arbres!A253,\"\")","v":""},{"$f":"IF(Base_Arbres!A253<>\"\",VLOOKUP($A253,Base_Arbres,3,FALSE)*Crit1,\"\")","v":""},{"$f":"IF(Base_Arbres!A253<>\"\",VLOOKUP($A253,Base_Arbres,4,FALSE)*Crit2,\"\")","v":""},{"$f":"IF(Base_Arbres!A253<>\"\",VLOOKUP($A253,Base_Arbres,5,FALSE)*Crit3,\"\")","v":""},{"$f":"IF(Base_Arbres!A253<>\"\",VLOOKUP($A253,Base_Arbres,6,FALSE)*Crit4,\"\")","v":""},{"$f":"IF(Base_Arbres!B253<>\"\",VLOOKUP($A253,Base_Arbres,7,FALSE)*Crit5,\"\")","v":""},{"$f":"IF(Base_Arbres!C253<>\"\",VLOOKUP($A253,Base_Arbres,8,FALSE)*crit8,\"\")","v":""},{"$f":"IF(Base_Arbres!D253<>\"\",VLOOKUP($A253,Base_Arbres,9,FALSE)*crit9,\"\")","v":""},{"$f":"IF(ISNA(VLOOKUP(INDEX(Base_Typologie!$A$6:$P$1003,MATCH(A253,Base_Typologie!$A:$A,0)-5,MATCH(Typologie_Espace_Public,Base_Typologie!$6:$6,0)),TableauScoreTypologie2,2,FALSE)*Crit6),0,VLOOKUP(INDEX(Base_Typologie!$A$6:$P$1003,MATCH(A253,Base_Typologie!$A:$A,0)-5,MATCH(Typologie_Espace_Public,Base_Typologie!$6:$6,0)),TableauScoreTypologie2,2,FALSE)*Crit6)","v":0},0,0,0,0,0,0,0,0,0,0,0,0,null,{"$f":"IF(Base_Arbres!A356<>\"\",VLOOKUP($A253,Base_Arbres,4,FALSE)*Crit7,\"\")","v":""}]
[{"$f":"IF(Base_Arbres!A254<>\"\",Base_Arbres!A254,\"\")","v":""},{"$f":"IF(Base_Arbres!A254<>\"\",VLOOKUP($A254,Base_Arbres,3,FALSE)*Crit1,\"\")","v":""},{"$f":"IF(Base_Arbres!A254<>\"\",VLOOKUP($A254,Base_Arbres,4,FALSE)*Crit2,\"\")","v":""},{"$f":"IF(Base_Arbres!A254<>\"\",VLOOKUP($A254,Base_Arbres,5,FALSE)*Crit3,\"\")","v":""},{"$f":"IF(Base_Arbres!A254<>\"\",VLOOKUP($A254,Base_Arbres,6,FALSE)*Crit4,\"\")","v":""},{"$f":"IF(Base_Arbres!B254<>\"\",VLOOKUP($A254,Base_Arbres,7,FALSE)*Crit5,\"\")","v":""},{"$f":"IF(Base_Arbres!C254<>\"\",VLOOKUP($A254,Base_Arbres,8,FALSE)*crit8,\"\")","v":""},{"$f":"IF(Base_Arbres!D254<>\"\",VLOOKUP($A254,Base_Arbres,9,FALSE)*crit9,\"\")","v":""},{"$f":"IF(ISNA(VLOOKUP(INDEX(Base_Typologie!$A$6:$P$1003,MATCH(A254,Base_Typologie!$A:$A,0)-5,MATCH(Typologie_Espace_Public,Base_Typologie!$6:$6,0)),TableauScoreTypologie2,2,FALSE)*Crit6),0,VLOOKUP(INDEX(Base_Typologie!$A$6:$P$1003,MATCH(A254,Base_Typologie!$A:$A,0)-5,MATCH(Typologie_Espace_Public,Base_Typologie!$6:$6,0)),TableauScoreTypologie2,2,FALSE)*Crit6)","v":0},0,0,0,0,0,0,0,0,0,0,0,0,null,{"$f":"IF(Base_Arbres!A357<>\"\",VLOOKUP($A254,Base_Arbres,4,FALSE)*Crit7,\"\")","v":""}]
[{"$f":"IF(Base_Arbres!A255<>\"\",Base_Arbres!A255,\"\")","v":""},{"$f":"IF(Base_Arbres!A255<>\"\",VLOOKUP($A255,Base_Arbres,3,FALSE)*Crit1,\"\")","v":""},{"$f":"IF(Base_Arbres!A255<>\"\",VLOOKUP($A255,Base_Arbres,4,FALSE)*Crit2,\"\")","v":""},{"$f":"IF(Base_Arbres!A255<>\"\",VLOOKUP($A255,Base_Arbres,5,FALSE)*Crit3,\"\")","v":""},{"$f":"IF(Base_Arbres!A255<>\"\",VLOOKUP($A255,Base_Arbres,6,FALSE)*Crit4,\"\")","v":""},{"$f":"IF(Base_Arbres!B255<>\"\",VLOOKUP($A255,Base_Arbres,7,FALSE)*Crit5,\"\")","v":""},{"$f":"IF(Base_Arbres!C255<>\"\",VLOOKUP($A255,Base_Arbres,8,FALSE)*crit8,\"\")","v":""},{"$f":"IF(Base_Arbres!D255<>\"\",VLOOKUP($A255,Base_Arbres,9,FALSE)*crit9,\"\")","v":""},{"$f":"IF(ISNA(VLOOKUP(INDEX(Base_Typologie!$A$6:$P$1003,MATCH(A255,Base_Typologie!$A:$A,0)-5,MATCH(Typologie_Espace_Public,Base_Typologie!$6:$6,0)),TableauScoreTypologie2,2,FALSE)*Crit6),0,VLOOKUP(INDEX(Base_Typologie!$A$6:$P$1003,MATCH(A255,Base_Typologie!$A:$A,0)-5,MATCH(Typologie_Espace_Public,Base_Typologie!$6:$6,0)),TableauScoreTypologie2,2,FALSE)*Crit6)","v":0},0,0,0,0,0,0,0,0,0,0,0,0,null,{"$f":"IF(Base_Arbres!A358<>\"\",VLOOKUP($A255,Base_Arbres,4,FALSE)*Crit7,\"\")","v":""}]
[{"$f":"IF(Base_Arbres!A256<>\"\",Base_Arbres!A256,\"\")","v":""},{"$f":"IF(Base_Arbres!A256<>\"\",VLOOKUP($A256,Base_Arbres,3,FALSE)*Crit1,\"\")","v":""},{"$f":"IF(Base_Arbres!A256<>\"\",VLOOKUP($A256,Base_Arbres,4,FALSE)*Crit2,\"\")","v":""},{"$f":"IF(Base_Arbres!A256<>\"\",VLOOKUP($A256,Base_Arbres,5,FALSE)*Crit3,\"\")","v":""},{"$f":"IF(Base_Arbres!A256<>\"\",VLOOKUP($A256,Base_Arbres,6,FALSE)*Crit4,\"\")","v":""},{"$f":"IF(Base_Arbres!B256<>\"\",VLOOKUP($A256,Base_Arbres,7,FALSE)*Crit5,\"\")","v":""},{"$f":"IF(Base_Arbres!C256<>\"\",VLOOKUP($A256,Base_Arbres,8,FALSE)*crit8,\"\")","v":""},{"$f":"IF(Base_Arbres!D256<>\"\",VLOOKUP($A256,Base_Arbres,9,FALSE)*crit9,\"\")","v":""},{"$f":"IF(ISNA(VLOOKUP(INDEX(Base_Typologie!$A$6:$P$1003,MATCH(A256,Base_Typologie!$A:$A,0)-5,MATCH(Typologie_Espace_Public,Base_Typologie!$6:$6,0)),TableauScoreTypologie2,2,FALSE)*Crit6),0,VLOOKUP(INDEX(Base_Typologie!$A$6:$P$1003,MATCH(A256,Base_Typologie!$A:$A,0)-5,MATCH(Typologie_Espace_Public,Base_Typologie!$6:$6,0)),TableauScoreTypologie2,2,FALSE)*Crit6)","v":0},0,0,0,0,0,0,0,0,0,0,0,0,null,{"$f":"IF(Base_Arbres!A359<>\"\",VLOOKUP($A256,Base_Arbres,4,FALSE)*Crit7,\"\")","v":""}]
[{"$f":"IF(Base_Arbres!A257<>\"\",Base_Arbres!A257,\"\")","v":""},{"$f":"IF(Base_Arbres!A257<>\"\",VLOOKUP($A257,Base_Arbres,3,FALSE)*Crit1,\"\")","v":""},{"$f":"IF(Base_Arbres!A257<>\"\",VLOOKUP($A257,Base_Arbres,4,FALSE)*Crit2,\"\")","v":""},{"$f":"IF(Base_Arbres!A257<>\"\",VLOOKUP($A257,Base_Arbres,5,FALSE)*Crit3,\"\")","v":""},{"$f":"IF(Base_Arbres!A257<>\"\",VLOOKUP($A257,Base_Arbres,6,FALSE)*Crit4,\"\")","v":""},{"$f":"IF(Base_Arbres!B257<>\"\",VLOOKUP($A257,Base_Arbres,7,FALSE)*Crit5,\"\")","v":""},{"$f":"IF(Base_Arbres!C257<>\"\",VLOOKUP($A257,Base_Arbres,8,FALSE)*crit8,\"\")","v":""},{"$f":"IF(Base_Arbres!D257<>\"\",VLOOKUP($A257,Base_Arbres,9,FALSE)*crit9,\"\")","v":""},{"$f":"IF(ISNA(VLOOKUP(INDEX(Base_Typologie!$A$6:$P$1003,MATCH(A257,Base_Typologie!$A:$A,0)-5,MATCH(Typologie_Espace_Public,Base_Typologie!$6:$6,0)),TableauScoreTypologie2,2,FALSE)*Crit6),0,VLOOKUP(INDEX(Base_Typologie!$A$6:$P$1003,MATCH(A257,Base_Typologie!$A:$A,0)-5,MATCH(Typologie_Espace_Public,Base_Typologie!$6:$6,0)),TableauScoreTypologie2,2,FALSE)*Crit6)","v":0},0,0,0,0,0,0,0,0,0,0,0,0,null,{"$f":"IF(Base_Arbres!A360<>\"\",VLOOKUP($A257,Base_Arbres,4,FALSE)*Crit7,\"\")","v":""}]
[{"$f":"IF(Base_Arbres!A258<>\"\",Base_Arbres!A258,\"\")","v":""},{"$f":"IF(Base_Arbres!A258<>\"\",VLOOKUP($A258,Base_Arbres,3,FALSE)*Crit1,\"\")","v":""},{"$f":"IF(Base_Arbres!A258<>\"\",VLOOKUP($A258,Base_Arbres,4,FALSE)*Crit2,\"\")","v":""},{"$f":"IF(Base_Arbres!A258<>\"\",VLOOKUP($A258,Base_Arbres,5,FALSE)*Crit3,\"\")","v":""},{"$f":"IF(Base_Arbres!A258<>\"\",VLOOKUP($A258,Base_Arbres,6,FALSE)*Crit4,\"\")","v":""},{"$f":"IF(Base_Arbres!B258<>\"\",VLOOKUP($A258,Base_Arbres,7,FALSE)*Crit5,\"\")","v":""},{"$f":"IF(Base_Arbres!C258<>\"\",VLOOKUP($A258,Base_Arbres,8,FALSE)*crit8,\"\")","v":""},{"$f":"IF(Base_Arbres!D258<>\"\",VLOOKUP($A258,Base_Arbres,9,FALSE)*crit9,\"\")","v":""},{"$f":"IF(ISNA(VLOOKUP(INDEX(Base_Typologie!$A$6:$P$1003,MATCH(A258,Base_Typologie!$A:$A,0)-5,MATCH(Typologie_Espace_Public,Base_Typologie!$6:$6,0)),TableauScoreTypologie2,2,FALSE)*Crit6),0,VLOOKUP(INDEX(Base_Typologie!$A$6:$P$1003,MATCH(A258,Base_Typologie!$A:$A,0)-5,MATCH(Typologie_Espace_Public,Base_Typologie!$6:$6,0)),TableauScoreTypologie2,2,FALSE)*Crit6)","v":0},{"$f":"IF(A258<>\"\",IF(LEFT(VLOOKUP($A258,Base_Arbres,10,FALSE),1)>=LEFT(Cont_Racines,1),0,1),0)","v":0},{"$f":"IF(A258<>\"\",IF(LEFT(VLOOKUP($A258,Base_Arbres,11,FALSE),1)>=LEFT(Cont_Branches,1),0,1),0)","v":0},{"$f":"IF(A258<>\"\",IF(LEFT(VLOOKUP($A258,Base_Arbres,12,FALSE),1)>=LEFT(Cont_Chablis,1),0,1),0)","v":0},{"$f":"IF(A258<>\"\",IF(LEFT(VLOOKUP($A258,Base_Arbres,13,FALSE),1)>=LEFT(Cont_Fructifications,1),0,1),0)","v":0},{"$f":"IF(A258<>\"\",IF(LEFT(VLOOKUP($A258,Base_Arbres,14,FALSE),1)>=LEFT(Cont_Miellat,1),0,1),0)","v":0},{"$f":"IF(A258<>\"\",IF(LEFT(VLOOKUP($A258,Base_Arbres,15,FALSE),1)>=LEFT(Cont_Fruits_Toxiques,1),0,1),0)","v":0},{"$f":"IF(A258<>\"\",IF(LEFT(VLOOKUP($A258,Base_Arbres,16,FALSE),1)>=LEFT(Cont_Hauteur,1),0,1),0)","v":0},{"$f":"IF(A258<>\"\",IF(LEFT(VLOOKUP($A258,Base_Arbres,17,FALSE),1)>=LEFT(Cont_Envergure,1),0,1),0)","v":0},{"$f":"IF(A258<>\"\",IF(LEFT(VLOOKUP($A258,Base_Arbres,18,FALSE),1)>=LEFT(Cont_pollen,1),0,1),0)","v":0},{"$f":"IF(B258<>\"\",IF(LEFT(VLOOKUP($A258,Base_Arbres,19,FALSE),1)>=LEFT(Cont_malodo,1),0,1),0)","v":0},{"$f":"IF(A258<>\"\",IF(LEFT(VLOOKUP($A258,Base_Arbres,20,FALSE),1)>=LEFT(Cont_chenilles,1),0,1),0)","v":0},{"$f":"IF(A258<>\"\",IF(LEFT(VLOOKUP($A258,Base_Arbres,21,FALSE),1)>=LEFT(Cont_epineux,1),0,1),0)","v":0},null,{"$f":"IF(Base_Arbres!A361<>\"\",VLOOKUP($A258,Base_Arbres,4,FALSE)*Crit7,\"\")","v":""}]
[{"$f":"IF(Base_Arbres!A259<>\"\",Base_Arbres!A259,\"\")","v":""},{"$f":"IF(Base_Arbres!A259<>\"\",VLOOKUP($A259,Base_Arbres,3,FALSE)*Crit1,\"\")","v":""},{"$f":"IF(Base_Arbres!A259<>\"\",VLOOKUP($A259,Base_Arbres,4,FALSE)*Crit2,\"\")","v":""},{"$f":"IF(Base_Arbres!A259<>\"\",VLOOKUP($A259,Base_Arbres,5,FALSE)*Crit3,\"\")","v":""},{"$f":"IF(Base_Arbres!A259<>\"\",VLOOKUP($A259,Base_Arbres,6,FALSE)*Crit4,\"\")","v":""},{"$f":"IF(Base_Arbres!B259<>\"\",VLOOKUP($A259,Base_Arbres,7,FALSE)*Crit5,\"\")","v":""},{"$f":"IF(Base_Arbres!C259<>\"\",VLOOKUP($A259,Base_Arbres,8,FALSE)*crit8,\"\")","v":""},{"$f":"IF(Base_Arbres!D259<>\"\",VLOOKUP($A259,Base_Arbres,9,FALSE)*crit9,\"\")","v":""},{"$f":"IF(ISNA(VLOOKUP(INDEX(Base_Typologie!$A$6:$P$1003,MATCH(A259,Base_Typologie!$A:$A,0)-5,MATCH(Typologie_Espace_Public,Base_Typologie!$6:$6,0)),TableauScoreTypologie2,2,FALSE)*Crit6),0,VLOOKUP(INDEX(Base_Typologie!$A$6:$P$1003,MATCH(A259,Base_Typologie!$A:$A,0)-5,MATCH(Typologie_Espace_Public,Base_Typologie!$6:$6,0)),TableauScoreTypologie2,2,FALSE)*Crit6)","v":0},0,0,0,0,0,0,0,0,0,0,0,0,null,{"$f":"IF(Base_Arbres!A362<>\"\",VLOOKUP($A259,Base_Arbres,4,FALSE)*Crit7,\"\")","v":""}]
[{"$f":"IF(Base_Arbres!A260<>\"\",Base_Arbres!A260,\"\")","v":""},{"$f":"IF(Base_Arbres!A260<>\"\",VLOOKUP($A260,Base_Arbres,3,FALSE)*Crit1,\"\")","v":""},{"$f":"IF(Base_Arbres!A260<>\"\",VLOOKUP($A260,Base_Arbres,4,FALSE)*Crit2,\"\")","v":""},{"$f":"IF(Base_Arbres!A260<>\"\",VLOOKUP($A260,Base_Arbres,5,FALSE)*Crit3,\"\")","v":""},{"$f":"IF(Base_Arbres!A260<>\"\",VLOOKUP($A260,Base_Arbres,6,FALSE)*Crit4,\"\")","v":""},{"$f":"IF(Base_Arbres!B260<>\"\",VLOOKUP($A260,Base_Arbres,7,FALSE)*Crit5,\"\")","v":""},{"$f":"IF(Base_Arbres!C260<>\"\",VLOOKUP($A260,Base_Arbres,8,FALSE)*crit8,\"\")","v":""},{"$f":"IF(Base_Arbres!D260<>\"\",VLOOKUP($A260,Base_Arbres,9,FALSE)*crit9,\"\")","v":""},{"$f":"IF(ISNA(VLOOKUP(INDEX(Base_Typologie!$A$6:$P$1003,MATCH(A260,Base_Typologie!$A:$A,0)-5,MATCH(Typologie_Espace_Public,Base_Typologie!$6:$6,0)),TableauScoreTypologie2,2,FALSE)*Crit6),0,VLOOKUP(INDEX(Base_Typologie!$A$6:$P$1003,MATCH(A260,Base_Typologie!$A:$A,0)-5,MATCH(Typologie_Espace_Public,Base_Typologie!$6:$6,0)),TableauScoreTypologie2,2,FALSE)*Crit6)","v":0},0,0,0,0,0,0,0,0,0,0,0,0,null,{"$f":"IF(Base_Arbres!A363<>\"\",VLOOKUP($A260,Base_Arbres,4,FALSE)*Crit7,\"\")","v":""}]
[{"$f":"IF(Base_Arbres!A261<>\"\",Base_Arbres!A261,\"\")","v":""},{"$f":"IF(Base_Arbres!A261<>\"\",VLOOKUP($A261,Base_Arbres,3,FALSE)*Crit1,\"\")","v":""},{"$f":"IF(Base_Arbres!A261<>\"\",VLOOKUP($A261,Base_Arbres,4,FALSE)*Crit2,\"\")","v":""},{"$f":"IF(Base_Arbres!A261<>\"\",VLOOKUP($A261,Base_Arbres,5,FALSE)*Crit3,\"\")","v":""},{"$f":"IF(Base_Arbres!A261<>\"\",VLOOKUP($A261,Base_Arbres,6,FALSE)*Crit4,\"\")","v":""},{"$f":"IF(Base_Arbres!B261<>\"\",VLOOKUP($A261,Base_Arbres,7,FALSE)*Crit5,\"\")","v":""},{"$f":"IF(Base_Arbres!C261<>\"\",VLOOKUP($A261,Base_Arbres,8,FALSE)*crit8,\"\")","v":""},{"$f":"IF(Base_Arbres!D261<>\"\",VLOOKUP($A261,Base_Arbres,9,FALSE)*crit9,\"\")","v":""},{"$f":"IF(ISNA(VLOOKUP(INDEX(Base_Typologie!$A$6:$P$1003,MATCH(A261,Base_Typologie!$A:$A,0)-5,MATCH(Typologie_Espace_Public,Base_Typologie!$6:$6,0)),TableauScoreTypologie2,2,FALSE)*Crit6),0,VLOOKUP(INDEX(Base_Typologie!$A$6:$P$1003,MATCH(A261,Base_Typologie!$A:$A,0)-5,MATCH(Typologie_Espace_Public,Base_Typologie!$6:$6,0)),TableauScoreTypologie2,2,FALSE)*Crit6)","v":0},0,0,0,0,0,0,0,0,0,0,0,0,null,{"$f":"IF(Base_Arbres!A364<>\"\",VLOOKUP($A261,Base_Arbres,4,FALSE)*Crit7,\"\")","v":""}]
[{"$f":"IF(Base_Arbres!A262<>\"\",Base_Arbres!A262,\"\")","v":""},{"$f":"IF(Base_Arbres!A262<>\"\",VLOOKUP($A262,Base_Arbres,3,FALSE)*Crit1,\"\")","v":""},{"$f":"IF(Base_Arbres!A262<>\"\",VLOOKUP($A262,Base_Arbres,4,FALSE)*Crit2,\"\")","v":""},{"$f":"IF(Base_Arbres!A262<>\"\",VLOOKUP($A262,Base_Arbres,5,FALSE)*Crit3,\"\")","v":""},{"$f":"IF(Base_Arbres!A262<>\"\",VLOOKUP($A262,Base_Arbres,6,FALSE)*Crit4,\"\")","v":""},{"$f":"IF(Base_Arbres!B262<>\"\",VLOOKUP($A262,Base_Arbres,7,FALSE)*Crit5,\"\")","v":""},{"$f":"IF(Base_Arbres!C262<>\"\",VLOOKUP($A262,Base_Arbres,8,FALSE)*crit8,\"\")","v":""},{"$f":"IF(Base_Arbres!D262<>\"\",VLOOKUP($A262,Base_Arbres,9,FALSE)*crit9,\"\")","v":""},{"$f":"IF(ISNA(VLOOKUP(INDEX(Base_Typologie!$A$6:$P$1003,MATCH(A262,Base_Typologie!$A:$A,0)-5,MATCH(Typologie_Espace_Public,Base_Typologie!$6:$6,0)),TableauScoreTypologie2,2,FALSE)*Crit6),0,VLOOKUP(INDEX(Base_Typologie!$A$6:$P$1003,MATCH(A262,Base_Typologie!$A:$A,0)-5,MATCH(Typologie_Espace_Public,Base_Typologie!$6:$6,0)),TableauScoreTypologie2,2,FALSE)*Crit6)","v":0},0,0,0,0,0,0,0,0,0,0,0,0,null,{"$f":"IF(Base_Arbres!A365<>\"\",VLOOKUP($A262,Base_Arbres,4,FALSE)*Crit7,\"\")","v":""}]
[{"$f":"IF(Base_Arbres!A263<>\"\",Base_Arbres!A263,\"\")","v":""},{"$f":"IF(Base_Arbres!A263<>\"\",VLOOKUP($A263,Base_Arbres,3,FALSE)*Crit1,\"\")","v":""},{"$f":"IF(Base_Arbres!A263<>\"\",VLOOKUP($A263,Base_Arbres,4,FALSE)*Crit2,\"\")","v":""},{"$f":"IF(Base_Arbres!A263<>\"\",VLOOKUP($A263,Base_Arbres,5,FALSE)*Crit3,\"\")","v":""},{"$f":"IF(Base_Arbres!A263<>\"\",VLOOKUP($A263,Base_Arbres,6,FALSE)*Crit4,\"\")","v":""},{"$f":"IF(Base_Arbres!B263<>\"\",VLOOKUP($A263,Base_Arbres,7,FALSE)*Crit5,\"\")","v":""},{"$f":"IF(Base_Arbres!C263<>\"\",VLOOKUP($A263,Base_Arbres,8,FALSE)*crit8,\"\")","v":""},{"$f":"IF(Base_Arbres!D263<>\"\",VLOOKUP($A263,Base_Arbres,9,FALSE)*crit9,\"\")","v":""},{"$f":"IF(ISNA(VLOOKUP(INDEX(Base_Typologie!$A$6:$P$1003,MATCH(A263,Base_Typologie!$A:$A,0)-5,MATCH(Typologie_Espace_Public,Base_Typologie!$6:$6,0)),TableauScoreTypologie2,2,FALSE)*Crit6),0,VLOOKUP(INDEX(Base_Typologie!$A$6:$P$1003,MATCH(A263,Base_Typologie!$A:$A,0)-5,MATCH(Typologie_Espace_Public,Base_Typologie!$6:$6,0)),TableauScoreTypologie2,2,FALSE)*Crit6)","v":0},0,0,0,0,0,0,0,0,0,0,0,0,null,{"$f":"IF(Base_Arbres!A366<>\"\",VLOOKUP($A263,Base_Arbres,4,FALSE)*Crit7,\"\")","v":""}]
[{"$f":"IF(Base_Arbres!A264<>\"\",Base_Arbres!A264,\"\")","v":""},{"$f":"IF(Base_Arbres!A264<>\"\",VLOOKUP($A264,Base_Arbres,3,FALSE)*Crit1,\"\")","v":""},{"$f":"IF(Base_Arbres!A264<>\"\",VLOOKUP($A264,Base_Arbres,4,FALSE)*Crit2,\"\")","v":""},{"$f":"IF(Base_Arbres!A264<>\"\",VLOOKUP($A264,Base_Arbres,5,FALSE)*Crit3,\"\")","v":""},{"$f":"IF(Base_Arbres!A264<>\"\",VLOOKUP($A264,Base_Arbres,6,FALSE)*Crit4,\"\")","v":""},{"$f":"IF(Base_Arbres!B264<>\"\",VLOOKUP($A264,Base_Arbres,7,FALSE)*Crit5,\"\")","v":""},{"$f":"IF(Base_Arbres!C264<>\"\",VLOOKUP($A264,Base_Arbres,8,FALSE)*crit8,\"\")","v":""},{"$f":"IF(Base_Arbres!D264<>\"\",VLOOKUP($A264,Base_Arbres,9,FALSE)*crit9,\"\")","v":""},{"$f":"IF(ISNA(VLOOKUP(INDEX(Base_Typologie!$A$6:$P$1003,MATCH(A264,Base_Typologie!$A:$A,0)-5,MATCH(Typologie_Espace_Public,Base_Typologie!$6:$6,0)),TableauScoreTypologie2,2,FALSE)*Crit6),0,VLOOKUP(INDEX(Base_Typologie!$A$6:$P$1003,MATCH(A264,Base_Typologie!$A:$A,0)-5,MATCH(Typologie_Espace_Public,Base_Typologie!$6:$6,0)),TableauScoreTypologie2,2,FALSE)*Crit6)","v":0},0,0,0,0,0,0,0,0,0,0,0,0,null,{"$f":"IF(Base_Arbres!A367<>\"\",VLOOKUP($A264,Base_Arbres,4,FALSE)*Crit7,\"\")","v":""}]
[{"$f":"IF(Base_Arbres!A265<>\"\",Base_Arbres!A265,\"\")","v":""},{"$f":"IF(Base_Arbres!A265<>\"\",VLOOKUP($A265,Base_Arbres,3,FALSE)*Crit1,\"\")","v":""},{"$f":"IF(Base_Arbres!A265<>\"\",VLOOKUP($A265,Base_Arbres,4,FALSE)*Crit2,\"\")","v":""},{"$f":"IF(Base_Arbres!A265<>\"\",VLOOKUP($A265,Base_Arbres,5,FALSE)*Crit3,\"\")","v":""},{"$f":"IF(Base_Arbres!A265<>\"\",VLOOKUP($A265,Base_Arbres,6,FALSE)*Crit4,\"\")","v":""},{"$f":"IF(Base_Arbres!B265<>\"\",VLOOKUP($A265,Base_Arbres,7,FALSE)*Crit5,\"\")","v":""},{"$f":"IF(Base_Arbres!C265<>\"\",VLOOKUP($A265,Base_Arbres,8,FALSE)*crit8,\"\")","v":""},{"$f":"IF(Base_Arbres!D265<>\"\",VLOOKUP($A265,Base_Arbres,9,FALSE)*crit9,\"\")","v":""},{"$f":"IF(ISNA(VLOOKUP(INDEX(Base_Typologie!$A$6:$P$1003,MATCH(A265,Base_Typologie!$A:$A,0)-5,MATCH(Typologie_Espace_Public,Base_Typologie!$6:$6,0)),TableauScoreTypologie2,2,FALSE)*Crit6),0,VLOOKUP(INDEX(Base_Typologie!$A$6:$P$1003,MATCH(A265,Base_Typologie!$A:$A,0)-5,MATCH(Typologie_Espace_Public,Base_Typologie!$6:$6,0)),TableauScoreTypologie2,2,FALSE)*Crit6)","v":0},0,0,0,0,0,0,0,0,0,0,0,0,null,{"$f":"IF(Base_Arbres!A368<>\"\",VLOOKUP($A265,Base_Arbres,4,FALSE)*Crit7,\"\")","v":""}]
[{"$f":"IF(Base_Arbres!A266<>\"\",Base_Arbres!A266,\"\")","v":""},{"$f":"IF(Base_Arbres!A266<>\"\",VLOOKUP($A266,Base_Arbres,3,FALSE)*Crit1,\"\")","v":""},{"$f":"IF(Base_Arbres!A266<>\"\",VLOOKUP($A266,Base_Arbres,4,FALSE)*Crit2,\"\")","v":""},{"$f":"IF(Base_Arbres!A266<>\"\",VLOOKUP($A266,Base_Arbres,5,FALSE)*Crit3,\"\")","v":""},{"$f":"IF(Base_Arbres!A266<>\"\",VLOOKUP($A266,Base_Arbres,6,FALSE)*Crit4,\"\")","v":""},{"$f":"IF(Base_Arbres!B266<>\"\",VLOOKUP($A266,Base_Arbres,7,FALSE)*Crit5,\"\")","v":""},{"$f":"IF(Base_Arbres!C266<>\"\",VLOOKUP($A266,Base_Arbres,8,FALSE)*crit8,\"\")","v":""},{"$f":"IF(Base_Arbres!D266<>\"\",VLOOKUP($A266,Base_Arbres,9,FALSE)*crit9,\"\")","v":""},{"$f":"IF(ISNA(VLOOKUP(INDEX(Base_Typologie!$A$6:$P$1003,MATCH(A266,Base_Typologie!$A:$A,0)-5,MATCH(Typologie_Espace_Public,Base_Typologie!$6:$6,0)),TableauScoreTypologie2,2,FALSE)*Crit6),0,VLOOKUP(INDEX(Base_Typologie!$A$6:$P$1003,MATCH(A266,Base_Typologie!$A:$A,0)-5,MATCH(Typologie_Espace_Public,Base_Typologie!$6:$6,0)),TableauScoreTypologie2,2,FALSE)*Crit6)","v":0},0,0,0,0,0,0,0,0,0,0,0,0,null,{"$f":"IF(Base_Arbres!A369<>\"\",VLOOKUP($A266,Base_Arbres,4,FALSE)*Crit7,\"\")","v":""}]
[{"$f":"IF(Base_Arbres!A267<>\"\",Base_Arbres!A267,\"\")","v":""},{"$f":"IF(Base_Arbres!A267<>\"\",VLOOKUP($A267,Base_Arbres,3,FALSE)*Crit1,\"\")","v":""},{"$f":"IF(Base_Arbres!A267<>\"\",VLOOKUP($A267,Base_Arbres,4,FALSE)*Crit2,\"\")","v":""},{"$f":"IF(Base_Arbres!A267<>\"\",VLOOKUP($A267,Base_Arbres,5,FALSE)*Crit3,\"\")","v":""},{"$f":"IF(Base_Arbres!A267<>\"\",VLOOKUP($A267,Base_Arbres,6,FALSE)*Crit4,\"\")","v":""},{"$f":"IF(Base_Arbres!B267<>\"\",VLOOKUP($A267,Base_Arbres,7,FALSE)*Crit5,\"\")","v":""},{"$f":"IF(Base_Arbres!C267<>\"\",VLOOKUP($A267,Base_Arbres,8,FALSE)*crit8,\"\")","v":""},{"$f":"IF(Base_Arbres!D267<>\"\",VLOOKUP($A267,Base_Arbres,9,FALSE)*crit9,\"\")","v":""},{"$f":"IF(ISNA(VLOOKUP(INDEX(Base_Typologie!$A$6:$P$1003,MATCH(A267,Base_Typologie!$A:$A,0)-5,MATCH(Typologie_Espace_Public,Base_Typologie!$6:$6,0)),TableauScoreTypologie2,2,FALSE)*Crit6),0,VLOOKUP(INDEX(Base_Typologie!$A$6:$P$1003,MATCH(A267,Base_Typologie!$A:$A,0)-5,MATCH(Typologie_Espace_Public,Base_Typologie!$6:$6,0)),TableauScoreTypologie2,2,FALSE)*Crit6)","v":0},0,0,0,0,0,0,0,0,0,0,0,0,null,{"$f":"IF(Base_Arbres!A370<>\"\",VLOOKUP($A267,Base_Arbres,4,FALSE)*Crit7,\"\")","v":""}]
[{"$f":"IF(Base_Arbres!A268<>\"\",Base_Arbres!A268,\"\")","v":""},{"$f":"IF(Base_Arbres!A268<>\"\",VLOOKUP($A268,Base_Arbres,3,FALSE)*Crit1,\"\")","v":""},{"$f":"IF(Base_Arbres!A268<>\"\",VLOOKUP($A268,Base_Arbres,4,FALSE)*Crit2,\"\")","v":""},{"$f":"IF(Base_Arbres!A268<>\"\",VLOOKUP($A268,Base_Arbres,5,FALSE)*Crit3,\"\")","v":""},{"$f":"IF(Base_Arbres!A268<>\"\",VLOOKUP($A268,Base_Arbres,6,FALSE)*Crit4,\"\")","v":""},{"$f":"IF(Base_Arbres!B268<>\"\",VLOOKUP($A268,Base_Arbres,7,FALSE)*Crit5,\"\")","v":""},{"$f":"IF(Base_Arbres!C268<>\"\",VLOOKUP($A268,Base_Arbres,8,FALSE)*crit8,\"\")","v":""},{"$f":"IF(Base_Arbres!D268<>\"\",VLOOKUP($A268,Base_Arbres,9,FALSE)*crit9,\"\")","v":""},{"$f":"IF(ISNA(VLOOKUP(INDEX(Base_Typologie!$A$6:$P$1003,MATCH(A268,Base_Typologie!$A:$A,0)-5,MATCH(Typologie_Espace_Public,Base_Typologie!$6:$6,0)),TableauScoreTypologie2,2,FALSE)*Crit6),0,VLOOKUP(INDEX(Base_Typologie!$A$6:$P$1003,MATCH(A268,Base_Typologie!$A:$A,0)-5,MATCH(Typologie_Espace_Public,Base_Typologie!$6:$6,0)),TableauScoreTypologie2,2,FALSE)*Crit6)","v":0},0,0,0,0,0,0,0,0,0,0,0,0,null,{"$f":"IF(Base_Arbres!A371<>\"\",VLOOKUP($A268,Base_Arbres,4,FALSE)*Crit7,\"\")","v":""}]
[{"$f":"IF(Base_Arbres!A269<>\"\",Base_Arbres!A269,\"\")","v":""},{"$f":"IF(Base_Arbres!A269<>\"\",VLOOKUP($A269,Base_Arbres,3,FALSE)*Crit1,\"\")","v":""},{"$f":"IF(Base_Arbres!A269<>\"\",VLOOKUP($A269,Base_Arbres,4,FALSE)*Crit2,\"\")","v":""},{"$f":"IF(Base_Arbres!A269<>\"\",VLOOKUP($A269,Base_Arbres,5,FALSE)*Crit3,\"\")","v":""},{"$f":"IF(Base_Arbres!A269<>\"\",VLOOKUP($A269,Base_Arbres,6,FALSE)*Crit4,\"\")","v":""},{"$f":"IF(Base_Arbres!B269<>\"\",VLOOKUP($A269,Base_Arbres,7,FALSE)*Crit5,\"\")","v":""},{"$f":"IF(Base_Arbres!C269<>\"\",VLOOKUP($A269,Base_Arbres,8,FALSE)*crit8,\"\")","v":""},{"$f":"IF(Base_Arbres!D269<>\"\",VLOOKUP($A269,Base_Arbres,9,FALSE)*crit9,\"\")","v":""},{"$f":"IF(ISNA(VLOOKUP(INDEX(Base_Typologie!$A$6:$P$1003,MATCH(A269,Base_Typologie!$A:$A,0)-5,MATCH(Typologie_Espace_Public,Base_Typologie!$6:$6,0)),TableauScoreTypologie2,2,FALSE)*Crit6),0,VLOOKUP(INDEX(Base_Typologie!$A$6:$P$1003,MATCH(A269,Base_Typologie!$A:$A,0)-5,MATCH(Typologie_Espace_Public,Base_Typologie!$6:$6,0)),TableauScoreTypologie2,2,FALSE)*Crit6)","v":0},0,0,0,0,0,0,0,0,0,0,0,0,null,{"$f":"IF(Base_Arbres!A372<>\"\",VLOOKUP($A269,Base_Arbres,4,FALSE)*Crit7,\"\")","v":""}]
[{"$f":"IF(Base_Arbres!A270<>\"\",Base_Arbres!A270,\"\")","v":""},{"$f":"IF(Base_Arbres!A270<>\"\",VLOOKUP($A270,Base_Arbres,3,FALSE)*Crit1,\"\")","v":""},{"$f":"IF(Base_Arbres!A270<>\"\",VLOOKUP($A270,Base_Arbres,4,FALSE)*Crit2,\"\")","v":""},{"$f":"IF(Base_Arbres!A270<>\"\",VLOOKUP($A270,Base_Arbres,5,FALSE)*Crit3,\"\")","v":""},{"$f":"IF(Base_Arbres!A270<>\"\",VLOOKUP($A270,Base_Arbres,6,FALSE)*Crit4,\"\")","v":""},{"$f":"IF(Base_Arbres!B270<>\"\",VLOOKUP($A270,Base_Arbres,7,FALSE)*Crit5,\"\")","v":""},{"$f":"IF(Base_Arbres!C270<>\"\",VLOOKUP($A270,Base_Arbres,8,FALSE)*crit8,\"\")","v":""},{"$f":"IF(Base_Arbres!D270<>\"\",VLOOKUP($A270,Base_Arbres,9,FALSE)*crit9,\"\")","v":""},{"$f":"IF(ISNA(VLOOKUP(INDEX(Base_Typologie!$A$6:$P$1003,MATCH(A270,Base_Typologie!$A:$A,0)-5,MATCH(Typologie_Espace_Public,Base_Typologie!$6:$6,0)),TableauScoreTypologie2,2,FALSE)*Crit6),0,VLOOKUP(INDEX(Base_Typologie!$A$6:$P$1003,MATCH(A270,Base_Typologie!$A:$A,0)-5,MATCH(Typologie_Espace_Public,Base_Typologie!$6:$6,0)),TableauScoreTypologie2,2,FALSE)*Crit6)","v":0},0,0,0,0,0,0,0,0,0,0,0,0,null,{"$f":"IF(Base_Arbres!A373<>\"\",VLOOKUP($A270,Base_Arbres,4,FALSE)*Crit7,\"\")","v":""}]
[{"$f":"IF(Base_Arbres!A271<>\"\",Base_Arbres!A271,\"\")","v":""},{"$f":"IF(Base_Arbres!A271<>\"\",VLOOKUP($A271,Base_Arbres,3,FALSE)*Crit1,\"\")","v":""},{"$f":"IF(Base_Arbres!A271<>\"\",VLOOKUP($A271,Base_Arbres,4,FALSE)*Crit2,\"\")","v":""},{"$f":"IF(Base_Arbres!A271<>\"\",VLOOKUP($A271,Base_Arbres,5,FALSE)*Crit3,\"\")","v":""},{"$f":"IF(Base_Arbres!A271<>\"\",VLOOKUP($A271,Base_Arbres,6,FALSE)*Crit4,\"\")","v":""},{"$f":"IF(Base_Arbres!B271<>\"\",VLOOKUP($A271,Base_Arbres,7,FALSE)*Crit5,\"\")","v":""},{"$f":"IF(Base_Arbres!C271<>\"\",VLOOKUP($A271,Base_Arbres,8,FALSE)*crit8,\"\")","v":""},{"$f":"IF(Base_Arbres!D271<>\"\",VLOOKUP($A271,Base_Arbres,9,FALSE)*crit9,\"\")","v":""},{"$f":"IF(ISNA(VLOOKUP(INDEX(Base_Typologie!$A$6:$P$1003,MATCH(A271,Base_Typologie!$A:$A,0)-5,MATCH(Typologie_Espace_Public,Base_Typologie!$6:$6,0)),TableauScoreTypologie2,2,FALSE)*Crit6),0,VLOOKUP(INDEX(Base_Typologie!$A$6:$P$1003,MATCH(A271,Base_Typologie!$A:$A,0)-5,MATCH(Typologie_Espace_Public,Base_Typologie!$6:$6,0)),TableauScoreTypologie2,2,FALSE)*Crit6)","v":0},0,0,0,0,0,0,0,0,0,0,0,0,null,{"$f":"IF(Base_Arbres!A374<>\"\",VLOOKUP($A271,Base_Arbres,4,FALSE)*Crit7,\"\")","v":""}]
[{"$f":"IF(Base_Arbres!A272<>\"\",Base_Arbres!A272,\"\")","v":""},{"$f":"IF(Base_Arbres!A272<>\"\",VLOOKUP($A272,Base_Arbres,3,FALSE)*Crit1,\"\")","v":""},{"$f":"IF(Base_Arbres!A272<>\"\",VLOOKUP($A272,Base_Arbres,4,FALSE)*Crit2,\"\")","v":""},{"$f":"IF(Base_Arbres!A272<>\"\",VLOOKUP($A272,Base_Arbres,5,FALSE)*Crit3,\"\")","v":""},{"$f":"IF(Base_Arbres!A272<>\"\",VLOOKUP($A272,Base_Arbres,6,FALSE)*Crit4,\"\")","v":""},{"$f":"IF(Base_Arbres!B272<>\"\",VLOOKUP($A272,Base_Arbres,7,FALSE)*Crit5,\"\")","v":""},{"$f":"IF(Base_Arbres!C272<>\"\",VLOOKUP($A272,Base_Arbres,8,FALSE)*crit8,\"\")","v":""},{"$f":"IF(Base_Arbres!D272<>\"\",VLOOKUP($A272,Base_Arbres,9,FALSE)*crit9,\"\")","v":""},{"$f":"IF(ISNA(VLOOKUP(INDEX(Base_Typologie!$A$6:$P$1003,MATCH(A272,Base_Typologie!$A:$A,0)-5,MATCH(Typologie_Espace_Public,Base_Typologie!$6:$6,0)),TableauScoreTypologie2,2,FALSE)*Crit6),0,VLOOKUP(INDEX(Base_Typologie!$A$6:$P$1003,MATCH(A272,Base_Typologie!$A:$A,0)-5,MATCH(Typologie_Espace_Public,Base_Typologie!$6:$6,0)),TableauScoreTypologie2,2,FALSE)*Crit6)","v":0},0,0,0,0,0,0,0,0,0,0,0,0,null,{"$f":"IF(Base_Arbres!A375<>\"\",VLOOKUP($A272,Base_Arbres,4,FALSE)*Crit7,\"\")","v":""}]
[{"$f":"IF(Base_Arbres!A273<>\"\",Base_Arbres!A273,\"\")","v":""},{"$f":"IF(Base_Arbres!A273<>\"\",VLOOKUP($A273,Base_Arbres,3,FALSE)*Crit1,\"\")","v":""},{"$f":"IF(Base_Arbres!A273<>\"\",VLOOKUP($A273,Base_Arbres,4,FALSE)*Crit2,\"\")","v":""},{"$f":"IF(Base_Arbres!A273<>\"\",VLOOKUP($A273,Base_Arbres,5,FALSE)*Crit3,\"\")","v":""},{"$f":"IF(Base_Arbres!A273<>\"\",VLOOKUP($A273,Base_Arbres,6,FALSE)*Crit4,\"\")","v":""},{"$f":"IF(Base_Arbres!B273<>\"\",VLOOKUP($A273,Base_Arbres,7,FALSE)*Crit5,\"\")","v":""},{"$f":"IF(Base_Arbres!C273<>\"\",VLOOKUP($A273,Base_Arbres,8,FALSE)*crit8,\"\")","v":""},{"$f":"IF(Base_Arbres!D273<>\"\",VLOOKUP($A273,Base_Arbres,9,FALSE)*crit9,\"\")","v":""},{"$f":"IF(ISNA(VLOOKUP(INDEX(Base_Typologie!$A$6:$P$1003,MATCH(A273,Base_Typologie!$A:$A,0)-5,MATCH(Typologie_Espace_Public,Base_Typologie!$6:$6,0)),TableauScoreTypologie2,2,FALSE)*Crit6),0,VLOOKUP(INDEX(Base_Typologie!$A$6:$P$1003,MATCH(A273,Base_Typologie!$A:$A,0)-5,MATCH(Typologie_Espace_Public,Base_Typologie!$6:$6,0)),TableauScoreTypologie2,2,FALSE)*Crit6)","v":0},0,0,0,0,0,0,0,0,0,0,0,0,null,{"$f":"IF(Base_Arbres!A376<>\"\",VLOOKUP($A273,Base_Arbres,4,FALSE)*Crit7,\"\")","v":""}]
[{"$f":"IF(Base_Arbres!A274<>\"\",Base_Arbres!A274,\"\")","v":""},{"$f":"IF(Base_Arbres!A274<>\"\",VLOOKUP($A274,Base_Arbres,3,FALSE)*Crit1,\"\")","v":""},{"$f":"IF(Base_Arbres!A274<>\"\",VLOOKUP($A274,Base_Arbres,4,FALSE)*Crit2,\"\")","v":""},{"$f":"IF(Base_Arbres!A274<>\"\",VLOOKUP($A274,Base_Arbres,5,FALSE)*Crit3,\"\")","v":""},{"$f":"IF(Base_Arbres!A274<>\"\",VLOOKUP($A274,Base_Arbres,6,FALSE)*Crit4,\"\")","v":""},{"$f":"IF(Base_Arbres!B274<>\"\",VLOOKUP($A274,Base_Arbres,7,FALSE)*Crit5,\"\")","v":""},{"$f":"IF(Base_Arbres!C274<>\"\",VLOOKUP($A274,Base_Arbres,8,FALSE)*crit8,\"\")","v":""},{"$f":"IF(Base_Arbres!D274<>\"\",VLOOKUP($A274,Base_Arbres,9,FALSE)*crit9,\"\")","v":""},{"$f":"IF(ISNA(VLOOKUP(INDEX(Base_Typologie!$A$6:$P$1003,MATCH(A274,Base_Typologie!$A:$A,0)-5,MATCH(Typologie_Espace_Public,Base_Typologie!$6:$6,0)),TableauScoreTypologie2,2,FALSE)*Crit6),0,VLOOKUP(INDEX(Base_Typologie!$A$6:$P$1003,MATCH(A274,Base_Typologie!$A:$A,0)-5,MATCH(Typologie_Espace_Public,Base_Typologie!$6:$6,0)),TableauScoreTypologie2,2,FALSE)*Crit6)","v":0},0,0,0,0,0,0,0,0,0,0,0,0,null,{"$f":"IF(Base_Arbres!A377<>\"\",VLOOKUP($A274,Base_Arbres,4,FALSE)*Crit7,\"\")","v":""}]
[{"$f":"IF(Base_Arbres!A275<>\"\",Base_Arbres!A275,\"\")","v":""},{"$f":"IF(Base_Arbres!A275<>\"\",VLOOKUP($A275,Base_Arbres,3,FALSE)*Crit1,\"\")","v":""},{"$f":"IF(Base_Arbres!A275<>\"\",VLOOKUP($A275,Base_Arbres,4,FALSE)*Crit2,\"\")","v":""},{"$f":"IF(Base_Arbres!A275<>\"\",VLOOKUP($A275,Base_Arbres,5,FALSE)*Crit3,\"\")","v":""},{"$f":"IF(Base_Arbres!A275<>\"\",VLOOKUP($A275,Base_Arbres,6,FALSE)*Crit4,\"\")","v":""},{"$f":"IF(Base_Arbres!B275<>\"\",VLOOKUP($A275,Base_Arbres,7,FALSE)*Crit5,\"\")","v":""},{"$f":"IF(Base_Arbres!C275<>\"\",VLOOKUP($A275,Base_Arbres,8,FALSE)*crit8,\"\")","v":""},{"$f":"IF(Base_Arbres!D275<>\"\",VLOOKUP($A275,Base_Arbres,9,FALSE)*crit9,\"\")","v":""},{"$f":"IF(ISNA(VLOOKUP(INDEX(Base_Typologie!$A$6:$P$1003,MATCH(A275,Base_Typologie!$A:$A,0)-5,MATCH(Typologie_Espace_Public,Base_Typologie!$6:$6,0)),TableauScoreTypologie2,2,FALSE)*Crit6),0,VLOOKUP(INDEX(Base_Typologie!$A$6:$P$1003,MATCH(A275,Base_Typologie!$A:$A,0)-5,MATCH(Typologie_Espace_Public,Base_Typologie!$6:$6,0)),TableauScoreTypologie2,2,FALSE)*Crit6)","v":0},0,0,0,0,0,0,0,0,0,0,0,0,null,{"$f":"IF(Base_Arbres!A378<>\"\",VLOOKUP($A275,Base_Arbres,4,FALSE)*Crit7,\"\")","v":""}]
[{"$f":"IF(Base_Arbres!A276<>\"\",Base_Arbres!A276,\"\")","v":""},{"$f":"IF(Base_Arbres!A276<>\"\",VLOOKUP($A276,Base_Arbres,3,FALSE)*Crit1,\"\")","v":""},{"$f":"IF(Base_Arbres!A276<>\"\",VLOOKUP($A276,Base_Arbres,4,FALSE)*Crit2,\"\")","v":""},{"$f":"IF(Base_Arbres!A276<>\"\",VLOOKUP($A276,Base_Arbres,5,FALSE)*Crit3,\"\")","v":""},{"$f":"IF(Base_Arbres!A276<>\"\",VLOOKUP($A276,Base_Arbres,6,FALSE)*Crit4,\"\")","v":""},{"$f":"IF(Base_Arbres!B276<>\"\",VLOOKUP($A276,Base_Arbres,7,FALSE)*Crit5,\"\")","v":""},{"$f":"IF(Base_Arbres!C276<>\"\",VLOOKUP($A276,Base_Arbres,8,FALSE)*crit8,\"\")","v":""},{"$f":"IF(Base_Arbres!D276<>\"\",VLOOKUP($A276,Base_Arbres,9,FALSE)*crit9,\"\")","v":""},{"$f":"IF(ISNA(VLOOKUP(INDEX(Base_Typologie!$A$6:$P$1003,MATCH(A276,Base_Typologie!$A:$A,0)-5,MATCH(Typologie_Espace_Public,Base_Typologie!$6:$6,0)),TableauScoreTypologie2,2,FALSE)*Crit6),0,VLOOKUP(INDEX(Base_Typologie!$A$6:$P$1003,MATCH(A276,Base_Typologie!$A:$A,0)-5,MATCH(Typologie_Espace_Public,Base_Typologie!$6:$6,0)),TableauScoreTypologie2,2,FALSE)*Crit6)","v":0},0,0,0,0,0,0,0,0,0,0,0,0,null,{"$f":"IF(Base_Arbres!A379<>\"\",VLOOKUP($A276,Base_Arbres,4,FALSE)*Crit7,\"\")","v":""}]
[{"$f":"IF(Base_Arbres!A277<>\"\",Base_Arbres!A277,\"\")","v":""},{"$f":"IF(Base_Arbres!A277<>\"\",VLOOKUP($A277,Base_Arbres,3,FALSE)*Crit1,\"\")","v":""},{"$f":"IF(Base_Arbres!A277<>\"\",VLOOKUP($A277,Base_Arbres,4,FALSE)*Crit2,\"\")","v":""},{"$f":"IF(Base_Arbres!A277<>\"\",VLOOKUP($A277,Base_Arbres,5,FALSE)*Crit3,\"\")","v":""},{"$f":"IF(Base_Arbres!A277<>\"\",VLOOKUP($A277,Base_Arbres,6,FALSE)*Crit4,\"\")","v":""},{"$f":"IF(Base_Arbres!B277<>\"\",VLOOKUP($A277,Base_Arbres,7,FALSE)*Crit5,\"\")","v":""},{"$f":"IF(Base_Arbres!C277<>\"\",VLOOKUP($A277,Base_Arbres,8,FALSE)*crit8,\"\")","v":""},{"$f":"IF(Base_Arbres!D277<>\"\",VLOOKUP($A277,Base_Arbres,9,FALSE)*crit9,\"\")","v":""},{"$f":"IF(ISNA(VLOOKUP(INDEX(Base_Typologie!$A$6:$P$1003,MATCH(A277,Base_Typologie!$A:$A,0)-5,MATCH(Typologie_Espace_Public,Base_Typologie!$6:$6,0)),TableauScoreTypologie2,2,FALSE)*Crit6),0,VLOOKUP(INDEX(Base_Typologie!$A$6:$P$1003,MATCH(A277,Base_Typologie!$A:$A,0)-5,MATCH(Typologie_Espace_Public,Base_Typologie!$6:$6,0)),TableauScoreTypologie2,2,FALSE)*Crit6)","v":0},0,0,0,0,0,0,0,0,0,0,0,0,null,{"$f":"IF(Base_Arbres!A380<>\"\",VLOOKUP($A277,Base_Arbres,4,FALSE)*Crit7,\"\")","v":""}]
[{"$f":"IF(Base_Arbres!A278<>\"\",Base_Arbres!A278,\"\")","v":""},{"$f":"IF(Base_Arbres!A278<>\"\",VLOOKUP($A278,Base_Arbres,3,FALSE)*Crit1,\"\")","v":""},{"$f":"IF(Base_Arbres!A278<>\"\",VLOOKUP($A278,Base_Arbres,4,FALSE)*Crit2,\"\")","v":""},{"$f":"IF(Base_Arbres!A278<>\"\",VLOOKUP($A278,Base_Arbres,5,FALSE)*Crit3,\"\")","v":""},{"$f":"IF(Base_Arbres!A278<>\"\",VLOOKUP($A278,Base_Arbres,6,FALSE)*Crit4,\"\")","v":""},{"$f":"IF(Base_Arbres!B278<>\"\",VLOOKUP($A278,Base_Arbres,7,FALSE)*Crit5,\"\")","v":""},{"$f":"IF(Base_Arbres!C278<>\"\",VLOOKUP($A278,Base_Arbres,8,FALSE)*crit8,\"\")","v":""},{"$f":"IF(Base_Arbres!D278<>\"\",VLOOKUP($A278,Base_Arbres,9,FALSE)*crit9,\"\")","v":""},{"$f":"IF(ISNA(VLOOKUP(INDEX(Base_Typologie!$A$6:$P$1003,MATCH(A278,Base_Typologie!$A:$A,0)-5,MATCH(Typologie_Espace_Public,Base_Typologie!$6:$6,0)),TableauScoreTypologie2,2,FALSE)*Crit6),0,VLOOKUP(INDEX(Base_Typologie!$A$6:$P$1003,MATCH(A278,Base_Typologie!$A:$A,0)-5,MATCH(Typologie_Espace_Public,Base_Typologie!$6:$6,0)),TableauScoreTypologie2,2,FALSE)*Crit6)","v":0},0,0,0,0,0,0,0,0,0,0,0,0,null,{"$f":"IF(Base_Arbres!A381<>\"\",VLOOKUP($A278,Base_Arbres,4,FALSE)*Crit7,\"\")","v":""}]
[{"$f":"IF(Base_Arbres!A279<>\"\",Base_Arbres!A279,\"\")","v":""},{"$f":"IF(Base_Arbres!A279<>\"\",VLOOKUP($A279,Base_Arbres,3,FALSE)*Crit1,\"\")","v":""},{"$f":"IF(Base_Arbres!A279<>\"\",VLOOKUP($A279,Base_Arbres,4,FALSE)*Crit2,\"\")","v":""},{"$f":"IF(Base_Arbres!A279<>\"\",VLOOKUP($A279,Base_Arbres,5,FALSE)*Crit3,\"\")","v":""},{"$f":"IF(Base_Arbres!A279<>\"\",VLOOKUP($A279,Base_Arbres,6,FALSE)*Crit4,\"\")","v":""},{"$f":"IF(Base_Arbres!B279<>\"\",VLOOKUP($A279,Base_Arbres,7,FALSE)*Crit5,\"\")","v":""},{"$f":"IF(Base_Arbres!C279<>\"\",VLOOKUP($A279,Base_Arbres,8,FALSE)*crit8,\"\")","v":""},{"$f":"IF(Base_Arbres!D279<>\"\",VLOOKUP($A279,Base_Arbres,9,FALSE)*crit9,\"\")","v":""},{"$f":"IF(ISNA(VLOOKUP(INDEX(Base_Typologie!$A$6:$P$1003,MATCH(A279,Base_Typologie!$A:$A,0)-5,MATCH(Typologie_Espace_Public,Base_Typologie!$6:$6,0)),TableauScoreTypologie2,2,FALSE)*Crit6),0,VLOOKUP(INDEX(Base_Typologie!$A$6:$P$1003,MATCH(A279,Base_Typologie!$A:$A,0)-5,MATCH(Typologie_Espace_Public,Base_Typologie!$6:$6,0)),TableauScoreTypologie2,2,FALSE)*Crit6)","v":0},0,0,0,0,0,0,0,0,0,0,0,0,null,{"$f":"IF(Base_Arbres!A382<>\"\",VLOOKUP($A279,Base_Arbres,4,FALSE)*Crit7,\"\")","v":""}]
[{"$f":"IF(Base_Arbres!A280<>\"\",Base_Arbres!A280,\"\")","v":""},{"$f":"IF(Base_Arbres!A280<>\"\",VLOOKUP($A280,Base_Arbres,3,FALSE)*Crit1,\"\")","v":""},{"$f":"IF(Base_Arbres!A280<>\"\",VLOOKUP($A280,Base_Arbres,4,FALSE)*Crit2,\"\")","v":""},{"$f":"IF(Base_Arbres!A280<>\"\",VLOOKUP($A280,Base_Arbres,5,FALSE)*Crit3,\"\")","v":""},{"$f":"IF(Base_Arbres!A280<>\"\",VLOOKUP($A280,Base_Arbres,6,FALSE)*Crit4,\"\")","v":""},{"$f":"IF(Base_Arbres!B280<>\"\",VLOOKUP($A280,Base_Arbres,7,FALSE)*Crit5,\"\")","v":""},{"$f":"IF(Base_Arbres!C280<>\"\",VLOOKUP($A280,Base_Arbres,8,FALSE)*crit8,\"\")","v":""},{"$f":"IF(Base_Arbres!D280<>\"\",VLOOKUP($A280,Base_Arbres,9,FALSE)*crit9,\"\")","v":""},{"$f":"IF(ISNA(VLOOKUP(INDEX(Base_Typologie!$A$6:$P$1003,MATCH(A280,Base_Typologie!$A:$A,0)-5,MATCH(Typologie_Espace_Public,Base_Typologie!$6:$6,0)),TableauScoreTypologie2,2,FALSE)*Crit6),0,VLOOKUP(INDEX(Base_Typologie!$A$6:$P$1003,MATCH(A280,Base_Typologie!$A:$A,0)-5,MATCH(Typologie_Espace_Public,Base_Typologie!$6:$6,0)),TableauScoreTypologie2,2,FALSE)*Crit6)","v":0},0,0,0,0,0,0,0,0,0,0,0,0,null,{"$f":"IF(Base_Arbres!A383<>\"\",VLOOKUP($A280,Base_Arbres,4,FALSE)*Crit7,\"\")","v":""}]
[{"$f":"IF(Base_Arbres!A281<>\"\",Base_Arbres!A281,\"\")","v":""},{"$f":"IF(Base_Arbres!A281<>\"\",VLOOKUP($A281,Base_Arbres,3,FALSE)*Crit1,\"\")","v":""},{"$f":"IF(Base_Arbres!A281<>\"\",VLOOKUP($A281,Base_Arbres,4,FALSE)*Crit2,\"\")","v":""},{"$f":"IF(Base_Arbres!A281<>\"\",VLOOKUP($A281,Base_Arbres,5,FALSE)*Crit3,\"\")","v":""},{"$f":"IF(Base_Arbres!A281<>\"\",VLOOKUP($A281,Base_Arbres,6,FALSE)*Crit4,\"\")","v":""},{"$f":"IF(Base_Arbres!B281<>\"\",VLOOKUP($A281,Base_Arbres,7,FALSE)*Crit5,\"\")","v":""},{"$f":"IF(Base_Arbres!C281<>\"\",VLOOKUP($A281,Base_Arbres,8,FALSE)*crit8,\"\")","v":""},{"$f":"IF(Base_Arbres!D281<>\"\",VLOOKUP($A281,Base_Arbres,9,FALSE)*crit9,\"\")","v":""},{"$f":"IF(ISNA(VLOOKUP(INDEX(Base_Typologie!$A$6:$P$1003,MATCH(A281,Base_Typologie!$A:$A,0)-5,MATCH(Typologie_Espace_Public,Base_Typologie!$6:$6,0)),TableauScoreTypologie2,2,FALSE)*Crit6),0,VLOOKUP(INDEX(Base_Typologie!$A$6:$P$1003,MATCH(A281,Base_Typologie!$A:$A,0)-5,MATCH(Typologie_Espace_Public,Base_Typologie!$6:$6,0)),TableauScoreTypologie2,2,FALSE)*Crit6)","v":0},0,0,0,0,0,0,0,0,0,0,0,0,null,{"$f":"IF(Base_Arbres!A384<>\"\",VLOOKUP($A281,Base_Arbres,4,FALSE)*Crit7,\"\")","v":""}]
[{"$f":"IF(Base_Arbres!A282<>\"\",Base_Arbres!A282,\"\")","v":""},{"$f":"IF(Base_Arbres!A282<>\"\",VLOOKUP($A282,Base_Arbres,3,FALSE)*Crit1,\"\")","v":""},{"$f":"IF(Base_Arbres!A282<>\"\",VLOOKUP($A282,Base_Arbres,4,FALSE)*Crit2,\"\")","v":""},{"$f":"IF(Base_Arbres!A282<>\"\",VLOOKUP($A282,Base_Arbres,5,FALSE)*Crit3,\"\")","v":""},{"$f":"IF(Base_Arbres!A282<>\"\",VLOOKUP($A282,Base_Arbres,6,FALSE)*Crit4,\"\")","v":""},{"$f":"IF(Base_Arbres!B282<>\"\",VLOOKUP($A282,Base_Arbres,7,FALSE)*Crit5,\"\")","v":""},{"$f":"IF(Base_Arbres!C282<>\"\",VLOOKUP($A282,Base_Arbres,8,FALSE)*crit8,\"\")","v":""},{"$f":"IF(Base_Arbres!D282<>\"\",VLOOKUP($A282,Base_Arbres,9,FALSE)*crit9,\"\")","v":""},{"$f":"IF(ISNA(VLOOKUP(INDEX(Base_Typologie!$A$6:$P$1003,MATCH(A282,Base_Typologie!$A:$A,0)-5,MATCH(Typologie_Espace_Public,Base_Typologie!$6:$6,0)),TableauScoreTypologie2,2,FALSE)*Crit6),0,VLOOKUP(INDEX(Base_Typologie!$A$6:$P$1003,MATCH(A282,Base_Typologie!$A:$A,0)-5,MATCH(Typologie_Espace_Public,Base_Typologie!$6:$6,0)),TableauScoreTypologie2,2,FALSE)*Crit6)","v":0},0,0,0,0,0,0,0,0,0,0,0,0,null,{"$f":"IF(Base_Arbres!A385<>\"\",VLOOKUP($A282,Base_Arbres,4,FALSE)*Crit7,\"\")","v":""}]
[{"$f":"IF(Base_Arbres!A283<>\"\",Base_Arbres!A283,\"\")","v":""},{"$f":"IF(Base_Arbres!A283<>\"\",VLOOKUP($A283,Base_Arbres,3,FALSE)*Crit1,\"\")","v":""},{"$f":"IF(Base_Arbres!A283<>\"\",VLOOKUP($A283,Base_Arbres,4,FALSE)*Crit2,\"\")","v":""},{"$f":"IF(Base_Arbres!A283<>\"\",VLOOKUP($A283,Base_Arbres,5,FALSE)*Crit3,\"\")","v":""},{"$f":"IF(Base_Arbres!A283<>\"\",VLOOKUP($A283,Base_Arbres,6,FALSE)*Crit4,\"\")","v":""},{"$f":"IF(Base_Arbres!B283<>\"\",VLOOKUP($A283,Base_Arbres,7,FALSE)*Crit5,\"\")","v":""},{"$f":"IF(Base_Arbres!C283<>\"\",VLOOKUP($A283,Base_Arbres,8,FALSE)*crit8,\"\")","v":""},{"$f":"IF(Base_Arbres!D283<>\"\",VLOOKUP($A283,Base_Arbres,9,FALSE)*crit9,\"\")","v":""},{"$f":"IF(ISNA(VLOOKUP(INDEX(Base_Typologie!$A$6:$P$1003,MATCH(A283,Base_Typologie!$A:$A,0)-5,MATCH(Typologie_Espace_Public,Base_Typologie!$6:$6,0)),TableauScoreTypologie2,2,FALSE)*Crit6),0,VLOOKUP(INDEX(Base_Typologie!$A$6:$P$1003,MATCH(A283,Base_Typologie!$A:$A,0)-5,MATCH(Typologie_Espace_Public,Base_Typologie!$6:$6,0)),TableauScoreTypologie2,2,FALSE)*Crit6)","v":0},0,0,0,0,0,0,0,0,0,0,0,0,null,{"$f":"IF(Base_Arbres!A386<>\"\",VLOOKUP($A283,Base_Arbres,4,FALSE)*Crit7,\"\")","v":""}]
[{"$f":"IF(Base_Arbres!A284<>\"\",Base_Arbres!A284,\"\")","v":""},{"$f":"IF(Base_Arbres!A284<>\"\",VLOOKUP($A284,Base_Arbres,3,FALSE)*Crit1,\"\")","v":""},{"$f":"IF(Base_Arbres!A284<>\"\",VLOOKUP($A284,Base_Arbres,4,FALSE)*Crit2,\"\")","v":""},{"$f":"IF(Base_Arbres!A284<>\"\",VLOOKUP($A284,Base_Arbres,5,FALSE)*Crit3,\"\")","v":""},{"$f":"IF(Base_Arbres!A284<>\"\",VLOOKUP($A284,Base_Arbres,6,FALSE)*Crit4,\"\")","v":""},{"$f":"IF(Base_Arbres!B284<>\"\",VLOOKUP($A284,Base_Arbres,7,FALSE)*Crit5,\"\")","v":""},{"$f":"IF(Base_Arbres!C284<>\"\",VLOOKUP($A284,Base_Arbres,8,FALSE)*crit8,\"\")","v":""},{"$f":"IF(Base_Arbres!D284<>\"\",VLOOKUP($A284,Base_Arbres,9,FALSE)*crit9,\"\")","v":""},{"$f":"IF(ISNA(VLOOKUP(INDEX(Base_Typologie!$A$6:$P$1003,MATCH(A284,Base_Typologie!$A:$A,0)-5,MATCH(Typologie_Espace_Public,Base_Typologie!$6:$6,0)),TableauScoreTypologie2,2,FALSE)*Crit6),0,VLOOKUP(INDEX(Base_Typologie!$A$6:$P$1003,MATCH(A284,Base_Typologie!$A:$A,0)-5,MATCH(Typologie_Espace_Public,Base_Typologie!$6:$6,0)),TableauScoreTypologie2,2,FALSE)*Crit6)","v":0},0,0,0,0,0,0,0,0,0,0,0,0,null,{"$f":"IF(Base_Arbres!A387<>\"\",VLOOKUP($A284,Base_Arbres,4,FALSE)*Crit7,\"\")","v":""}]
[{"$f":"IF(Base_Arbres!A285<>\"\",Base_Arbres!A285,\"\")","v":""},{"$f":"IF(Base_Arbres!A285<>\"\",VLOOKUP($A285,Base_Arbres,3,FALSE)*Crit1,\"\")","v":""},{"$f":"IF(Base_Arbres!A285<>\"\",VLOOKUP($A285,Base_Arbres,4,FALSE)*Crit2,\"\")","v":""},{"$f":"IF(Base_Arbres!A285<>\"\",VLOOKUP($A285,Base_Arbres,5,FALSE)*Crit3,\"\")","v":""},{"$f":"IF(Base_Arbres!A285<>\"\",VLOOKUP($A285,Base_Arbres,6,FALSE)*Crit4,\"\")","v":""},{"$f":"IF(Base_Arbres!B285<>\"\",VLOOKUP($A285,Base_Arbres,7,FALSE)*Crit5,\"\")","v":""},{"$f":"IF(Base_Arbres!C285<>\"\",VLOOKUP($A285,Base_Arbres,8,FALSE)*crit8,\"\")","v":""},{"$f":"IF(Base_Arbres!D285<>\"\",VLOOKUP($A285,Base_Arbres,9,FALSE)*crit9,\"\")","v":""},{"$f":"IF(ISNA(VLOOKUP(INDEX(Base_Typologie!$A$6:$P$1003,MATCH(A285,Base_Typologie!$A:$A,0)-5,MATCH(Typologie_Espace_Public,Base_Typologie!$6:$6,0)),TableauScoreTypologie2,2,FALSE)*Crit6),0,VLOOKUP(INDEX(Base_Typologie!$A$6:$P$1003,MATCH(A285,Base_Typologie!$A:$A,0)-5,MATCH(Typologie_Espace_Public,Base_Typologie!$6:$6,0)),TableauScoreTypologie2,2,FALSE)*Crit6)","v":0},0,0,0,0,0,0,0,0,0,0,0,0,null,{"$f":"IF(Base_Arbres!A388<>\"\",VLOOKUP($A285,Base_Arbres,4,FALSE)*Crit7,\"\")","v":""}]
[{"$f":"IF(Base_Arbres!A286<>\"\",Base_Arbres!A286,\"\")","v":""},{"$f":"IF(Base_Arbres!A286<>\"\",VLOOKUP($A286,Base_Arbres,3,FALSE)*Crit1,\"\")","v":""},{"$f":"IF(Base_Arbres!A286<>\"\",VLOOKUP($A286,Base_Arbres,4,FALSE)*Crit2,\"\")","v":""},{"$f":"IF(Base_Arbres!A286<>\"\",VLOOKUP($A286,Base_Arbres,5,FALSE)*Crit3,\"\")","v":""},{"$f":"IF(Base_Arbres!A286<>\"\",VLOOKUP($A286,Base_Arbres,6,FALSE)*Crit4,\"\")","v":""},{"$f":"IF(Base_Arbres!B286<>\"\",VLOOKUP($A286,Base_Arbres,7,FALSE)*Crit5,\"\")","v":""},{"$f":"IF(Base_Arbres!C286<>\"\",VLOOKUP($A286,Base_Arbres,8,FALSE)*crit8,\"\")","v":""},{"$f":"IF(Base_Arbres!D286<>\"\",VLOOKUP($A286,Base_Arbres,9,FALSE)*crit9,\"\")","v":""},{"$f":"IF(ISNA(VLOOKUP(INDEX(Base_Typologie!$A$6:$P$1003,MATCH(A286,Base_Typologie!$A:$A,0)-5,MATCH(Typologie_Espace_Public,Base_Typologie!$6:$6,0)),TableauScoreTypologie2,2,FALSE)*Crit6),0,VLOOKUP(INDEX(Base_Typologie!$A$6:$P$1003,MATCH(A286,Base_Typologie!$A:$A,0)-5,MATCH(Typologie_Espace_Public,Base_Typologie!$6:$6,0)),TableauScoreTypologie2,2,FALSE)*Crit6)","v":0},0,0,0,0,0,0,0,0,0,0,0,0,null,{"$f":"IF(Base_Arbres!A389<>\"\",VLOOKUP($A286,Base_Arbres,4,FALSE)*Crit7,\"\")","v":""}]
[{"$f":"IF(Base_Arbres!A287<>\"\",Base_Arbres!A287,\"\")","v":""},{"$f":"IF(Base_Arbres!A287<>\"\",VLOOKUP($A287,Base_Arbres,3,FALSE)*Crit1,\"\")","v":""},{"$f":"IF(Base_Arbres!A287<>\"\",VLOOKUP($A287,Base_Arbres,4,FALSE)*Crit2,\"\")","v":""},{"$f":"IF(Base_Arbres!A287<>\"\",VLOOKUP($A287,Base_Arbres,5,FALSE)*Crit3,\"\")","v":""},{"$f":"IF(Base_Arbres!A287<>\"\",VLOOKUP($A287,Base_Arbres,6,FALSE)*Crit4,\"\")","v":""},{"$f":"IF(Base_Arbres!B287<>\"\",VLOOKUP($A287,Base_Arbres,7,FALSE)*Crit5,\"\")","v":""},{"$f":"IF(Base_Arbres!C287<>\"\",VLOOKUP($A287,Base_Arbres,8,FALSE)*crit8,\"\")","v":""},{"$f":"IF(Base_Arbres!D287<>\"\",VLOOKUP($A287,Base_Arbres,9,FALSE)*crit9,\"\")","v":""},{"$f":"IF(ISNA(VLOOKUP(INDEX(Base_Typologie!$A$6:$P$1003,MATCH(A287,Base_Typologie!$A:$A,0)-5,MATCH(Typologie_Espace_Public,Base_Typologie!$6:$6,0)),TableauScoreTypologie2,2,FALSE)*Crit6),0,VLOOKUP(INDEX(Base_Typologie!$A$6:$P$1003,MATCH(A287,Base_Typologie!$A:$A,0)-5,MATCH(Typologie_Espace_Public,Base_Typologie!$6:$6,0)),TableauScoreTypologie2,2,FALSE)*Crit6)","v":0},0,0,0,0,0,0,0,0,0,0,0,0,null,{"$f":"IF(Base_Arbres!A390<>\"\",VLOOKUP($A287,Base_Arbres,4,FALSE)*Crit7,\"\")","v":""}]
[{"$f":"IF(Base_Arbres!A288<>\"\",Base_Arbres!A288,\"\")","v":""},{"$f":"IF(Base_Arbres!A288<>\"\",VLOOKUP($A288,Base_Arbres,3,FALSE)*Crit1,\"\")","v":""},{"$f":"IF(Base_Arbres!A288<>\"\",VLOOKUP($A288,Base_Arbres,4,FALSE)*Crit2,\"\")","v":""},{"$f":"IF(Base_Arbres!A288<>\"\",VLOOKUP($A288,Base_Arbres,5,FALSE)*Crit3,\"\")","v":""},{"$f":"IF(Base_Arbres!A288<>\"\",VLOOKUP($A288,Base_Arbres,6,FALSE)*Crit4,\"\")","v":""},{"$f":"IF(Base_Arbres!B288<>\"\",VLOOKUP($A288,Base_Arbres,7,FALSE)*Crit5,\"\")","v":""},{"$f":"IF(Base_Arbres!C288<>\"\",VLOOKUP($A288,Base_Arbres,8,FALSE)*crit8,\"\")","v":""},{"$f":"IF(Base_Arbres!D288<>\"\",VLOOKUP($A288,Base_Arbres,9,FALSE)*crit9,\"\")","v":""},{"$f":"IF(ISNA(VLOOKUP(INDEX(Base_Typologie!$A$6:$P$1003,MATCH(A288,Base_Typologie!$A:$A,0)-5,MATCH(Typologie_Espace_Public,Base_Typologie!$6:$6,0)),TableauScoreTypologie2,2,FALSE)*Crit6),0,VLOOKUP(INDEX(Base_Typologie!$A$6:$P$1003,MATCH(A288,Base_Typologie!$A:$A,0)-5,MATCH(Typologie_Espace_Public,Base_Typologie!$6:$6,0)),TableauScoreTypologie2,2,FALSE)*Crit6)","v":0},0,0,0,0,0,0,0,0,0,0,0,0,null,{"$f":"IF(Base_Arbres!A391<>\"\",VLOOKUP($A288,Base_Arbres,4,FALSE)*Crit7,\"\")","v":""}]
[{"$f":"IF(Base_Arbres!A289<>\"\",Base_Arbres!A289,\"\")","v":""},{"$f":"IF(Base_Arbres!A289<>\"\",VLOOKUP($A289,Base_Arbres,3,FALSE)*Crit1,\"\")","v":""},{"$f":"IF(Base_Arbres!A289<>\"\",VLOOKUP($A289,Base_Arbres,4,FALSE)*Crit2,\"\")","v":""},{"$f":"IF(Base_Arbres!A289<>\"\",VLOOKUP($A289,Base_Arbres,5,FALSE)*Crit3,\"\")","v":""},{"$f":"IF(Base_Arbres!A289<>\"\",VLOOKUP($A289,Base_Arbres,6,FALSE)*Crit4,\"\")","v":""},{"$f":"IF(Base_Arbres!B289<>\"\",VLOOKUP($A289,Base_Arbres,7,FALSE)*Crit5,\"\")","v":""},{"$f":"IF(Base_Arbres!C289<>\"\",VLOOKUP($A289,Base_Arbres,8,FALSE)*crit8,\"\")","v":""},{"$f":"IF(Base_Arbres!D289<>\"\",VLOOKUP($A289,Base_Arbres,9,FALSE)*crit9,\"\")","v":""},{"$f":"IF(ISNA(VLOOKUP(INDEX(Base_Typologie!$A$6:$P$1003,MATCH(A289,Base_Typologie!$A:$A,0)-5,MATCH(Typologie_Espace_Public,Base_Typologie!$6:$6,0)),TableauScoreTypologie2,2,FALSE)*Crit6),0,VLOOKUP(INDEX(Base_Typologie!$A$6:$P$1003,MATCH(A289,Base_Typologie!$A:$A,0)-5,MATCH(Typologie_Espace_Public,Base_Typologie!$6:$6,0)),TableauScoreTypologie2,2,FALSE)*Crit6)","v":0},0,0,0,0,0,0,0,0,0,0,0,0,null,{"$f":"IF(Base_Arbres!A392<>\"\",VLOOKUP($A289,Base_Arbres,4,FALSE)*Crit7,\"\")","v":""}]
[{"$f":"IF(Base_Arbres!A290<>\"\",Base_Arbres!A290,\"\")","v":""},{"$f":"IF(Base_Arbres!A290<>\"\",VLOOKUP($A290,Base_Arbres,3,FALSE)*Crit1,\"\")","v":""},{"$f":"IF(Base_Arbres!A290<>\"\",VLOOKUP($A290,Base_Arbres,4,FALSE)*Crit2,\"\")","v":""},{"$f":"IF(Base_Arbres!A290<>\"\",VLOOKUP($A290,Base_Arbres,5,FALSE)*Crit3,\"\")","v":""},{"$f":"IF(Base_Arbres!A290<>\"\",VLOOKUP($A290,Base_Arbres,6,FALSE)*Crit4,\"\")","v":""},{"$f":"IF(Base_Arbres!B290<>\"\",VLOOKUP($A290,Base_Arbres,7,FALSE)*Crit5,\"\")","v":""},{"$f":"IF(Base_Arbres!C290<>\"\",VLOOKUP($A290,Base_Arbres,8,FALSE)*crit8,\"\")","v":""},{"$f":"IF(Base_Arbres!D290<>\"\",VLOOKUP($A290,Base_Arbres,9,FALSE)*crit9,\"\")","v":""},{"$f":"IF(ISNA(VLOOKUP(INDEX(Base_Typologie!$A$6:$P$1003,MATCH(A290,Base_Typologie!$A:$A,0)-5,MATCH(Typologie_Espace_Public,Base_Typologie!$6:$6,0)),TableauScoreTypologie2,2,FALSE)*Crit6),0,VLOOKUP(INDEX(Base_Typologie!$A$6:$P$1003,MATCH(A290,Base_Typologie!$A:$A,0)-5,MATCH(Typologie_Espace_Public,Base_Typologie!$6:$6,0)),TableauScoreTypologie2,2,FALSE)*Crit6)","v":0},0,0,0,0,0,0,0,0,0,0,0,0,null,{"$f":"IF(Base_Arbres!A393<>\"\",VLOOKUP($A290,Base_Arbres,4,FALSE)*Crit7,\"\")","v":""}]
[{"$f":"IF(Base_Arbres!A291<>\"\",Base_Arbres!A291,\"\")","v":""},{"$f":"IF(Base_Arbres!A291<>\"\",VLOOKUP($A291,Base_Arbres,3,FALSE)*Crit1,\"\")","v":""},{"$f":"IF(Base_Arbres!A291<>\"\",VLOOKUP($A291,Base_Arbres,4,FALSE)*Crit2,\"\")","v":""},{"$f":"IF(Base_Arbres!A291<>\"\",VLOOKUP($A291,Base_Arbres,5,FALSE)*Crit3,\"\")","v":""},{"$f":"IF(Base_Arbres!A291<>\"\",VLOOKUP($A291,Base_Arbres,6,FALSE)*Crit4,\"\")","v":""},{"$f":"IF(Base_Arbres!B291<>\"\",VLOOKUP($A291,Base_Arbres,7,FALSE)*Crit5,\"\")","v":""},{"$f":"IF(Base_Arbres!C291<>\"\",VLOOKUP($A291,Base_Arbres,8,FALSE)*crit8,\"\")","v":""},{"$f":"IF(Base_Arbres!D291<>\"\",VLOOKUP($A291,Base_Arbres,9,FALSE)*crit9,\"\")","v":""},{"$f":"IF(ISNA(VLOOKUP(INDEX(Base_Typologie!$A$6:$P$1003,MATCH(A291,Base_Typologie!$A:$A,0)-5,MATCH(Typologie_Espace_Public,Base_Typologie!$6:$6,0)),TableauScoreTypologie2,2,FALSE)*Crit6),0,VLOOKUP(INDEX(Base_Typologie!$A$6:$P$1003,MATCH(A291,Base_Typologie!$A:$A,0)-5,MATCH(Typologie_Espace_Public,Base_Typologie!$6:$6,0)),TableauScoreTypologie2,2,FALSE)*Crit6)","v":0},0,0,0,0,0,0,0,0,0,0,0,0,null,{"$f":"IF(Base_Arbres!A394<>\"\",VLOOKUP($A291,Base_Arbres,4,FALSE)*Crit7,\"\")","v":""}]
[{"$f":"IF(Base_Arbres!A292<>\"\",Base_Arbres!A292,\"\")","v":""},{"$f":"IF(Base_Arbres!A292<>\"\",VLOOKUP($A292,Base_Arbres,3,FALSE)*Crit1,\"\")","v":""},{"$f":"IF(Base_Arbres!A292<>\"\",VLOOKUP($A292,Base_Arbres,4,FALSE)*Crit2,\"\")","v":""},{"$f":"IF(Base_Arbres!A292<>\"\",VLOOKUP($A292,Base_Arbres,5,FALSE)*Crit3,\"\")","v":""},{"$f":"IF(Base_Arbres!A292<>\"\",VLOOKUP($A292,Base_Arbres,6,FALSE)*Crit4,\"\")","v":""},{"$f":"IF(Base_Arbres!B292<>\"\",VLOOKUP($A292,Base_Arbres,7,FALSE)*Crit5,\"\")","v":""},{"$f":"IF(Base_Arbres!C292<>\"\",VLOOKUP($A292,Base_Arbres,8,FALSE)*crit8,\"\")","v":""},{"$f":"IF(Base_Arbres!D292<>\"\",VLOOKUP($A292,Base_Arbres,9,FALSE)*crit9,\"\")","v":""},{"$f":"IF(ISNA(VLOOKUP(INDEX(Base_Typologie!$A$6:$P$1003,MATCH(A292,Base_Typologie!$A:$A,0)-5,MATCH(Typologie_Espace_Public,Base_Typologie!$6:$6,0)),TableauScoreTypologie2,2,FALSE)*Crit6),0,VLOOKUP(INDEX(Base_Typologie!$A$6:$P$1003,MATCH(A292,Base_Typologie!$A:$A,0)-5,MATCH(Typologie_Espace_Public,Base_Typologie!$6:$6,0)),TableauScoreTypologie2,2,FALSE)*Crit6)","v":0},0,0,0,0,0,0,0,0,0,0,0,0,null,{"$f":"IF(Base_Arbres!A395<>\"\",VLOOKUP($A292,Base_Arbres,4,FALSE)*Crit7,\"\")","v":""}]
[{"$f":"IF(Base_Arbres!A293<>\"\",Base_Arbres!A293,\"\")","v":""},{"$f":"IF(Base_Arbres!A293<>\"\",VLOOKUP($A293,Base_Arbres,3,FALSE)*Crit1,\"\")","v":""},{"$f":"IF(Base_Arbres!A293<>\"\",VLOOKUP($A293,Base_Arbres,4,FALSE)*Crit2,\"\")","v":""},{"$f":"IF(Base_Arbres!A293<>\"\",VLOOKUP($A293,Base_Arbres,5,FALSE)*Crit3,\"\")","v":""},{"$f":"IF(Base_Arbres!A293<>\"\",VLOOKUP($A293,Base_Arbres,6,FALSE)*Crit4,\"\")","v":""},{"$f":"IF(Base_Arbres!B293<>\"\",VLOOKUP($A293,Base_Arbres,7,FALSE)*Crit5,\"\")","v":""},{"$f":"IF(Base_Arbres!C293<>\"\",VLOOKUP($A293,Base_Arbres,8,FALSE)*crit8,\"\")","v":""},{"$f":"IF(Base_Arbres!D293<>\"\",VLOOKUP($A293,Base_Arbres,9,FALSE)*crit9,\"\")","v":""},{"$f":"IF(ISNA(VLOOKUP(INDEX(Base_Typologie!$A$6:$P$1003,MATCH(A293,Base_Typologie!$A:$A,0)-5,MATCH(Typologie_Espace_Public,Base_Typologie!$6:$6,0)),TableauScoreTypologie2,2,FALSE)*Crit6),0,VLOOKUP(INDEX(Base_Typologie!$A$6:$P$1003,MATCH(A293,Base_Typologie!$A:$A,0)-5,MATCH(Typologie_Espace_Public,Base_Typologie!$6:$6,0)),TableauScoreTypologie2,2,FALSE)*Crit6)","v":0},0,0,0,0,0,0,0,0,0,0,0,0,null,{"$f":"IF(Base_Arbres!A396<>\"\",VLOOKUP($A293,Base_Arbres,4,FALSE)*Crit7,\"\")","v":""}]
[{"$f":"IF(Base_Arbres!A294<>\"\",Base_Arbres!A294,\"\")","v":""},{"$f":"IF(Base_Arbres!A294<>\"\",VLOOKUP($A294,Base_Arbres,3,FALSE)*Crit1,\"\")","v":""},{"$f":"IF(Base_Arbres!A294<>\"\",VLOOKUP($A294,Base_Arbres,4,FALSE)*Crit2,\"\")","v":""},{"$f":"IF(Base_Arbres!A294<>\"\",VLOOKUP($A294,Base_Arbres,5,FALSE)*Crit3,\"\")","v":""},{"$f":"IF(Base_Arbres!A294<>\"\",VLOOKUP($A294,Base_Arbres,6,FALSE)*Crit4,\"\")","v":""},{"$f":"IF(Base_Arbres!B294<>\"\",VLOOKUP($A294,Base_Arbres,7,FALSE)*Crit5,\"\")","v":""},{"$f":"IF(Base_Arbres!C294<>\"\",VLOOKUP($A294,Base_Arbres,8,FALSE)*crit8,\"\")","v":""},{"$f":"IF(Base_Arbres!D294<>\"\",VLOOKUP($A294,Base_Arbres,9,FALSE)*crit9,\"\")","v":""},{"$f":"IF(ISNA(VLOOKUP(INDEX(Base_Typologie!$A$6:$P$1003,MATCH(A294,Base_Typologie!$A:$A,0)-5,MATCH(Typologie_Espace_Public,Base_Typologie!$6:$6,0)),TableauScoreTypologie2,2,FALSE)*Crit6),0,VLOOKUP(INDEX(Base_Typologie!$A$6:$P$1003,MATCH(A294,Base_Typologie!$A:$A,0)-5,MATCH(Typologie_Espace_Public,Base_Typologie!$6:$6,0)),TableauScoreTypologie2,2,FALSE)*Crit6)","v":0},0,0,0,0,0,0,0,0,0,0,0,0,null,{"$f":"IF(Base_Arbres!A397<>\"\",VLOOKUP($A294,Base_Arbres,4,FALSE)*Crit7,\"\")","v":""}]
[{"$f":"IF(Base_Arbres!A295<>\"\",Base_Arbres!A295,\"\")","v":""},{"$f":"IF(Base_Arbres!A295<>\"\",VLOOKUP($A295,Base_Arbres,3,FALSE)*Crit1,\"\")","v":""},{"$f":"IF(Base_Arbres!A295<>\"\",VLOOKUP($A295,Base_Arbres,4,FALSE)*Crit2,\"\")","v":""},{"$f":"IF(Base_Arbres!A295<>\"\",VLOOKUP($A295,Base_Arbres,5,FALSE)*Crit3,\"\")","v":""},{"$f":"IF(Base_Arbres!A295<>\"\",VLOOKUP($A295,Base_Arbres,6,FALSE)*Crit4,\"\")","v":""},{"$f":"IF(Base_Arbres!B295<>\"\",VLOOKUP($A295,Base_Arbres,7,FALSE)*Crit5,\"\")","v":""},{"$f":"IF(Base_Arbres!C295<>\"\",VLOOKUP($A295,Base_Arbres,8,FALSE)*crit8,\"\")","v":""},{"$f":"IF(Base_Arbres!D295<>\"\",VLOOKUP($A295,Base_Arbres,9,FALSE)*crit9,\"\")","v":""},{"$f":"IF(ISNA(VLOOKUP(INDEX(Base_Typologie!$A$6:$P$1003,MATCH(A295,Base_Typologie!$A:$A,0)-5,MATCH(Typologie_Espace_Public,Base_Typologie!$6:$6,0)),TableauScoreTypologie2,2,FALSE)*Crit6),0,VLOOKUP(INDEX(Base_Typologie!$A$6:$P$1003,MATCH(A295,Base_Typologie!$A:$A,0)-5,MATCH(Typologie_Espace_Public,Base_Typologie!$6:$6,0)),TableauScoreTypologie2,2,FALSE)*Crit6)","v":0},0,0,0,0,0,0,0,0,0,0,0,0,null,{"$f":"IF(Base_Arbres!A398<>\"\",VLOOKUP($A295,Base_Arbres,4,FALSE)*Crit7,\"\")","v":""}]
[{"$f":"IF(Base_Arbres!A296<>\"\",Base_Arbres!A296,\"\")","v":""},{"$f":"IF(Base_Arbres!A296<>\"\",VLOOKUP($A296,Base_Arbres,3,FALSE)*Crit1,\"\")","v":""},{"$f":"IF(Base_Arbres!A296<>\"\",VLOOKUP($A296,Base_Arbres,4,FALSE)*Crit2,\"\")","v":""},{"$f":"IF(Base_Arbres!A296<>\"\",VLOOKUP($A296,Base_Arbres,5,FALSE)*Crit3,\"\")","v":""},{"$f":"IF(Base_Arbres!A296<>\"\",VLOOKUP($A296,Base_Arbres,6,FALSE)*Crit4,\"\")","v":""},{"$f":"IF(Base_Arbres!B296<>\"\",VLOOKUP($A296,Base_Arbres,7,FALSE)*Crit5,\"\")","v":""},{"$f":"IF(Base_Arbres!C296<>\"\",VLOOKUP($A296,Base_Arbres,8,FALSE)*crit8,\"\")","v":""},{"$f":"IF(Base_Arbres!D296<>\"\",VLOOKUP($A296,Base_Arbres,9,FALSE)*crit9,\"\")","v":""},{"$f":"IF(ISNA(VLOOKUP(INDEX(Base_Typologie!$A$6:$P$1003,MATCH(A296,Base_Typologie!$A:$A,0)-5,MATCH(Typologie_Espace_Public,Base_Typologie!$6:$6,0)),TableauScoreTypologie2,2,FALSE)*Crit6),0,VLOOKUP(INDEX(Base_Typologie!$A$6:$P$1003,MATCH(A296,Base_Typologie!$A:$A,0)-5,MATCH(Typologie_Espace_Public,Base_Typologie!$6:$6,0)),TableauScoreTypologie2,2,FALSE)*Crit6)","v":0},0,0,0,0,0,0,0,0,0,0,0,0,null,{"$f":"IF(Base_Arbres!A399<>\"\",VLOOKUP($A296,Base_Arbres,4,FALSE)*Crit7,\"\")","v":""}]
[{"$f":"IF(Base_Arbres!A297<>\"\",Base_Arbres!A297,\"\")","v":""},{"$f":"IF(Base_Arbres!A297<>\"\",VLOOKUP($A297,Base_Arbres,3,FALSE)*Crit1,\"\")","v":""},{"$f":"IF(Base_Arbres!A297<>\"\",VLOOKUP($A297,Base_Arbres,4,FALSE)*Crit2,\"\")","v":""},{"$f":"IF(Base_Arbres!A297<>\"\",VLOOKUP($A297,Base_Arbres,5,FALSE)*Crit3,\"\")","v":""},{"$f":"IF(Base_Arbres!A297<>\"\",VLOOKUP($A297,Base_Arbres,6,FALSE)*Crit4,\"\")","v":""},{"$f":"IF(Base_Arbres!B297<>\"\",VLOOKUP($A297,Base_Arbres,7,FALSE)*Crit5,\"\")","v":""},{"$f":"IF(Base_Arbres!C297<>\"\",VLOOKUP($A297,Base_Arbres,8,FALSE)*crit8,\"\")","v":""},{"$f":"IF(Base_Arbres!D297<>\"\",VLOOKUP($A297,Base_Arbres,9,FALSE)*crit9,\"\")","v":""},{"$f":"IF(ISNA(VLOOKUP(INDEX(Base_Typologie!$A$6:$P$1003,MATCH(A297,Base_Typologie!$A:$A,0)-5,MATCH(Typologie_Espace_Public,Base_Typologie!$6:$6,0)),TableauScoreTypologie2,2,FALSE)*Crit6),0,VLOOKUP(INDEX(Base_Typologie!$A$6:$P$1003,MATCH(A297,Base_Typologie!$A:$A,0)-5,MATCH(Typologie_Espace_Public,Base_Typologie!$6:$6,0)),TableauScoreTypologie2,2,FALSE)*Crit6)","v":0},0,0,0,0,0,0,0,0,0,0,0,0,null,{"$f":"IF(Base_Arbres!A400<>\"\",VLOOKUP($A297,Base_Arbres,4,FALSE)*Crit7,\"\")","v":""}]
[{"$f":"IF(Base_Arbres!A298<>\"\",Base_Arbres!A298,\"\")","v":""},{"$f":"IF(Base_Arbres!A298<>\"\",VLOOKUP($A298,Base_Arbres,3,FALSE)*Crit1,\"\")","v":""},{"$f":"IF(Base_Arbres!A298<>\"\",VLOOKUP($A298,Base_Arbres,4,FALSE)*Crit2,\"\")","v":""},{"$f":"IF(Base_Arbres!A298<>\"\",VLOOKUP($A298,Base_Arbres,5,FALSE)*Crit3,\"\")","v":""},{"$f":"IF(Base_Arbres!A298<>\"\",VLOOKUP($A298,Base_Arbres,6,FALSE)*Crit4,\"\")","v":""},{"$f":"IF(Base_Arbres!B298<>\"\",VLOOKUP($A298,Base_Arbres,7,FALSE)*Crit5,\"\")","v":""},{"$f":"IF(Base_Arbres!C298<>\"\",VLOOKUP($A298,Base_Arbres,8,FALSE)*crit8,\"\")","v":""},{"$f":"IF(Base_Arbres!D298<>\"\",VLOOKUP($A298,Base_Arbres,9,FALSE)*crit9,\"\")","v":""},{"$f":"IF(ISNA(VLOOKUP(INDEX(Base_Typologie!$A$6:$P$1003,MATCH(A298,Base_Typologie!$A:$A,0)-5,MATCH(Typologie_Espace_Public,Base_Typologie!$6:$6,0)),TableauScoreTypologie2,2,FALSE)*Crit6),0,VLOOKUP(INDEX(Base_Typologie!$A$6:$P$1003,MATCH(A298,Base_Typologie!$A:$A,0)-5,MATCH(Typologie_Espace_Public,Base_Typologie!$6:$6,0)),TableauScoreTypologie2,2,FALSE)*Crit6)","v":0},0,0,0,0,0,0,0,0,0,0,0,0,null,{"$f":"IF(Base_Arbres!A401<>\"\",VLOOKUP($A298,Base_Arbres,4,FALSE)*Crit7,\"\")","v":""}]
[{"$f":"IF(Base_Arbres!A299<>\"\",Base_Arbres!A299,\"\")","v":""},{"$f":"IF(Base_Arbres!A299<>\"\",VLOOKUP($A299,Base_Arbres,3,FALSE)*Crit1,\"\")","v":""},{"$f":"IF(Base_Arbres!A299<>\"\",VLOOKUP($A299,Base_Arbres,4,FALSE)*Crit2,\"\")","v":""},{"$f":"IF(Base_Arbres!A299<>\"\",VLOOKUP($A299,Base_Arbres,5,FALSE)*Crit3,\"\")","v":""},{"$f":"IF(Base_Arbres!A299<>\"\",VLOOKUP($A299,Base_Arbres,6,FALSE)*Crit4,\"\")","v":""},{"$f":"IF(Base_Arbres!B299<>\"\",VLOOKUP($A299,Base_Arbres,7,FALSE)*Crit5,\"\")","v":""},{"$f":"IF(Base_Arbres!C299<>\"\",VLOOKUP($A299,Base_Arbres,8,FALSE)*crit8,\"\")","v":""},{"$f":"IF(Base_Arbres!D299<>\"\",VLOOKUP($A299,Base_Arbres,9,FALSE)*crit9,\"\")","v":""},{"$f":"IF(ISNA(VLOOKUP(INDEX(Base_Typologie!$A$6:$P$1003,MATCH(A299,Base_Typologie!$A:$A,0)-5,MATCH(Typologie_Espace_Public,Base_Typologie!$6:$6,0)),TableauScoreTypologie2,2,FALSE)*Crit6),0,VLOOKUP(INDEX(Base_Typologie!$A$6:$P$1003,MATCH(A299,Base_Typologie!$A:$A,0)-5,MATCH(Typologie_Espace_Public,Base_Typologie!$6:$6,0)),TableauScoreTypologie2,2,FALSE)*Crit6)","v":0},0,0,0,0,0,0,0,0,0,0,0,0,null,{"$f":"IF(Base_Arbres!A402<>\"\",VLOOKUP($A299,Base_Arbres,4,FALSE)*Crit7,\"\")","v":""}]
[{"$f":"IF(Base_Arbres!A300<>\"\",Base_Arbres!A300,\"\")","v":""},{"$f":"IF(Base_Arbres!A300<>\"\",VLOOKUP($A300,Base_Arbres,3,FALSE)*Crit1,\"\")","v":""},{"$f":"IF(Base_Arbres!A300<>\"\",VLOOKUP($A300,Base_Arbres,4,FALSE)*Crit2,\"\")","v":""},{"$f":"IF(Base_Arbres!A300<>\"\",VLOOKUP($A300,Base_Arbres,5,FALSE)*Crit3,\"\")","v":""},{"$f":"IF(Base_Arbres!A300<>\"\",VLOOKUP($A300,Base_Arbres,6,FALSE)*Crit4,\"\")","v":""},{"$f":"IF(Base_Arbres!B300<>\"\",VLOOKUP($A300,Base_Arbres,7,FALSE)*Crit5,\"\")","v":""},{"$f":"IF(Base_Arbres!C300<>\"\",VLOOKUP($A300,Base_Arbres,8,FALSE)*crit8,\"\")","v":""},{"$f":"IF(Base_Arbres!D300<>\"\",VLOOKUP($A300,Base_Arbres,9,FALSE)*crit9,\"\")","v":""},{"$f":"IF(ISNA(VLOOKUP(INDEX(Base_Typologie!$A$6:$P$1003,MATCH(A300,Base_Typologie!$A:$A,0)-5,MATCH(Typologie_Espace_Public,Base_Typologie!$6:$6,0)),TableauScoreTypologie2,2,FALSE)*Crit6),0,VLOOKUP(INDEX(Base_Typologie!$A$6:$P$1003,MATCH(A300,Base_Typologie!$A:$A,0)-5,MATCH(Typologie_Espace_Public,Base_Typologie!$6:$6,0)),TableauScoreTypologie2,2,FALSE)*Crit6)","v":0},0,0,0,0,0,0,0,0,0,0,0,0,null,{"$f":"IF(Base_Arbres!A403<>\"\",VLOOKUP($A300,Base_Arbres,4,FALSE)*Crit7,\"\")","v":""}]
[{"$f":"IF(Base_Arbres!A301<>\"\",Base_Arbres!A301,\"\")","v":""},{"$f":"IF(Base_Arbres!A301<>\"\",VLOOKUP($A301,Base_Arbres,3,FALSE)*Crit1,\"\")","v":""},{"$f":"IF(Base_Arbres!A301<>\"\",VLOOKUP($A301,Base_Arbres,4,FALSE)*Crit2,\"\")","v":""},{"$f":"IF(Base_Arbres!A301<>\"\",VLOOKUP($A301,Base_Arbres,5,FALSE)*Crit3,\"\")","v":""},{"$f":"IF(Base_Arbres!A301<>\"\",VLOOKUP($A301,Base_Arbres,6,FALSE)*Crit4,\"\")","v":""},{"$f":"IF(Base_Arbres!B301<>\"\",VLOOKUP($A301,Base_Arbres,7,FALSE)*Crit5,\"\")","v":""},{"$f":"IF(Base_Arbres!C301<>\"\",VLOOKUP($A301,Base_Arbres,8,FALSE)*crit8,\"\")","v":""},{"$f":"IF(Base_Arbres!D301<>\"\",VLOOKUP($A301,Base_Arbres,9,FALSE)*crit9,\"\")","v":""},{"$f":"IF(ISNA(VLOOKUP(INDEX(Base_Typologie!$A$6:$P$1003,MATCH(A301,Base_Typologie!$A:$A,0)-5,MATCH(Typologie_Espace_Public,Base_Typologie!$6:$6,0)),TableauScoreTypologie2,2,FALSE)*Crit6),0,VLOOKUP(INDEX(Base_Typologie!$A$6:$P$1003,MATCH(A301,Base_Typologie!$A:$A,0)-5,MATCH(Typologie_Espace_Public,Base_Typologie!$6:$6,0)),TableauScoreTypologie2,2,FALSE)*Crit6)","v":0},0,0,0,0,0,0,0,0,0,0,0,0,null,{"$f":"IF(Base_Arbres!A404<>\"\",VLOOKUP($A301,Base_Arbres,4,FALSE)*Crit7,\"\")","v":""}]
[{"$f":"IF(Base_Arbres!A302<>\"\",Base_Arbres!A302,\"\")","v":""},{"$f":"IF(Base_Arbres!A302<>\"\",VLOOKUP($A302,Base_Arbres,3,FALSE)*Crit1,\"\")","v":""},{"$f":"IF(Base_Arbres!A302<>\"\",VLOOKUP($A302,Base_Arbres,4,FALSE)*Crit2,\"\")","v":""},{"$f":"IF(Base_Arbres!A302<>\"\",VLOOKUP($A302,Base_Arbres,5,FALSE)*Crit3,\"\")","v":""},{"$f":"IF(Base_Arbres!A302<>\"\",VLOOKUP($A302,Base_Arbres,6,FALSE)*Crit4,\"\")","v":""},{"$f":"IF(Base_Arbres!B302<>\"\",VLOOKUP($A302,Base_Arbres,7,FALSE)*Crit5,\"\")","v":""},{"$f":"IF(Base_Arbres!C302<>\"\",VLOOKUP($A302,Base_Arbres,8,FALSE)*crit8,\"\")","v":""},{"$f":"IF(Base_Arbres!D302<>\"\",VLOOKUP($A302,Base_Arbres,9,FALSE)*crit9,\"\")","v":""},{"$f":"IF(ISNA(VLOOKUP(INDEX(Base_Typologie!$A$6:$P$1003,MATCH(A302,Base_Typologie!$A:$A,0)-5,MATCH(Typologie_Espace_Public,Base_Typologie!$6:$6,0)),TableauScoreTypologie2,2,FALSE)*Crit6),0,VLOOKUP(INDEX(Base_Typologie!$A$6:$P$1003,MATCH(A302,Base_Typologie!$A:$A,0)-5,MATCH(Typologie_Espace_Public,Base_Typologie!$6:$6,0)),TableauScoreTypologie2,2,FALSE)*Crit6)","v":0},0,0,0,0,0,0,0,0,0,0,0,0,null,{"$f":"IF(Base_Arbres!A405<>\"\",VLOOKUP($A302,Base_Arbres,4,FALSE)*Crit7,\"\")","v":""}]
[{"$f":"IF(Base_Arbres!A303<>\"\",Base_Arbres!A303,\"\")","v":""},{"$f":"IF(Base_Arbres!A303<>\"\",VLOOKUP($A303,Base_Arbres,3,FALSE)*Crit1,\"\")","v":""},{"$f":"IF(Base_Arbres!A303<>\"\",VLOOKUP($A303,Base_Arbres,4,FALSE)*Crit2,\"\")","v":""},{"$f":"IF(Base_Arbres!A303<>\"\",VLOOKUP($A303,Base_Arbres,5,FALSE)*Crit3,\"\")","v":""},{"$f":"IF(Base_Arbres!A303<>\"\",VLOOKUP($A303,Base_Arbres,6,FALSE)*Crit4,\"\")","v":""},{"$f":"IF(Base_Arbres!B303<>\"\",VLOOKUP($A303,Base_Arbres,7,FALSE)*Crit5,\"\")","v":""},{"$f":"IF(Base_Arbres!C303<>\"\",VLOOKUP($A303,Base_Arbres,8,FALSE)*crit8,\"\")","v":""},{"$f":"IF(Base_Arbres!D303<>\"\",VLOOKUP($A303,Base_Arbres,9,FALSE)*crit9,\"\")","v":""},{"$f":"IF(ISNA(VLOOKUP(INDEX(Base_Typologie!$A$6:$P$1003,MATCH(A303,Base_Typologie!$A:$A,0)-5,MATCH(Typologie_Espace_Public,Base_Typologie!$6:$6,0)),TableauScoreTypologie2,2,FALSE)*Crit6),0,VLOOKUP(INDEX(Base_Typologie!$A$6:$P$1003,MATCH(A303,Base_Typologie!$A:$A,0)-5,MATCH(Typologie_Espace_Public,Base_Typologie!$6:$6,0)),TableauScoreTypologie2,2,FALSE)*Crit6)","v":0},0,0,0,0,0,0,0,0,0,0,0,0,null,{"$f":"IF(Base_Arbres!A406<>\"\",VLOOKUP($A303,Base_Arbres,4,FALSE)*Crit7,\"\")","v":""}]
[{"$f":"IF(Base_Arbres!A304<>\"\",Base_Arbres!A304,\"\")","v":""},{"$f":"IF(Base_Arbres!A304<>\"\",VLOOKUP($A304,Base_Arbres,3,FALSE)*Crit1,\"\")","v":""},{"$f":"IF(Base_Arbres!A304<>\"\",VLOOKUP($A304,Base_Arbres,4,FALSE)*Crit2,\"\")","v":""},{"$f":"IF(Base_Arbres!A304<>\"\",VLOOKUP($A304,Base_Arbres,5,FALSE)*Crit3,\"\")","v":""},{"$f":"IF(Base_Arbres!A304<>\"\",VLOOKUP($A304,Base_Arbres,6,FALSE)*Crit4,\"\")","v":""},{"$f":"IF(Base_Arbres!B304<>\"\",VLOOKUP($A304,Base_Arbres,7,FALSE)*Crit5,\"\")","v":""},{"$f":"IF(Base_Arbres!C304<>\"\",VLOOKUP($A304,Base_Arbres,8,FALSE)*crit8,\"\")","v":""},{"$f":"IF(Base_Arbres!D304<>\"\",VLOOKUP($A304,Base_Arbres,9,FALSE)*crit9,\"\")","v":""},{"$f":"IF(ISNA(VLOOKUP(INDEX(Base_Typologie!$A$6:$P$1003,MATCH(A304,Base_Typologie!$A:$A,0)-5,MATCH(Typologie_Espace_Public,Base_Typologie!$6:$6,0)),TableauScoreTypologie2,2,FALSE)*Crit6),0,VLOOKUP(INDEX(Base_Typologie!$A$6:$P$1003,MATCH(A304,Base_Typologie!$A:$A,0)-5,MATCH(Typologie_Espace_Public,Base_Typologie!$6:$6,0)),TableauScoreTypologie2,2,FALSE)*Crit6)","v":0},0,0,0,0,0,0,0,0,0,0,0,0,null,{"$f":"IF(Base_Arbres!A407<>\"\",VLOOKUP($A304,Base_Arbres,4,FALSE)*Crit7,\"\")","v":""}]
[{"$f":"IF(Base_Arbres!A305<>\"\",Base_Arbres!A305,\"\")","v":""},{"$f":"IF(Base_Arbres!A305<>\"\",VLOOKUP($A305,Base_Arbres,3,FALSE)*Crit1,\"\")","v":""},{"$f":"IF(Base_Arbres!A305<>\"\",VLOOKUP($A305,Base_Arbres,4,FALSE)*Crit2,\"\")","v":""},{"$f":"IF(Base_Arbres!A305<>\"\",VLOOKUP($A305,Base_Arbres,5,FALSE)*Crit3,\"\")","v":""},{"$f":"IF(Base_Arbres!A305<>\"\",VLOOKUP($A305,Base_Arbres,6,FALSE)*Crit4,\"\")","v":""},{"$f":"IF(Base_Arbres!B305<>\"\",VLOOKUP($A305,Base_Arbres,7,FALSE)*Crit5,\"\")","v":""},{"$f":"IF(Base_Arbres!C305<>\"\",VLOOKUP($A305,Base_Arbres,8,FALSE)*crit8,\"\")","v":""},{"$f":"IF(Base_Arbres!D305<>\"\",VLOOKUP($A305,Base_Arbres,9,FALSE)*crit9,\"\")","v":""},{"$f":"IF(ISNA(VLOOKUP(INDEX(Base_Typologie!$A$6:$P$1003,MATCH(A305,Base_Typologie!$A:$A,0)-5,MATCH(Typologie_Espace_Public,Base_Typologie!$6:$6,0)),TableauScoreTypologie2,2,FALSE)*Crit6),0,VLOOKUP(INDEX(Base_Typologie!$A$6:$P$1003,MATCH(A305,Base_Typologie!$A:$A,0)-5,MATCH(Typologie_Espace_Public,Base_Typologie!$6:$6,0)),TableauScoreTypologie2,2,FALSE)*Crit6)","v":0},0,0,0,0,0,0,0,0,0,0,0,0,null,{"$f":"IF(Base_Arbres!A408<>\"\",VLOOKUP($A305,Base_Arbres,4,FALSE)*Crit7,\"\")","v":""}]
[{"$f":"IF(Base_Arbres!A306<>\"\",Base_Arbres!A306,\"\")","v":""},{"$f":"IF(Base_Arbres!A306<>\"\",VLOOKUP($A306,Base_Arbres,3,FALSE)*Crit1,\"\")","v":""},{"$f":"IF(Base_Arbres!A306<>\"\",VLOOKUP($A306,Base_Arbres,4,FALSE)*Crit2,\"\")","v":""},{"$f":"IF(Base_Arbres!A306<>\"\",VLOOKUP($A306,Base_Arbres,5,FALSE)*Crit3,\"\")","v":""},{"$f":"IF(Base_Arbres!A306<>\"\",VLOOKUP($A306,Base_Arbres,6,FALSE)*Crit4,\"\")","v":""},{"$f":"IF(Base_Arbres!B306<>\"\",VLOOKUP($A306,Base_Arbres,7,FALSE)*Crit5,\"\")","v":""},{"$f":"IF(Base_Arbres!C306<>\"\",VLOOKUP($A306,Base_Arbres,8,FALSE)*crit8,\"\")","v":""},{"$f":"IF(Base_Arbres!D306<>\"\",VLOOKUP($A306,Base_Arbres,9,FALSE)*crit9,\"\")","v":""},{"$f":"IF(ISNA(VLOOKUP(INDEX(Base_Typologie!$A$6:$P$1003,MATCH(A306,Base_Typologie!$A:$A,0)-5,MATCH(Typologie_Espace_Public,Base_Typologie!$6:$6,0)),TableauScoreTypologie2,2,FALSE)*Crit6),0,VLOOKUP(INDEX(Base_Typologie!$A$6:$P$1003,MATCH(A306,Base_Typologie!$A:$A,0)-5,MATCH(Typologie_Espace_Public,Base_Typologie!$6:$6,0)),TableauScoreTypologie2,2,FALSE)*Crit6)","v":0},0,0,0,0,0,0,0,0,0,0,0,0,null,{"$f":"IF(Base_Arbres!A409<>\"\",VLOOKUP($A306,Base_Arbres,4,FALSE)*Crit7,\"\")","v":""}]
[{"$f":"IF(Base_Arbres!A307<>\"\",Base_Arbres!A307,\"\")","v":""},{"$f":"IF(Base_Arbres!A307<>\"\",VLOOKUP($A307,Base_Arbres,3,FALSE)*Crit1,\"\")","v":""},{"$f":"IF(Base_Arbres!A307<>\"\",VLOOKUP($A307,Base_Arbres,4,FALSE)*Crit2,\"\")","v":""},{"$f":"IF(Base_Arbres!A307<>\"\",VLOOKUP($A307,Base_Arbres,5,FALSE)*Crit3,\"\")","v":""},{"$f":"IF(Base_Arbres!A307<>\"\",VLOOKUP($A307,Base_Arbres,6,FALSE)*Crit4,\"\")","v":""},{"$f":"IF(Base_Arbres!B307<>\"\",VLOOKUP($A307,Base_Arbres,7,FALSE)*Crit5,\"\")","v":""},{"$f":"IF(Base_Arbres!C307<>\"\",VLOOKUP($A307,Base_Arbres,8,FALSE)*crit8,\"\")","v":""},{"$f":"IF(Base_Arbres!D307<>\"\",VLOOKUP($A307,Base_Arbres,9,FALSE)*crit9,\"\")","v":""},{"$f":"IF(ISNA(VLOOKUP(INDEX(Base_Typologie!$A$6:$P$1003,MATCH(A307,Base_Typologie!$A:$A,0)-5,MATCH(Typologie_Espace_Public,Base_Typologie!$6:$6,0)),TableauScoreTypologie2,2,FALSE)*Crit6),0,VLOOKUP(INDEX(Base_Typologie!$A$6:$P$1003,MATCH(A307,Base_Typologie!$A:$A,0)-5,MATCH(Typologie_Espace_Public,Base_Typologie!$6:$6,0)),TableauScoreTypologie2,2,FALSE)*Crit6)","v":0},0,0,0,0,0,0,0,0,0,0,0,0,null,{"$f":"IF(Base_Arbres!A410<>\"\",VLOOKUP($A307,Base_Arbres,4,FALSE)*Crit7,\"\")","v":""}]
[{"$f":"IF(Base_Arbres!A308<>\"\",Base_Arbres!A308,\"\")","v":""},{"$f":"IF(Base_Arbres!A308<>\"\",VLOOKUP($A308,Base_Arbres,3,FALSE)*Crit1,\"\")","v":""},{"$f":"IF(Base_Arbres!A308<>\"\",VLOOKUP($A308,Base_Arbres,4,FALSE)*Crit2,\"\")","v":""},{"$f":"IF(Base_Arbres!A308<>\"\",VLOOKUP($A308,Base_Arbres,5,FALSE)*Crit3,\"\")","v":""},{"$f":"IF(Base_Arbres!A308<>\"\",VLOOKUP($A308,Base_Arbres,6,FALSE)*Crit4,\"\")","v":""},{"$f":"IF(Base_Arbres!B308<>\"\",VLOOKUP($A308,Base_Arbres,7,FALSE)*Crit5,\"\")","v":""},{"$f":"IF(Base_Arbres!C308<>\"\",VLOOKUP($A308,Base_Arbres,8,FALSE)*crit8,\"\")","v":""},{"$f":"IF(Base_Arbres!D308<>\"\",VLOOKUP($A308,Base_Arbres,9,FALSE)*crit9,\"\")","v":""},{"$f":"IF(ISNA(VLOOKUP(INDEX(Base_Typologie!$A$6:$P$1003,MATCH(A308,Base_Typologie!$A:$A,0)-5,MATCH(Typologie_Espace_Public,Base_Typologie!$6:$6,0)),TableauScoreTypologie2,2,FALSE)*Crit6),0,VLOOKUP(INDEX(Base_Typologie!$A$6:$P$1003,MATCH(A308,Base_Typologie!$A:$A,0)-5,MATCH(Typologie_Espace_Public,Base_Typologie!$6:$6,0)),TableauScoreTypologie2,2,FALSE)*Crit6)","v":0},0,0,0,0,0,0,0,0,0,0,0,0,null,{"$f":"IF(Base_Arbres!A411<>\"\",VLOOKUP($A308,Base_Arbres,4,FALSE)*Crit7,\"\")","v":""}]
[{"$f":"IF(Base_Arbres!A309<>\"\",Base_Arbres!A309,\"\")","v":""},{"$f":"IF(Base_Arbres!A309<>\"\",VLOOKUP($A309,Base_Arbres,3,FALSE)*Crit1,\"\")","v":""},{"$f":"IF(Base_Arbres!A309<>\"\",VLOOKUP($A309,Base_Arbres,4,FALSE)*Crit2,\"\")","v":""},{"$f":"IF(Base_Arbres!A309<>\"\",VLOOKUP($A309,Base_Arbres,5,FALSE)*Crit3,\"\")","v":""},{"$f":"IF(Base_Arbres!A309<>\"\",VLOOKUP($A309,Base_Arbres,6,FALSE)*Crit4,\"\")","v":""},{"$f":"IF(Base_Arbres!B309<>\"\",VLOOKUP($A309,Base_Arbres,7,FALSE)*Crit5,\"\")","v":""},{"$f":"IF(Base_Arbres!C309<>\"\",VLOOKUP($A309,Base_Arbres,8,FALSE)*crit8,\"\")","v":""},{"$f":"IF(Base_Arbres!D309<>\"\",VLOOKUP($A309,Base_Arbres,9,FALSE)*crit9,\"\")","v":""},{"$f":"IF(ISNA(VLOOKUP(INDEX(Base_Typologie!$A$6:$P$1003,MATCH(A309,Base_Typologie!$A:$A,0)-5,MATCH(Typologie_Espace_Public,Base_Typologie!$6:$6,0)),TableauScoreTypologie2,2,FALSE)*Crit6),0,VLOOKUP(INDEX(Base_Typologie!$A$6:$P$1003,MATCH(A309,Base_Typologie!$A:$A,0)-5,MATCH(Typologie_Espace_Public,Base_Typologie!$6:$6,0)),TableauScoreTypologie2,2,FALSE)*Crit6)","v":0},0,0,0,0,0,0,0,0,0,0,0,0,null,{"$f":"IF(Base_Arbres!A412<>\"\",VLOOKUP($A309,Base_Arbres,4,FALSE)*Crit7,\"\")","v":""}]
[{"$f":"IF(Base_Arbres!A310<>\"\",Base_Arbres!A310,\"\")","v":""},{"$f":"IF(Base_Arbres!A310<>\"\",VLOOKUP($A310,Base_Arbres,3,FALSE)*Crit1,\"\")","v":""},{"$f":"IF(Base_Arbres!A310<>\"\",VLOOKUP($A310,Base_Arbres,4,FALSE)*Crit2,\"\")","v":""},{"$f":"IF(Base_Arbres!A310<>\"\",VLOOKUP($A310,Base_Arbres,5,FALSE)*Crit3,\"\")","v":""},{"$f":"IF(Base_Arbres!A310<>\"\",VLOOKUP($A310,Base_Arbres,6,FALSE)*Crit4,\"\")","v":""},{"$f":"IF(Base_Arbres!B310<>\"\",VLOOKUP($A310,Base_Arbres,7,FALSE)*Crit5,\"\")","v":""},{"$f":"IF(Base_Arbres!C310<>\"\",VLOOKUP($A310,Base_Arbres,8,FALSE)*crit8,\"\")","v":""},{"$f":"IF(Base_Arbres!D310<>\"\",VLOOKUP($A310,Base_Arbres,9,FALSE)*crit9,\"\")","v":""},{"$f":"IF(ISNA(VLOOKUP(INDEX(Base_Typologie!$A$6:$P$1003,MATCH(A310,Base_Typologie!$A:$A,0)-5,MATCH(Typologie_Espace_Public,Base_Typologie!$6:$6,0)),TableauScoreTypologie2,2,FALSE)*Crit6),0,VLOOKUP(INDEX(Base_Typologie!$A$6:$P$1003,MATCH(A310,Base_Typologie!$A:$A,0)-5,MATCH(Typologie_Espace_Public,Base_Typologie!$6:$6,0)),TableauScoreTypologie2,2,FALSE)*Crit6)","v":0},0,0,0,0,0,0,0,0,0,0,0,0,null,{"$f":"IF(Base_Arbres!A413<>\"\",VLOOKUP($A310,Base_Arbres,4,FALSE)*Crit7,\"\")","v":""}]
[{"$f":"IF(Base_Arbres!A311<>\"\",Base_Arbres!A311,\"\")","v":""},{"$f":"IF(Base_Arbres!A311<>\"\",VLOOKUP($A311,Base_Arbres,3,FALSE)*Crit1,\"\")","v":""},{"$f":"IF(Base_Arbres!A311<>\"\",VLOOKUP($A311,Base_Arbres,4,FALSE)*Crit2,\"\")","v":""},{"$f":"IF(Base_Arbres!A311<>\"\",VLOOKUP($A311,Base_Arbres,5,FALSE)*Crit3,\"\")","v":""},{"$f":"IF(Base_Arbres!A311<>\"\",VLOOKUP($A311,Base_Arbres,6,FALSE)*Crit4,\"\")","v":""},{"$f":"IF(Base_Arbres!B311<>\"\",VLOOKUP($A311,Base_Arbres,7,FALSE)*Crit5,\"\")","v":""},{"$f":"IF(Base_Arbres!C311<>\"\",VLOOKUP($A311,Base_Arbres,8,FALSE)*crit8,\"\")","v":""},{"$f":"IF(Base_Arbres!D311<>\"\",VLOOKUP($A311,Base_Arbres,9,FALSE)*crit9,\"\")","v":""},{"$f":"IF(ISNA(VLOOKUP(INDEX(Base_Typologie!$A$6:$P$1003,MATCH(A311,Base_Typologie!$A:$A,0)-5,MATCH(Typologie_Espace_Public,Base_Typologie!$6:$6,0)),TableauScoreTypologie2,2,FALSE)*Crit6),0,VLOOKUP(INDEX(Base_Typologie!$A$6:$P$1003,MATCH(A311,Base_Typologie!$A:$A,0)-5,MATCH(Typologie_Espace_Public,Base_Typologie!$6:$6,0)),TableauScoreTypologie2,2,FALSE)*Crit6)","v":0},0,0,0,0,0,0,0,0,0,0,0,0,null,{"$f":"IF(Base_Arbres!A414<>\"\",VLOOKUP($A311,Base_Arbres,4,FALSE)*Crit7,\"\")","v":""}]
[{"$f":"IF(Base_Arbres!A312<>\"\",Base_Arbres!A312,\"\")","v":""},{"$f":"IF(Base_Arbres!A312<>\"\",VLOOKUP($A312,Base_Arbres,3,FALSE)*Crit1,\"\")","v":""},{"$f":"IF(Base_Arbres!A312<>\"\",VLOOKUP($A312,Base_Arbres,4,FALSE)*Crit2,\"\")","v":""},{"$f":"IF(Base_Arbres!A312<>\"\",VLOOKUP($A312,Base_Arbres,5,FALSE)*Crit3,\"\")","v":""},{"$f":"IF(Base_Arbres!A312<>\"\",VLOOKUP($A312,Base_Arbres,6,FALSE)*Crit4,\"\")","v":""},{"$f":"IF(Base_Arbres!B312<>\"\",VLOOKUP($A312,Base_Arbres,7,FALSE)*Crit5,\"\")","v":""},{"$f":"IF(Base_Arbres!C312<>\"\",VLOOKUP($A312,Base_Arbres,8,FALSE)*crit8,\"\")","v":""},{"$f":"IF(Base_Arbres!D312<>\"\",VLOOKUP($A312,Base_Arbres,9,FALSE)*crit9,\"\")","v":""},{"$f":"IF(ISNA(VLOOKUP(INDEX(Base_Typologie!$A$6:$P$1003,MATCH(A312,Base_Typologie!$A:$A,0)-5,MATCH(Typologie_Espace_Public,Base_Typologie!$6:$6,0)),TableauScoreTypologie2,2,FALSE)*Crit6),0,VLOOKUP(INDEX(Base_Typologie!$A$6:$P$1003,MATCH(A312,Base_Typologie!$A:$A,0)-5,MATCH(Typologie_Espace_Public,Base_Typologie!$6:$6,0)),TableauScoreTypologie2,2,FALSE)*Crit6)","v":0},0,0,0,0,0,0,0,0,0,0,0,0,null,{"$f":"IF(Base_Arbres!A415<>\"\",VLOOKUP($A312,Base_Arbres,4,FALSE)*Crit7,\"\")","v":""}]
[{"$f":"IF(Base_Arbres!A313<>\"\",Base_Arbres!A313,\"\")","v":""},{"$f":"IF(Base_Arbres!A313<>\"\",VLOOKUP($A313,Base_Arbres,3,FALSE)*Crit1,\"\")","v":""},{"$f":"IF(Base_Arbres!A313<>\"\",VLOOKUP($A313,Base_Arbres,4,FALSE)*Crit2,\"\")","v":""},{"$f":"IF(Base_Arbres!A313<>\"\",VLOOKUP($A313,Base_Arbres,5,FALSE)*Crit3,\"\")","v":""},{"$f":"IF(Base_Arbres!A313<>\"\",VLOOKUP($A313,Base_Arbres,6,FALSE)*Crit4,\"\")","v":""},{"$f":"IF(Base_Arbres!B313<>\"\",VLOOKUP($A313,Base_Arbres,7,FALSE)*Crit5,\"\")","v":""},{"$f":"IF(Base_Arbres!C313<>\"\",VLOOKUP($A313,Base_Arbres,8,FALSE)*crit8,\"\")","v":""},{"$f":"IF(Base_Arbres!D313<>\"\",VLOOKUP($A313,Base_Arbres,9,FALSE)*crit9,\"\")","v":""},{"$f":"IF(ISNA(VLOOKUP(INDEX(Base_Typologie!$A$6:$P$1003,MATCH(A313,Base_Typologie!$A:$A,0)-5,MATCH(Typologie_Espace_Public,Base_Typologie!$6:$6,0)),TableauScoreTypologie2,2,FALSE)*Crit6),0,VLOOKUP(INDEX(Base_Typologie!$A$6:$P$1003,MATCH(A313,Base_Typologie!$A:$A,0)-5,MATCH(Typologie_Espace_Public,Base_Typologie!$6:$6,0)),TableauScoreTypologie2,2,FALSE)*Crit6)","v":0},0,0,0,0,0,0,0,0,0,0,0,0,null,{"$f":"IF(Base_Arbres!A416<>\"\",VLOOKUP($A313,Base_Arbres,4,FALSE)*Crit7,\"\")","v":""}]
[{"$f":"IF(Base_Arbres!A314<>\"\",Base_Arbres!A314,\"\")","v":""},{"$f":"IF(Base_Arbres!A314<>\"\",VLOOKUP($A314,Base_Arbres,3,FALSE)*Crit1,\"\")","v":""},{"$f":"IF(Base_Arbres!A314<>\"\",VLOOKUP($A314,Base_Arbres,4,FALSE)*Crit2,\"\")","v":""},{"$f":"IF(Base_Arbres!A314<>\"\",VLOOKUP($A314,Base_Arbres,5,FALSE)*Crit3,\"\")","v":""},{"$f":"IF(Base_Arbres!A314<>\"\",VLOOKUP($A314,Base_Arbres,6,FALSE)*Crit4,\"\")","v":""},{"$f":"IF(Base_Arbres!B314<>\"\",VLOOKUP($A314,Base_Arbres,7,FALSE)*Crit5,\"\")","v":""},{"$f":"IF(Base_Arbres!C314<>\"\",VLOOKUP($A314,Base_Arbres,8,FALSE)*crit8,\"\")","v":""},{"$f":"IF(Base_Arbres!D314<>\"\",VLOOKUP($A314,Base_Arbres,9,FALSE)*crit9,\"\")","v":""},{"$f":"IF(ISNA(VLOOKUP(INDEX(Base_Typologie!$A$6:$P$1003,MATCH(A314,Base_Typologie!$A:$A,0)-5,MATCH(Typologie_Espace_Public,Base_Typologie!$6:$6,0)),TableauScoreTypologie2,2,FALSE)*Crit6),0,VLOOKUP(INDEX(Base_Typologie!$A$6:$P$1003,MATCH(A314,Base_Typologie!$A:$A,0)-5,MATCH(Typologie_Espace_Public,Base_Typologie!$6:$6,0)),TableauScoreTypologie2,2,FALSE)*Crit6)","v":0},0,0,0,0,0,0,0,0,0,0,0,0,null,{"$f":"IF(Base_Arbres!A417<>\"\",VLOOKUP($A314,Base_Arbres,4,FALSE)*Crit7,\"\")","v":""}]
[{"$f":"IF(Base_Arbres!A315<>\"\",Base_Arbres!A315,\"\")","v":""},{"$f":"IF(Base_Arbres!A315<>\"\",VLOOKUP($A315,Base_Arbres,3,FALSE)*Crit1,\"\")","v":""},{"$f":"IF(Base_Arbres!A315<>\"\",VLOOKUP($A315,Base_Arbres,4,FALSE)*Crit2,\"\")","v":""},{"$f":"IF(Base_Arbres!A315<>\"\",VLOOKUP($A315,Base_Arbres,5,FALSE)*Crit3,\"\")","v":""},{"$f":"IF(Base_Arbres!A315<>\"\",VLOOKUP($A315,Base_Arbres,6,FALSE)*Crit4,\"\")","v":""},{"$f":"IF(Base_Arbres!B315<>\"\",VLOOKUP($A315,Base_Arbres,7,FALSE)*Crit5,\"\")","v":""},{"$f":"IF(Base_Arbres!C315<>\"\",VLOOKUP($A315,Base_Arbres,8,FALSE)*crit8,\"\")","v":""},{"$f":"IF(Base_Arbres!D315<>\"\",VLOOKUP($A315,Base_Arbres,9,FALSE)*crit9,\"\")","v":""},{"$f":"IF(ISNA(VLOOKUP(INDEX(Base_Typologie!$A$6:$P$1003,MATCH(A315,Base_Typologie!$A:$A,0)-5,MATCH(Typologie_Espace_Public,Base_Typologie!$6:$6,0)),TableauScoreTypologie2,2,FALSE)*Crit6),0,VLOOKUP(INDEX(Base_Typologie!$A$6:$P$1003,MATCH(A315,Base_Typologie!$A:$A,0)-5,MATCH(Typologie_Espace_Public,Base_Typologie!$6:$6,0)),TableauScoreTypologie2,2,FALSE)*Crit6)","v":0},0,0,0,0,0,0,0,0,0,0,0,0,null,{"$f":"IF(Base_Arbres!A418<>\"\",VLOOKUP($A315,Base_Arbres,4,FALSE)*Crit7,\"\")","v":""}]
[{"$f":"IF(Base_Arbres!A316<>\"\",Base_Arbres!A316,\"\")","v":""},{"$f":"IF(Base_Arbres!A316<>\"\",VLOOKUP($A316,Base_Arbres,3,FALSE)*Crit1,\"\")","v":""},{"$f":"IF(Base_Arbres!A316<>\"\",VLOOKUP($A316,Base_Arbres,4,FALSE)*Crit2,\"\")","v":""},{"$f":"IF(Base_Arbres!A316<>\"\",VLOOKUP($A316,Base_Arbres,5,FALSE)*Crit3,\"\")","v":""},{"$f":"IF(Base_Arbres!A316<>\"\",VLOOKUP($A316,Base_Arbres,6,FALSE)*Crit4,\"\")","v":""},{"$f":"IF(Base_Arbres!B316<>\"\",VLOOKUP($A316,Base_Arbres,7,FALSE)*Crit5,\"\")","v":""},{"$f":"IF(Base_Arbres!C316<>\"\",VLOOKUP($A316,Base_Arbres,8,FALSE)*crit8,\"\")","v":""},{"$f":"IF(Base_Arbres!D316<>\"\",VLOOKUP($A316,Base_Arbres,9,FALSE)*crit9,\"\")","v":""},{"$f":"IF(ISNA(VLOOKUP(INDEX(Base_Typologie!$A$6:$P$1003,MATCH(A316,Base_Typologie!$A:$A,0)-5,MATCH(Typologie_Espace_Public,Base_Typologie!$6:$6,0)),TableauScoreTypologie2,2,FALSE)*Crit6),0,VLOOKUP(INDEX(Base_Typologie!$A$6:$P$1003,MATCH(A316,Base_Typologie!$A:$A,0)-5,MATCH(Typologie_Espace_Public,Base_Typologie!$6:$6,0)),TableauScoreTypologie2,2,FALSE)*Crit6)","v":0},0,0,0,0,0,0,0,0,0,0,0,0,null,{"$f":"IF(Base_Arbres!A419<>\"\",VLOOKUP($A316,Base_Arbres,4,FALSE)*Crit7,\"\")","v":""}]
[{"$f":"IF(Base_Arbres!A317<>\"\",Base_Arbres!A317,\"\")","v":""},{"$f":"IF(Base_Arbres!A317<>\"\",VLOOKUP($A317,Base_Arbres,3,FALSE)*Crit1,\"\")","v":""},{"$f":"IF(Base_Arbres!A317<>\"\",VLOOKUP($A317,Base_Arbres,4,FALSE)*Crit2,\"\")","v":""},{"$f":"IF(Base_Arbres!A317<>\"\",VLOOKUP($A317,Base_Arbres,5,FALSE)*Crit3,\"\")","v":""},{"$f":"IF(Base_Arbres!A317<>\"\",VLOOKUP($A317,Base_Arbres,6,FALSE)*Crit4,\"\")","v":""},{"$f":"IF(Base_Arbres!B317<>\"\",VLOOKUP($A317,Base_Arbres,7,FALSE)*Crit5,\"\")","v":""},{"$f":"IF(Base_Arbres!C317<>\"\",VLOOKUP($A317,Base_Arbres,8,FALSE)*crit8,\"\")","v":""},{"$f":"IF(Base_Arbres!D317<>\"\",VLOOKUP($A317,Base_Arbres,9,FALSE)*crit9,\"\")","v":""},{"$f":"IF(ISNA(VLOOKUP(INDEX(Base_Typologie!$A$6:$P$1003,MATCH(A317,Base_Typologie!$A:$A,0)-5,MATCH(Typologie_Espace_Public,Base_Typologie!$6:$6,0)),TableauScoreTypologie2,2,FALSE)*Crit6),0,VLOOKUP(INDEX(Base_Typologie!$A$6:$P$1003,MATCH(A317,Base_Typologie!$A:$A,0)-5,MATCH(Typologie_Espace_Public,Base_Typologie!$6:$6,0)),TableauScoreTypologie2,2,FALSE)*Crit6)","v":0},0,0,0,0,0,0,0,0,0,0,0,0,null,{"$f":"IF(Base_Arbres!A420<>\"\",VLOOKUP($A317,Base_Arbres,4,FALSE)*Crit7,\"\")","v":""}]
[{"$f":"IF(Base_Arbres!A318<>\"\",Base_Arbres!A318,\"\")","v":""},{"$f":"IF(Base_Arbres!A318<>\"\",VLOOKUP($A318,Base_Arbres,3,FALSE)*Crit1,\"\")","v":""},{"$f":"IF(Base_Arbres!A318<>\"\",VLOOKUP($A318,Base_Arbres,4,FALSE)*Crit2,\"\")","v":""},{"$f":"IF(Base_Arbres!A318<>\"\",VLOOKUP($A318,Base_Arbres,5,FALSE)*Crit3,\"\")","v":""},{"$f":"IF(Base_Arbres!A318<>\"\",VLOOKUP($A318,Base_Arbres,6,FALSE)*Crit4,\"\")","v":""},{"$f":"IF(Base_Arbres!B318<>\"\",VLOOKUP($A318,Base_Arbres,7,FALSE)*Crit5,\"\")","v":""},{"$f":"IF(Base_Arbres!C318<>\"\",VLOOKUP($A318,Base_Arbres,8,FALSE)*crit8,\"\")","v":""},{"$f":"IF(Base_Arbres!D318<>\"\",VLOOKUP($A318,Base_Arbres,9,FALSE)*crit9,\"\")","v":""},{"$f":"IF(ISNA(VLOOKUP(INDEX(Base_Typologie!$A$6:$P$1003,MATCH(A318,Base_Typologie!$A:$A,0)-5,MATCH(Typologie_Espace_Public,Base_Typologie!$6:$6,0)),TableauScoreTypologie2,2,FALSE)*Crit6),0,VLOOKUP(INDEX(Base_Typologie!$A$6:$P$1003,MATCH(A318,Base_Typologie!$A:$A,0)-5,MATCH(Typologie_Espace_Public,Base_Typologie!$6:$6,0)),TableauScoreTypologie2,2,FALSE)*Crit6)","v":0},0,0,0,0,0,0,0,0,0,0,0,0,null,{"$f":"IF(Base_Arbres!A421<>\"\",VLOOKUP($A318,Base_Arbres,4,FALSE)*Crit7,\"\")","v":""}]
[{"$f":"IF(Base_Arbres!A319<>\"\",Base_Arbres!A319,\"\")","v":""},{"$f":"IF(Base_Arbres!A319<>\"\",VLOOKUP($A319,Base_Arbres,3,FALSE)*Crit1,\"\")","v":""},{"$f":"IF(Base_Arbres!A319<>\"\",VLOOKUP($A319,Base_Arbres,4,FALSE)*Crit2,\"\")","v":""},{"$f":"IF(Base_Arbres!A319<>\"\",VLOOKUP($A319,Base_Arbres,5,FALSE)*Crit3,\"\")","v":""},{"$f":"IF(Base_Arbres!A319<>\"\",VLOOKUP($A319,Base_Arbres,6,FALSE)*Crit4,\"\")","v":""},{"$f":"IF(Base_Arbres!B319<>\"\",VLOOKUP($A319,Base_Arbres,7,FALSE)*Crit5,\"\")","v":""},{"$f":"IF(Base_Arbres!C319<>\"\",VLOOKUP($A319,Base_Arbres,8,FALSE)*crit8,\"\")","v":""},{"$f":"IF(Base_Arbres!D319<>\"\",VLOOKUP($A319,Base_Arbres,9,FALSE)*crit9,\"\")","v":""},{"$f":"IF(ISNA(VLOOKUP(INDEX(Base_Typologie!$A$6:$P$1003,MATCH(A319,Base_Typologie!$A:$A,0)-5,MATCH(Typologie_Espace_Public,Base_Typologie!$6:$6,0)),TableauScoreTypologie2,2,FALSE)*Crit6),0,VLOOKUP(INDEX(Base_Typologie!$A$6:$P$1003,MATCH(A319,Base_Typologie!$A:$A,0)-5,MATCH(Typologie_Espace_Public,Base_Typologie!$6:$6,0)),TableauScoreTypologie2,2,FALSE)*Crit6)","v":0},0,0,0,0,0,0,0,0,0,0,0,0,null,{"$f":"IF(Base_Arbres!A422<>\"\",VLOOKUP($A319,Base_Arbres,4,FALSE)*Crit7,\"\")","v":""}]
[{"$f":"IF(Base_Arbres!A320<>\"\",Base_Arbres!A320,\"\")","v":""},{"$f":"IF(Base_Arbres!A320<>\"\",VLOOKUP($A320,Base_Arbres,3,FALSE)*Crit1,\"\")","v":""},{"$f":"IF(Base_Arbres!A320<>\"\",VLOOKUP($A320,Base_Arbres,4,FALSE)*Crit2,\"\")","v":""},{"$f":"IF(Base_Arbres!A320<>\"\",VLOOKUP($A320,Base_Arbres,5,FALSE)*Crit3,\"\")","v":""},{"$f":"IF(Base_Arbres!A320<>\"\",VLOOKUP($A320,Base_Arbres,6,FALSE)*Crit4,\"\")","v":""},{"$f":"IF(Base_Arbres!B320<>\"\",VLOOKUP($A320,Base_Arbres,7,FALSE)*Crit5,\"\")","v":""},{"$f":"IF(Base_Arbres!C320<>\"\",VLOOKUP($A320,Base_Arbres,8,FALSE)*crit8,\"\")","v":""},{"$f":"IF(Base_Arbres!D320<>\"\",VLOOKUP($A320,Base_Arbres,9,FALSE)*crit9,\"\")","v":""},{"$f":"IF(ISNA(VLOOKUP(INDEX(Base_Typologie!$A$6:$P$1003,MATCH(A320,Base_Typologie!$A:$A,0)-5,MATCH(Typologie_Espace_Public,Base_Typologie!$6:$6,0)),TableauScoreTypologie2,2,FALSE)*Crit6),0,VLOOKUP(INDEX(Base_Typologie!$A$6:$P$1003,MATCH(A320,Base_Typologie!$A:$A,0)-5,MATCH(Typologie_Espace_Public,Base_Typologie!$6:$6,0)),TableauScoreTypologie2,2,FALSE)*Crit6)","v":0},0,0,0,0,0,0,0,0,0,0,0,0,null,{"$f":"IF(Base_Arbres!A423<>\"\",VLOOKUP($A320,Base_Arbres,4,FALSE)*Crit7,\"\")","v":""}]
[{"$f":"IF(Base_Arbres!A321<>\"\",Base_Arbres!A321,\"\")","v":""},{"$f":"IF(Base_Arbres!A321<>\"\",VLOOKUP($A321,Base_Arbres,3,FALSE)*Crit1,\"\")","v":""},{"$f":"IF(Base_Arbres!A321<>\"\",VLOOKUP($A321,Base_Arbres,4,FALSE)*Crit2,\"\")","v":""},{"$f":"IF(Base_Arbres!A321<>\"\",VLOOKUP($A321,Base_Arbres,5,FALSE)*Crit3,\"\")","v":""},{"$f":"IF(Base_Arbres!A321<>\"\",VLOOKUP($A321,Base_Arbres,6,FALSE)*Crit4,\"\")","v":""},{"$f":"IF(Base_Arbres!B321<>\"\",VLOOKUP($A321,Base_Arbres,7,FALSE)*Crit5,\"\")","v":""},{"$f":"IF(Base_Arbres!C321<>\"\",VLOOKUP($A321,Base_Arbres,8,FALSE)*crit8,\"\")","v":""},{"$f":"IF(Base_Arbres!D321<>\"\",VLOOKUP($A321,Base_Arbres,9,FALSE)*crit9,\"\")","v":""},{"$f":"IF(ISNA(VLOOKUP(INDEX(Base_Typologie!$A$6:$P$1003,MATCH(A321,Base_Typologie!$A:$A,0)-5,MATCH(Typologie_Espace_Public,Base_Typologie!$6:$6,0)),TableauScoreTypologie2,2,FALSE)*Crit6),0,VLOOKUP(INDEX(Base_Typologie!$A$6:$P$1003,MATCH(A321,Base_Typologie!$A:$A,0)-5,MATCH(Typologie_Espace_Public,Base_Typologie!$6:$6,0)),TableauScoreTypologie2,2,FALSE)*Crit6)","v":0},0,0,0,0,0,0,0,0,0,0,0,0,null,{"$f":"IF(Base_Arbres!A424<>\"\",VLOOKUP($A321,Base_Arbres,4,FALSE)*Crit7,\"\")","v":""}]
[{"$f":"IF(Base_Arbres!A322<>\"\",Base_Arbres!A322,\"\")","v":""},{"$f":"IF(Base_Arbres!A322<>\"\",VLOOKUP($A322,Base_Arbres,3,FALSE)*Crit1,\"\")","v":""},{"$f":"IF(Base_Arbres!A322<>\"\",VLOOKUP($A322,Base_Arbres,4,FALSE)*Crit2,\"\")","v":""},{"$f":"IF(Base_Arbres!A322<>\"\",VLOOKUP($A322,Base_Arbres,5,FALSE)*Crit3,\"\")","v":""},{"$f":"IF(Base_Arbres!A322<>\"\",VLOOKUP($A322,Base_Arbres,6,FALSE)*Crit4,\"\")","v":""},{"$f":"IF(Base_Arbres!B322<>\"\",VLOOKUP($A322,Base_Arbres,7,FALSE)*Crit5,\"\")","v":""},{"$f":"IF(Base_Arbres!C322<>\"\",VLOOKUP($A322,Base_Arbres,8,FALSE)*crit8,\"\")","v":""},{"$f":"IF(Base_Arbres!D322<>\"\",VLOOKUP($A322,Base_Arbres,9,FALSE)*crit9,\"\")","v":""},{"$f":"IF(ISNA(VLOOKUP(INDEX(Base_Typologie!$A$6:$P$1003,MATCH(A322,Base_Typologie!$A:$A,0)-5,MATCH(Typologie_Espace_Public,Base_Typologie!$6:$6,0)),TableauScoreTypologie2,2,FALSE)*Crit6),0,VLOOKUP(INDEX(Base_Typologie!$A$6:$P$1003,MATCH(A322,Base_Typologie!$A:$A,0)-5,MATCH(Typologie_Espace_Public,Base_Typologie!$6:$6,0)),TableauScoreTypologie2,2,FALSE)*Crit6)","v":0},{"$f":"IF(A322<>\"\",IF(LEFT(VLOOKUP($A322,Base_Arbres,10,FALSE),1)>=LEFT(Cont_Racines,1),0,1),0)","v":0},{"$f":"IF(A322<>\"\",IF(LEFT(VLOOKUP($A322,Base_Arbres,11,FALSE),1)>=LEFT(Cont_Branches,1),0,1),0)","v":0},{"$f":"IF(A322<>\"\",IF(LEFT(VLOOKUP($A322,Base_Arbres,12,FALSE),1)>=LEFT(Cont_Chablis,1),0,1),0)","v":0},{"$f":"IF(A322<>\"\",IF(LEFT(VLOOKUP($A322,Base_Arbres,13,FALSE),1)>=LEFT(Cont_Fructifications,1),0,1),0)","v":0},{"$f":"IF(A322<>\"\",IF(LEFT(VLOOKUP($A322,Base_Arbres,14,FALSE),1)>=LEFT(Cont_Miellat,1),0,1),0)","v":0},{"$f":"IF(A322<>\"\",IF(LEFT(VLOOKUP($A322,Base_Arbres,15,FALSE),1)>=LEFT(Cont_Fruits_Toxiques,1),0,1),0)","v":0},{"$f":"IF(A322<>\"\",IF(LEFT(VLOOKUP($A322,Base_Arbres,16,FALSE),1)>=LEFT(Cont_Hauteur,1),0,1),0)","v":0},{"$f":"IF(A322<>\"\",IF(LEFT(VLOOKUP($A322,Base_Arbres,17,FALSE),1)>=LEFT(Cont_Envergure,1),0,1),0)","v":0},{"$f":"IF(A322<>\"\",IF(LEFT(VLOOKUP($A322,Base_Arbres,18,FALSE),1)>=LEFT(Cont_pollen,1),0,1),0)","v":0},{"$f":"IF(B322<>\"\",IF(LEFT(VLOOKUP($A322,Base_Arbres,19,FALSE),1)>=LEFT(Cont_malodo,1),0,1),0)","v":0},{"$f":"IF(A322<>\"\",IF(LEFT(VLOOKUP($A322,Base_Arbres,20,FALSE),1)>=LEFT(Cont_chenilles,1),0,1),0)","v":0},{"$f":"IF(A322<>\"\",IF(LEFT(VLOOKUP($A322,Base_Arbres,21,FALSE),1)>=LEFT(Cont_epineux,1),0,1),0)","v":0},null,{"$f":"IF(Base_Arbres!A425<>\"\",VLOOKUP($A322,Base_Arbres,4,FALSE)*Crit7,\"\")","v":""}]
[{"$f":"IF(Base_Arbres!A323<>\"\",Base_Arbres!A323,\"\")","v":""},{"$f":"IF(Base_Arbres!A323<>\"\",VLOOKUP($A323,Base_Arbres,3,FALSE)*Crit1,\"\")","v":""},{"$f":"IF(Base_Arbres!A323<>\"\",VLOOKUP($A323,Base_Arbres,4,FALSE)*Crit2,\"\")","v":""},{"$f":"IF(Base_Arbres!A323<>\"\",VLOOKUP($A323,Base_Arbres,5,FALSE)*Crit3,\"\")","v":""},{"$f":"IF(Base_Arbres!A323<>\"\",VLOOKUP($A323,Base_Arbres,6,FALSE)*Crit4,\"\")","v":""},{"$f":"IF(Base_Arbres!B323<>\"\",VLOOKUP($A323,Base_Arbres,7,FALSE)*Crit5,\"\")","v":""},{"$f":"IF(Base_Arbres!C323<>\"\",VLOOKUP($A323,Base_Arbres,8,FALSE)*crit8,\"\")","v":""},{"$f":"IF(Base_Arbres!D323<>\"\",VLOOKUP($A323,Base_Arbres,9,FALSE)*crit9,\"\")","v":""},{"$f":"IF(ISNA(VLOOKUP(INDEX(Base_Typologie!$A$6:$P$1003,MATCH(A323,Base_Typologie!$A:$A,0)-5,MATCH(Typologie_Espace_Public,Base_Typologie!$6:$6,0)),TableauScoreTypologie2,2,FALSE)*Crit6),0,VLOOKUP(INDEX(Base_Typologie!$A$6:$P$1003,MATCH(A323,Base_Typologie!$A:$A,0)-5,MATCH(Typologie_Espace_Public,Base_Typologie!$6:$6,0)),TableauScoreTypologie2,2,FALSE)*Crit6)","v":0},0,0,0,0,0,0,0,0,0,0,0,0,null,{"$f":"IF(Base_Arbres!A426<>\"\",VLOOKUP($A323,Base_Arbres,4,FALSE)*Crit7,\"\")","v":""}]
[{"$f":"IF(Base_Arbres!A324<>\"\",Base_Arbres!A324,\"\")","v":""},{"$f":"IF(Base_Arbres!A324<>\"\",VLOOKUP($A324,Base_Arbres,3,FALSE)*Crit1,\"\")","v":""},{"$f":"IF(Base_Arbres!A324<>\"\",VLOOKUP($A324,Base_Arbres,4,FALSE)*Crit2,\"\")","v":""},{"$f":"IF(Base_Arbres!A324<>\"\",VLOOKUP($A324,Base_Arbres,5,FALSE)*Crit3,\"\")","v":""},{"$f":"IF(Base_Arbres!A324<>\"\",VLOOKUP($A324,Base_Arbres,6,FALSE)*Crit4,\"\")","v":""},{"$f":"IF(Base_Arbres!B324<>\"\",VLOOKUP($A324,Base_Arbres,7,FALSE)*Crit5,\"\")","v":""},{"$f":"IF(Base_Arbres!C324<>\"\",VLOOKUP($A324,Base_Arbres,8,FALSE)*crit8,\"\")","v":""},{"$f":"IF(Base_Arbres!D324<>\"\",VLOOKUP($A324,Base_Arbres,9,FALSE)*crit9,\"\")","v":""},{"$f":"IF(ISNA(VLOOKUP(INDEX(Base_Typologie!$A$6:$P$1003,MATCH(A324,Base_Typologie!$A:$A,0)-5,MATCH(Typologie_Espace_Public,Base_Typologie!$6:$6,0)),TableauScoreTypologie2,2,FALSE)*Crit6),0,VLOOKUP(INDEX(Base_Typologie!$A$6:$P$1003,MATCH(A324,Base_Typologie!$A:$A,0)-5,MATCH(Typologie_Espace_Public,Base_Typologie!$6:$6,0)),TableauScoreTypologie2,2,FALSE)*Crit6)","v":0},0,0,0,0,0,0,0,0,0,0,0,0,null,{"$f":"IF(Base_Arbres!A427<>\"\",VLOOKUP($A324,Base_Arbres,4,FALSE)*Crit7,\"\")","v":""}]
[{"$f":"IF(Base_Arbres!A325<>\"\",Base_Arbres!A325,\"\")","v":""},{"$f":"IF(Base_Arbres!A325<>\"\",VLOOKUP($A325,Base_Arbres,3,FALSE)*Crit1,\"\")","v":""},{"$f":"IF(Base_Arbres!A325<>\"\",VLOOKUP($A325,Base_Arbres,4,FALSE)*Crit2,\"\")","v":""},{"$f":"IF(Base_Arbres!A325<>\"\",VLOOKUP($A325,Base_Arbres,5,FALSE)*Crit3,\"\")","v":""},{"$f":"IF(Base_Arbres!A325<>\"\",VLOOKUP($A325,Base_Arbres,6,FALSE)*Crit4,\"\")","v":""},{"$f":"IF(Base_Arbres!B325<>\"\",VLOOKUP($A325,Base_Arbres,7,FALSE)*Crit5,\"\")","v":""},{"$f":"IF(Base_Arbres!C325<>\"\",VLOOKUP($A325,Base_Arbres,8,FALSE)*crit8,\"\")","v":""},{"$f":"IF(Base_Arbres!D325<>\"\",VLOOKUP($A325,Base_Arbres,9,FALSE)*crit9,\"\")","v":""},{"$f":"IF(ISNA(VLOOKUP(INDEX(Base_Typologie!$A$6:$P$1003,MATCH(A325,Base_Typologie!$A:$A,0)-5,MATCH(Typologie_Espace_Public,Base_Typologie!$6:$6,0)),TableauScoreTypologie2,2,FALSE)*Crit6),0,VLOOKUP(INDEX(Base_Typologie!$A$6:$P$1003,MATCH(A325,Base_Typologie!$A:$A,0)-5,MATCH(Typologie_Espace_Public,Base_Typologie!$6:$6,0)),TableauScoreTypologie2,2,FALSE)*Crit6)","v":0},0,0,0,0,0,0,0,0,0,0,0,0,null,{"$f":"IF(Base_Arbres!A428<>\"\",VLOOKUP($A325,Base_Arbres,4,FALSE)*Crit7,\"\")","v":""}]
[{"$f":"IF(Base_Arbres!A326<>\"\",Base_Arbres!A326,\"\")","v":""},{"$f":"IF(Base_Arbres!A326<>\"\",VLOOKUP($A326,Base_Arbres,3,FALSE)*Crit1,\"\")","v":""},{"$f":"IF(Base_Arbres!A326<>\"\",VLOOKUP($A326,Base_Arbres,4,FALSE)*Crit2,\"\")","v":""},{"$f":"IF(Base_Arbres!A326<>\"\",VLOOKUP($A326,Base_Arbres,5,FALSE)*Crit3,\"\")","v":""},{"$f":"IF(Base_Arbres!A326<>\"\",VLOOKUP($A326,Base_Arbres,6,FALSE)*Crit4,\"\")","v":""},{"$f":"IF(Base_Arbres!B326<>\"\",VLOOKUP($A326,Base_Arbres,7,FALSE)*Crit5,\"\")","v":""},{"$f":"IF(Base_Arbres!C326<>\"\",VLOOKUP($A326,Base_Arbres,8,FALSE)*crit8,\"\")","v":""},{"$f":"IF(Base_Arbres!D326<>\"\",VLOOKUP($A326,Base_Arbres,9,FALSE)*crit9,\"\")","v":""},{"$f":"IF(ISNA(VLOOKUP(INDEX(Base_Typologie!$A$6:$P$1003,MATCH(A326,Base_Typologie!$A:$A,0)-5,MATCH(Typologie_Espace_Public,Base_Typologie!$6:$6,0)),TableauScoreTypologie2,2,FALSE)*Crit6),0,VLOOKUP(INDEX(Base_Typologie!$A$6:$P$1003,MATCH(A326,Base_Typologie!$A:$A,0)-5,MATCH(Typologie_Espace_Public,Base_Typologie!$6:$6,0)),TableauScoreTypologie2,2,FALSE)*Crit6)","v":0},0,0,0,0,0,0,0,0,0,0,0,0,null,{"$f":"IF(Base_Arbres!A429<>\"\",VLOOKUP($A326,Base_Arbres,4,FALSE)*Crit7,\"\")","v":""}]
[{"$f":"IF(Base_Arbres!A327<>\"\",Base_Arbres!A327,\"\")","v":""},{"$f":"IF(Base_Arbres!A327<>\"\",VLOOKUP($A327,Base_Arbres,3,FALSE)*Crit1,\"\")","v":""},{"$f":"IF(Base_Arbres!A327<>\"\",VLOOKUP($A327,Base_Arbres,4,FALSE)*Crit2,\"\")","v":""},{"$f":"IF(Base_Arbres!A327<>\"\",VLOOKUP($A327,Base_Arbres,5,FALSE)*Crit3,\"\")","v":""},{"$f":"IF(Base_Arbres!A327<>\"\",VLOOKUP($A327,Base_Arbres,6,FALSE)*Crit4,\"\")","v":""},{"$f":"IF(Base_Arbres!B327<>\"\",VLOOKUP($A327,Base_Arbres,7,FALSE)*Crit5,\"\")","v":""},{"$f":"IF(Base_Arbres!C327<>\"\",VLOOKUP($A327,Base_Arbres,8,FALSE)*crit8,\"\")","v":""},{"$f":"IF(Base_Arbres!D327<>\"\",VLOOKUP($A327,Base_Arbres,9,FALSE)*crit9,\"\")","v":""},{"$f":"IF(ISNA(VLOOKUP(INDEX(Base_Typologie!$A$6:$P$1003,MATCH(A327,Base_Typologie!$A:$A,0)-5,MATCH(Typologie_Espace_Public,Base_Typologie!$6:$6,0)),TableauScoreTypologie2,2,FALSE)*Crit6),0,VLOOKUP(INDEX(Base_Typologie!$A$6:$P$1003,MATCH(A327,Base_Typologie!$A:$A,0)-5,MATCH(Typologie_Espace_Public,Base_Typologie!$6:$6,0)),TableauScoreTypologie2,2,FALSE)*Crit6)","v":0},0,0,0,0,0,0,0,0,0,0,0,0,null,{"$f":"IF(Base_Arbres!A430<>\"\",VLOOKUP($A327,Base_Arbres,4,FALSE)*Crit7,\"\")","v":""}]
[{"$f":"IF(Base_Arbres!A328<>\"\",Base_Arbres!A328,\"\")","v":""},{"$f":"IF(Base_Arbres!A328<>\"\",VLOOKUP($A328,Base_Arbres,3,FALSE)*Crit1,\"\")","v":""},{"$f":"IF(Base_Arbres!A328<>\"\",VLOOKUP($A328,Base_Arbres,4,FALSE)*Crit2,\"\")","v":""},{"$f":"IF(Base_Arbres!A328<>\"\",VLOOKUP($A328,Base_Arbres,5,FALSE)*Crit3,\"\")","v":""},{"$f":"IF(Base_Arbres!A328<>\"\",VLOOKUP($A328,Base_Arbres,6,FALSE)*Crit4,\"\")","v":""},{"$f":"IF(Base_Arbres!B328<>\"\",VLOOKUP($A328,Base_Arbres,7,FALSE)*Crit5,\"\")","v":""},{"$f":"IF(Base_Arbres!C328<>\"\",VLOOKUP($A328,Base_Arbres,8,FALSE)*crit8,\"\")","v":""},{"$f":"IF(Base_Arbres!D328<>\"\",VLOOKUP($A328,Base_Arbres,9,FALSE)*crit9,\"\")","v":""},{"$f":"IF(ISNA(VLOOKUP(INDEX(Base_Typologie!$A$6:$P$1003,MATCH(A328,Base_Typologie!$A:$A,0)-5,MATCH(Typologie_Espace_Public,Base_Typologie!$6:$6,0)),TableauScoreTypologie2,2,FALSE)*Crit6),0,VLOOKUP(INDEX(Base_Typologie!$A$6:$P$1003,MATCH(A328,Base_Typologie!$A:$A,0)-5,MATCH(Typologie_Espace_Public,Base_Typologie!$6:$6,0)),TableauScoreTypologie2,2,FALSE)*Crit6)","v":0},0,0,0,0,0,0,0,0,0,0,0,0,null,{"$f":"IF(Base_Arbres!A431<>\"\",VLOOKUP($A328,Base_Arbres,4,FALSE)*Crit7,\"\")","v":""}]
[{"$f":"IF(Base_Arbres!A329<>\"\",Base_Arbres!A329,\"\")","v":""},{"$f":"IF(Base_Arbres!A329<>\"\",VLOOKUP($A329,Base_Arbres,3,FALSE)*Crit1,\"\")","v":""},{"$f":"IF(Base_Arbres!A329<>\"\",VLOOKUP($A329,Base_Arbres,4,FALSE)*Crit2,\"\")","v":""},{"$f":"IF(Base_Arbres!A329<>\"\",VLOOKUP($A329,Base_Arbres,5,FALSE)*Crit3,\"\")","v":""},{"$f":"IF(Base_Arbres!A329<>\"\",VLOOKUP($A329,Base_Arbres,6,FALSE)*Crit4,\"\")","v":""},{"$f":"IF(Base_Arbres!B329<>\"\",VLOOKUP($A329,Base_Arbres,7,FALSE)*Crit5,\"\")","v":""},{"$f":"IF(Base_Arbres!C329<>\"\",VLOOKUP($A329,Base_Arbres,8,FALSE)*crit8,\"\")","v":""},{"$f":"IF(Base_Arbres!D329<>\"\",VLOOKUP($A329,Base_Arbres,9,FALSE)*crit9,\"\")","v":""},{"$f":"IF(ISNA(VLOOKUP(INDEX(Base_Typologie!$A$6:$P$1003,MATCH(A329,Base_Typologie!$A:$A,0)-5,MATCH(Typologie_Espace_Public,Base_Typologie!$6:$6,0)),TableauScoreTypologie2,2,FALSE)*Crit6),0,VLOOKUP(INDEX(Base_Typologie!$A$6:$P$1003,MATCH(A329,Base_Typologie!$A:$A,0)-5,MATCH(Typologie_Espace_Public,Base_Typologie!$6:$6,0)),TableauScoreTypologie2,2,FALSE)*Crit6)","v":0},0,0,0,0,0,0,0,0,0,0,0,0,null,{"$f":"IF(Base_Arbres!A432<>\"\",VLOOKUP($A329,Base_Arbres,4,FALSE)*Crit7,\"\")","v":""}]
[{"$f":"IF(Base_Arbres!A330<>\"\",Base_Arbres!A330,\"\")","v":""},{"$f":"IF(Base_Arbres!A330<>\"\",VLOOKUP($A330,Base_Arbres,3,FALSE)*Crit1,\"\")","v":""},{"$f":"IF(Base_Arbres!A330<>\"\",VLOOKUP($A330,Base_Arbres,4,FALSE)*Crit2,\"\")","v":""},{"$f":"IF(Base_Arbres!A330<>\"\",VLOOKUP($A330,Base_Arbres,5,FALSE)*Crit3,\"\")","v":""},{"$f":"IF(Base_Arbres!A330<>\"\",VLOOKUP($A330,Base_Arbres,6,FALSE)*Crit4,\"\")","v":""},{"$f":"IF(Base_Arbres!B330<>\"\",VLOOKUP($A330,Base_Arbres,7,FALSE)*Crit5,\"\")","v":""},{"$f":"IF(Base_Arbres!C330<>\"\",VLOOKUP($A330,Base_Arbres,8,FALSE)*crit8,\"\")","v":""},{"$f":"IF(Base_Arbres!D330<>\"\",VLOOKUP($A330,Base_Arbres,9,FALSE)*crit9,\"\")","v":""},{"$f":"IF(ISNA(VLOOKUP(INDEX(Base_Typologie!$A$6:$P$1003,MATCH(A330,Base_Typologie!$A:$A,0)-5,MATCH(Typologie_Espace_Public,Base_Typologie!$6:$6,0)),TableauScoreTypologie2,2,FALSE)*Crit6),0,VLOOKUP(INDEX(Base_Typologie!$A$6:$P$1003,MATCH(A330,Base_Typologie!$A:$A,0)-5,MATCH(Typologie_Espace_Public,Base_Typologie!$6:$6,0)),TableauScoreTypologie2,2,FALSE)*Crit6)","v":0},0,0,0,0,0,0,0,0,0,0,0,0,null,{"$f":"IF(Base_Arbres!A433<>\"\",VLOOKUP($A330,Base_Arbres,4,FALSE)*Crit7,\"\")","v":""}]
[{"$f":"IF(Base_Arbres!A331<>\"\",Base_Arbres!A331,\"\")","v":""},{"$f":"IF(Base_Arbres!A331<>\"\",VLOOKUP($A331,Base_Arbres,3,FALSE)*Crit1,\"\")","v":""},{"$f":"IF(Base_Arbres!A331<>\"\",VLOOKUP($A331,Base_Arbres,4,FALSE)*Crit2,\"\")","v":""},{"$f":"IF(Base_Arbres!A331<>\"\",VLOOKUP($A331,Base_Arbres,5,FALSE)*Crit3,\"\")","v":""},{"$f":"IF(Base_Arbres!A331<>\"\",VLOOKUP($A331,Base_Arbres,6,FALSE)*Crit4,\"\")","v":""},{"$f":"IF(Base_Arbres!B331<>\"\",VLOOKUP($A331,Base_Arbres,7,FALSE)*Crit5,\"\")","v":""},{"$f":"IF(Base_Arbres!C331<>\"\",VLOOKUP($A331,Base_Arbres,8,FALSE)*crit8,\"\")","v":""},{"$f":"IF(Base_Arbres!D331<>\"\",VLOOKUP($A331,Base_Arbres,9,FALSE)*crit9,\"\")","v":""},{"$f":"IF(ISNA(VLOOKUP(INDEX(Base_Typologie!$A$6:$P$1003,MATCH(A331,Base_Typologie!$A:$A,0)-5,MATCH(Typologie_Espace_Public,Base_Typologie!$6:$6,0)),TableauScoreTypologie2,2,FALSE)*Crit6),0,VLOOKUP(INDEX(Base_Typologie!$A$6:$P$1003,MATCH(A331,Base_Typologie!$A:$A,0)-5,MATCH(Typologie_Espace_Public,Base_Typologie!$6:$6,0)),TableauScoreTypologie2,2,FALSE)*Crit6)","v":0},0,0,0,0,0,0,0,0,0,0,0,0,null,{"$f":"IF(Base_Arbres!A434<>\"\",VLOOKUP($A331,Base_Arbres,4,FALSE)*Crit7,\"\")","v":""}]
[{"$f":"IF(Base_Arbres!A332<>\"\",Base_Arbres!A332,\"\")","v":""},{"$f":"IF(Base_Arbres!A332<>\"\",VLOOKUP($A332,Base_Arbres,3,FALSE)*Crit1,\"\")","v":""},{"$f":"IF(Base_Arbres!A332<>\"\",VLOOKUP($A332,Base_Arbres,4,FALSE)*Crit2,\"\")","v":""},{"$f":"IF(Base_Arbres!A332<>\"\",VLOOKUP($A332,Base_Arbres,5,FALSE)*Crit3,\"\")","v":""},{"$f":"IF(Base_Arbres!A332<>\"\",VLOOKUP($A332,Base_Arbres,6,FALSE)*Crit4,\"\")","v":""},{"$f":"IF(Base_Arbres!B332<>\"\",VLOOKUP($A332,Base_Arbres,7,FALSE)*Crit5,\"\")","v":""},{"$f":"IF(Base_Arbres!C332<>\"\",VLOOKUP($A332,Base_Arbres,8,FALSE)*crit8,\"\")","v":""},{"$f":"IF(Base_Arbres!D332<>\"\",VLOOKUP($A332,Base_Arbres,9,FALSE)*crit9,\"\")","v":""},{"$f":"IF(ISNA(VLOOKUP(INDEX(Base_Typologie!$A$6:$P$1003,MATCH(A332,Base_Typologie!$A:$A,0)-5,MATCH(Typologie_Espace_Public,Base_Typologie!$6:$6,0)),TableauScoreTypologie2,2,FALSE)*Crit6),0,VLOOKUP(INDEX(Base_Typologie!$A$6:$P$1003,MATCH(A332,Base_Typologie!$A:$A,0)-5,MATCH(Typologie_Espace_Public,Base_Typologie!$6:$6,0)),TableauScoreTypologie2,2,FALSE)*Crit6)","v":0},0,0,0,0,0,0,0,0,0,0,0,0,null,{"$f":"IF(Base_Arbres!A435<>\"\",VLOOKUP($A332,Base_Arbres,4,FALSE)*Crit7,\"\")","v":""}]
[{"$f":"IF(Base_Arbres!A333<>\"\",Base_Arbres!A333,\"\")","v":""},{"$f":"IF(Base_Arbres!A333<>\"\",VLOOKUP($A333,Base_Arbres,3,FALSE)*Crit1,\"\")","v":""},{"$f":"IF(Base_Arbres!A333<>\"\",VLOOKUP($A333,Base_Arbres,4,FALSE)*Crit2,\"\")","v":""},{"$f":"IF(Base_Arbres!A333<>\"\",VLOOKUP($A333,Base_Arbres,5,FALSE)*Crit3,\"\")","v":""},{"$f":"IF(Base_Arbres!A333<>\"\",VLOOKUP($A333,Base_Arbres,6,FALSE)*Crit4,\"\")","v":""},{"$f":"IF(Base_Arbres!B333<>\"\",VLOOKUP($A333,Base_Arbres,7,FALSE)*Crit5,\"\")","v":""},{"$f":"IF(Base_Arbres!C333<>\"\",VLOOKUP($A333,Base_Arbres,8,FALSE)*crit8,\"\")","v":""},{"$f":"IF(Base_Arbres!D333<>\"\",VLOOKUP($A333,Base_Arbres,9,FALSE)*crit9,\"\")","v":""},{"$f":"IF(ISNA(VLOOKUP(INDEX(Base_Typologie!$A$6:$P$1003,MATCH(A333,Base_Typologie!$A:$A,0)-5,MATCH(Typologie_Espace_Public,Base_Typologie!$6:$6,0)),TableauScoreTypologie2,2,FALSE)*Crit6),0,VLOOKUP(INDEX(Base_Typologie!$A$6:$P$1003,MATCH(A333,Base_Typologie!$A:$A,0)-5,MATCH(Typologie_Espace_Public,Base_Typologie!$6:$6,0)),TableauScoreTypologie2,2,FALSE)*Crit6)","v":0},0,0,0,0,0,0,0,0,0,0,0,0,null,{"$f":"IF(Base_Arbres!A436<>\"\",VLOOKUP($A333,Base_Arbres,4,FALSE)*Crit7,\"\")","v":""}]
[{"$f":"IF(Base_Arbres!A334<>\"\",Base_Arbres!A334,\"\")","v":""},{"$f":"IF(Base_Arbres!A334<>\"\",VLOOKUP($A334,Base_Arbres,3,FALSE)*Crit1,\"\")","v":""},{"$f":"IF(Base_Arbres!A334<>\"\",VLOOKUP($A334,Base_Arbres,4,FALSE)*Crit2,\"\")","v":""},{"$f":"IF(Base_Arbres!A334<>\"\",VLOOKUP($A334,Base_Arbres,5,FALSE)*Crit3,\"\")","v":""},{"$f":"IF(Base_Arbres!A334<>\"\",VLOOKUP($A334,Base_Arbres,6,FALSE)*Crit4,\"\")","v":""},{"$f":"IF(Base_Arbres!B334<>\"\",VLOOKUP($A334,Base_Arbres,7,FALSE)*Crit5,\"\")","v":""},{"$f":"IF(Base_Arbres!C334<>\"\",VLOOKUP($A334,Base_Arbres,8,FALSE)*crit8,\"\")","v":""},{"$f":"IF(Base_Arbres!D334<>\"\",VLOOKUP($A334,Base_Arbres,9,FALSE)*crit9,\"\")","v":""},{"$f":"IF(ISNA(VLOOKUP(INDEX(Base_Typologie!$A$6:$P$1003,MATCH(A334,Base_Typologie!$A:$A,0)-5,MATCH(Typologie_Espace_Public,Base_Typologie!$6:$6,0)),TableauScoreTypologie2,2,FALSE)*Crit6),0,VLOOKUP(INDEX(Base_Typologie!$A$6:$P$1003,MATCH(A334,Base_Typologie!$A:$A,0)-5,MATCH(Typologie_Espace_Public,Base_Typologie!$6:$6,0)),TableauScoreTypologie2,2,FALSE)*Crit6)","v":0},0,0,0,0,0,0,0,0,0,0,0,0,null,{"$f":"IF(Base_Arbres!A437<>\"\",VLOOKUP($A334,Base_Arbres,4,FALSE)*Crit7,\"\")","v":""}]
[{"$f":"IF(Base_Arbres!A335<>\"\",Base_Arbres!A335,\"\")","v":""},{"$f":"IF(Base_Arbres!A335<>\"\",VLOOKUP($A335,Base_Arbres,3,FALSE)*Crit1,\"\")","v":""},{"$f":"IF(Base_Arbres!A335<>\"\",VLOOKUP($A335,Base_Arbres,4,FALSE)*Crit2,\"\")","v":""},{"$f":"IF(Base_Arbres!A335<>\"\",VLOOKUP($A335,Base_Arbres,5,FALSE)*Crit3,\"\")","v":""},{"$f":"IF(Base_Arbres!A335<>\"\",VLOOKUP($A335,Base_Arbres,6,FALSE)*Crit4,\"\")","v":""},{"$f":"IF(Base_Arbres!B335<>\"\",VLOOKUP($A335,Base_Arbres,7,FALSE)*Crit5,\"\")","v":""},{"$f":"IF(Base_Arbres!C335<>\"\",VLOOKUP($A335,Base_Arbres,8,FALSE)*crit8,\"\")","v":""},{"$f":"IF(Base_Arbres!D335<>\"\",VLOOKUP($A335,Base_Arbres,9,FALSE)*crit9,\"\")","v":""},{"$f":"IF(ISNA(VLOOKUP(INDEX(Base_Typologie!$A$6:$P$1003,MATCH(A335,Base_Typologie!$A:$A,0)-5,MATCH(Typologie_Espace_Public,Base_Typologie!$6:$6,0)),TableauScoreTypologie2,2,FALSE)*Crit6),0,VLOOKUP(INDEX(Base_Typologie!$A$6:$P$1003,MATCH(A335,Base_Typologie!$A:$A,0)-5,MATCH(Typologie_Espace_Public,Base_Typologie!$6:$6,0)),TableauScoreTypologie2,2,FALSE)*Crit6)","v":0},0,0,0,0,0,0,0,0,0,0,0,0,null,{"$f":"IF(Base_Arbres!A438<>\"\",VLOOKUP($A335,Base_Arbres,4,FALSE)*Crit7,\"\")","v":""}]
[{"$f":"IF(Base_Arbres!A336<>\"\",Base_Arbres!A336,\"\")","v":""},{"$f":"IF(Base_Arbres!A336<>\"\",VLOOKUP($A336,Base_Arbres,3,FALSE)*Crit1,\"\")","v":""},{"$f":"IF(Base_Arbres!A336<>\"\",VLOOKUP($A336,Base_Arbres,4,FALSE)*Crit2,\"\")","v":""},{"$f":"IF(Base_Arbres!A336<>\"\",VLOOKUP($A336,Base_Arbres,5,FALSE)*Crit3,\"\")","v":""},{"$f":"IF(Base_Arbres!A336<>\"\",VLOOKUP($A336,Base_Arbres,6,FALSE)*Crit4,\"\")","v":""},{"$f":"IF(Base_Arbres!B336<>\"\",VLOOKUP($A336,Base_Arbres,7,FALSE)*Crit5,\"\")","v":""},{"$f":"IF(Base_Arbres!C336<>\"\",VLOOKUP($A336,Base_Arbres,8,FALSE)*crit8,\"\")","v":""},{"$f":"IF(Base_Arbres!D336<>\"\",VLOOKUP($A336,Base_Arbres,9,FALSE)*crit9,\"\")","v":""},{"$f":"IF(ISNA(VLOOKUP(INDEX(Base_Typologie!$A$6:$P$1003,MATCH(A336,Base_Typologie!$A:$A,0)-5,MATCH(Typologie_Espace_Public,Base_Typologie!$6:$6,0)),TableauScoreTypologie2,2,FALSE)*Crit6),0,VLOOKUP(INDEX(Base_Typologie!$A$6:$P$1003,MATCH(A336,Base_Typologie!$A:$A,0)-5,MATCH(Typologie_Espace_Public,Base_Typologie!$6:$6,0)),TableauScoreTypologie2,2,FALSE)*Crit6)","v":0},0,0,0,0,0,0,0,0,0,0,0,0,null,{"$f":"IF(Base_Arbres!A439<>\"\",VLOOKUP($A336,Base_Arbres,4,FALSE)*Crit7,\"\")","v":""}]
[{"$f":"IF(Base_Arbres!A337<>\"\",Base_Arbres!A337,\"\")","v":""},{"$f":"IF(Base_Arbres!A337<>\"\",VLOOKUP($A337,Base_Arbres,3,FALSE)*Crit1,\"\")","v":""},{"$f":"IF(Base_Arbres!A337<>\"\",VLOOKUP($A337,Base_Arbres,4,FALSE)*Crit2,\"\")","v":""},{"$f":"IF(Base_Arbres!A337<>\"\",VLOOKUP($A337,Base_Arbres,5,FALSE)*Crit3,\"\")","v":""},{"$f":"IF(Base_Arbres!A337<>\"\",VLOOKUP($A337,Base_Arbres,6,FALSE)*Crit4,\"\")","v":""},{"$f":"IF(Base_Arbres!B337<>\"\",VLOOKUP($A337,Base_Arbres,7,FALSE)*Crit5,\"\")","v":""},{"$f":"IF(Base_Arbres!C337<>\"\",VLOOKUP($A337,Base_Arbres,8,FALSE)*crit8,\"\")","v":""},{"$f":"IF(Base_Arbres!D337<>\"\",VLOOKUP($A337,Base_Arbres,9,FALSE)*crit9,\"\")","v":""},{"$f":"IF(ISNA(VLOOKUP(INDEX(Base_Typologie!$A$6:$P$1003,MATCH(A337,Base_Typologie!$A:$A,0)-5,MATCH(Typologie_Espace_Public,Base_Typologie!$6:$6,0)),TableauScoreTypologie2,2,FALSE)*Crit6),0,VLOOKUP(INDEX(Base_Typologie!$A$6:$P$1003,MATCH(A337,Base_Typologie!$A:$A,0)-5,MATCH(Typologie_Espace_Public,Base_Typologie!$6:$6,0)),TableauScoreTypologie2,2,FALSE)*Crit6)","v":0},0,0,0,0,0,0,0,0,0,0,0,0,null,{"$f":"IF(Base_Arbres!A440<>\"\",VLOOKUP($A337,Base_Arbres,4,FALSE)*Crit7,\"\")","v":""}]
[{"$f":"IF(Base_Arbres!A338<>\"\",Base_Arbres!A338,\"\")","v":""},{"$f":"IF(Base_Arbres!A338<>\"\",VLOOKUP($A338,Base_Arbres,3,FALSE)*Crit1,\"\")","v":""},{"$f":"IF(Base_Arbres!A338<>\"\",VLOOKUP($A338,Base_Arbres,4,FALSE)*Crit2,\"\")","v":""},{"$f":"IF(Base_Arbres!A338<>\"\",VLOOKUP($A338,Base_Arbres,5,FALSE)*Crit3,\"\")","v":""},{"$f":"IF(Base_Arbres!A338<>\"\",VLOOKUP($A338,Base_Arbres,6,FALSE)*Crit4,\"\")","v":""},{"$f":"IF(Base_Arbres!B338<>\"\",VLOOKUP($A338,Base_Arbres,7,FALSE)*Crit5,\"\")","v":""},{"$f":"IF(Base_Arbres!C338<>\"\",VLOOKUP($A338,Base_Arbres,8,FALSE)*crit8,\"\")","v":""},{"$f":"IF(Base_Arbres!D338<>\"\",VLOOKUP($A338,Base_Arbres,9,FALSE)*crit9,\"\")","v":""},{"$f":"IF(ISNA(VLOOKUP(INDEX(Base_Typologie!$A$6:$P$1003,MATCH(A338,Base_Typologie!$A:$A,0)-5,MATCH(Typologie_Espace_Public,Base_Typologie!$6:$6,0)),TableauScoreTypologie2,2,FALSE)*Crit6),0,VLOOKUP(INDEX(Base_Typologie!$A$6:$P$1003,MATCH(A338,Base_Typologie!$A:$A,0)-5,MATCH(Typologie_Espace_Public,Base_Typologie!$6:$6,0)),TableauScoreTypologie2,2,FALSE)*Crit6)","v":0},0,0,0,0,0,0,0,0,0,0,0,0,null,{"$f":"IF(Base_Arbres!A441<>\"\",VLOOKUP($A338,Base_Arbres,4,FALSE)*Crit7,\"\")","v":""}]
[{"$f":"IF(Base_Arbres!A339<>\"\",Base_Arbres!A339,\"\")","v":""},{"$f":"IF(Base_Arbres!A339<>\"\",VLOOKUP($A339,Base_Arbres,3,FALSE)*Crit1,\"\")","v":""},{"$f":"IF(Base_Arbres!A339<>\"\",VLOOKUP($A339,Base_Arbres,4,FALSE)*Crit2,\"\")","v":""},{"$f":"IF(Base_Arbres!A339<>\"\",VLOOKUP($A339,Base_Arbres,5,FALSE)*Crit3,\"\")","v":""},{"$f":"IF(Base_Arbres!A339<>\"\",VLOOKUP($A339,Base_Arbres,6,FALSE)*Crit4,\"\")","v":""},{"$f":"IF(Base_Arbres!B339<>\"\",VLOOKUP($A339,Base_Arbres,7,FALSE)*Crit5,\"\")","v":""},{"$f":"IF(Base_Arbres!C339<>\"\",VLOOKUP($A339,Base_Arbres,8,FALSE)*crit8,\"\")","v":""},{"$f":"IF(Base_Arbres!D339<>\"\",VLOOKUP($A339,Base_Arbres,9,FALSE)*crit9,\"\")","v":""},{"$f":"IF(ISNA(VLOOKUP(INDEX(Base_Typologie!$A$6:$P$1003,MATCH(A339,Base_Typologie!$A:$A,0)-5,MATCH(Typologie_Espace_Public,Base_Typologie!$6:$6,0)),TableauScoreTypologie2,2,FALSE)*Crit6),0,VLOOKUP(INDEX(Base_Typologie!$A$6:$P$1003,MATCH(A339,Base_Typologie!$A:$A,0)-5,MATCH(Typologie_Espace_Public,Base_Typologie!$6:$6,0)),TableauScoreTypologie2,2,FALSE)*Crit6)","v":0},0,0,0,0,0,0,0,0,0,0,0,0,null,{"$f":"IF(Base_Arbres!A442<>\"\",VLOOKUP($A339,Base_Arbres,4,FALSE)*Crit7,\"\")","v":""}]
[{"$f":"IF(Base_Arbres!A340<>\"\",Base_Arbres!A340,\"\")","v":""},{"$f":"IF(Base_Arbres!A340<>\"\",VLOOKUP($A340,Base_Arbres,3,FALSE)*Crit1,\"\")","v":""},{"$f":"IF(Base_Arbres!A340<>\"\",VLOOKUP($A340,Base_Arbres,4,FALSE)*Crit2,\"\")","v":""},{"$f":"IF(Base_Arbres!A340<>\"\",VLOOKUP($A340,Base_Arbres,5,FALSE)*Crit3,\"\")","v":""},{"$f":"IF(Base_Arbres!A340<>\"\",VLOOKUP($A340,Base_Arbres,6,FALSE)*Crit4,\"\")","v":""},{"$f":"IF(Base_Arbres!B340<>\"\",VLOOKUP($A340,Base_Arbres,7,FALSE)*Crit5,\"\")","v":""},{"$f":"IF(Base_Arbres!C340<>\"\",VLOOKUP($A340,Base_Arbres,8,FALSE)*crit8,\"\")","v":""},{"$f":"IF(Base_Arbres!D340<>\"\",VLOOKUP($A340,Base_Arbres,9,FALSE)*crit9,\"\")","v":""},{"$f":"IF(ISNA(VLOOKUP(INDEX(Base_Typologie!$A$6:$P$1003,MATCH(A340,Base_Typologie!$A:$A,0)-5,MATCH(Typologie_Espace_Public,Base_Typologie!$6:$6,0)),TableauScoreTypologie2,2,FALSE)*Crit6),0,VLOOKUP(INDEX(Base_Typologie!$A$6:$P$1003,MATCH(A340,Base_Typologie!$A:$A,0)-5,MATCH(Typologie_Espace_Public,Base_Typologie!$6:$6,0)),TableauScoreTypologie2,2,FALSE)*Crit6)","v":0},0,0,0,0,0,0,0,0,0,0,0,0,null,{"$f":"IF(Base_Arbres!A443<>\"\",VLOOKUP($A340,Base_Arbres,4,FALSE)*Crit7,\"\")","v":""}]
[{"$f":"IF(Base_Arbres!A341<>\"\",Base_Arbres!A341,\"\")","v":""},{"$f":"IF(Base_Arbres!A341<>\"\",VLOOKUP($A341,Base_Arbres,3,FALSE)*Crit1,\"\")","v":""},{"$f":"IF(Base_Arbres!A341<>\"\",VLOOKUP($A341,Base_Arbres,4,FALSE)*Crit2,\"\")","v":""},{"$f":"IF(Base_Arbres!A341<>\"\",VLOOKUP($A341,Base_Arbres,5,FALSE)*Crit3,\"\")","v":""},{"$f":"IF(Base_Arbres!A341<>\"\",VLOOKUP($A341,Base_Arbres,6,FALSE)*Crit4,\"\")","v":""},{"$f":"IF(Base_Arbres!B341<>\"\",VLOOKUP($A341,Base_Arbres,7,FALSE)*Crit5,\"\")","v":""},{"$f":"IF(Base_Arbres!C341<>\"\",VLOOKUP($A341,Base_Arbres,8,FALSE)*crit8,\"\")","v":""},{"$f":"IF(Base_Arbres!D341<>\"\",VLOOKUP($A341,Base_Arbres,9,FALSE)*crit9,\"\")","v":""},{"$f":"IF(ISNA(VLOOKUP(INDEX(Base_Typologie!$A$6:$P$1003,MATCH(A341,Base_Typologie!$A:$A,0)-5,MATCH(Typologie_Espace_Public,Base_Typologie!$6:$6,0)),TableauScoreTypologie2,2,FALSE)*Crit6),0,VLOOKUP(INDEX(Base_Typologie!$A$6:$P$1003,MATCH(A341,Base_Typologie!$A:$A,0)-5,MATCH(Typologie_Espace_Public,Base_Typologie!$6:$6,0)),TableauScoreTypologie2,2,FALSE)*Crit6)","v":0},0,0,0,0,0,0,0,0,0,0,0,0,null,{"$f":"IF(Base_Arbres!A444<>\"\",VLOOKUP($A341,Base_Arbres,4,FALSE)*Crit7,\"\")","v":""}]
[{"$f":"IF(Base_Arbres!A342<>\"\",Base_Arbres!A342,\"\")","v":""},{"$f":"IF(Base_Arbres!A342<>\"\",VLOOKUP($A342,Base_Arbres,3,FALSE)*Crit1,\"\")","v":""},{"$f":"IF(Base_Arbres!A342<>\"\",VLOOKUP($A342,Base_Arbres,4,FALSE)*Crit2,\"\")","v":""},{"$f":"IF(Base_Arbres!A342<>\"\",VLOOKUP($A342,Base_Arbres,5,FALSE)*Crit3,\"\")","v":""},{"$f":"IF(Base_Arbres!A342<>\"\",VLOOKUP($A342,Base_Arbres,6,FALSE)*Crit4,\"\")","v":""},{"$f":"IF(Base_Arbres!B342<>\"\",VLOOKUP($A342,Base_Arbres,7,FALSE)*Crit5,\"\")","v":""},{"$f":"IF(Base_Arbres!C342<>\"\",VLOOKUP($A342,Base_Arbres,8,FALSE)*crit8,\"\")","v":""},{"$f":"IF(Base_Arbres!D342<>\"\",VLOOKUP($A342,Base_Arbres,9,FALSE)*crit9,\"\")","v":""},{"$f":"IF(ISNA(VLOOKUP(INDEX(Base_Typologie!$A$6:$P$1003,MATCH(A342,Base_Typologie!$A:$A,0)-5,MATCH(Typologie_Espace_Public,Base_Typologie!$6:$6,0)),TableauScoreTypologie2,2,FALSE)*Crit6),0,VLOOKUP(INDEX(Base_Typologie!$A$6:$P$1003,MATCH(A342,Base_Typologie!$A:$A,0)-5,MATCH(Typologie_Espace_Public,Base_Typologie!$6:$6,0)),TableauScoreTypologie2,2,FALSE)*Crit6)","v":0},0,0,0,0,0,0,0,0,0,0,0,0,null,{"$f":"IF(Base_Arbres!A445<>\"\",VLOOKUP($A342,Base_Arbres,4,FALSE)*Crit7,\"\")","v":""}]
[{"$f":"IF(Base_Arbres!A343<>\"\",Base_Arbres!A343,\"\")","v":""},{"$f":"IF(Base_Arbres!A343<>\"\",VLOOKUP($A343,Base_Arbres,3,FALSE)*Crit1,\"\")","v":""},{"$f":"IF(Base_Arbres!A343<>\"\",VLOOKUP($A343,Base_Arbres,4,FALSE)*Crit2,\"\")","v":""},{"$f":"IF(Base_Arbres!A343<>\"\",VLOOKUP($A343,Base_Arbres,5,FALSE)*Crit3,\"\")","v":""},{"$f":"IF(Base_Arbres!A343<>\"\",VLOOKUP($A343,Base_Arbres,6,FALSE)*Crit4,\"\")","v":""},{"$f":"IF(Base_Arbres!B343<>\"\",VLOOKUP($A343,Base_Arbres,7,FALSE)*Crit5,\"\")","v":""},{"$f":"IF(Base_Arbres!C343<>\"\",VLOOKUP($A343,Base_Arbres,8,FALSE)*crit8,\"\")","v":""},{"$f":"IF(Base_Arbres!D343<>\"\",VLOOKUP($A343,Base_Arbres,9,FALSE)*crit9,\"\")","v":""},{"$f":"IF(ISNA(VLOOKUP(INDEX(Base_Typologie!$A$6:$P$1003,MATCH(A343,Base_Typologie!$A:$A,0)-5,MATCH(Typologie_Espace_Public,Base_Typologie!$6:$6,0)),TableauScoreTypologie2,2,FALSE)*Crit6),0,VLOOKUP(INDEX(Base_Typologie!$A$6:$P$1003,MATCH(A343,Base_Typologie!$A:$A,0)-5,MATCH(Typologie_Espace_Public,Base_Typologie!$6:$6,0)),TableauScoreTypologie2,2,FALSE)*Crit6)","v":0},0,0,0,0,0,0,0,0,0,0,0,0,null,{"$f":"IF(Base_Arbres!A446<>\"\",VLOOKUP($A343,Base_Arbres,4,FALSE)*Crit7,\"\")","v":""}]
[{"$f":"IF(Base_Arbres!A344<>\"\",Base_Arbres!A344,\"\")","v":""},{"$f":"IF(Base_Arbres!A344<>\"\",VLOOKUP($A344,Base_Arbres,3,FALSE)*Crit1,\"\")","v":""},{"$f":"IF(Base_Arbres!A344<>\"\",VLOOKUP($A344,Base_Arbres,4,FALSE)*Crit2,\"\")","v":""},{"$f":"IF(Base_Arbres!A344<>\"\",VLOOKUP($A344,Base_Arbres,5,FALSE)*Crit3,\"\")","v":""},{"$f":"IF(Base_Arbres!A344<>\"\",VLOOKUP($A344,Base_Arbres,6,FALSE)*Crit4,\"\")","v":""},{"$f":"IF(Base_Arbres!B344<>\"\",VLOOKUP($A344,Base_Arbres,7,FALSE)*Crit5,\"\")","v":""},{"$f":"IF(Base_Arbres!C344<>\"\",VLOOKUP($A344,Base_Arbres,8,FALSE)*crit8,\"\")","v":""},{"$f":"IF(Base_Arbres!D344<>\"\",VLOOKUP($A344,Base_Arbres,9,FALSE)*crit9,\"\")","v":""},{"$f":"IF(ISNA(VLOOKUP(INDEX(Base_Typologie!$A$6:$P$1003,MATCH(A344,Base_Typologie!$A:$A,0)-5,MATCH(Typologie_Espace_Public,Base_Typologie!$6:$6,0)),TableauScoreTypologie2,2,FALSE)*Crit6),0,VLOOKUP(INDEX(Base_Typologie!$A$6:$P$1003,MATCH(A344,Base_Typologie!$A:$A,0)-5,MATCH(Typologie_Espace_Public,Base_Typologie!$6:$6,0)),TableauScoreTypologie2,2,FALSE)*Crit6)","v":0},0,0,0,0,0,0,0,0,0,0,0,0,null,{"$f":"IF(Base_Arbres!A447<>\"\",VLOOKUP($A344,Base_Arbres,4,FALSE)*Crit7,\"\")","v":""}]
[{"$f":"IF(Base_Arbres!A345<>\"\",Base_Arbres!A345,\"\")","v":""},{"$f":"IF(Base_Arbres!A345<>\"\",VLOOKUP($A345,Base_Arbres,3,FALSE)*Crit1,\"\")","v":""},{"$f":"IF(Base_Arbres!A345<>\"\",VLOOKUP($A345,Base_Arbres,4,FALSE)*Crit2,\"\")","v":""},{"$f":"IF(Base_Arbres!A345<>\"\",VLOOKUP($A345,Base_Arbres,5,FALSE)*Crit3,\"\")","v":""},{"$f":"IF(Base_Arbres!A345<>\"\",VLOOKUP($A345,Base_Arbres,6,FALSE)*Crit4,\"\")","v":""},{"$f":"IF(Base_Arbres!B345<>\"\",VLOOKUP($A345,Base_Arbres,7,FALSE)*Crit5,\"\")","v":""},{"$f":"IF(Base_Arbres!C345<>\"\",VLOOKUP($A345,Base_Arbres,8,FALSE)*crit8,\"\")","v":""},{"$f":"IF(Base_Arbres!D345<>\"\",VLOOKUP($A345,Base_Arbres,9,FALSE)*crit9,\"\")","v":""},{"$f":"IF(ISNA(VLOOKUP(INDEX(Base_Typologie!$A$6:$P$1003,MATCH(A345,Base_Typologie!$A:$A,0)-5,MATCH(Typologie_Espace_Public,Base_Typologie!$6:$6,0)),TableauScoreTypologie2,2,FALSE)*Crit6),0,VLOOKUP(INDEX(Base_Typologie!$A$6:$P$1003,MATCH(A345,Base_Typologie!$A:$A,0)-5,MATCH(Typologie_Espace_Public,Base_Typologie!$6:$6,0)),TableauScoreTypologie2,2,FALSE)*Crit6)","v":0},0,0,0,0,0,0,0,0,0,0,0,0,null,{"$f":"IF(Base_Arbres!A448<>\"\",VLOOKUP($A345,Base_Arbres,4,FALSE)*Crit7,\"\")","v":""}]
[{"$f":"IF(Base_Arbres!A346<>\"\",Base_Arbres!A346,\"\")","v":""},{"$f":"IF(Base_Arbres!A346<>\"\",VLOOKUP($A346,Base_Arbres,3,FALSE)*Crit1,\"\")","v":""},{"$f":"IF(Base_Arbres!A346<>\"\",VLOOKUP($A346,Base_Arbres,4,FALSE)*Crit2,\"\")","v":""},{"$f":"IF(Base_Arbres!A346<>\"\",VLOOKUP($A346,Base_Arbres,5,FALSE)*Crit3,\"\")","v":""},{"$f":"IF(Base_Arbres!A346<>\"\",VLOOKUP($A346,Base_Arbres,6,FALSE)*Crit4,\"\")","v":""},{"$f":"IF(Base_Arbres!B346<>\"\",VLOOKUP($A346,Base_Arbres,7,FALSE)*Crit5,\"\")","v":""},{"$f":"IF(Base_Arbres!C346<>\"\",VLOOKUP($A346,Base_Arbres,8,FALSE)*crit8,\"\")","v":""},{"$f":"IF(Base_Arbres!D346<>\"\",VLOOKUP($A346,Base_Arbres,9,FALSE)*crit9,\"\")","v":""},{"$f":"IF(ISNA(VLOOKUP(INDEX(Base_Typologie!$A$6:$P$1003,MATCH(A346,Base_Typologie!$A:$A,0)-5,MATCH(Typologie_Espace_Public,Base_Typologie!$6:$6,0)),TableauScoreTypologie2,2,FALSE)*Crit6),0,VLOOKUP(INDEX(Base_Typologie!$A$6:$P$1003,MATCH(A346,Base_Typologie!$A:$A,0)-5,MATCH(Typologie_Espace_Public,Base_Typologie!$6:$6,0)),TableauScoreTypologie2,2,FALSE)*Crit6)","v":0},0,0,0,0,0,0,0,0,0,0,0,0,null,{"$f":"IF(Base_Arbres!A449<>\"\",VLOOKUP($A346,Base_Arbres,4,FALSE)*Crit7,\"\")","v":""}]
[{"$f":"IF(Base_Arbres!A347<>\"\",Base_Arbres!A347,\"\")","v":""},{"$f":"IF(Base_Arbres!A347<>\"\",VLOOKUP($A347,Base_Arbres,3,FALSE)*Crit1,\"\")","v":""},{"$f":"IF(Base_Arbres!A347<>\"\",VLOOKUP($A347,Base_Arbres,4,FALSE)*Crit2,\"\")","v":""},{"$f":"IF(Base_Arbres!A347<>\"\",VLOOKUP($A347,Base_Arbres,5,FALSE)*Crit3,\"\")","v":""},{"$f":"IF(Base_Arbres!A347<>\"\",VLOOKUP($A347,Base_Arbres,6,FALSE)*Crit4,\"\")","v":""},{"$f":"IF(Base_Arbres!B347<>\"\",VLOOKUP($A347,Base_Arbres,7,FALSE)*Crit5,\"\")","v":""},{"$f":"IF(Base_Arbres!C347<>\"\",VLOOKUP($A347,Base_Arbres,8,FALSE)*crit8,\"\")","v":""},{"$f":"IF(Base_Arbres!D347<>\"\",VLOOKUP($A347,Base_Arbres,9,FALSE)*crit9,\"\")","v":""},{"$f":"IF(ISNA(VLOOKUP(INDEX(Base_Typologie!$A$6:$P$1003,MATCH(A347,Base_Typologie!$A:$A,0)-5,MATCH(Typologie_Espace_Public,Base_Typologie!$6:$6,0)),TableauScoreTypologie2,2,FALSE)*Crit6),0,VLOOKUP(INDEX(Base_Typologie!$A$6:$P$1003,MATCH(A347,Base_Typologie!$A:$A,0)-5,MATCH(Typologie_Espace_Public,Base_Typologie!$6:$6,0)),TableauScoreTypologie2,2,FALSE)*Crit6)","v":0},0,0,0,0,0,0,0,0,0,0,0,0,null,{"$f":"IF(Base_Arbres!A450<>\"\",VLOOKUP($A347,Base_Arbres,4,FALSE)*Crit7,\"\")","v":""}]
[{"$f":"IF(Base_Arbres!A348<>\"\",Base_Arbres!A348,\"\")","v":""},{"$f":"IF(Base_Arbres!A348<>\"\",VLOOKUP($A348,Base_Arbres,3,FALSE)*Crit1,\"\")","v":""},{"$f":"IF(Base_Arbres!A348<>\"\",VLOOKUP($A348,Base_Arbres,4,FALSE)*Crit2,\"\")","v":""},{"$f":"IF(Base_Arbres!A348<>\"\",VLOOKUP($A348,Base_Arbres,5,FALSE)*Crit3,\"\")","v":""},{"$f":"IF(Base_Arbres!A348<>\"\",VLOOKUP($A348,Base_Arbres,6,FALSE)*Crit4,\"\")","v":""},{"$f":"IF(Base_Arbres!B348<>\"\",VLOOKUP($A348,Base_Arbres,7,FALSE)*Crit5,\"\")","v":""},{"$f":"IF(Base_Arbres!C348<>\"\",VLOOKUP($A348,Base_Arbres,8,FALSE)*crit8,\"\")","v":""},{"$f":"IF(Base_Arbres!D348<>\"\",VLOOKUP($A348,Base_Arbres,9,FALSE)*crit9,\"\")","v":""},{"$f":"IF(ISNA(VLOOKUP(INDEX(Base_Typologie!$A$6:$P$1003,MATCH(A348,Base_Typologie!$A:$A,0)-5,MATCH(Typologie_Espace_Public,Base_Typologie!$6:$6,0)),TableauScoreTypologie2,2,FALSE)*Crit6),0,VLOOKUP(INDEX(Base_Typologie!$A$6:$P$1003,MATCH(A348,Base_Typologie!$A:$A,0)-5,MATCH(Typologie_Espace_Public,Base_Typologie!$6:$6,0)),TableauScoreTypologie2,2,FALSE)*Crit6)","v":0},0,0,0,0,0,0,0,0,0,0,0,0,null,{"$f":"IF(Base_Arbres!A451<>\"\",VLOOKUP($A348,Base_Arbres,4,FALSE)*Crit7,\"\")","v":""}]
[{"$f":"IF(Base_Arbres!A349<>\"\",Base_Arbres!A349,\"\")","v":""},{"$f":"IF(Base_Arbres!A349<>\"\",VLOOKUP($A349,Base_Arbres,3,FALSE)*Crit1,\"\")","v":""},{"$f":"IF(Base_Arbres!A349<>\"\",VLOOKUP($A349,Base_Arbres,4,FALSE)*Crit2,\"\")","v":""},{"$f":"IF(Base_Arbres!A349<>\"\",VLOOKUP($A349,Base_Arbres,5,FALSE)*Crit3,\"\")","v":""},{"$f":"IF(Base_Arbres!A349<>\"\",VLOOKUP($A349,Base_Arbres,6,FALSE)*Crit4,\"\")","v":""},{"$f":"IF(Base_Arbres!B349<>\"\",VLOOKUP($A349,Base_Arbres,7,FALSE)*Crit5,\"\")","v":""},{"$f":"IF(Base_Arbres!C349<>\"\",VLOOKUP($A349,Base_Arbres,8,FALSE)*crit8,\"\")","v":""},{"$f":"IF(Base_Arbres!D349<>\"\",VLOOKUP($A349,Base_Arbres,9,FALSE)*crit9,\"\")","v":""},{"$f":"IF(ISNA(VLOOKUP(INDEX(Base_Typologie!$A$6:$P$1003,MATCH(A349,Base_Typologie!$A:$A,0)-5,MATCH(Typologie_Espace_Public,Base_Typologie!$6:$6,0)),TableauScoreTypologie2,2,FALSE)*Crit6),0,VLOOKUP(INDEX(Base_Typologie!$A$6:$P$1003,MATCH(A349,Base_Typologie!$A:$A,0)-5,MATCH(Typologie_Espace_Public,Base_Typologie!$6:$6,0)),TableauScoreTypologie2,2,FALSE)*Crit6)","v":0},0,0,0,0,0,0,0,0,0,0,0,0,null,{"$f":"IF(Base_Arbres!A452<>\"\",VLOOKUP($A349,Base_Arbres,4,FALSE)*Crit7,\"\")","v":""}]
[{"$f":"IF(Base_Arbres!A350<>\"\",Base_Arbres!A350,\"\")","v":""},{"$f":"IF(Base_Arbres!A350<>\"\",VLOOKUP($A350,Base_Arbres,3,FALSE)*Crit1,\"\")","v":""},{"$f":"IF(Base_Arbres!A350<>\"\",VLOOKUP($A350,Base_Arbres,4,FALSE)*Crit2,\"\")","v":""},{"$f":"IF(Base_Arbres!A350<>\"\",VLOOKUP($A350,Base_Arbres,5,FALSE)*Crit3,\"\")","v":""},{"$f":"IF(Base_Arbres!A350<>\"\",VLOOKUP($A350,Base_Arbres,6,FALSE)*Crit4,\"\")","v":""},{"$f":"IF(Base_Arbres!B350<>\"\",VLOOKUP($A350,Base_Arbres,7,FALSE)*Crit5,\"\")","v":""},{"$f":"IF(Base_Arbres!C350<>\"\",VLOOKUP($A350,Base_Arbres,8,FALSE)*crit8,\"\")","v":""},{"$f":"IF(Base_Arbres!D350<>\"\",VLOOKUP($A350,Base_Arbres,9,FALSE)*crit9,\"\")","v":""},{"$f":"IF(ISNA(VLOOKUP(INDEX(Base_Typologie!$A$6:$P$1003,MATCH(A350,Base_Typologie!$A:$A,0)-5,MATCH(Typologie_Espace_Public,Base_Typologie!$6:$6,0)),TableauScoreTypologie2,2,FALSE)*Crit6),0,VLOOKUP(INDEX(Base_Typologie!$A$6:$P$1003,MATCH(A350,Base_Typologie!$A:$A,0)-5,MATCH(Typologie_Espace_Public,Base_Typologie!$6:$6,0)),TableauScoreTypologie2,2,FALSE)*Crit6)","v":0},0,0,0,0,0,0,0,0,0,0,0,0,null,{"$f":"IF(Base_Arbres!A453<>\"\",VLOOKUP($A350,Base_Arbres,4,FALSE)*Crit7,\"\")","v":""}]
[{"$f":"IF(Base_Arbres!A351<>\"\",Base_Arbres!A351,\"\")","v":""},{"$f":"IF(Base_Arbres!A351<>\"\",VLOOKUP($A351,Base_Arbres,3,FALSE)*Crit1,\"\")","v":""},{"$f":"IF(Base_Arbres!A351<>\"\",VLOOKUP($A351,Base_Arbres,4,FALSE)*Crit2,\"\")","v":""},{"$f":"IF(Base_Arbres!A351<>\"\",VLOOKUP($A351,Base_Arbres,5,FALSE)*Crit3,\"\")","v":""},{"$f":"IF(Base_Arbres!A351<>\"\",VLOOKUP($A351,Base_Arbres,6,FALSE)*Crit4,\"\")","v":""},{"$f":"IF(Base_Arbres!B351<>\"\",VLOOKUP($A351,Base_Arbres,7,FALSE)*Crit5,\"\")","v":""},{"$f":"IF(Base_Arbres!C351<>\"\",VLOOKUP($A351,Base_Arbres,8,FALSE)*crit8,\"\")","v":""},{"$f":"IF(Base_Arbres!D351<>\"\",VLOOKUP($A351,Base_Arbres,9,FALSE)*crit9,\"\")","v":""},{"$f":"IF(ISNA(VLOOKUP(INDEX(Base_Typologie!$A$6:$P$1003,MATCH(A351,Base_Typologie!$A:$A,0)-5,MATCH(Typologie_Espace_Public,Base_Typologie!$6:$6,0)),TableauScoreTypologie2,2,FALSE)*Crit6),0,VLOOKUP(INDEX(Base_Typologie!$A$6:$P$1003,MATCH(A351,Base_Typologie!$A:$A,0)-5,MATCH(Typologie_Espace_Public,Base_Typologie!$6:$6,0)),TableauScoreTypologie2,2,FALSE)*Crit6)","v":0},0,0,0,0,0,0,0,0,0,0,0,0,null,{"$f":"IF(Base_Arbres!A454<>\"\",VLOOKUP($A351,Base_Arbres,4,FALSE)*Crit7,\"\")","v":""}]
[{"$f":"IF(Base_Arbres!A352<>\"\",Base_Arbres!A352,\"\")","v":""},{"$f":"IF(Base_Arbres!A352<>\"\",VLOOKUP($A352,Base_Arbres,3,FALSE)*Crit1,\"\")","v":""},{"$f":"IF(Base_Arbres!A352<>\"\",VLOOKUP($A352,Base_Arbres,4,FALSE)*Crit2,\"\")","v":""},{"$f":"IF(Base_Arbres!A352<>\"\",VLOOKUP($A352,Base_Arbres,5,FALSE)*Crit3,\"\")","v":""},{"$f":"IF(Base_Arbres!A352<>\"\",VLOOKUP($A352,Base_Arbres,6,FALSE)*Crit4,\"\")","v":""},{"$f":"IF(Base_Arbres!B352<>\"\",VLOOKUP($A352,Base_Arbres,7,FALSE)*Crit5,\"\")","v":""},{"$f":"IF(Base_Arbres!C352<>\"\",VLOOKUP($A352,Base_Arbres,8,FALSE)*crit8,\"\")","v":""},{"$f":"IF(Base_Arbres!D352<>\"\",VLOOKUP($A352,Base_Arbres,9,FALSE)*crit9,\"\")","v":""},{"$f":"IF(ISNA(VLOOKUP(INDEX(Base_Typologie!$A$6:$P$1003,MATCH(A352,Base_Typologie!$A:$A,0)-5,MATCH(Typologie_Espace_Public,Base_Typologie!$6:$6,0)),TableauScoreTypologie2,2,FALSE)*Crit6),0,VLOOKUP(INDEX(Base_Typologie!$A$6:$P$1003,MATCH(A352,Base_Typologie!$A:$A,0)-5,MATCH(Typologie_Espace_Public,Base_Typologie!$6:$6,0)),TableauScoreTypologie2,2,FALSE)*Crit6)","v":0},0,0,0,0,0,0,0,0,0,0,0,0,null,{"$f":"IF(Base_Arbres!A455<>\"\",VLOOKUP($A352,Base_Arbres,4,FALSE)*Crit7,\"\")","v":""}]
[{"$f":"IF(Base_Arbres!A353<>\"\",Base_Arbres!A353,\"\")","v":""},{"$f":"IF(Base_Arbres!A353<>\"\",VLOOKUP($A353,Base_Arbres,3,FALSE)*Crit1,\"\")","v":""},{"$f":"IF(Base_Arbres!A353<>\"\",VLOOKUP($A353,Base_Arbres,4,FALSE)*Crit2,\"\")","v":""},{"$f":"IF(Base_Arbres!A353<>\"\",VLOOKUP($A353,Base_Arbres,5,FALSE)*Crit3,\"\")","v":""},{"$f":"IF(Base_Arbres!A353<>\"\",VLOOKUP($A353,Base_Arbres,6,FALSE)*Crit4,\"\")","v":""},{"$f":"IF(Base_Arbres!B353<>\"\",VLOOKUP($A353,Base_Arbres,7,FALSE)*Crit5,\"\")","v":""},{"$f":"IF(Base_Arbres!C353<>\"\",VLOOKUP($A353,Base_Arbres,8,FALSE)*crit8,\"\")","v":""},{"$f":"IF(Base_Arbres!D353<>\"\",VLOOKUP($A353,Base_Arbres,9,FALSE)*crit9,\"\")","v":""},{"$f":"IF(ISNA(VLOOKUP(INDEX(Base_Typologie!$A$6:$P$1003,MATCH(A353,Base_Typologie!$A:$A,0)-5,MATCH(Typologie_Espace_Public,Base_Typologie!$6:$6,0)),TableauScoreTypologie2,2,FALSE)*Crit6),0,VLOOKUP(INDEX(Base_Typologie!$A$6:$P$1003,MATCH(A353,Base_Typologie!$A:$A,0)-5,MATCH(Typologie_Espace_Public,Base_Typologie!$6:$6,0)),TableauScoreTypologie2,2,FALSE)*Crit6)","v":0},0,0,0,0,0,0,0,0,0,0,0,0,null,{"$f":"IF(Base_Arbres!A456<>\"\",VLOOKUP($A353,Base_Arbres,4,FALSE)*Crit7,\"\")","v":""}]
[{"$f":"IF(Base_Arbres!A354<>\"\",Base_Arbres!A354,\"\")","v":""},{"$f":"IF(Base_Arbres!A354<>\"\",VLOOKUP($A354,Base_Arbres,3,FALSE)*Crit1,\"\")","v":""},{"$f":"IF(Base_Arbres!A354<>\"\",VLOOKUP($A354,Base_Arbres,4,FALSE)*Crit2,\"\")","v":""},{"$f":"IF(Base_Arbres!A354<>\"\",VLOOKUP($A354,Base_Arbres,5,FALSE)*Crit3,\"\")","v":""},{"$f":"IF(Base_Arbres!A354<>\"\",VLOOKUP($A354,Base_Arbres,6,FALSE)*Crit4,\"\")","v":""},{"$f":"IF(Base_Arbres!B354<>\"\",VLOOKUP($A354,Base_Arbres,7,FALSE)*Crit5,\"\")","v":""},{"$f":"IF(Base_Arbres!C354<>\"\",VLOOKUP($A354,Base_Arbres,8,FALSE)*crit8,\"\")","v":""},{"$f":"IF(Base_Arbres!D354<>\"\",VLOOKUP($A354,Base_Arbres,9,FALSE)*crit9,\"\")","v":""},{"$f":"IF(ISNA(VLOOKUP(INDEX(Base_Typologie!$A$6:$P$1003,MATCH(A354,Base_Typologie!$A:$A,0)-5,MATCH(Typologie_Espace_Public,Base_Typologie!$6:$6,0)),TableauScoreTypologie2,2,FALSE)*Crit6),0,VLOOKUP(INDEX(Base_Typologie!$A$6:$P$1003,MATCH(A354,Base_Typologie!$A:$A,0)-5,MATCH(Typologie_Espace_Public,Base_Typologie!$6:$6,0)),TableauScoreTypologie2,2,FALSE)*Crit6)","v":0},0,0,0,0,0,0,0,0,0,0,0,0,null,{"$f":"IF(Base_Arbres!A457<>\"\",VLOOKUP($A354,Base_Arbres,4,FALSE)*Crit7,\"\")","v":""}]
[{"$f":"IF(Base_Arbres!A355<>\"\",Base_Arbres!A355,\"\")","v":""},{"$f":"IF(Base_Arbres!A355<>\"\",VLOOKUP($A355,Base_Arbres,3,FALSE)*Crit1,\"\")","v":""},{"$f":"IF(Base_Arbres!A355<>\"\",VLOOKUP($A355,Base_Arbres,4,FALSE)*Crit2,\"\")","v":""},{"$f":"IF(Base_Arbres!A355<>\"\",VLOOKUP($A355,Base_Arbres,5,FALSE)*Crit3,\"\")","v":""},{"$f":"IF(Base_Arbres!A355<>\"\",VLOOKUP($A355,Base_Arbres,6,FALSE)*Crit4,\"\")","v":""},{"$f":"IF(Base_Arbres!B355<>\"\",VLOOKUP($A355,Base_Arbres,7,FALSE)*Crit5,\"\")","v":""},{"$f":"IF(Base_Arbres!C355<>\"\",VLOOKUP($A355,Base_Arbres,8,FALSE)*crit8,\"\")","v":""},{"$f":"IF(Base_Arbres!D355<>\"\",VLOOKUP($A355,Base_Arbres,9,FALSE)*crit9,\"\")","v":""},{"$f":"IF(ISNA(VLOOKUP(INDEX(Base_Typologie!$A$6:$P$1003,MATCH(A355,Base_Typologie!$A:$A,0)-5,MATCH(Typologie_Espace_Public,Base_Typologie!$6:$6,0)),TableauScoreTypologie2,2,FALSE)*Crit6),0,VLOOKUP(INDEX(Base_Typologie!$A$6:$P$1003,MATCH(A355,Base_Typologie!$A:$A,0)-5,MATCH(Typologie_Espace_Public,Base_Typologie!$6:$6,0)),TableauScoreTypologie2,2,FALSE)*Crit6)","v":0},0,0,0,0,0,0,0,0,0,0,0,0,null,{"$f":"IF(Base_Arbres!A458<>\"\",VLOOKUP($A355,Base_Arbres,4,FALSE)*Crit7,\"\")","v":""}]
[{"$f":"IF(Base_Arbres!A356<>\"\",Base_Arbres!A356,\"\")","v":""},{"$f":"IF(Base_Arbres!A356<>\"\",VLOOKUP($A356,Base_Arbres,3,FALSE)*Crit1,\"\")","v":""},{"$f":"IF(Base_Arbres!A356<>\"\",VLOOKUP($A356,Base_Arbres,4,FALSE)*Crit2,\"\")","v":""},{"$f":"IF(Base_Arbres!A356<>\"\",VLOOKUP($A356,Base_Arbres,5,FALSE)*Crit3,\"\")","v":""},{"$f":"IF(Base_Arbres!A356<>\"\",VLOOKUP($A356,Base_Arbres,6,FALSE)*Crit4,\"\")","v":""},{"$f":"IF(Base_Arbres!B356<>\"\",VLOOKUP($A356,Base_Arbres,7,FALSE)*Crit5,\"\")","v":""},{"$f":"IF(Base_Arbres!C356<>\"\",VLOOKUP($A356,Base_Arbres,8,FALSE)*crit8,\"\")","v":""},{"$f":"IF(Base_Arbres!D356<>\"\",VLOOKUP($A356,Base_Arbres,9,FALSE)*crit9,\"\")","v":""},{"$f":"IF(ISNA(VLOOKUP(INDEX(Base_Typologie!$A$6:$P$1003,MATCH(A356,Base_Typologie!$A:$A,0)-5,MATCH(Typologie_Espace_Public,Base_Typologie!$6:$6,0)),TableauScoreTypologie2,2,FALSE)*Crit6),0,VLOOKUP(INDEX(Base_Typologie!$A$6:$P$1003,MATCH(A356,Base_Typologie!$A:$A,0)-5,MATCH(Typologie_Espace_Public,Base_Typologie!$6:$6,0)),TableauScoreTypologie2,2,FALSE)*Crit6)","v":0},0,0,0,0,0,0,0,0,0,0,0,0,null,{"$f":"IF(Base_Arbres!A459<>\"\",VLOOKUP($A356,Base_Arbres,4,FALSE)*Crit7,\"\")","v":""}]
[{"$f":"IF(Base_Arbres!A357<>\"\",Base_Arbres!A357,\"\")","v":""},{"$f":"IF(Base_Arbres!A357<>\"\",VLOOKUP($A357,Base_Arbres,3,FALSE)*Crit1,\"\")","v":""},{"$f":"IF(Base_Arbres!A357<>\"\",VLOOKUP($A357,Base_Arbres,4,FALSE)*Crit2,\"\")","v":""},{"$f":"IF(Base_Arbres!A357<>\"\",VLOOKUP($A357,Base_Arbres,5,FALSE)*Crit3,\"\")","v":""},{"$f":"IF(Base_Arbres!A357<>\"\",VLOOKUP($A357,Base_Arbres,6,FALSE)*Crit4,\"\")","v":""},{"$f":"IF(Base_Arbres!B357<>\"\",VLOOKUP($A357,Base_Arbres,7,FALSE)*Crit5,\"\")","v":""},{"$f":"IF(Base_Arbres!C357<>\"\",VLOOKUP($A357,Base_Arbres,8,FALSE)*crit8,\"\")","v":""},{"$f":"IF(Base_Arbres!D357<>\"\",VLOOKUP($A357,Base_Arbres,9,FALSE)*crit9,\"\")","v":""},{"$f":"IF(ISNA(VLOOKUP(INDEX(Base_Typologie!$A$6:$P$1003,MATCH(A357,Base_Typologie!$A:$A,0)-5,MATCH(Typologie_Espace_Public,Base_Typologie!$6:$6,0)),TableauScoreTypologie2,2,FALSE)*Crit6),0,VLOOKUP(INDEX(Base_Typologie!$A$6:$P$1003,MATCH(A357,Base_Typologie!$A:$A,0)-5,MATCH(Typologie_Espace_Public,Base_Typologie!$6:$6,0)),TableauScoreTypologie2,2,FALSE)*Crit6)","v":0},0,0,0,0,0,0,0,0,0,0,0,0,null,{"$f":"IF(Base_Arbres!A460<>\"\",VLOOKUP($A357,Base_Arbres,4,FALSE)*Crit7,\"\")","v":""}]
[{"$f":"IF(Base_Arbres!A358<>\"\",Base_Arbres!A358,\"\")","v":""},{"$f":"IF(Base_Arbres!A358<>\"\",VLOOKUP($A358,Base_Arbres,3,FALSE)*Crit1,\"\")","v":""},{"$f":"IF(Base_Arbres!A358<>\"\",VLOOKUP($A358,Base_Arbres,4,FALSE)*Crit2,\"\")","v":""},{"$f":"IF(Base_Arbres!A358<>\"\",VLOOKUP($A358,Base_Arbres,5,FALSE)*Crit3,\"\")","v":""},{"$f":"IF(Base_Arbres!A358<>\"\",VLOOKUP($A358,Base_Arbres,6,FALSE)*Crit4,\"\")","v":""},{"$f":"IF(Base_Arbres!B358<>\"\",VLOOKUP($A358,Base_Arbres,7,FALSE)*Crit5,\"\")","v":""},{"$f":"IF(Base_Arbres!C358<>\"\",VLOOKUP($A358,Base_Arbres,8,FALSE)*crit8,\"\")","v":""},{"$f":"IF(Base_Arbres!D358<>\"\",VLOOKUP($A358,Base_Arbres,9,FALSE)*crit9,\"\")","v":""},{"$f":"IF(ISNA(VLOOKUP(INDEX(Base_Typologie!$A$6:$P$1003,MATCH(A358,Base_Typologie!$A:$A,0)-5,MATCH(Typologie_Espace_Public,Base_Typologie!$6:$6,0)),TableauScoreTypologie2,2,FALSE)*Crit6),0,VLOOKUP(INDEX(Base_Typologie!$A$6:$P$1003,MATCH(A358,Base_Typologie!$A:$A,0)-5,MATCH(Typologie_Espace_Public,Base_Typologie!$6:$6,0)),TableauScoreTypologie2,2,FALSE)*Crit6)","v":0},0,0,0,0,0,0,0,0,0,0,0,0,null,{"$f":"IF(Base_Arbres!A461<>\"\",VLOOKUP($A358,Base_Arbres,4,FALSE)*Crit7,\"\")","v":""}]
[{"$f":"IF(Base_Arbres!A405<>\"\",Base_Arbres!A405,\"\")","v":""},{"$f":"IF(Base_Arbres!A405<>\"\",VLOOKUP($A359,Base_Arbres,3,FALSE)*Crit1,\"\")","v":""},{"$f":"IF(Base_Arbres!A405<>\"\",VLOOKUP($A359,Base_Arbres,4,FALSE)*Crit2,\"\")","v":""},{"$f":"IF(Base_Arbres!A405<>\"\",VLOOKUP($A359,Base_Arbres,5,FALSE)*Crit3,\"\")","v":""},{"$f":"IF(Base_Arbres!A405<>\"\",VLOOKUP($A359,Base_Arbres,6,FALSE)*Crit4,\"\")","v":""},{"$f":"IF(Base_Arbres!B359<>\"\",VLOOKUP($A359,Base_Arbres,7,FALSE)*Crit5,\"\")","v":""},{"$f":"IF(Base_Arbres!C359<>\"\",VLOOKUP($A359,Base_Arbres,8,FALSE)*crit8,\"\")","v":""},{"$f":"IF(Base_Arbres!D359<>\"\",VLOOKUP($A359,Base_Arbres,9,FALSE)*crit9,\"\")","v":""},{"$f":"IF(ISNA(VLOOKUP(INDEX(Base_Typologie!$A$6:$P$1003,MATCH(A359,Base_Typologie!$A:$A,0)-5,MATCH(Typologie_Espace_Public,Base_Typologie!$6:$6,0)),TableauScoreTypologie2,2,FALSE)*Crit6),0,VLOOKUP(INDEX(Base_Typologie!$A$6:$P$1003,MATCH(A359,Base_Typologie!$A:$A,0)-5,MATCH(Typologie_Espace_Public,Base_Typologie!$6:$6,0)),TableauScoreTypologie2,2,FALSE)*Crit6)","v":0},0,0,0,0,0,0,0,0,0,0,0,0,null,{"$f":"IF(Base_Arbres!A462<>\"\",VLOOKUP($A359,Base_Arbres,4,FALSE)*Crit7,\"\")","v":""}]
[{"$f":"IF(Base_Arbres!A406<>\"\",Base_Arbres!A406,\"\")","v":""},{"$f":"IF(Base_Arbres!A406<>\"\",VLOOKUP($A360,Base_Arbres,3,FALSE)*Crit1,\"\")","v":""},{"$f":"IF(Base_Arbres!A406<>\"\",VLOOKUP($A360,Base_Arbres,4,FALSE)*Crit2,\"\")","v":""},{"$f":"IF(Base_Arbres!A406<>\"\",VLOOKUP($A360,Base_Arbres,5,FALSE)*Crit3,\"\")","v":""},{"$f":"IF(Base_Arbres!A406<>\"\",VLOOKUP($A360,Base_Arbres,6,FALSE)*Crit4,\"\")","v":""},{"$f":"IF(Base_Arbres!B360<>\"\",VLOOKUP($A360,Base_Arbres,7,FALSE)*Crit5,\"\")","v":""},{"$f":"IF(Base_Arbres!C360<>\"\",VLOOKUP($A360,Base_Arbres,8,FALSE)*crit8,\"\")","v":""},{"$f":"IF(Base_Arbres!D360<>\"\",VLOOKUP($A360,Base_Arbres,9,FALSE)*crit9,\"\")","v":""},{"$f":"IF(ISNA(VLOOKUP(INDEX(Base_Typologie!$A$6:$P$1003,MATCH(A360,Base_Typologie!$A:$A,0)-5,MATCH(Typologie_Espace_Public,Base_Typologie!$6:$6,0)),TableauScoreTypologie2,2,FALSE)*Crit6),0,VLOOKUP(INDEX(Base_Typologie!$A$6:$P$1003,MATCH(A360,Base_Typologie!$A:$A,0)-5,MATCH(Typologie_Espace_Public,Base_Typologie!$6:$6,0)),TableauScoreTypologie2,2,FALSE)*Crit6)","v":0},0,0,0,0,0,0,0,0,0,0,0,0,null,{"$f":"IF(Base_Arbres!A463<>\"\",VLOOKUP($A360,Base_Arbres,4,FALSE)*Crit7,\"\")","v":""}]
[{"$f":"IF(Base_Arbres!A407<>\"\",Base_Arbres!A407,\"\")","v":""},{"$f":"IF(Base_Arbres!A407<>\"\",VLOOKUP($A361,Base_Arbres,3,FALSE)*Crit1,\"\")","v":""},{"$f":"IF(Base_Arbres!A407<>\"\",VLOOKUP($A361,Base_Arbres,4,FALSE)*Crit2,\"\")","v":""},{"$f":"IF(Base_Arbres!A407<>\"\",VLOOKUP($A361,Base_Arbres,5,FALSE)*Crit3,\"\")","v":""},{"$f":"IF(Base_Arbres!A407<>\"\",VLOOKUP($A361,Base_Arbres,6,FALSE)*Crit4,\"\")","v":""},{"$f":"IF(Base_Arbres!B361<>\"\",VLOOKUP($A361,Base_Arbres,7,FALSE)*Crit5,\"\")","v":""},{"$f":"IF(Base_Arbres!C361<>\"\",VLOOKUP($A361,Base_Arbres,8,FALSE)*crit8,\"\")","v":""},{"$f":"IF(Base_Arbres!D361<>\"\",VLOOKUP($A361,Base_Arbres,9,FALSE)*crit9,\"\")","v":""},{"$f":"IF(ISNA(VLOOKUP(INDEX(Base_Typologie!$A$6:$P$1003,MATCH(A361,Base_Typologie!$A:$A,0)-5,MATCH(Typologie_Espace_Public,Base_Typologie!$6:$6,0)),TableauScoreTypologie2,2,FALSE)*Crit6),0,VLOOKUP(INDEX(Base_Typologie!$A$6:$P$1003,MATCH(A361,Base_Typologie!$A:$A,0)-5,MATCH(Typologie_Espace_Public,Base_Typologie!$6:$6,0)),TableauScoreTypologie2,2,FALSE)*Crit6)","v":0},0,0,0,0,0,0,0,0,0,0,0,0,null,{"$f":"IF(Base_Arbres!A464<>\"\",VLOOKUP($A361,Base_Arbres,4,FALSE)*Crit7,\"\")","v":""}]
[{"$f":"IF(Base_Arbres!A408<>\"\",Base_Arbres!A408,\"\")","v":""},{"$f":"IF(Base_Arbres!A408<>\"\",VLOOKUP($A362,Base_Arbres,3,FALSE)*Crit1,\"\")","v":""},{"$f":"IF(Base_Arbres!A408<>\"\",VLOOKUP($A362,Base_Arbres,4,FALSE)*Crit2,\"\")","v":""},{"$f":"IF(Base_Arbres!A408<>\"\",VLOOKUP($A362,Base_Arbres,5,FALSE)*Crit3,\"\")","v":""},{"$f":"IF(Base_Arbres!A408<>\"\",VLOOKUP($A362,Base_Arbres,6,FALSE)*Crit4,\"\")","v":""},{"$f":"IF(Base_Arbres!B362<>\"\",VLOOKUP($A362,Base_Arbres,7,FALSE)*Crit5,\"\")","v":""},{"$f":"IF(Base_Arbres!C362<>\"\",VLOOKUP($A362,Base_Arbres,8,FALSE)*crit8,\"\")","v":""},{"$f":"IF(Base_Arbres!D362<>\"\",VLOOKUP($A362,Base_Arbres,9,FALSE)*crit9,\"\")","v":""},{"$f":"IF(ISNA(VLOOKUP(INDEX(Base_Typologie!$A$6:$P$1003,MATCH(A362,Base_Typologie!$A:$A,0)-5,MATCH(Typologie_Espace_Public,Base_Typologie!$6:$6,0)),TableauScoreTypologie2,2,FALSE)*Crit6),0,VLOOKUP(INDEX(Base_Typologie!$A$6:$P$1003,MATCH(A362,Base_Typologie!$A:$A,0)-5,MATCH(Typologie_Espace_Public,Base_Typologie!$6:$6,0)),TableauScoreTypologie2,2,FALSE)*Crit6)","v":0},0,0,0,0,0,0,0,0,0,0,0,0,null,{"$f":"IF(Base_Arbres!A465<>\"\",VLOOKUP($A362,Base_Arbres,4,FALSE)*Crit7,\"\")","v":""}]
[{"$f":"IF(Base_Arbres!A409<>\"\",Base_Arbres!A409,\"\")","v":""},{"$f":"IF(Base_Arbres!A409<>\"\",VLOOKUP($A363,Base_Arbres,3,FALSE)*Crit1,\"\")","v":""},{"$f":"IF(Base_Arbres!A409<>\"\",VLOOKUP($A363,Base_Arbres,4,FALSE)*Crit2,\"\")","v":""},{"$f":"IF(Base_Arbres!A409<>\"\",VLOOKUP($A363,Base_Arbres,5,FALSE)*Crit3,\"\")","v":""},{"$f":"IF(Base_Arbres!A409<>\"\",VLOOKUP($A363,Base_Arbres,6,FALSE)*Crit4,\"\")","v":""},{"$f":"IF(Base_Arbres!B363<>\"\",VLOOKUP($A363,Base_Arbres,7,FALSE)*Crit5,\"\")","v":""},{"$f":"IF(Base_Arbres!C363<>\"\",VLOOKUP($A363,Base_Arbres,8,FALSE)*crit8,\"\")","v":""},{"$f":"IF(Base_Arbres!D363<>\"\",VLOOKUP($A363,Base_Arbres,9,FALSE)*crit9,\"\")","v":""},{"$f":"IF(ISNA(VLOOKUP(INDEX(Base_Typologie!$A$6:$P$1003,MATCH(A363,Base_Typologie!$A:$A,0)-5,MATCH(Typologie_Espace_Public,Base_Typologie!$6:$6,0)),TableauScoreTypologie2,2,FALSE)*Crit6),0,VLOOKUP(INDEX(Base_Typologie!$A$6:$P$1003,MATCH(A363,Base_Typologie!$A:$A,0)-5,MATCH(Typologie_Espace_Public,Base_Typologie!$6:$6,0)),TableauScoreTypologie2,2,FALSE)*Crit6)","v":0},0,0,0,0,0,0,0,0,0,0,0,0,null,{"$f":"IF(Base_Arbres!A466<>\"\",VLOOKUP($A363,Base_Arbres,4,FALSE)*Crit7,\"\")","v":""}]
[{"$f":"IF(Base_Arbres!A410<>\"\",Base_Arbres!A410,\"\")","v":""},{"$f":"IF(Base_Arbres!A410<>\"\",VLOOKUP($A364,Base_Arbres,3,FALSE)*Crit1,\"\")","v":""},{"$f":"IF(Base_Arbres!A410<>\"\",VLOOKUP($A364,Base_Arbres,4,FALSE)*Crit2,\"\")","v":""},{"$f":"IF(Base_Arbres!A410<>\"\",VLOOKUP($A364,Base_Arbres,5,FALSE)*Crit3,\"\")","v":""},{"$f":"IF(Base_Arbres!A410<>\"\",VLOOKUP($A364,Base_Arbres,6,FALSE)*Crit4,\"\")","v":""},{"$f":"IF(Base_Arbres!B364<>\"\",VLOOKUP($A364,Base_Arbres,7,FALSE)*Crit5,\"\")","v":""},{"$f":"IF(Base_Arbres!C364<>\"\",VLOOKUP($A364,Base_Arbres,8,FALSE)*crit8,\"\")","v":""},{"$f":"IF(Base_Arbres!D364<>\"\",VLOOKUP($A364,Base_Arbres,9,FALSE)*crit9,\"\")","v":""},{"$f":"IF(ISNA(VLOOKUP(INDEX(Base_Typologie!$A$6:$P$1003,MATCH(A364,Base_Typologie!$A:$A,0)-5,MATCH(Typologie_Espace_Public,Base_Typologie!$6:$6,0)),TableauScoreTypologie2,2,FALSE)*Crit6),0,VLOOKUP(INDEX(Base_Typologie!$A$6:$P$1003,MATCH(A364,Base_Typologie!$A:$A,0)-5,MATCH(Typologie_Espace_Public,Base_Typologie!$6:$6,0)),TableauScoreTypologie2,2,FALSE)*Crit6)","v":0},0,0,0,0,0,0,0,0,0,0,0,0,null,{"$f":"IF(Base_Arbres!A467<>\"\",VLOOKUP($A364,Base_Arbres,4,FALSE)*Crit7,\"\")","v":""}]
[{"$f":"IF(Base_Arbres!A411<>\"\",Base_Arbres!A411,\"\")","v":""},{"$f":"IF(Base_Arbres!A411<>\"\",VLOOKUP($A365,Base_Arbres,3,FALSE)*Crit1,\"\")","v":""},{"$f":"IF(Base_Arbres!A411<>\"\",VLOOKUP($A365,Base_Arbres,4,FALSE)*Crit2,\"\")","v":""},{"$f":"IF(Base_Arbres!A411<>\"\",VLOOKUP($A365,Base_Arbres,5,FALSE)*Crit3,\"\")","v":""},{"$f":"IF(Base_Arbres!A411<>\"\",VLOOKUP($A365,Base_Arbres,6,FALSE)*Crit4,\"\")","v":""},{"$f":"IF(Base_Arbres!B365<>\"\",VLOOKUP($A365,Base_Arbres,7,FALSE)*Crit5,\"\")","v":""},{"$f":"IF(Base_Arbres!C365<>\"\",VLOOKUP($A365,Base_Arbres,8,FALSE)*crit8,\"\")","v":""},{"$f":"IF(Base_Arbres!D365<>\"\",VLOOKUP($A365,Base_Arbres,9,FALSE)*crit9,\"\")","v":""},{"$f":"IF(ISNA(VLOOKUP(INDEX(Base_Typologie!$A$6:$P$1003,MATCH(A365,Base_Typologie!$A:$A,0)-5,MATCH(Typologie_Espace_Public,Base_Typologie!$6:$6,0)),TableauScoreTypologie2,2,FALSE)*Crit6),0,VLOOKUP(INDEX(Base_Typologie!$A$6:$P$1003,MATCH(A365,Base_Typologie!$A:$A,0)-5,MATCH(Typologie_Espace_Public,Base_Typologie!$6:$6,0)),TableauScoreTypologie2,2,FALSE)*Crit6)","v":0},0,0,0,0,0,0,0,0,0,0,0,0,null,{"$f":"IF(Base_Arbres!A468<>\"\",VLOOKUP($A365,Base_Arbres,4,FALSE)*Crit7,\"\")","v":""}]
[{"$f":"IF(Base_Arbres!A412<>\"\",Base_Arbres!A412,\"\")","v":""},{"$f":"IF(Base_Arbres!A412<>\"\",VLOOKUP($A366,Base_Arbres,3,FALSE)*Crit1,\"\")","v":""},{"$f":"IF(Base_Arbres!A412<>\"\",VLOOKUP($A366,Base_Arbres,4,FALSE)*Crit2,\"\")","v":""},{"$f":"IF(Base_Arbres!A412<>\"\",VLOOKUP($A366,Base_Arbres,5,FALSE)*Crit3,\"\")","v":""},{"$f":"IF(Base_Arbres!A412<>\"\",VLOOKUP($A366,Base_Arbres,6,FALSE)*Crit4,\"\")","v":""},{"$f":"IF(Base_Arbres!B366<>\"\",VLOOKUP($A366,Base_Arbres,7,FALSE)*Crit5,\"\")","v":""},{"$f":"IF(Base_Arbres!C366<>\"\",VLOOKUP($A366,Base_Arbres,8,FALSE)*crit8,\"\")","v":""},{"$f":"IF(Base_Arbres!D366<>\"\",VLOOKUP($A366,Base_Arbres,9,FALSE)*crit9,\"\")","v":""},{"$f":"IF(ISNA(VLOOKUP(INDEX(Base_Typologie!$A$6:$P$1003,MATCH(A366,Base_Typologie!$A:$A,0)-5,MATCH(Typologie_Espace_Public,Base_Typologie!$6:$6,0)),TableauScoreTypologie2,2,FALSE)*Crit6),0,VLOOKUP(INDEX(Base_Typologie!$A$6:$P$1003,MATCH(A366,Base_Typologie!$A:$A,0)-5,MATCH(Typologie_Espace_Public,Base_Typologie!$6:$6,0)),TableauScoreTypologie2,2,FALSE)*Crit6)","v":0},0,0,0,0,0,0,0,0,0,0,0,0,null,{"$f":"IF(Base_Arbres!A469<>\"\",VLOOKUP($A366,Base_Arbres,4,FALSE)*Crit7,\"\")","v":""}]
[{"$f":"IF(Base_Arbres!A413<>\"\",Base_Arbres!A413,\"\")","v":""},{"$f":"IF(Base_Arbres!A413<>\"\",VLOOKUP($A367,Base_Arbres,3,FALSE)*Crit1,\"\")","v":""},{"$f":"IF(Base_Arbres!A413<>\"\",VLOOKUP($A367,Base_Arbres,4,FALSE)*Crit2,\"\")","v":""},{"$f":"IF(Base_Arbres!A413<>\"\",VLOOKUP($A367,Base_Arbres,5,FALSE)*Crit3,\"\")","v":""},{"$f":"IF(Base_Arbres!A413<>\"\",VLOOKUP($A367,Base_Arbres,6,FALSE)*Crit4,\"\")","v":""},{"$f":"IF(Base_Arbres!B367<>\"\",VLOOKUP($A367,Base_Arbres,7,FALSE)*Crit5,\"\")","v":""},{"$f":"IF(Base_Arbres!C367<>\"\",VLOOKUP($A367,Base_Arbres,8,FALSE)*crit8,\"\")","v":""},{"$f":"IF(Base_Arbres!D367<>\"\",VLOOKUP($A367,Base_Arbres,9,FALSE)*crit9,\"\")","v":""},{"$f":"IF(ISNA(VLOOKUP(INDEX(Base_Typologie!$A$6:$P$1003,MATCH(A367,Base_Typologie!$A:$A,0)-5,MATCH(Typologie_Espace_Public,Base_Typologie!$6:$6,0)),TableauScoreTypologie2,2,FALSE)*Crit6),0,VLOOKUP(INDEX(Base_Typologie!$A$6:$P$1003,MATCH(A367,Base_Typologie!$A:$A,0)-5,MATCH(Typologie_Espace_Public,Base_Typologie!$6:$6,0)),TableauScoreTypologie2,2,FALSE)*Crit6)","v":0},0,0,0,0,0,0,0,0,0,0,0,0,null,{"$f":"IF(Base_Arbres!A470<>\"\",VLOOKUP($A367,Base_Arbres,4,FALSE)*Crit7,\"\")","v":""}]
[{"$f":"IF(Base_Arbres!A414<>\"\",Base_Arbres!A414,\"\")","v":""},{"$f":"IF(Base_Arbres!A414<>\"\",VLOOKUP($A368,Base_Arbres,3,FALSE)*Crit1,\"\")","v":""},{"$f":"IF(Base_Arbres!A414<>\"\",VLOOKUP($A368,Base_Arbres,4,FALSE)*Crit2,\"\")","v":""},{"$f":"IF(Base_Arbres!A414<>\"\",VLOOKUP($A368,Base_Arbres,5,FALSE)*Crit3,\"\")","v":""},{"$f":"IF(Base_Arbres!A414<>\"\",VLOOKUP($A368,Base_Arbres,6,FALSE)*Crit4,\"\")","v":""},{"$f":"IF(Base_Arbres!B368<>\"\",VLOOKUP($A368,Base_Arbres,7,FALSE)*Crit5,\"\")","v":""},{"$f":"IF(Base_Arbres!C368<>\"\",VLOOKUP($A368,Base_Arbres,8,FALSE)*crit8,\"\")","v":""},{"$f":"IF(Base_Arbres!D368<>\"\",VLOOKUP($A368,Base_Arbres,9,FALSE)*crit9,\"\")","v":""},{"$f":"IF(ISNA(VLOOKUP(INDEX(Base_Typologie!$A$6:$P$1003,MATCH(A368,Base_Typologie!$A:$A,0)-5,MATCH(Typologie_Espace_Public,Base_Typologie!$6:$6,0)),TableauScoreTypologie2,2,FALSE)*Crit6),0,VLOOKUP(INDEX(Base_Typologie!$A$6:$P$1003,MATCH(A368,Base_Typologie!$A:$A,0)-5,MATCH(Typologie_Espace_Public,Base_Typologie!$6:$6,0)),TableauScoreTypologie2,2,FALSE)*Crit6)","v":0},0,0,0,0,0,0,0,0,0,0,0,0,null,{"$f":"IF(Base_Arbres!A471<>\"\",VLOOKUP($A368,Base_Arbres,4,FALSE)*Crit7,\"\")","v":""}]
[{"$f":"IF(Base_Arbres!A415<>\"\",Base_Arbres!A415,\"\")","v":""},{"$f":"IF(Base_Arbres!A415<>\"\",VLOOKUP($A369,Base_Arbres,3,FALSE)*Crit1,\"\")","v":""},{"$f":"IF(Base_Arbres!A415<>\"\",VLOOKUP($A369,Base_Arbres,4,FALSE)*Crit2,\"\")","v":""},{"$f":"IF(Base_Arbres!A415<>\"\",VLOOKUP($A369,Base_Arbres,5,FALSE)*Crit3,\"\")","v":""},{"$f":"IF(Base_Arbres!A415<>\"\",VLOOKUP($A369,Base_Arbres,6,FALSE)*Crit4,\"\")","v":""},{"$f":"IF(Base_Arbres!B369<>\"\",VLOOKUP($A369,Base_Arbres,7,FALSE)*Crit5,\"\")","v":""},{"$f":"IF(Base_Arbres!C369<>\"\",VLOOKUP($A369,Base_Arbres,8,FALSE)*crit8,\"\")","v":""},{"$f":"IF(Base_Arbres!D369<>\"\",VLOOKUP($A369,Base_Arbres,9,FALSE)*crit9,\"\")","v":""},{"$f":"IF(ISNA(VLOOKUP(INDEX(Base_Typologie!$A$6:$P$1003,MATCH(A369,Base_Typologie!$A:$A,0)-5,MATCH(Typologie_Espace_Public,Base_Typologie!$6:$6,0)),TableauScoreTypologie2,2,FALSE)*Crit6),0,VLOOKUP(INDEX(Base_Typologie!$A$6:$P$1003,MATCH(A369,Base_Typologie!$A:$A,0)-5,MATCH(Typologie_Espace_Public,Base_Typologie!$6:$6,0)),TableauScoreTypologie2,2,FALSE)*Crit6)","v":0},0,0,0,0,0,0,0,0,0,0,0,0,null,{"$f":"IF(Base_Arbres!A472<>\"\",VLOOKUP($A369,Base_Arbres,4,FALSE)*Crit7,\"\")","v":""}]
[{"$f":"IF(Base_Arbres!A416<>\"\",Base_Arbres!A416,\"\")","v":""},{"$f":"IF(Base_Arbres!A416<>\"\",VLOOKUP($A370,Base_Arbres,3,FALSE)*Crit1,\"\")","v":""},{"$f":"IF(Base_Arbres!A416<>\"\",VLOOKUP($A370,Base_Arbres,4,FALSE)*Crit2,\"\")","v":""},{"$f":"IF(Base_Arbres!A416<>\"\",VLOOKUP($A370,Base_Arbres,5,FALSE)*Crit3,\"\")","v":""},{"$f":"IF(Base_Arbres!A416<>\"\",VLOOKUP($A370,Base_Arbres,6,FALSE)*Crit4,\"\")","v":""},{"$f":"IF(Base_Arbres!B370<>\"\",VLOOKUP($A370,Base_Arbres,7,FALSE)*Crit5,\"\")","v":""},{"$f":"IF(Base_Arbres!C370<>\"\",VLOOKUP($A370,Base_Arbres,8,FALSE)*crit8,\"\")","v":""},{"$f":"IF(Base_Arbres!D370<>\"\",VLOOKUP($A370,Base_Arbres,9,FALSE)*crit9,\"\")","v":""},{"$f":"IF(ISNA(VLOOKUP(INDEX(Base_Typologie!$A$6:$P$1003,MATCH(A370,Base_Typologie!$A:$A,0)-5,MATCH(Typologie_Espace_Public,Base_Typologie!$6:$6,0)),TableauScoreTypologie2,2,FALSE)*Crit6),0,VLOOKUP(INDEX(Base_Typologie!$A$6:$P$1003,MATCH(A370,Base_Typologie!$A:$A,0)-5,MATCH(Typologie_Espace_Public,Base_Typologie!$6:$6,0)),TableauScoreTypologie2,2,FALSE)*Crit6)","v":0},0,0,0,0,0,0,0,0,0,0,0,0,null,{"$f":"IF(Base_Arbres!A473<>\"\",VLOOKUP($A370,Base_Arbres,4,FALSE)*Crit7,\"\")","v":""}]
[{"$f":"IF(Base_Arbres!A417<>\"\",Base_Arbres!A417,\"\")","v":""},{"$f":"IF(Base_Arbres!A417<>\"\",VLOOKUP($A371,Base_Arbres,3,FALSE)*Crit1,\"\")","v":""},{"$f":"IF(Base_Arbres!A417<>\"\",VLOOKUP($A371,Base_Arbres,4,FALSE)*Crit2,\"\")","v":""},{"$f":"IF(Base_Arbres!A417<>\"\",VLOOKUP($A371,Base_Arbres,5,FALSE)*Crit3,\"\")","v":""},{"$f":"IF(Base_Arbres!A417<>\"\",VLOOKUP($A371,Base_Arbres,6,FALSE)*Crit4,\"\")","v":""},{"$f":"IF(Base_Arbres!B371<>\"\",VLOOKUP($A371,Base_Arbres,7,FALSE)*Crit5,\"\")","v":""},{"$f":"IF(Base_Arbres!C371<>\"\",VLOOKUP($A371,Base_Arbres,8,FALSE)*crit8,\"\")","v":""},{"$f":"IF(Base_Arbres!D371<>\"\",VLOOKUP($A371,Base_Arbres,9,FALSE)*crit9,\"\")","v":""},{"$f":"IF(ISNA(VLOOKUP(INDEX(Base_Typologie!$A$6:$P$1003,MATCH(A371,Base_Typologie!$A:$A,0)-5,MATCH(Typologie_Espace_Public,Base_Typologie!$6:$6,0)),TableauScoreTypologie2,2,FALSE)*Crit6),0,VLOOKUP(INDEX(Base_Typologie!$A$6:$P$1003,MATCH(A371,Base_Typologie!$A:$A,0)-5,MATCH(Typologie_Espace_Public,Base_Typologie!$6:$6,0)),TableauScoreTypologie2,2,FALSE)*Crit6)","v":0},0,0,0,0,0,0,0,0,0,0,0,0,null,{"$f":"IF(Base_Arbres!A474<>\"\",VLOOKUP($A371,Base_Arbres,4,FALSE)*Crit7,\"\")","v":""}]
[{"$f":"IF(Base_Arbres!A418<>\"\",Base_Arbres!A418,\"\")","v":""},{"$f":"IF(Base_Arbres!A418<>\"\",VLOOKUP($A372,Base_Arbres,3,FALSE)*Crit1,\"\")","v":""},{"$f":"IF(Base_Arbres!A418<>\"\",VLOOKUP($A372,Base_Arbres,4,FALSE)*Crit2,\"\")","v":""},{"$f":"IF(Base_Arbres!A418<>\"\",VLOOKUP($A372,Base_Arbres,5,FALSE)*Crit3,\"\")","v":""},{"$f":"IF(Base_Arbres!A418<>\"\",VLOOKUP($A372,Base_Arbres,6,FALSE)*Crit4,\"\")","v":""},{"$f":"IF(Base_Arbres!B372<>\"\",VLOOKUP($A372,Base_Arbres,7,FALSE)*Crit5,\"\")","v":""},{"$f":"IF(Base_Arbres!C372<>\"\",VLOOKUP($A372,Base_Arbres,8,FALSE)*crit8,\"\")","v":""},{"$f":"IF(Base_Arbres!D372<>\"\",VLOOKUP($A372,Base_Arbres,9,FALSE)*crit9,\"\")","v":""},{"$f":"IF(ISNA(VLOOKUP(INDEX(Base_Typologie!$A$6:$P$1003,MATCH(A372,Base_Typologie!$A:$A,0)-5,MATCH(Typologie_Espace_Public,Base_Typologie!$6:$6,0)),TableauScoreTypologie2,2,FALSE)*Crit6),0,VLOOKUP(INDEX(Base_Typologie!$A$6:$P$1003,MATCH(A372,Base_Typologie!$A:$A,0)-5,MATCH(Typologie_Espace_Public,Base_Typologie!$6:$6,0)),TableauScoreTypologie2,2,FALSE)*Crit6)","v":0},0,0,0,0,0,0,0,0,0,0,0,0,null,{"$f":"IF(Base_Arbres!A475<>\"\",VLOOKUP($A372,Base_Arbres,4,FALSE)*Crit7,\"\")","v":""}]
[{"$f":"IF(Base_Arbres!A419<>\"\",Base_Arbres!A419,\"\")","v":""},{"$f":"IF(Base_Arbres!A419<>\"\",VLOOKUP($A373,Base_Arbres,3,FALSE)*Crit1,\"\")","v":""},{"$f":"IF(Base_Arbres!A419<>\"\",VLOOKUP($A373,Base_Arbres,4,FALSE)*Crit2,\"\")","v":""},{"$f":"IF(Base_Arbres!A419<>\"\",VLOOKUP($A373,Base_Arbres,5,FALSE)*Crit3,\"\")","v":""},{"$f":"IF(Base_Arbres!A419<>\"\",VLOOKUP($A373,Base_Arbres,6,FALSE)*Crit4,\"\")","v":""},{"$f":"IF(Base_Arbres!B373<>\"\",VLOOKUP($A373,Base_Arbres,7,FALSE)*Crit5,\"\")","v":""},{"$f":"IF(Base_Arbres!C373<>\"\",VLOOKUP($A373,Base_Arbres,8,FALSE)*crit8,\"\")","v":""},{"$f":"IF(Base_Arbres!D373<>\"\",VLOOKUP($A373,Base_Arbres,9,FALSE)*crit9,\"\")","v":""},{"$f":"IF(ISNA(VLOOKUP(INDEX(Base_Typologie!$A$6:$P$1003,MATCH(A373,Base_Typologie!$A:$A,0)-5,MATCH(Typologie_Espace_Public,Base_Typologie!$6:$6,0)),TableauScoreTypologie2,2,FALSE)*Crit6),0,VLOOKUP(INDEX(Base_Typologie!$A$6:$P$1003,MATCH(A373,Base_Typologie!$A:$A,0)-5,MATCH(Typologie_Espace_Public,Base_Typologie!$6:$6,0)),TableauScoreTypologie2,2,FALSE)*Crit6)","v":0},0,0,0,0,0,0,0,0,0,0,0,0,null,{"$f":"IF(Base_Arbres!A476<>\"\",VLOOKUP($A373,Base_Arbres,4,FALSE)*Crit7,\"\")","v":""}]
[{"$f":"IF(Base_Arbres!A420<>\"\",Base_Arbres!A420,\"\")","v":""},{"$f":"IF(Base_Arbres!A420<>\"\",VLOOKUP($A374,Base_Arbres,3,FALSE)*Crit1,\"\")","v":""},{"$f":"IF(Base_Arbres!A420<>\"\",VLOOKUP($A374,Base_Arbres,4,FALSE)*Crit2,\"\")","v":""},{"$f":"IF(Base_Arbres!A420<>\"\",VLOOKUP($A374,Base_Arbres,5,FALSE)*Crit3,\"\")","v":""},{"$f":"IF(Base_Arbres!A420<>\"\",VLOOKUP($A374,Base_Arbres,6,FALSE)*Crit4,\"\")","v":""},{"$f":"IF(Base_Arbres!B374<>\"\",VLOOKUP($A374,Base_Arbres,7,FALSE)*Crit5,\"\")","v":""},{"$f":"IF(Base_Arbres!C374<>\"\",VLOOKUP($A374,Base_Arbres,8,FALSE)*crit8,\"\")","v":""},{"$f":"IF(Base_Arbres!D374<>\"\",VLOOKUP($A374,Base_Arbres,9,FALSE)*crit9,\"\")","v":""},{"$f":"IF(ISNA(VLOOKUP(INDEX(Base_Typologie!$A$6:$P$1003,MATCH(A374,Base_Typologie!$A:$A,0)-5,MATCH(Typologie_Espace_Public,Base_Typologie!$6:$6,0)),TableauScoreTypologie2,2,FALSE)*Crit6),0,VLOOKUP(INDEX(Base_Typologie!$A$6:$P$1003,MATCH(A374,Base_Typologie!$A:$A,0)-5,MATCH(Typologie_Espace_Public,Base_Typologie!$6:$6,0)),TableauScoreTypologie2,2,FALSE)*Crit6)","v":0},0,0,0,0,0,0,0,0,0,0,0,0,null,{"$f":"IF(Base_Arbres!A477<>\"\",VLOOKUP($A374,Base_Arbres,4,FALSE)*Crit7,\"\")","v":""}]
[{"$f":"IF(Base_Arbres!A421<>\"\",Base_Arbres!A421,\"\")","v":""},{"$f":"IF(Base_Arbres!A421<>\"\",VLOOKUP($A375,Base_Arbres,3,FALSE)*Crit1,\"\")","v":""},{"$f":"IF(Base_Arbres!A421<>\"\",VLOOKUP($A375,Base_Arbres,4,FALSE)*Crit2,\"\")","v":""},{"$f":"IF(Base_Arbres!A421<>\"\",VLOOKUP($A375,Base_Arbres,5,FALSE)*Crit3,\"\")","v":""},{"$f":"IF(Base_Arbres!A421<>\"\",VLOOKUP($A375,Base_Arbres,6,FALSE)*Crit4,\"\")","v":""},{"$f":"IF(Base_Arbres!B375<>\"\",VLOOKUP($A375,Base_Arbres,7,FALSE)*Crit5,\"\")","v":""},{"$f":"IF(Base_Arbres!C375<>\"\",VLOOKUP($A375,Base_Arbres,8,FALSE)*crit8,\"\")","v":""},{"$f":"IF(Base_Arbres!D375<>\"\",VLOOKUP($A375,Base_Arbres,9,FALSE)*crit9,\"\")","v":""},{"$f":"IF(ISNA(VLOOKUP(INDEX(Base_Typologie!$A$6:$P$1003,MATCH(A375,Base_Typologie!$A:$A,0)-5,MATCH(Typologie_Espace_Public,Base_Typologie!$6:$6,0)),TableauScoreTypologie2,2,FALSE)*Crit6),0,VLOOKUP(INDEX(Base_Typologie!$A$6:$P$1003,MATCH(A375,Base_Typologie!$A:$A,0)-5,MATCH(Typologie_Espace_Public,Base_Typologie!$6:$6,0)),TableauScoreTypologie2,2,FALSE)*Crit6)","v":0},0,0,0,0,0,0,0,0,0,0,0,0,null,{"$f":"IF(Base_Arbres!A478<>\"\",VLOOKUP($A375,Base_Arbres,4,FALSE)*Crit7,\"\")","v":""}]
[{"$f":"IF(Base_Arbres!A422<>\"\",Base_Arbres!A422,\"\")","v":""},{"$f":"IF(Base_Arbres!A422<>\"\",VLOOKUP($A376,Base_Arbres,3,FALSE)*Crit1,\"\")","v":""},{"$f":"IF(Base_Arbres!A422<>\"\",VLOOKUP($A376,Base_Arbres,4,FALSE)*Crit2,\"\")","v":""},{"$f":"IF(Base_Arbres!A422<>\"\",VLOOKUP($A376,Base_Arbres,5,FALSE)*Crit3,\"\")","v":""},{"$f":"IF(Base_Arbres!A422<>\"\",VLOOKUP($A376,Base_Arbres,6,FALSE)*Crit4,\"\")","v":""},{"$f":"IF(Base_Arbres!B376<>\"\",VLOOKUP($A376,Base_Arbres,7,FALSE)*Crit5,\"\")","v":""},{"$f":"IF(Base_Arbres!C376<>\"\",VLOOKUP($A376,Base_Arbres,8,FALSE)*crit8,\"\")","v":""},{"$f":"IF(Base_Arbres!D376<>\"\",VLOOKUP($A376,Base_Arbres,9,FALSE)*crit9,\"\")","v":""},{"$f":"IF(ISNA(VLOOKUP(INDEX(Base_Typologie!$A$6:$P$1003,MATCH(A376,Base_Typologie!$A:$A,0)-5,MATCH(Typologie_Espace_Public,Base_Typologie!$6:$6,0)),TableauScoreTypologie2,2,FALSE)*Crit6),0,VLOOKUP(INDEX(Base_Typologie!$A$6:$P$1003,MATCH(A376,Base_Typologie!$A:$A,0)-5,MATCH(Typologie_Espace_Public,Base_Typologie!$6:$6,0)),TableauScoreTypologie2,2,FALSE)*Crit6)","v":0},0,0,0,0,0,0,0,0,0,0,0,0,null,{"$f":"IF(Base_Arbres!A479<>\"\",VLOOKUP($A376,Base_Arbres,4,FALSE)*Crit7,\"\")","v":""}]
[{"$f":"IF(Base_Arbres!A423<>\"\",Base_Arbres!A423,\"\")","v":""},{"$f":"IF(Base_Arbres!A423<>\"\",VLOOKUP($A377,Base_Arbres,3,FALSE)*Crit1,\"\")","v":""},{"$f":"IF(Base_Arbres!A423<>\"\",VLOOKUP($A377,Base_Arbres,4,FALSE)*Crit2,\"\")","v":""},{"$f":"IF(Base_Arbres!A423<>\"\",VLOOKUP($A377,Base_Arbres,5,FALSE)*Crit3,\"\")","v":""},{"$f":"IF(Base_Arbres!A423<>\"\",VLOOKUP($A377,Base_Arbres,6,FALSE)*Crit4,\"\")","v":""},{"$f":"IF(Base_Arbres!B377<>\"\",VLOOKUP($A377,Base_Arbres,7,FALSE)*Crit5,\"\")","v":""},{"$f":"IF(Base_Arbres!C377<>\"\",VLOOKUP($A377,Base_Arbres,8,FALSE)*crit8,\"\")","v":""},{"$f":"IF(Base_Arbres!D377<>\"\",VLOOKUP($A377,Base_Arbres,9,FALSE)*crit9,\"\")","v":""},{"$f":"IF(ISNA(VLOOKUP(INDEX(Base_Typologie!$A$6:$P$1003,MATCH(A377,Base_Typologie!$A:$A,0)-5,MATCH(Typologie_Espace_Public,Base_Typologie!$6:$6,0)),TableauScoreTypologie2,2,FALSE)*Crit6),0,VLOOKUP(INDEX(Base_Typologie!$A$6:$P$1003,MATCH(A377,Base_Typologie!$A:$A,0)-5,MATCH(Typologie_Espace_Public,Base_Typologie!$6:$6,0)),TableauScoreTypologie2,2,FALSE)*Crit6)","v":0},0,0,0,0,0,0,0,0,0,0,0,0,null,{"$f":"IF(Base_Arbres!A480<>\"\",VLOOKUP($A377,Base_Arbres,4,FALSE)*Crit7,\"\")","v":""}]
[{"$f":"IF(Base_Arbres!A424<>\"\",Base_Arbres!A424,\"\")","v":""},{"$f":"IF(Base_Arbres!A424<>\"\",VLOOKUP($A378,Base_Arbres,3,FALSE)*Crit1,\"\")","v":""},{"$f":"IF(Base_Arbres!A424<>\"\",VLOOKUP($A378,Base_Arbres,4,FALSE)*Crit2,\"\")","v":""},{"$f":"IF(Base_Arbres!A424<>\"\",VLOOKUP($A378,Base_Arbres,5,FALSE)*Crit3,\"\")","v":""},{"$f":"IF(Base_Arbres!A424<>\"\",VLOOKUP($A378,Base_Arbres,6,FALSE)*Crit4,\"\")","v":""},{"$f":"IF(Base_Arbres!B378<>\"\",VLOOKUP($A378,Base_Arbres,7,FALSE)*Crit5,\"\")","v":""},{"$f":"IF(Base_Arbres!C378<>\"\",VLOOKUP($A378,Base_Arbres,8,FALSE)*crit8,\"\")","v":""},{"$f":"IF(Base_Arbres!D378<>\"\",VLOOKUP($A378,Base_Arbres,9,FALSE)*crit9,\"\")","v":""},{"$f":"IF(ISNA(VLOOKUP(INDEX(Base_Typologie!$A$6:$P$1003,MATCH(A378,Base_Typologie!$A:$A,0)-5,MATCH(Typologie_Espace_Public,Base_Typologie!$6:$6,0)),TableauScoreTypologie2,2,FALSE)*Crit6),0,VLOOKUP(INDEX(Base_Typologie!$A$6:$P$1003,MATCH(A378,Base_Typologie!$A:$A,0)-5,MATCH(Typologie_Espace_Public,Base_Typologie!$6:$6,0)),TableauScoreTypologie2,2,FALSE)*Crit6)","v":0},0,0,0,0,0,0,0,0,0,0,0,0,null,{"$f":"IF(Base_Arbres!A481<>\"\",VLOOKUP($A378,Base_Arbres,4,FALSE)*Crit7,\"\")","v":""}]
[{"$f":"IF(Base_Arbres!A425<>\"\",Base_Arbres!A425,\"\")","v":""},{"$f":"IF(Base_Arbres!A425<>\"\",VLOOKUP($A379,Base_Arbres,3,FALSE)*Crit1,\"\")","v":""},{"$f":"IF(Base_Arbres!A425<>\"\",VLOOKUP($A379,Base_Arbres,4,FALSE)*Crit2,\"\")","v":""},{"$f":"IF(Base_Arbres!A425<>\"\",VLOOKUP($A379,Base_Arbres,5,FALSE)*Crit3,\"\")","v":""},{"$f":"IF(Base_Arbres!A425<>\"\",VLOOKUP($A379,Base_Arbres,6,FALSE)*Crit4,\"\")","v":""},{"$f":"IF(Base_Arbres!B379<>\"\",VLOOKUP($A379,Base_Arbres,7,FALSE)*Crit5,\"\")","v":""},{"$f":"IF(Base_Arbres!C379<>\"\",VLOOKUP($A379,Base_Arbres,8,FALSE)*crit8,\"\")","v":""},{"$f":"IF(Base_Arbres!D379<>\"\",VLOOKUP($A379,Base_Arbres,9,FALSE)*crit9,\"\")","v":""},{"$f":"IF(ISNA(VLOOKUP(INDEX(Base_Typologie!$A$6:$P$1003,MATCH(A379,Base_Typologie!$A:$A,0)-5,MATCH(Typologie_Espace_Public,Base_Typologie!$6:$6,0)),TableauScoreTypologie2,2,FALSE)*Crit6),0,VLOOKUP(INDEX(Base_Typologie!$A$6:$P$1003,MATCH(A379,Base_Typologie!$A:$A,0)-5,MATCH(Typologie_Espace_Public,Base_Typologie!$6:$6,0)),TableauScoreTypologie2,2,FALSE)*Crit6)","v":0},0,0,0,0,0,0,0,0,0,0,0,0,null,{"$f":"IF(Base_Arbres!A482<>\"\",VLOOKUP($A379,Base_Arbres,4,FALSE)*Crit7,\"\")","v":""}]
[{"$f":"IF(Base_Arbres!A426<>\"\",Base_Arbres!A426,\"\")","v":""},{"$f":"IF(Base_Arbres!A426<>\"\",VLOOKUP($A380,Base_Arbres,3,FALSE)*Crit1,\"\")","v":""},{"$f":"IF(Base_Arbres!A426<>\"\",VLOOKUP($A380,Base_Arbres,4,FALSE)*Crit2,\"\")","v":""},{"$f":"IF(Base_Arbres!A426<>\"\",VLOOKUP($A380,Base_Arbres,5,FALSE)*Crit3,\"\")","v":""},{"$f":"IF(Base_Arbres!A426<>\"\",VLOOKUP($A380,Base_Arbres,6,FALSE)*Crit4,\"\")","v":""},{"$f":"IF(Base_Arbres!B380<>\"\",VLOOKUP($A380,Base_Arbres,7,FALSE)*Crit5,\"\")","v":""},{"$f":"IF(Base_Arbres!C380<>\"\",VLOOKUP($A380,Base_Arbres,8,FALSE)*crit8,\"\")","v":""},{"$f":"IF(Base_Arbres!D380<>\"\",VLOOKUP($A380,Base_Arbres,9,FALSE)*crit9,\"\")","v":""},{"$f":"IF(ISNA(VLOOKUP(INDEX(Base_Typologie!$A$6:$P$1003,MATCH(A380,Base_Typologie!$A:$A,0)-5,MATCH(Typologie_Espace_Public,Base_Typologie!$6:$6,0)),TableauScoreTypologie2,2,FALSE)*Crit6),0,VLOOKUP(INDEX(Base_Typologie!$A$6:$P$1003,MATCH(A380,Base_Typologie!$A:$A,0)-5,MATCH(Typologie_Espace_Public,Base_Typologie!$6:$6,0)),TableauScoreTypologie2,2,FALSE)*Crit6)","v":0},0,0,0,0,0,0,0,0,0,0,0,0,null,{"$f":"IF(Base_Arbres!A483<>\"\",VLOOKUP($A380,Base_Arbres,4,FALSE)*Crit7,\"\")","v":""}]
[{"$f":"IF(Base_Arbres!A427<>\"\",Base_Arbres!A427,\"\")","v":""},{"$f":"IF(Base_Arbres!A427<>\"\",VLOOKUP($A381,Base_Arbres,3,FALSE)*Crit1,\"\")","v":""},{"$f":"IF(Base_Arbres!A427<>\"\",VLOOKUP($A381,Base_Arbres,4,FALSE)*Crit2,\"\")","v":""},{"$f":"IF(Base_Arbres!A427<>\"\",VLOOKUP($A381,Base_Arbres,5,FALSE)*Crit3,\"\")","v":""},{"$f":"IF(Base_Arbres!A427<>\"\",VLOOKUP($A381,Base_Arbres,6,FALSE)*Crit4,\"\")","v":""},{"$f":"IF(Base_Arbres!B381<>\"\",VLOOKUP($A381,Base_Arbres,7,FALSE)*Crit5,\"\")","v":""},{"$f":"IF(Base_Arbres!C381<>\"\",VLOOKUP($A381,Base_Arbres,8,FALSE)*crit8,\"\")","v":""},{"$f":"IF(Base_Arbres!D381<>\"\",VLOOKUP($A381,Base_Arbres,9,FALSE)*crit9,\"\")","v":""},{"$f":"IF(ISNA(VLOOKUP(INDEX(Base_Typologie!$A$6:$P$1003,MATCH(A381,Base_Typologie!$A:$A,0)-5,MATCH(Typologie_Espace_Public,Base_Typologie!$6:$6,0)),TableauScoreTypologie2,2,FALSE)*Crit6),0,VLOOKUP(INDEX(Base_Typologie!$A$6:$P$1003,MATCH(A381,Base_Typologie!$A:$A,0)-5,MATCH(Typologie_Espace_Public,Base_Typologie!$6:$6,0)),TableauScoreTypologie2,2,FALSE)*Crit6)","v":0},0,0,0,0,0,0,0,0,0,0,0,0,null,{"$f":"IF(Base_Arbres!A484<>\"\",VLOOKUP($A381,Base_Arbres,4,FALSE)*Crit7,\"\")","v":""}]
[{"$f":"IF(Base_Arbres!A428<>\"\",Base_Arbres!A428,\"\")","v":""},{"$f":"IF(Base_Arbres!A428<>\"\",VLOOKUP($A382,Base_Arbres,3,FALSE)*Crit1,\"\")","v":""},{"$f":"IF(Base_Arbres!A428<>\"\",VLOOKUP($A382,Base_Arbres,4,FALSE)*Crit2,\"\")","v":""},{"$f":"IF(Base_Arbres!A428<>\"\",VLOOKUP($A382,Base_Arbres,5,FALSE)*Crit3,\"\")","v":""},{"$f":"IF(Base_Arbres!A428<>\"\",VLOOKUP($A382,Base_Arbres,6,FALSE)*Crit4,\"\")","v":""},{"$f":"IF(Base_Arbres!B382<>\"\",VLOOKUP($A382,Base_Arbres,7,FALSE)*Crit5,\"\")","v":""},{"$f":"IF(Base_Arbres!C382<>\"\",VLOOKUP($A382,Base_Arbres,8,FALSE)*crit8,\"\")","v":""},{"$f":"IF(Base_Arbres!D382<>\"\",VLOOKUP($A382,Base_Arbres,9,FALSE)*crit9,\"\")","v":""},{"$f":"IF(ISNA(VLOOKUP(INDEX(Base_Typologie!$A$6:$P$1003,MATCH(A382,Base_Typologie!$A:$A,0)-5,MATCH(Typologie_Espace_Public,Base_Typologie!$6:$6,0)),TableauScoreTypologie2,2,FALSE)*Crit6),0,VLOOKUP(INDEX(Base_Typologie!$A$6:$P$1003,MATCH(A382,Base_Typologie!$A:$A,0)-5,MATCH(Typologie_Espace_Public,Base_Typologie!$6:$6,0)),TableauScoreTypologie2,2,FALSE)*Crit6)","v":0},0,0,0,0,0,0,0,0,0,0,0,0,null,{"$f":"IF(Base_Arbres!A485<>\"\",VLOOKUP($A382,Base_Arbres,4,FALSE)*Crit7,\"\")","v":""}]
[{"$f":"IF(Base_Arbres!A429<>\"\",Base_Arbres!A429,\"\")","v":""},{"$f":"IF(Base_Arbres!A429<>\"\",VLOOKUP($A383,Base_Arbres,3,FALSE)*Crit1,\"\")","v":""},{"$f":"IF(Base_Arbres!A429<>\"\",VLOOKUP($A383,Base_Arbres,4,FALSE)*Crit2,\"\")","v":""},{"$f":"IF(Base_Arbres!A429<>\"\",VLOOKUP($A383,Base_Arbres,5,FALSE)*Crit3,\"\")","v":""},{"$f":"IF(Base_Arbres!A429<>\"\",VLOOKUP($A383,Base_Arbres,6,FALSE)*Crit4,\"\")","v":""},{"$f":"IF(Base_Arbres!B383<>\"\",VLOOKUP($A383,Base_Arbres,7,FALSE)*Crit5,\"\")","v":""},{"$f":"IF(Base_Arbres!C383<>\"\",VLOOKUP($A383,Base_Arbres,8,FALSE)*crit8,\"\")","v":""},{"$f":"IF(Base_Arbres!D383<>\"\",VLOOKUP($A383,Base_Arbres,9,FALSE)*crit9,\"\")","v":""},{"$f":"IF(ISNA(VLOOKUP(INDEX(Base_Typologie!$A$6:$P$1003,MATCH(A383,Base_Typologie!$A:$A,0)-5,MATCH(Typologie_Espace_Public,Base_Typologie!$6:$6,0)),TableauScoreTypologie2,2,FALSE)*Crit6),0,VLOOKUP(INDEX(Base_Typologie!$A$6:$P$1003,MATCH(A383,Base_Typologie!$A:$A,0)-5,MATCH(Typologie_Espace_Public,Base_Typologie!$6:$6,0)),TableauScoreTypologie2,2,FALSE)*Crit6)","v":0},0,0,0,0,0,0,0,0,0,0,0,0,null,{"$f":"IF(Base_Arbres!A486<>\"\",VLOOKUP($A383,Base_Arbres,4,FALSE)*Crit7,\"\")","v":""}]
[{"$f":"IF(Base_Arbres!A430<>\"\",Base_Arbres!A430,\"\")","v":""},{"$f":"IF(Base_Arbres!A430<>\"\",VLOOKUP($A384,Base_Arbres,3,FALSE)*Crit1,\"\")","v":""},{"$f":"IF(Base_Arbres!A430<>\"\",VLOOKUP($A384,Base_Arbres,4,FALSE)*Crit2,\"\")","v":""},{"$f":"IF(Base_Arbres!A430<>\"\",VLOOKUP($A384,Base_Arbres,5,FALSE)*Crit3,\"\")","v":""},{"$f":"IF(Base_Arbres!A430<>\"\",VLOOKUP($A384,Base_Arbres,6,FALSE)*Crit4,\"\")","v":""},{"$f":"IF(Base_Arbres!B384<>\"\",VLOOKUP($A384,Base_Arbres,7,FALSE)*Crit5,\"\")","v":""},{"$f":"IF(Base_Arbres!C384<>\"\",VLOOKUP($A384,Base_Arbres,8,FALSE)*crit8,\"\")","v":""},{"$f":"IF(Base_Arbres!D384<>\"\",VLOOKUP($A384,Base_Arbres,9,FALSE)*crit9,\"\")","v":""},{"$f":"IF(ISNA(VLOOKUP(INDEX(Base_Typologie!$A$6:$P$1003,MATCH(A384,Base_Typologie!$A:$A,0)-5,MATCH(Typologie_Espace_Public,Base_Typologie!$6:$6,0)),TableauScoreTypologie2,2,FALSE)*Crit6),0,VLOOKUP(INDEX(Base_Typologie!$A$6:$P$1003,MATCH(A384,Base_Typologie!$A:$A,0)-5,MATCH(Typologie_Espace_Public,Base_Typologie!$6:$6,0)),TableauScoreTypologie2,2,FALSE)*Crit6)","v":0},0,0,0,0,0,0,0,0,0,0,0,0,null,{"$f":"IF(Base_Arbres!A487<>\"\",VLOOKUP($A384,Base_Arbres,4,FALSE)*Crit7,\"\")","v":""}]
[{"$f":"IF(Base_Arbres!A431<>\"\",Base_Arbres!A431,\"\")","v":""},{"$f":"IF(Base_Arbres!A431<>\"\",VLOOKUP($A385,Base_Arbres,3,FALSE)*Crit1,\"\")","v":""},{"$f":"IF(Base_Arbres!A431<>\"\",VLOOKUP($A385,Base_Arbres,4,FALSE)*Crit2,\"\")","v":""},{"$f":"IF(Base_Arbres!A431<>\"\",VLOOKUP($A385,Base_Arbres,5,FALSE)*Crit3,\"\")","v":""},{"$f":"IF(Base_Arbres!A431<>\"\",VLOOKUP($A385,Base_Arbres,6,FALSE)*Crit4,\"\")","v":""},{"$f":"IF(Base_Arbres!B385<>\"\",VLOOKUP($A385,Base_Arbres,7,FALSE)*Crit5,\"\")","v":""},{"$f":"IF(Base_Arbres!C385<>\"\",VLOOKUP($A385,Base_Arbres,8,FALSE)*crit8,\"\")","v":""},{"$f":"IF(Base_Arbres!D385<>\"\",VLOOKUP($A385,Base_Arbres,9,FALSE)*crit9,\"\")","v":""},{"$f":"IF(ISNA(VLOOKUP(INDEX(Base_Typologie!$A$6:$P$1003,MATCH(A385,Base_Typologie!$A:$A,0)-5,MATCH(Typologie_Espace_Public,Base_Typologie!$6:$6,0)),TableauScoreTypologie2,2,FALSE)*Crit6),0,VLOOKUP(INDEX(Base_Typologie!$A$6:$P$1003,MATCH(A385,Base_Typologie!$A:$A,0)-5,MATCH(Typologie_Espace_Public,Base_Typologie!$6:$6,0)),TableauScoreTypologie2,2,FALSE)*Crit6)","v":0},0,0,0,0,0,0,0,0,0,0,0,0,null,{"$f":"IF(Base_Arbres!A488<>\"\",VLOOKUP($A385,Base_Arbres,4,FALSE)*Crit7,\"\")","v":""}]
[{"$f":"IF(Base_Arbres!A432<>\"\",Base_Arbres!A432,\"\")","v":""},{"$f":"IF(Base_Arbres!A432<>\"\",VLOOKUP($A386,Base_Arbres,3,FALSE)*Crit1,\"\")","v":""},{"$f":"IF(Base_Arbres!A432<>\"\",VLOOKUP($A386,Base_Arbres,4,FALSE)*Crit2,\"\")","v":""},{"$f":"IF(Base_Arbres!A432<>\"\",VLOOKUP($A386,Base_Arbres,5,FALSE)*Crit3,\"\")","v":""},{"$f":"IF(Base_Arbres!A432<>\"\",VLOOKUP($A386,Base_Arbres,6,FALSE)*Crit4,\"\")","v":""},{"$f":"IF(Base_Arbres!B386<>\"\",VLOOKUP($A386,Base_Arbres,7,FALSE)*Crit5,\"\")","v":""},{"$f":"IF(Base_Arbres!C386<>\"\",VLOOKUP($A386,Base_Arbres,8,FALSE)*crit8,\"\")","v":""},{"$f":"IF(Base_Arbres!D386<>\"\",VLOOKUP($A386,Base_Arbres,9,FALSE)*crit9,\"\")","v":""},{"$f":"IF(ISNA(VLOOKUP(INDEX(Base_Typologie!$A$6:$P$1003,MATCH(A386,Base_Typologie!$A:$A,0)-5,MATCH(Typologie_Espace_Public,Base_Typologie!$6:$6,0)),TableauScoreTypologie2,2,FALSE)*Crit6),0,VLOOKUP(INDEX(Base_Typologie!$A$6:$P$1003,MATCH(A386,Base_Typologie!$A:$A,0)-5,MATCH(Typologie_Espace_Public,Base_Typologie!$6:$6,0)),TableauScoreTypologie2,2,FALSE)*Crit6)","v":0},{"$f":"IF(A386<>\"\",IF(LEFT(VLOOKUP($A386,Base_Arbres,10,FALSE),1)>=LEFT(Cont_Racines,1),0,1),0)","v":0},{"$f":"IF(A386<>\"\",IF(LEFT(VLOOKUP($A386,Base_Arbres,11,FALSE),1)>=LEFT(Cont_Branches,1),0,1),0)","v":0},{"$f":"IF(A386<>\"\",IF(LEFT(VLOOKUP($A386,Base_Arbres,12,FALSE),1)>=LEFT(Cont_Chablis,1),0,1),0)","v":0},{"$f":"IF(A386<>\"\",IF(LEFT(VLOOKUP($A386,Base_Arbres,13,FALSE),1)>=LEFT(Cont_Fructifications,1),0,1),0)","v":0},{"$f":"IF(A386<>\"\",IF(LEFT(VLOOKUP($A386,Base_Arbres,14,FALSE),1)>=LEFT(Cont_Miellat,1),0,1),0)","v":0},{"$f":"IF(A386<>\"\",IF(LEFT(VLOOKUP($A386,Base_Arbres,15,FALSE),1)>=LEFT(Cont_Fruits_Toxiques,1),0,1),0)","v":0},{"$f":"IF(A386<>\"\",IF(LEFT(VLOOKUP($A386,Base_Arbres,16,FALSE),1)>=LEFT(Cont_Hauteur,1),0,1),0)","v":0},{"$f":"IF(A386<>\"\",IF(LEFT(VLOOKUP($A386,Base_Arbres,17,FALSE),1)>=LEFT(Cont_Envergure,1),0,1),0)","v":0},{"$f":"IF(A386<>\"\",IF(LEFT(VLOOKUP($A386,Base_Arbres,18,FALSE),1)>=LEFT(Cont_pollen,1),0,1),0)","v":0},{"$f":"IF(B386<>\"\",IF(LEFT(VLOOKUP($A386,Base_Arbres,19,FALSE),1)>=LEFT(Cont_malodo,1),0,1),0)","v":0},{"$f":"IF(A386<>\"\",IF(LEFT(VLOOKUP($A386,Base_Arbres,20,FALSE),1)>=LEFT(Cont_chenilles,1),0,1),0)","v":0},{"$f":"IF(A386<>\"\",IF(LEFT(VLOOKUP($A386,Base_Arbres,21,FALSE),1)>=LEFT(Cont_epineux,1),0,1),0)","v":0},null,{"$f":"IF(Base_Arbres!A489<>\"\",VLOOKUP($A386,Base_Arbres,4,FALSE)*Crit7,\"\")","v":""}]
[{"$f":"IF(Base_Arbres!A433<>\"\",Base_Arbres!A433,\"\")","v":""},{"$f":"IF(Base_Arbres!A433<>\"\",VLOOKUP($A387,Base_Arbres,3,FALSE)*Crit1,\"\")","v":""},{"$f":"IF(Base_Arbres!A433<>\"\",VLOOKUP($A387,Base_Arbres,4,FALSE)*Crit2,\"\")","v":""},{"$f":"IF(Base_Arbres!A433<>\"\",VLOOKUP($A387,Base_Arbres,5,FALSE)*Crit3,\"\")","v":""},{"$f":"IF(Base_Arbres!A433<>\"\",VLOOKUP($A387,Base_Arbres,6,FALSE)*Crit4,\"\")","v":""},{"$f":"IF(Base_Arbres!B387<>\"\",VLOOKUP($A387,Base_Arbres,7,FALSE)*Crit5,\"\")","v":""},{"$f":"IF(Base_Arbres!C387<>\"\",VLOOKUP($A387,Base_Arbres,8,FALSE)*crit8,\"\")","v":""},{"$f":"IF(Base_Arbres!D387<>\"\",VLOOKUP($A387,Base_Arbres,9,FALSE)*crit9,\"\")","v":""},{"$f":"IF(ISNA(VLOOKUP(INDEX(Base_Typologie!$A$6:$P$1003,MATCH(A387,Base_Typologie!$A:$A,0)-5,MATCH(Typologie_Espace_Public,Base_Typologie!$6:$6,0)),TableauScoreTypologie2,2,FALSE)*Crit6),0,VLOOKUP(INDEX(Base_Typologie!$A$6:$P$1003,MATCH(A387,Base_Typologie!$A:$A,0)-5,MATCH(Typologie_Espace_Public,Base_Typologie!$6:$6,0)),TableauScoreTypologie2,2,FALSE)*Crit6)","v":0},0,0,0,0,0,0,0,0,0,0,0,0,null,{"$f":"IF(Base_Arbres!A490<>\"\",VLOOKUP($A387,Base_Arbres,4,FALSE)*Crit7,\"\")","v":""}]
[{"$f":"IF(Base_Arbres!A434<>\"\",Base_Arbres!A434,\"\")","v":""},{"$f":"IF(Base_Arbres!A434<>\"\",VLOOKUP($A388,Base_Arbres,3,FALSE)*Crit1,\"\")","v":""},{"$f":"IF(Base_Arbres!A434<>\"\",VLOOKUP($A388,Base_Arbres,4,FALSE)*Crit2,\"\")","v":""},{"$f":"IF(Base_Arbres!A434<>\"\",VLOOKUP($A388,Base_Arbres,5,FALSE)*Crit3,\"\")","v":""},{"$f":"IF(Base_Arbres!A434<>\"\",VLOOKUP($A388,Base_Arbres,6,FALSE)*Crit4,\"\")","v":""},{"$f":"IF(Base_Arbres!B388<>\"\",VLOOKUP($A388,Base_Arbres,7,FALSE)*Crit5,\"\")","v":""},{"$f":"IF(Base_Arbres!C388<>\"\",VLOOKUP($A388,Base_Arbres,8,FALSE)*crit8,\"\")","v":""},{"$f":"IF(Base_Arbres!D388<>\"\",VLOOKUP($A388,Base_Arbres,9,FALSE)*crit9,\"\")","v":""},{"$f":"IF(ISNA(VLOOKUP(INDEX(Base_Typologie!$A$6:$P$1003,MATCH(A388,Base_Typologie!$A:$A,0)-5,MATCH(Typologie_Espace_Public,Base_Typologie!$6:$6,0)),TableauScoreTypologie2,2,FALSE)*Crit6),0,VLOOKUP(INDEX(Base_Typologie!$A$6:$P$1003,MATCH(A388,Base_Typologie!$A:$A,0)-5,MATCH(Typologie_Espace_Public,Base_Typologie!$6:$6,0)),TableauScoreTypologie2,2,FALSE)*Crit6)","v":0},0,0,0,0,0,0,0,0,0,0,0,0,null,{"$f":"IF(Base_Arbres!A491<>\"\",VLOOKUP($A388,Base_Arbres,4,FALSE)*Crit7,\"\")","v":""}]
[{"$f":"IF(Base_Arbres!A435<>\"\",Base_Arbres!A435,\"\")","v":""},{"$f":"IF(Base_Arbres!A435<>\"\",VLOOKUP($A389,Base_Arbres,3,FALSE)*Crit1,\"\")","v":""},{"$f":"IF(Base_Arbres!A435<>\"\",VLOOKUP($A389,Base_Arbres,4,FALSE)*Crit2,\"\")","v":""},{"$f":"IF(Base_Arbres!A435<>\"\",VLOOKUP($A389,Base_Arbres,5,FALSE)*Crit3,\"\")","v":""},{"$f":"IF(Base_Arbres!A435<>\"\",VLOOKUP($A389,Base_Arbres,6,FALSE)*Crit4,\"\")","v":""},{"$f":"IF(Base_Arbres!B389<>\"\",VLOOKUP($A389,Base_Arbres,7,FALSE)*Crit5,\"\")","v":""},{"$f":"IF(Base_Arbres!C389<>\"\",VLOOKUP($A389,Base_Arbres,8,FALSE)*crit8,\"\")","v":""},{"$f":"IF(Base_Arbres!D389<>\"\",VLOOKUP($A389,Base_Arbres,9,FALSE)*crit9,\"\")","v":""},{"$f":"IF(ISNA(VLOOKUP(INDEX(Base_Typologie!$A$6:$P$1003,MATCH(A389,Base_Typologie!$A:$A,0)-5,MATCH(Typologie_Espace_Public,Base_Typologie!$6:$6,0)),TableauScoreTypologie2,2,FALSE)*Crit6),0,VLOOKUP(INDEX(Base_Typologie!$A$6:$P$1003,MATCH(A389,Base_Typologie!$A:$A,0)-5,MATCH(Typologie_Espace_Public,Base_Typologie!$6:$6,0)),TableauScoreTypologie2,2,FALSE)*Crit6)","v":0},0,0,0,0,0,0,0,0,0,0,0,0,null,{"$f":"IF(Base_Arbres!A492<>\"\",VLOOKUP($A389,Base_Arbres,4,FALSE)*Crit7,\"\")","v":""}]
[{"$f":"IF(Base_Arbres!A436<>\"\",Base_Arbres!A436,\"\")","v":""},{"$f":"IF(Base_Arbres!A436<>\"\",VLOOKUP($A390,Base_Arbres,3,FALSE)*Crit1,\"\")","v":""},{"$f":"IF(Base_Arbres!A436<>\"\",VLOOKUP($A390,Base_Arbres,4,FALSE)*Crit2,\"\")","v":""},{"$f":"IF(Base_Arbres!A436<>\"\",VLOOKUP($A390,Base_Arbres,5,FALSE)*Crit3,\"\")","v":""},{"$f":"IF(Base_Arbres!A436<>\"\",VLOOKUP($A390,Base_Arbres,6,FALSE)*Crit4,\"\")","v":""},{"$f":"IF(Base_Arbres!B390<>\"\",VLOOKUP($A390,Base_Arbres,7,FALSE)*Crit5,\"\")","v":""},{"$f":"IF(Base_Arbres!C390<>\"\",VLOOKUP($A390,Base_Arbres,8,FALSE)*crit8,\"\")","v":""},{"$f":"IF(Base_Arbres!D390<>\"\",VLOOKUP($A390,Base_Arbres,9,FALSE)*crit9,\"\")","v":""},{"$f":"IF(ISNA(VLOOKUP(INDEX(Base_Typologie!$A$6:$P$1003,MATCH(A390,Base_Typologie!$A:$A,0)-5,MATCH(Typologie_Espace_Public,Base_Typologie!$6:$6,0)),TableauScoreTypologie2,2,FALSE)*Crit6),0,VLOOKUP(INDEX(Base_Typologie!$A$6:$P$1003,MATCH(A390,Base_Typologie!$A:$A,0)-5,MATCH(Typologie_Espace_Public,Base_Typologie!$6:$6,0)),TableauScoreTypologie2,2,FALSE)*Crit6)","v":0},0,0,0,0,0,0,0,0,0,0,0,0,null,{"$f":"IF(Base_Arbres!A493<>\"\",VLOOKUP($A390,Base_Arbres,4,FALSE)*Crit7,\"\")","v":""}]
[{"$f":"IF(Base_Arbres!A437<>\"\",Base_Arbres!A437,\"\")","v":""},{"$f":"IF(Base_Arbres!A437<>\"\",VLOOKUP($A391,Base_Arbres,3,FALSE)*Crit1,\"\")","v":""},{"$f":"IF(Base_Arbres!A437<>\"\",VLOOKUP($A391,Base_Arbres,4,FALSE)*Crit2,\"\")","v":""},{"$f":"IF(Base_Arbres!A437<>\"\",VLOOKUP($A391,Base_Arbres,5,FALSE)*Crit3,\"\")","v":""},{"$f":"IF(Base_Arbres!A437<>\"\",VLOOKUP($A391,Base_Arbres,6,FALSE)*Crit4,\"\")","v":""},{"$f":"IF(Base_Arbres!B391<>\"\",VLOOKUP($A391,Base_Arbres,7,FALSE)*Crit5,\"\")","v":""},{"$f":"IF(Base_Arbres!C391<>\"\",VLOOKUP($A391,Base_Arbres,8,FALSE)*crit8,\"\")","v":""},{"$f":"IF(Base_Arbres!D391<>\"\",VLOOKUP($A391,Base_Arbres,9,FALSE)*crit9,\"\")","v":""},{"$f":"IF(ISNA(VLOOKUP(INDEX(Base_Typologie!$A$6:$P$1003,MATCH(A391,Base_Typologie!$A:$A,0)-5,MATCH(Typologie_Espace_Public,Base_Typologie!$6:$6,0)),TableauScoreTypologie2,2,FALSE)*Crit6),0,VLOOKUP(INDEX(Base_Typologie!$A$6:$P$1003,MATCH(A391,Base_Typologie!$A:$A,0)-5,MATCH(Typologie_Espace_Public,Base_Typologie!$6:$6,0)),TableauScoreTypologie2,2,FALSE)*Crit6)","v":0},0,0,0,0,0,0,0,0,0,0,0,0,null,{"$f":"IF(Base_Arbres!A494<>\"\",VLOOKUP($A391,Base_Arbres,4,FALSE)*Crit7,\"\")","v":""}]
[{"$f":"IF(Base_Arbres!A438<>\"\",Base_Arbres!A438,\"\")","v":""},{"$f":"IF(Base_Arbres!A438<>\"\",VLOOKUP($A392,Base_Arbres,3,FALSE)*Crit1,\"\")","v":""},{"$f":"IF(Base_Arbres!A438<>\"\",VLOOKUP($A392,Base_Arbres,4,FALSE)*Crit2,\"\")","v":""},{"$f":"IF(Base_Arbres!A438<>\"\",VLOOKUP($A392,Base_Arbres,5,FALSE)*Crit3,\"\")","v":""},{"$f":"IF(Base_Arbres!A438<>\"\",VLOOKUP($A392,Base_Arbres,6,FALSE)*Crit4,\"\")","v":""},{"$f":"IF(Base_Arbres!B392<>\"\",VLOOKUP($A392,Base_Arbres,7,FALSE)*Crit5,\"\")","v":""},{"$f":"IF(Base_Arbres!C392<>\"\",VLOOKUP($A392,Base_Arbres,8,FALSE)*crit8,\"\")","v":""},{"$f":"IF(Base_Arbres!D392<>\"\",VLOOKUP($A392,Base_Arbres,9,FALSE)*crit9,\"\")","v":""},{"$f":"IF(ISNA(VLOOKUP(INDEX(Base_Typologie!$A$6:$P$1003,MATCH(A392,Base_Typologie!$A:$A,0)-5,MATCH(Typologie_Espace_Public,Base_Typologie!$6:$6,0)),TableauScoreTypologie2,2,FALSE)*Crit6),0,VLOOKUP(INDEX(Base_Typologie!$A$6:$P$1003,MATCH(A392,Base_Typologie!$A:$A,0)-5,MATCH(Typologie_Espace_Public,Base_Typologie!$6:$6,0)),TableauScoreTypologie2,2,FALSE)*Crit6)","v":0},0,0,0,0,0,0,0,0,0,0,0,0,null,{"$f":"IF(Base_Arbres!A495<>\"\",VLOOKUP($A392,Base_Arbres,4,FALSE)*Crit7,\"\")","v":""}]
[{"$f":"IF(Base_Arbres!A439<>\"\",Base_Arbres!A439,\"\")","v":""},{"$f":"IF(Base_Arbres!A439<>\"\",VLOOKUP($A393,Base_Arbres,3,FALSE)*Crit1,\"\")","v":""},{"$f":"IF(Base_Arbres!A439<>\"\",VLOOKUP($A393,Base_Arbres,4,FALSE)*Crit2,\"\")","v":""},{"$f":"IF(Base_Arbres!A439<>\"\",VLOOKUP($A393,Base_Arbres,5,FALSE)*Crit3,\"\")","v":""},{"$f":"IF(Base_Arbres!A439<>\"\",VLOOKUP($A393,Base_Arbres,6,FALSE)*Crit4,\"\")","v":""},{"$f":"IF(Base_Arbres!B393<>\"\",VLOOKUP($A393,Base_Arbres,7,FALSE)*Crit5,\"\")","v":""},{"$f":"IF(Base_Arbres!C393<>\"\",VLOOKUP($A393,Base_Arbres,8,FALSE)*crit8,\"\")","v":""},{"$f":"IF(Base_Arbres!D393<>\"\",VLOOKUP($A393,Base_Arbres,9,FALSE)*crit9,\"\")","v":""},{"$f":"IF(ISNA(VLOOKUP(INDEX(Base_Typologie!$A$6:$P$1003,MATCH(A393,Base_Typologie!$A:$A,0)-5,MATCH(Typologie_Espace_Public,Base_Typologie!$6:$6,0)),TableauScoreTypologie2,2,FALSE)*Crit6),0,VLOOKUP(INDEX(Base_Typologie!$A$6:$P$1003,MATCH(A393,Base_Typologie!$A:$A,0)-5,MATCH(Typologie_Espace_Public,Base_Typologie!$6:$6,0)),TableauScoreTypologie2,2,FALSE)*Crit6)","v":0},0,0,0,0,0,0,0,0,0,0,0,0,null,{"$f":"IF(Base_Arbres!A496<>\"\",VLOOKUP($A393,Base_Arbres,4,FALSE)*Crit7,\"\")","v":""}]
[{"$f":"IF(Base_Arbres!A440<>\"\",Base_Arbres!A440,\"\")","v":""},{"$f":"IF(Base_Arbres!A440<>\"\",VLOOKUP($A394,Base_Arbres,3,FALSE)*Crit1,\"\")","v":""},{"$f":"IF(Base_Arbres!A440<>\"\",VLOOKUP($A394,Base_Arbres,4,FALSE)*Crit2,\"\")","v":""},{"$f":"IF(Base_Arbres!A440<>\"\",VLOOKUP($A394,Base_Arbres,5,FALSE)*Crit3,\"\")","v":""},{"$f":"IF(Base_Arbres!A440<>\"\",VLOOKUP($A394,Base_Arbres,6,FALSE)*Crit4,\"\")","v":""},{"$f":"IF(Base_Arbres!B394<>\"\",VLOOKUP($A394,Base_Arbres,7,FALSE)*Crit5,\"\")","v":""},{"$f":"IF(Base_Arbres!C394<>\"\",VLOOKUP($A394,Base_Arbres,8,FALSE)*crit8,\"\")","v":""},{"$f":"IF(Base_Arbres!D394<>\"\",VLOOKUP($A394,Base_Arbres,9,FALSE)*crit9,\"\")","v":""},{"$f":"IF(ISNA(VLOOKUP(INDEX(Base_Typologie!$A$6:$P$1003,MATCH(A394,Base_Typologie!$A:$A,0)-5,MATCH(Typologie_Espace_Public,Base_Typologie!$6:$6,0)),TableauScoreTypologie2,2,FALSE)*Crit6),0,VLOOKUP(INDEX(Base_Typologie!$A$6:$P$1003,MATCH(A394,Base_Typologie!$A:$A,0)-5,MATCH(Typologie_Espace_Public,Base_Typologie!$6:$6,0)),TableauScoreTypologie2,2,FALSE)*Crit6)","v":0},0,0,0,0,0,0,0,0,0,0,0,0,null,{"$f":"IF(Base_Arbres!A497<>\"\",VLOOKUP($A394,Base_Arbres,4,FALSE)*Crit7,\"\")","v":""}]
[{"$f":"IF(Base_Arbres!A441<>\"\",Base_Arbres!A441,\"\")","v":""},{"$f":"IF(Base_Arbres!A441<>\"\",VLOOKUP($A395,Base_Arbres,3,FALSE)*Crit1,\"\")","v":""},{"$f":"IF(Base_Arbres!A441<>\"\",VLOOKUP($A395,Base_Arbres,4,FALSE)*Crit2,\"\")","v":""},{"$f":"IF(Base_Arbres!A441<>\"\",VLOOKUP($A395,Base_Arbres,5,FALSE)*Crit3,\"\")","v":""},{"$f":"IF(Base_Arbres!A441<>\"\",VLOOKUP($A395,Base_Arbres,6,FALSE)*Crit4,\"\")","v":""},{"$f":"IF(Base_Arbres!B395<>\"\",VLOOKUP($A395,Base_Arbres,7,FALSE)*Crit5,\"\")","v":""},{"$f":"IF(Base_Arbres!C395<>\"\",VLOOKUP($A395,Base_Arbres,8,FALSE)*crit8,\"\")","v":""},{"$f":"IF(Base_Arbres!D395<>\"\",VLOOKUP($A395,Base_Arbres,9,FALSE)*crit9,\"\")","v":""},{"$f":"IF(ISNA(VLOOKUP(INDEX(Base_Typologie!$A$6:$P$1003,MATCH(A395,Base_Typologie!$A:$A,0)-5,MATCH(Typologie_Espace_Public,Base_Typologie!$6:$6,0)),TableauScoreTypologie2,2,FALSE)*Crit6),0,VLOOKUP(INDEX(Base_Typologie!$A$6:$P$1003,MATCH(A395,Base_Typologie!$A:$A,0)-5,MATCH(Typologie_Espace_Public,Base_Typologie!$6:$6,0)),TableauScoreTypologie2,2,FALSE)*Crit6)","v":0},0,0,0,0,0,0,0,0,0,0,0,0,null,{"$f":"IF(Base_Arbres!A498<>\"\",VLOOKUP($A395,Base_Arbres,4,FALSE)*Crit7,\"\")","v":""}]
[{"$f":"IF(Base_Arbres!A442<>\"\",Base_Arbres!A442,\"\")","v":""},{"$f":"IF(Base_Arbres!A442<>\"\",VLOOKUP($A396,Base_Arbres,3,FALSE)*Crit1,\"\")","v":""},{"$f":"IF(Base_Arbres!A442<>\"\",VLOOKUP($A396,Base_Arbres,4,FALSE)*Crit2,\"\")","v":""},{"$f":"IF(Base_Arbres!A442<>\"\",VLOOKUP($A396,Base_Arbres,5,FALSE)*Crit3,\"\")","v":""},{"$f":"IF(Base_Arbres!A442<>\"\",VLOOKUP($A396,Base_Arbres,6,FALSE)*Crit4,\"\")","v":""},{"$f":"IF(Base_Arbres!B396<>\"\",VLOOKUP($A396,Base_Arbres,7,FALSE)*Crit5,\"\")","v":""},{"$f":"IF(Base_Arbres!C396<>\"\",VLOOKUP($A396,Base_Arbres,8,FALSE)*crit8,\"\")","v":""},{"$f":"IF(Base_Arbres!D396<>\"\",VLOOKUP($A396,Base_Arbres,9,FALSE)*crit9,\"\")","v":""},{"$f":"IF(ISNA(VLOOKUP(INDEX(Base_Typologie!$A$6:$P$1003,MATCH(A396,Base_Typologie!$A:$A,0)-5,MATCH(Typologie_Espace_Public,Base_Typologie!$6:$6,0)),TableauScoreTypologie2,2,FALSE)*Crit6),0,VLOOKUP(INDEX(Base_Typologie!$A$6:$P$1003,MATCH(A396,Base_Typologie!$A:$A,0)-5,MATCH(Typologie_Espace_Public,Base_Typologie!$6:$6,0)),TableauScoreTypologie2,2,FALSE)*Crit6)","v":0},0,0,0,0,0,0,0,0,0,0,0,0,null,{"$f":"IF(Base_Arbres!A499<>\"\",VLOOKUP($A396,Base_Arbres,4,FALSE)*Crit7,\"\")","v":""}]
[{"$f":"IF(Base_Arbres!A443<>\"\",Base_Arbres!A443,\"\")","v":""},{"$f":"IF(Base_Arbres!A443<>\"\",VLOOKUP($A397,Base_Arbres,3,FALSE)*Crit1,\"\")","v":""},{"$f":"IF(Base_Arbres!A443<>\"\",VLOOKUP($A397,Base_Arbres,4,FALSE)*Crit2,\"\")","v":""},{"$f":"IF(Base_Arbres!A443<>\"\",VLOOKUP($A397,Base_Arbres,5,FALSE)*Crit3,\"\")","v":""},{"$f":"IF(Base_Arbres!A443<>\"\",VLOOKUP($A397,Base_Arbres,6,FALSE)*Crit4,\"\")","v":""},{"$f":"IF(Base_Arbres!B397<>\"\",VLOOKUP($A397,Base_Arbres,7,FALSE)*Crit5,\"\")","v":""},{"$f":"IF(Base_Arbres!C397<>\"\",VLOOKUP($A397,Base_Arbres,8,FALSE)*crit8,\"\")","v":""},{"$f":"IF(Base_Arbres!D397<>\"\",VLOOKUP($A397,Base_Arbres,9,FALSE)*crit9,\"\")","v":""},{"$f":"IF(ISNA(VLOOKUP(INDEX(Base_Typologie!$A$6:$P$1003,MATCH(A397,Base_Typologie!$A:$A,0)-5,MATCH(Typologie_Espace_Public,Base_Typologie!$6:$6,0)),TableauScoreTypologie2,2,FALSE)*Crit6),0,VLOOKUP(INDEX(Base_Typologie!$A$6:$P$1003,MATCH(A397,Base_Typologie!$A:$A,0)-5,MATCH(Typologie_Espace_Public,Base_Typologie!$6:$6,0)),TableauScoreTypologie2,2,FALSE)*Crit6)","v":0},0,0,0,0,0,0,0,0,0,0,0,0,null,{"$f":"IF(Base_Arbres!A500<>\"\",VLOOKUP($A397,Base_Arbres,4,FALSE)*Crit7,\"\")","v":""}]
[{"$f":"IF(Base_Arbres!A444<>\"\",Base_Arbres!A444,\"\")","v":""},{"$f":"IF(Base_Arbres!A444<>\"\",VLOOKUP($A398,Base_Arbres,3,FALSE)*Crit1,\"\")","v":""},{"$f":"IF(Base_Arbres!A444<>\"\",VLOOKUP($A398,Base_Arbres,4,FALSE)*Crit2,\"\")","v":""},{"$f":"IF(Base_Arbres!A444<>\"\",VLOOKUP($A398,Base_Arbres,5,FALSE)*Crit3,\"\")","v":""},{"$f":"IF(Base_Arbres!A444<>\"\",VLOOKUP($A398,Base_Arbres,6,FALSE)*Crit4,\"\")","v":""},{"$f":"IF(Base_Arbres!B398<>\"\",VLOOKUP($A398,Base_Arbres,7,FALSE)*Crit5,\"\")","v":""},{"$f":"IF(Base_Arbres!C398<>\"\",VLOOKUP($A398,Base_Arbres,8,FALSE)*crit8,\"\")","v":""},{"$f":"IF(Base_Arbres!D398<>\"\",VLOOKUP($A398,Base_Arbres,9,FALSE)*crit9,\"\")","v":""},{"$f":"IF(ISNA(VLOOKUP(INDEX(Base_Typologie!$A$6:$P$1003,MATCH(A398,Base_Typologie!$A:$A,0)-5,MATCH(Typologie_Espace_Public,Base_Typologie!$6:$6,0)),TableauScoreTypologie2,2,FALSE)*Crit6),0,VLOOKUP(INDEX(Base_Typologie!$A$6:$P$1003,MATCH(A398,Base_Typologie!$A:$A,0)-5,MATCH(Typologie_Espace_Public,Base_Typologie!$6:$6,0)),TableauScoreTypologie2,2,FALSE)*Crit6)","v":0},0,0,0,0,0,0,0,0,0,0,0,0,null,{"$f":"IF(Base_Arbres!A501<>\"\",VLOOKUP($A398,Base_Arbres,4,FALSE)*Crit7,\"\")","v":""}]
[{"$f":"IF(Base_Arbres!A445<>\"\",Base_Arbres!A445,\"\")","v":""},{"$f":"IF(Base_Arbres!A445<>\"\",VLOOKUP($A399,Base_Arbres,3,FALSE)*Crit1,\"\")","v":""},{"$f":"IF(Base_Arbres!A445<>\"\",VLOOKUP($A399,Base_Arbres,4,FALSE)*Crit2,\"\")","v":""},{"$f":"IF(Base_Arbres!A445<>\"\",VLOOKUP($A399,Base_Arbres,5,FALSE)*Crit3,\"\")","v":""},{"$f":"IF(Base_Arbres!A445<>\"\",VLOOKUP($A399,Base_Arbres,6,FALSE)*Crit4,\"\")","v":""},{"$f":"IF(Base_Arbres!B399<>\"\",VLOOKUP($A399,Base_Arbres,7,FALSE)*Crit5,\"\")","v":""},{"$f":"IF(Base_Arbres!C399<>\"\",VLOOKUP($A399,Base_Arbres,8,FALSE)*crit8,\"\")","v":""},{"$f":"IF(Base_Arbres!D399<>\"\",VLOOKUP($A399,Base_Arbres,9,FALSE)*crit9,\"\")","v":""},{"$f":"IF(ISNA(VLOOKUP(INDEX(Base_Typologie!$A$6:$P$1003,MATCH(A399,Base_Typologie!$A:$A,0)-5,MATCH(Typologie_Espace_Public,Base_Typologie!$6:$6,0)),TableauScoreTypologie2,2,FALSE)*Crit6),0,VLOOKUP(INDEX(Base_Typologie!$A$6:$P$1003,MATCH(A399,Base_Typologie!$A:$A,0)-5,MATCH(Typologie_Espace_Public,Base_Typologie!$6:$6,0)),TableauScoreTypologie2,2,FALSE)*Crit6)","v":0},0,0,0,0,0,0,0,0,0,0,0,0,null,{"$f":"IF(Base_Arbres!A502<>\"\",VLOOKUP($A399,Base_Arbres,4,FALSE)*Crit7,\"\")","v":""}]
[{"$f":"IF(Base_Arbres!A446<>\"\",Base_Arbres!A446,\"\")","v":""},{"$f":"IF(Base_Arbres!A446<>\"\",VLOOKUP($A400,Base_Arbres,3,FALSE)*Crit1,\"\")","v":""},{"$f":"IF(Base_Arbres!A446<>\"\",VLOOKUP($A400,Base_Arbres,4,FALSE)*Crit2,\"\")","v":""},{"$f":"IF(Base_Arbres!A446<>\"\",VLOOKUP($A400,Base_Arbres,5,FALSE)*Crit3,\"\")","v":""},{"$f":"IF(Base_Arbres!A446<>\"\",VLOOKUP($A400,Base_Arbres,6,FALSE)*Crit4,\"\")","v":""},{"$f":"IF(Base_Arbres!B400<>\"\",VLOOKUP($A400,Base_Arbres,7,FALSE)*Crit5,\"\")","v":""},{"$f":"IF(Base_Arbres!C400<>\"\",VLOOKUP($A400,Base_Arbres,8,FALSE)*crit8,\"\")","v":""},{"$f":"IF(Base_Arbres!D400<>\"\",VLOOKUP($A400,Base_Arbres,9,FALSE)*crit9,\"\")","v":""},{"$f":"IF(ISNA(VLOOKUP(INDEX(Base_Typologie!$A$6:$P$1003,MATCH(A400,Base_Typologie!$A:$A,0)-5,MATCH(Typologie_Espace_Public,Base_Typologie!$6:$6,0)),TableauScoreTypologie2,2,FALSE)*Crit6),0,VLOOKUP(INDEX(Base_Typologie!$A$6:$P$1003,MATCH(A400,Base_Typologie!$A:$A,0)-5,MATCH(Typologie_Espace_Public,Base_Typologie!$6:$6,0)),TableauScoreTypologie2,2,FALSE)*Crit6)","v":0},0,0,0,0,0,0,0,0,0,0,0,0,null,{"$f":"IF(Base_Arbres!A503<>\"\",VLOOKUP($A400,Base_Arbres,4,FALSE)*Crit7,\"\")","v":""}]
[{"$f":"IF(Base_Arbres!A447<>\"\",Base_Arbres!A447,\"\")","v":""},{"$f":"IF(Base_Arbres!A447<>\"\",VLOOKUP($A401,Base_Arbres,3,FALSE)*Crit1,\"\")","v":""},{"$f":"IF(Base_Arbres!A447<>\"\",VLOOKUP($A401,Base_Arbres,4,FALSE)*Crit2,\"\")","v":""},{"$f":"IF(Base_Arbres!A447<>\"\",VLOOKUP($A401,Base_Arbres,5,FALSE)*Crit3,\"\")","v":""},{"$f":"IF(Base_Arbres!A447<>\"\",VLOOKUP($A401,Base_Arbres,6,FALSE)*Crit4,\"\")","v":""},{"$f":"IF(Base_Arbres!B401<>\"\",VLOOKUP($A401,Base_Arbres,7,FALSE)*Crit5,\"\")","v":""},{"$f":"IF(Base_Arbres!C401<>\"\",VLOOKUP($A401,Base_Arbres,8,FALSE)*crit8,\"\")","v":""},{"$f":"IF(Base_Arbres!D401<>\"\",VLOOKUP($A401,Base_Arbres,9,FALSE)*crit9,\"\")","v":""},{"$f":"IF(ISNA(VLOOKUP(INDEX(Base_Typologie!$A$6:$P$1003,MATCH(A401,Base_Typologie!$A:$A,0)-5,MATCH(Typologie_Espace_Public,Base_Typologie!$6:$6,0)),TableauScoreTypologie2,2,FALSE)*Crit6),0,VLOOKUP(INDEX(Base_Typologie!$A$6:$P$1003,MATCH(A401,Base_Typologie!$A:$A,0)-5,MATCH(Typologie_Espace_Public,Base_Typologie!$6:$6,0)),TableauScoreTypologie2,2,FALSE)*Crit6)","v":0},0,0,0,0,0,0,0,0,0,0,0,0,null,{"$f":"IF(Base_Arbres!A504<>\"\",VLOOKUP($A401,Base_Arbres,4,FALSE)*Crit7,\"\")","v":""}]
[{"$f":"IF(Base_Arbres!A448<>\"\",Base_Arbres!A448,\"\")","v":""},{"$f":"IF(Base_Arbres!A448<>\"\",VLOOKUP($A402,Base_Arbres,3,FALSE)*Crit1,\"\")","v":""},{"$f":"IF(Base_Arbres!A448<>\"\",VLOOKUP($A402,Base_Arbres,4,FALSE)*Crit2,\"\")","v":""},{"$f":"IF(Base_Arbres!A448<>\"\",VLOOKUP($A402,Base_Arbres,5,FALSE)*Crit3,\"\")","v":""},{"$f":"IF(Base_Arbres!A448<>\"\",VLOOKUP($A402,Base_Arbres,6,FALSE)*Crit4,\"\")","v":""},{"$f":"IF(Base_Arbres!B402<>\"\",VLOOKUP($A402,Base_Arbres,7,FALSE)*Crit5,\"\")","v":""},{"$f":"IF(Base_Arbres!C402<>\"\",VLOOKUP($A402,Base_Arbres,8,FALSE)*crit8,\"\")","v":""},{"$f":"IF(Base_Arbres!D402<>\"\",VLOOKUP($A402,Base_Arbres,9,FALSE)*crit9,\"\")","v":""},{"$f":"IF(ISNA(VLOOKUP(INDEX(Base_Typologie!$A$6:$P$1003,MATCH(A402,Base_Typologie!$A:$A,0)-5,MATCH(Typologie_Espace_Public,Base_Typologie!$6:$6,0)),TableauScoreTypologie2,2,FALSE)*Crit6),0,VLOOKUP(INDEX(Base_Typologie!$A$6:$P$1003,MATCH(A402,Base_Typologie!$A:$A,0)-5,MATCH(Typologie_Espace_Public,Base_Typologie!$6:$6,0)),TableauScoreTypologie2,2,FALSE)*Crit6)","v":0},0,0,0,0,0,0,0,0,0,0,0,0,null,{"$f":"IF(Base_Arbres!A505<>\"\",VLOOKUP($A402,Base_Arbres,4,FALSE)*Crit7,\"\")","v":""}]
[{"$f":"IF(Base_Arbres!A449<>\"\",Base_Arbres!A449,\"\")","v":""},{"$f":"IF(Base_Arbres!A449<>\"\",VLOOKUP($A403,Base_Arbres,3,FALSE)*Crit1,\"\")","v":""},{"$f":"IF(Base_Arbres!A449<>\"\",VLOOKUP($A403,Base_Arbres,4,FALSE)*Crit2,\"\")","v":""},{"$f":"IF(Base_Arbres!A449<>\"\",VLOOKUP($A403,Base_Arbres,5,FALSE)*Crit3,\"\")","v":""},{"$f":"IF(Base_Arbres!A449<>\"\",VLOOKUP($A403,Base_Arbres,6,FALSE)*Crit4,\"\")","v":""},{"$f":"IF(Base_Arbres!B403<>\"\",VLOOKUP($A403,Base_Arbres,7,FALSE)*Crit5,\"\")","v":""},{"$f":"IF(Base_Arbres!C403<>\"\",VLOOKUP($A403,Base_Arbres,8,FALSE)*crit8,\"\")","v":""},{"$f":"IF(Base_Arbres!D403<>\"\",VLOOKUP($A403,Base_Arbres,9,FALSE)*crit9,\"\")","v":""},{"$f":"IF(ISNA(VLOOKUP(INDEX(Base_Typologie!$A$6:$P$1003,MATCH(A403,Base_Typologie!$A:$A,0)-5,MATCH(Typologie_Espace_Public,Base_Typologie!$6:$6,0)),TableauScoreTypologie2,2,FALSE)*Crit6),0,VLOOKUP(INDEX(Base_Typologie!$A$6:$P$1003,MATCH(A403,Base_Typologie!$A:$A,0)-5,MATCH(Typologie_Espace_Public,Base_Typologie!$6:$6,0)),TableauScoreTypologie2,2,FALSE)*Crit6)","v":0},0,0,0,0,0,0,0,0,0,0,0,0,null,{"$f":"IF(Base_Arbres!A506<>\"\",VLOOKUP($A403,Base_Arbres,4,FALSE)*Crit7,\"\")","v":""}]
[{"$f":"IF(Base_Arbres!A450<>\"\",Base_Arbres!A450,\"\")","v":""},{"$f":"IF(Base_Arbres!A450<>\"\",VLOOKUP($A404,Base_Arbres,3,FALSE)*Crit1,\"\")","v":""},{"$f":"IF(Base_Arbres!A450<>\"\",VLOOKUP($A404,Base_Arbres,4,FALSE)*Crit2,\"\")","v":""},{"$f":"IF(Base_Arbres!A450<>\"\",VLOOKUP($A404,Base_Arbres,5,FALSE)*Crit3,\"\")","v":""},{"$f":"IF(Base_Arbres!A450<>\"\",VLOOKUP($A404,Base_Arbres,6,FALSE)*Crit4,\"\")","v":""},{"$f":"IF(Base_Arbres!B404<>\"\",VLOOKUP($A404,Base_Arbres,7,FALSE)*Crit5,\"\")","v":""},{"$f":"IF(Base_Arbres!C404<>\"\",VLOOKUP($A404,Base_Arbres,8,FALSE)*crit8,\"\")","v":""},{"$f":"IF(Base_Arbres!D404<>\"\",VLOOKUP($A404,Base_Arbres,9,FALSE)*crit9,\"\")","v":""},{"$f":"IF(ISNA(VLOOKUP(INDEX(Base_Typologie!$A$6:$P$1003,MATCH(A404,Base_Typologie!$A:$A,0)-5,MATCH(Typologie_Espace_Public,Base_Typologie!$6:$6,0)),TableauScoreTypologie2,2,FALSE)*Crit6),0,VLOOKUP(INDEX(Base_Typologie!$A$6:$P$1003,MATCH(A404,Base_Typologie!$A:$A,0)-5,MATCH(Typologie_Espace_Public,Base_Typologie!$6:$6,0)),TableauScoreTypologie2,2,FALSE)*Crit6)","v":0},0,0,0,0,0,0,0,0,0,0,0,0,null,{"$f":"IF(Base_Arbres!A507<>\"\",VLOOKUP($A404,Base_Arbres,4,FALSE)*Crit7,\"\")","v":""}]
[{"$f":"IF(Base_Arbres!A451<>\"\",Base_Arbres!A451,\"\")","v":""},{"$f":"IF(Base_Arbres!A451<>\"\",VLOOKUP($A405,Base_Arbres,3,FALSE)*Crit1,\"\")","v":""},{"$f":"IF(Base_Arbres!A451<>\"\",VLOOKUP($A405,Base_Arbres,4,FALSE)*Crit2,\"\")","v":""},{"$f":"IF(Base_Arbres!A451<>\"\",VLOOKUP($A405,Base_Arbres,5,FALSE)*Crit3,\"\")","v":""},{"$f":"IF(Base_Arbres!A451<>\"\",VLOOKUP($A405,Base_Arbres,6,FALSE)*Crit4,\"\")","v":""},{"$f":"IF(Base_Arbres!B405<>\"\",VLOOKUP($A405,Base_Arbres,7,FALSE)*Crit5,\"\")","v":""},{"$f":"IF(Base_Arbres!C405<>\"\",VLOOKUP($A405,Base_Arbres,8,FALSE)*crit8,\"\")","v":""},{"$f":"IF(Base_Arbres!D405<>\"\",VLOOKUP($A405,Base_Arbres,9,FALSE)*crit9,\"\")","v":""},{"$f":"IF(ISNA(VLOOKUP(INDEX(Base_Typologie!$A$6:$P$1003,MATCH(A405,Base_Typologie!$A:$A,0)-5,MATCH(Typologie_Espace_Public,Base_Typologie!$6:$6,0)),TableauScoreTypologie2,2,FALSE)*Crit6),0,VLOOKUP(INDEX(Base_Typologie!$A$6:$P$1003,MATCH(A405,Base_Typologie!$A:$A,0)-5,MATCH(Typologie_Espace_Public,Base_Typologie!$6:$6,0)),TableauScoreTypologie2,2,FALSE)*Crit6)","v":0},0,0,0,0,0,0,0,0,0,0,0,0,null,{"$f":"IF(Base_Arbres!A508<>\"\",VLOOKUP($A405,Base_Arbres,4,FALSE)*Crit7,\"\")","v":""}]
[{"$f":"IF(Base_Arbres!A452<>\"\",Base_Arbres!A452,\"\")","v":""},{"$f":"IF(Base_Arbres!A452<>\"\",VLOOKUP($A406,Base_Arbres,3,FALSE)*Crit1,\"\")","v":""},{"$f":"IF(Base_Arbres!A452<>\"\",VLOOKUP($A406,Base_Arbres,4,FALSE)*Crit2,\"\")","v":""},{"$f":"IF(Base_Arbres!A452<>\"\",VLOOKUP($A406,Base_Arbres,5,FALSE)*Crit3,\"\")","v":""},{"$f":"IF(Base_Arbres!A452<>\"\",VLOOKUP($A406,Base_Arbres,6,FALSE)*Crit4,\"\")","v":""},{"$f":"IF(Base_Arbres!B406<>\"\",VLOOKUP($A406,Base_Arbres,7,FALSE)*Crit5,\"\")","v":""},{"$f":"IF(Base_Arbres!C406<>\"\",VLOOKUP($A406,Base_Arbres,8,FALSE)*crit8,\"\")","v":""},{"$f":"IF(Base_Arbres!D406<>\"\",VLOOKUP($A406,Base_Arbres,9,FALSE)*crit9,\"\")","v":""},{"$f":"IF(ISNA(VLOOKUP(INDEX(Base_Typologie!$A$6:$P$1003,MATCH(A406,Base_Typologie!$A:$A,0)-5,MATCH(Typologie_Espace_Public,Base_Typologie!$6:$6,0)),TableauScoreTypologie2,2,FALSE)*Crit6),0,VLOOKUP(INDEX(Base_Typologie!$A$6:$P$1003,MATCH(A406,Base_Typologie!$A:$A,0)-5,MATCH(Typologie_Espace_Public,Base_Typologie!$6:$6,0)),TableauScoreTypologie2,2,FALSE)*Crit6)","v":0},0,0,0,0,0,0,0,0,0,0,0,0,null,{"$f":"IF(Base_Arbres!A509<>\"\",VLOOKUP($A406,Base_Arbres,4,FALSE)*Crit7,\"\")","v":""}]
[{"$f":"IF(Base_Arbres!A453<>\"\",Base_Arbres!A453,\"\")","v":""},{"$f":"IF(Base_Arbres!A453<>\"\",VLOOKUP($A407,Base_Arbres,3,FALSE)*Crit1,\"\")","v":""},{"$f":"IF(Base_Arbres!A453<>\"\",VLOOKUP($A407,Base_Arbres,4,FALSE)*Crit2,\"\")","v":""},{"$f":"IF(Base_Arbres!A453<>\"\",VLOOKUP($A407,Base_Arbres,5,FALSE)*Crit3,\"\")","v":""},{"$f":"IF(Base_Arbres!A453<>\"\",VLOOKUP($A407,Base_Arbres,6,FALSE)*Crit4,\"\")","v":""},{"$f":"IF(Base_Arbres!B407<>\"\",VLOOKUP($A407,Base_Arbres,7,FALSE)*Crit5,\"\")","v":""},{"$f":"IF(Base_Arbres!C407<>\"\",VLOOKUP($A407,Base_Arbres,8,FALSE)*crit8,\"\")","v":""},{"$f":"IF(Base_Arbres!D407<>\"\",VLOOKUP($A407,Base_Arbres,9,FALSE)*crit9,\"\")","v":""},{"$f":"IF(ISNA(VLOOKUP(INDEX(Base_Typologie!$A$6:$P$1003,MATCH(A407,Base_Typologie!$A:$A,0)-5,MATCH(Typologie_Espace_Public,Base_Typologie!$6:$6,0)),TableauScoreTypologie2,2,FALSE)*Crit6),0,VLOOKUP(INDEX(Base_Typologie!$A$6:$P$1003,MATCH(A407,Base_Typologie!$A:$A,0)-5,MATCH(Typologie_Espace_Public,Base_Typologie!$6:$6,0)),TableauScoreTypologie2,2,FALSE)*Crit6)","v":0},0,0,0,0,0,0,0,0,0,0,0,0,null,{"$f":"IF(Base_Arbres!A510<>\"\",VLOOKUP($A407,Base_Arbres,4,FALSE)*Crit7,\"\")","v":""}]
[{"$f":"IF(Base_Arbres!A454<>\"\",Base_Arbres!A454,\"\")","v":""},{"$f":"IF(Base_Arbres!A454<>\"\",VLOOKUP($A408,Base_Arbres,3,FALSE)*Crit1,\"\")","v":""},{"$f":"IF(Base_Arbres!A454<>\"\",VLOOKUP($A408,Base_Arbres,4,FALSE)*Crit2,\"\")","v":""},{"$f":"IF(Base_Arbres!A454<>\"\",VLOOKUP($A408,Base_Arbres,5,FALSE)*Crit3,\"\")","v":""},{"$f":"IF(Base_Arbres!A454<>\"\",VLOOKUP($A408,Base_Arbres,6,FALSE)*Crit4,\"\")","v":""},{"$f":"IF(Base_Arbres!B408<>\"\",VLOOKUP($A408,Base_Arbres,7,FALSE)*Crit5,\"\")","v":""},{"$f":"IF(Base_Arbres!C408<>\"\",VLOOKUP($A408,Base_Arbres,8,FALSE)*crit8,\"\")","v":""},{"$f":"IF(Base_Arbres!D408<>\"\",VLOOKUP($A408,Base_Arbres,9,FALSE)*crit9,\"\")","v":""},{"$f":"IF(ISNA(VLOOKUP(INDEX(Base_Typologie!$A$6:$P$1003,MATCH(A408,Base_Typologie!$A:$A,0)-5,MATCH(Typologie_Espace_Public,Base_Typologie!$6:$6,0)),TableauScoreTypologie2,2,FALSE)*Crit6),0,VLOOKUP(INDEX(Base_Typologie!$A$6:$P$1003,MATCH(A408,Base_Typologie!$A:$A,0)-5,MATCH(Typologie_Espace_Public,Base_Typologie!$6:$6,0)),TableauScoreTypologie2,2,FALSE)*Crit6)","v":0},0,0,0,0,0,0,0,0,0,0,0,0,null,{"$f":"IF(Base_Arbres!A511<>\"\",VLOOKUP($A408,Base_Arbres,4,FALSE)*Crit7,\"\")","v":""}]
[{"$f":"IF(Base_Arbres!A455<>\"\",Base_Arbres!A455,\"\")","v":""},{"$f":"IF(Base_Arbres!A455<>\"\",VLOOKUP($A409,Base_Arbres,3,FALSE)*Crit1,\"\")","v":""},{"$f":"IF(Base_Arbres!A455<>\"\",VLOOKUP($A409,Base_Arbres,4,FALSE)*Crit2,\"\")","v":""},{"$f":"IF(Base_Arbres!A455<>\"\",VLOOKUP($A409,Base_Arbres,5,FALSE)*Crit3,\"\")","v":""},{"$f":"IF(Base_Arbres!A455<>\"\",VLOOKUP($A409,Base_Arbres,6,FALSE)*Crit4,\"\")","v":""},{"$f":"IF(Base_Arbres!B409<>\"\",VLOOKUP($A409,Base_Arbres,7,FALSE)*Crit5,\"\")","v":""},{"$f":"IF(Base_Arbres!C409<>\"\",VLOOKUP($A409,Base_Arbres,8,FALSE)*crit8,\"\")","v":""},{"$f":"IF(Base_Arbres!D409<>\"\",VLOOKUP($A409,Base_Arbres,9,FALSE)*crit9,\"\")","v":""},{"$f":"IF(ISNA(VLOOKUP(INDEX(Base_Typologie!$A$6:$P$1003,MATCH(A409,Base_Typologie!$A:$A,0)-5,MATCH(Typologie_Espace_Public,Base_Typologie!$6:$6,0)),TableauScoreTypologie2,2,FALSE)*Crit6),0,VLOOKUP(INDEX(Base_Typologie!$A$6:$P$1003,MATCH(A409,Base_Typologie!$A:$A,0)-5,MATCH(Typologie_Espace_Public,Base_Typologie!$6:$6,0)),TableauScoreTypologie2,2,FALSE)*Crit6)","v":0},0,0,0,0,0,0,0,0,0,0,0,0,null,{"$f":"IF(Base_Arbres!A512<>\"\",VLOOKUP($A409,Base_Arbres,4,FALSE)*Crit7,\"\")","v":""}]
[{"$f":"IF(Base_Arbres!A456<>\"\",Base_Arbres!A456,\"\")","v":""},{"$f":"IF(Base_Arbres!A456<>\"\",VLOOKUP($A410,Base_Arbres,3,FALSE)*Crit1,\"\")","v":""},{"$f":"IF(Base_Arbres!A456<>\"\",VLOOKUP($A410,Base_Arbres,4,FALSE)*Crit2,\"\")","v":""},{"$f":"IF(Base_Arbres!A456<>\"\",VLOOKUP($A410,Base_Arbres,5,FALSE)*Crit3,\"\")","v":""},{"$f":"IF(Base_Arbres!A456<>\"\",VLOOKUP($A410,Base_Arbres,6,FALSE)*Crit4,\"\")","v":""},{"$f":"IF(Base_Arbres!B410<>\"\",VLOOKUP($A410,Base_Arbres,7,FALSE)*Crit5,\"\")","v":""},{"$f":"IF(Base_Arbres!C410<>\"\",VLOOKUP($A410,Base_Arbres,8,FALSE)*crit8,\"\")","v":""},{"$f":"IF(Base_Arbres!D410<>\"\",VLOOKUP($A410,Base_Arbres,9,FALSE)*crit9,\"\")","v":""},{"$f":"IF(ISNA(VLOOKUP(INDEX(Base_Typologie!$A$6:$P$1003,MATCH(A410,Base_Typologie!$A:$A,0)-5,MATCH(Typologie_Espace_Public,Base_Typologie!$6:$6,0)),TableauScoreTypologie2,2,FALSE)*Crit6),0,VLOOKUP(INDEX(Base_Typologie!$A$6:$P$1003,MATCH(A410,Base_Typologie!$A:$A,0)-5,MATCH(Typologie_Espace_Public,Base_Typologie!$6:$6,0)),TableauScoreTypologie2,2,FALSE)*Crit6)","v":0},0,0,0,0,0,0,0,0,0,0,0,0,null,{"$f":"IF(Base_Arbres!A513<>\"\",VLOOKUP($A410,Base_Arbres,4,FALSE)*Crit7,\"\")","v":""}]
[{"$f":"IF(Base_Arbres!A457<>\"\",Base_Arbres!A457,\"\")","v":""},{"$f":"IF(Base_Arbres!A457<>\"\",VLOOKUP($A411,Base_Arbres,3,FALSE)*Crit1,\"\")","v":""},{"$f":"IF(Base_Arbres!A457<>\"\",VLOOKUP($A411,Base_Arbres,4,FALSE)*Crit2,\"\")","v":""},{"$f":"IF(Base_Arbres!A457<>\"\",VLOOKUP($A411,Base_Arbres,5,FALSE)*Crit3,\"\")","v":""},{"$f":"IF(Base_Arbres!A457<>\"\",VLOOKUP($A411,Base_Arbres,6,FALSE)*Crit4,\"\")","v":""},{"$f":"IF(Base_Arbres!B411<>\"\",VLOOKUP($A411,Base_Arbres,7,FALSE)*Crit5,\"\")","v":""},{"$f":"IF(Base_Arbres!C411<>\"\",VLOOKUP($A411,Base_Arbres,8,FALSE)*crit8,\"\")","v":""},{"$f":"IF(Base_Arbres!D411<>\"\",VLOOKUP($A411,Base_Arbres,9,FALSE)*crit9,\"\")","v":""},{"$f":"IF(ISNA(VLOOKUP(INDEX(Base_Typologie!$A$6:$P$1003,MATCH(A411,Base_Typologie!$A:$A,0)-5,MATCH(Typologie_Espace_Public,Base_Typologie!$6:$6,0)),TableauScoreTypologie2,2,FALSE)*Crit6),0,VLOOKUP(INDEX(Base_Typologie!$A$6:$P$1003,MATCH(A411,Base_Typologie!$A:$A,0)-5,MATCH(Typologie_Espace_Public,Base_Typologie!$6:$6,0)),TableauScoreTypologie2,2,FALSE)*Crit6)","v":0},0,0,0,0,0,0,0,0,0,0,0,0,null,{"$f":"IF(Base_Arbres!A514<>\"\",VLOOKUP($A411,Base_Arbres,4,FALSE)*Crit7,\"\")","v":""}]
[{"$f":"IF(Base_Arbres!A458<>\"\",Base_Arbres!A458,\"\")","v":""},{"$f":"IF(Base_Arbres!A458<>\"\",VLOOKUP($A412,Base_Arbres,3,FALSE)*Crit1,\"\")","v":""},{"$f":"IF(Base_Arbres!A458<>\"\",VLOOKUP($A412,Base_Arbres,4,FALSE)*Crit2,\"\")","v":""},{"$f":"IF(Base_Arbres!A458<>\"\",VLOOKUP($A412,Base_Arbres,5,FALSE)*Crit3,\"\")","v":""},{"$f":"IF(Base_Arbres!A458<>\"\",VLOOKUP($A412,Base_Arbres,6,FALSE)*Crit4,\"\")","v":""},{"$f":"IF(Base_Arbres!B412<>\"\",VLOOKUP($A412,Base_Arbres,7,FALSE)*Crit5,\"\")","v":""},{"$f":"IF(Base_Arbres!C412<>\"\",VLOOKUP($A412,Base_Arbres,8,FALSE)*crit8,\"\")","v":""},{"$f":"IF(Base_Arbres!D412<>\"\",VLOOKUP($A412,Base_Arbres,9,FALSE)*crit9,\"\")","v":""},{"$f":"IF(ISNA(VLOOKUP(INDEX(Base_Typologie!$A$6:$P$1003,MATCH(A412,Base_Typologie!$A:$A,0)-5,MATCH(Typologie_Espace_Public,Base_Typologie!$6:$6,0)),TableauScoreTypologie2,2,FALSE)*Crit6),0,VLOOKUP(INDEX(Base_Typologie!$A$6:$P$1003,MATCH(A412,Base_Typologie!$A:$A,0)-5,MATCH(Typologie_Espace_Public,Base_Typologie!$6:$6,0)),TableauScoreTypologie2,2,FALSE)*Crit6)","v":0},0,0,0,0,0,0,0,0,0,0,0,0,null,{"$f":"IF(Base_Arbres!A515<>\"\",VLOOKUP($A412,Base_Arbres,4,FALSE)*Crit7,\"\")","v":""}]
[{"$f":"IF(Base_Arbres!A459<>\"\",Base_Arbres!A459,\"\")","v":""},{"$f":"IF(Base_Arbres!A459<>\"\",VLOOKUP($A413,Base_Arbres,3,FALSE)*Crit1,\"\")","v":""},{"$f":"IF(Base_Arbres!A459<>\"\",VLOOKUP($A413,Base_Arbres,4,FALSE)*Crit2,\"\")","v":""},{"$f":"IF(Base_Arbres!A459<>\"\",VLOOKUP($A413,Base_Arbres,5,FALSE)*Crit3,\"\")","v":""},{"$f":"IF(Base_Arbres!A459<>\"\",VLOOKUP($A413,Base_Arbres,6,FALSE)*Crit4,\"\")","v":""},{"$f":"IF(Base_Arbres!B413<>\"\",VLOOKUP($A413,Base_Arbres,7,FALSE)*Crit5,\"\")","v":""},{"$f":"IF(Base_Arbres!C413<>\"\",VLOOKUP($A413,Base_Arbres,8,FALSE)*crit8,\"\")","v":""},{"$f":"IF(Base_Arbres!D413<>\"\",VLOOKUP($A413,Base_Arbres,9,FALSE)*crit9,\"\")","v":""},{"$f":"IF(ISNA(VLOOKUP(INDEX(Base_Typologie!$A$6:$P$1003,MATCH(A413,Base_Typologie!$A:$A,0)-5,MATCH(Typologie_Espace_Public,Base_Typologie!$6:$6,0)),TableauScoreTypologie2,2,FALSE)*Crit6),0,VLOOKUP(INDEX(Base_Typologie!$A$6:$P$1003,MATCH(A413,Base_Typologie!$A:$A,0)-5,MATCH(Typologie_Espace_Public,Base_Typologie!$6:$6,0)),TableauScoreTypologie2,2,FALSE)*Crit6)","v":0},0,0,0,0,0,0,0,0,0,0,0,0,null,{"$f":"IF(Base_Arbres!A516<>\"\",VLOOKUP($A413,Base_Arbres,4,FALSE)*Crit7,\"\")","v":""}]
[{"$f":"IF(Base_Arbres!A460<>\"\",Base_Arbres!A460,\"\")","v":""},{"$f":"IF(Base_Arbres!A460<>\"\",VLOOKUP($A414,Base_Arbres,3,FALSE)*Crit1,\"\")","v":""},{"$f":"IF(Base_Arbres!A460<>\"\",VLOOKUP($A414,Base_Arbres,4,FALSE)*Crit2,\"\")","v":""},{"$f":"IF(Base_Arbres!A460<>\"\",VLOOKUP($A414,Base_Arbres,5,FALSE)*Crit3,\"\")","v":""},{"$f":"IF(Base_Arbres!A460<>\"\",VLOOKUP($A414,Base_Arbres,6,FALSE)*Crit4,\"\")","v":""},{"$f":"IF(Base_Arbres!B414<>\"\",VLOOKUP($A414,Base_Arbres,7,FALSE)*Crit5,\"\")","v":""},{"$f":"IF(Base_Arbres!C414<>\"\",VLOOKUP($A414,Base_Arbres,8,FALSE)*crit8,\"\")","v":""},{"$f":"IF(Base_Arbres!D414<>\"\",VLOOKUP($A414,Base_Arbres,9,FALSE)*crit9,\"\")","v":""},{"$f":"IF(ISNA(VLOOKUP(INDEX(Base_Typologie!$A$6:$P$1003,MATCH(A414,Base_Typologie!$A:$A,0)-5,MATCH(Typologie_Espace_Public,Base_Typologie!$6:$6,0)),TableauScoreTypologie2,2,FALSE)*Crit6),0,VLOOKUP(INDEX(Base_Typologie!$A$6:$P$1003,MATCH(A414,Base_Typologie!$A:$A,0)-5,MATCH(Typologie_Espace_Public,Base_Typologie!$6:$6,0)),TableauScoreTypologie2,2,FALSE)*Crit6)","v":0},0,0,0,0,0,0,0,0,0,0,0,0,null,{"$f":"IF(Base_Arbres!A517<>\"\",VLOOKUP($A414,Base_Arbres,4,FALSE)*Crit7,\"\")","v":""}]
[{"$f":"IF(Base_Arbres!A461<>\"\",Base_Arbres!A461,\"\")","v":""},{"$f":"IF(Base_Arbres!A461<>\"\",VLOOKUP($A415,Base_Arbres,3,FALSE)*Crit1,\"\")","v":""},{"$f":"IF(Base_Arbres!A461<>\"\",VLOOKUP($A415,Base_Arbres,4,FALSE)*Crit2,\"\")","v":""},{"$f":"IF(Base_Arbres!A461<>\"\",VLOOKUP($A415,Base_Arbres,5,FALSE)*Crit3,\"\")","v":""},{"$f":"IF(Base_Arbres!A461<>\"\",VLOOKUP($A415,Base_Arbres,6,FALSE)*Crit4,\"\")","v":""},{"$f":"IF(Base_Arbres!B415<>\"\",VLOOKUP($A415,Base_Arbres,7,FALSE)*Crit5,\"\")","v":""},{"$f":"IF(Base_Arbres!C415<>\"\",VLOOKUP($A415,Base_Arbres,8,FALSE)*crit8,\"\")","v":""},{"$f":"IF(Base_Arbres!D415<>\"\",VLOOKUP($A415,Base_Arbres,9,FALSE)*crit9,\"\")","v":""},{"$f":"IF(ISNA(VLOOKUP(INDEX(Base_Typologie!$A$6:$P$1003,MATCH(A415,Base_Typologie!$A:$A,0)-5,MATCH(Typologie_Espace_Public,Base_Typologie!$6:$6,0)),TableauScoreTypologie2,2,FALSE)*Crit6),0,VLOOKUP(INDEX(Base_Typologie!$A$6:$P$1003,MATCH(A415,Base_Typologie!$A:$A,0)-5,MATCH(Typologie_Espace_Public,Base_Typologie!$6:$6,0)),TableauScoreTypologie2,2,FALSE)*Crit6)","v":0},0,0,0,0,0,0,0,0,0,0,0,0,null,{"$f":"IF(Base_Arbres!A518<>\"\",VLOOKUP($A415,Base_Arbres,4,FALSE)*Crit7,\"\")","v":""}]
[{"$f":"IF(Base_Arbres!A462<>\"\",Base_Arbres!A462,\"\")","v":""},{"$f":"IF(Base_Arbres!A462<>\"\",VLOOKUP($A416,Base_Arbres,3,FALSE)*Crit1,\"\")","v":""},{"$f":"IF(Base_Arbres!A462<>\"\",VLOOKUP($A416,Base_Arbres,4,FALSE)*Crit2,\"\")","v":""},{"$f":"IF(Base_Arbres!A462<>\"\",VLOOKUP($A416,Base_Arbres,5,FALSE)*Crit3,\"\")","v":""},{"$f":"IF(Base_Arbres!A462<>\"\",VLOOKUP($A416,Base_Arbres,6,FALSE)*Crit4,\"\")","v":""},{"$f":"IF(Base_Arbres!B416<>\"\",VLOOKUP($A416,Base_Arbres,7,FALSE)*Crit5,\"\")","v":""},{"$f":"IF(Base_Arbres!C416<>\"\",VLOOKUP($A416,Base_Arbres,8,FALSE)*crit8,\"\")","v":""},{"$f":"IF(Base_Arbres!D416<>\"\",VLOOKUP($A416,Base_Arbres,9,FALSE)*crit9,\"\")","v":""},{"$f":"IF(ISNA(VLOOKUP(INDEX(Base_Typologie!$A$6:$P$1003,MATCH(A416,Base_Typologie!$A:$A,0)-5,MATCH(Typologie_Espace_Public,Base_Typologie!$6:$6,0)),TableauScoreTypologie2,2,FALSE)*Crit6),0,VLOOKUP(INDEX(Base_Typologie!$A$6:$P$1003,MATCH(A416,Base_Typologie!$A:$A,0)-5,MATCH(Typologie_Espace_Public,Base_Typologie!$6:$6,0)),TableauScoreTypologie2,2,FALSE)*Crit6)","v":0},0,0,0,0,0,0,0,0,0,0,0,0,null,{"$f":"IF(Base_Arbres!A519<>\"\",VLOOKUP($A416,Base_Arbres,4,FALSE)*Crit7,\"\")","v":""}]
[{"$f":"IF(Base_Arbres!A463<>\"\",Base_Arbres!A463,\"\")","v":""},{"$f":"IF(Base_Arbres!A463<>\"\",VLOOKUP($A417,Base_Arbres,3,FALSE)*Crit1,\"\")","v":""},{"$f":"IF(Base_Arbres!A463<>\"\",VLOOKUP($A417,Base_Arbres,4,FALSE)*Crit2,\"\")","v":""},{"$f":"IF(Base_Arbres!A463<>\"\",VLOOKUP($A417,Base_Arbres,5,FALSE)*Crit3,\"\")","v":""},{"$f":"IF(Base_Arbres!A463<>\"\",VLOOKUP($A417,Base_Arbres,6,FALSE)*Crit4,\"\")","v":""},{"$f":"IF(Base_Arbres!B417<>\"\",VLOOKUP($A417,Base_Arbres,7,FALSE)*Crit5,\"\")","v":""},{"$f":"IF(Base_Arbres!C417<>\"\",VLOOKUP($A417,Base_Arbres,8,FALSE)*crit8,\"\")","v":""},{"$f":"IF(Base_Arbres!D417<>\"\",VLOOKUP($A417,Base_Arbres,9,FALSE)*crit9,\"\")","v":""},{"$f":"IF(ISNA(VLOOKUP(INDEX(Base_Typologie!$A$6:$P$1003,MATCH(A417,Base_Typologie!$A:$A,0)-5,MATCH(Typologie_Espace_Public,Base_Typologie!$6:$6,0)),TableauScoreTypologie2,2,FALSE)*Crit6),0,VLOOKUP(INDEX(Base_Typologie!$A$6:$P$1003,MATCH(A417,Base_Typologie!$A:$A,0)-5,MATCH(Typologie_Espace_Public,Base_Typologie!$6:$6,0)),TableauScoreTypologie2,2,FALSE)*Crit6)","v":0},0,0,0,0,0,0,0,0,0,0,0,0,null,{"$f":"IF(Base_Arbres!A520<>\"\",VLOOKUP($A417,Base_Arbres,4,FALSE)*Crit7,\"\")","v":""}]
[{"$f":"IF(Base_Arbres!A464<>\"\",Base_Arbres!A464,\"\")","v":""},{"$f":"IF(Base_Arbres!A464<>\"\",VLOOKUP($A418,Base_Arbres,3,FALSE)*Crit1,\"\")","v":""},{"$f":"IF(Base_Arbres!A464<>\"\",VLOOKUP($A418,Base_Arbres,4,FALSE)*Crit2,\"\")","v":""},{"$f":"IF(Base_Arbres!A464<>\"\",VLOOKUP($A418,Base_Arbres,5,FALSE)*Crit3,\"\")","v":""},{"$f":"IF(Base_Arbres!A464<>\"\",VLOOKUP($A418,Base_Arbres,6,FALSE)*Crit4,\"\")","v":""},{"$f":"IF(Base_Arbres!B418<>\"\",VLOOKUP($A418,Base_Arbres,7,FALSE)*Crit5,\"\")","v":""},{"$f":"IF(Base_Arbres!C418<>\"\",VLOOKUP($A418,Base_Arbres,8,FALSE)*crit8,\"\")","v":""},{"$f":"IF(Base_Arbres!D418<>\"\",VLOOKUP($A418,Base_Arbres,9,FALSE)*crit9,\"\")","v":""},{"$f":"IF(ISNA(VLOOKUP(INDEX(Base_Typologie!$A$6:$P$1003,MATCH(A418,Base_Typologie!$A:$A,0)-5,MATCH(Typologie_Espace_Public,Base_Typologie!$6:$6,0)),TableauScoreTypologie2,2,FALSE)*Crit6),0,VLOOKUP(INDEX(Base_Typologie!$A$6:$P$1003,MATCH(A418,Base_Typologie!$A:$A,0)-5,MATCH(Typologie_Espace_Public,Base_Typologie!$6:$6,0)),TableauScoreTypologie2,2,FALSE)*Crit6)","v":0},0,0,0,0,0,0,0,0,0,0,0,0,null,{"$f":"IF(Base_Arbres!A521<>\"\",VLOOKUP($A418,Base_Arbres,4,FALSE)*Crit7,\"\")","v":""}]
[{"$f":"IF(Base_Arbres!A465<>\"\",Base_Arbres!A465,\"\")","v":""},{"$f":"IF(Base_Arbres!A465<>\"\",VLOOKUP($A419,Base_Arbres,3,FALSE)*Crit1,\"\")","v":""},{"$f":"IF(Base_Arbres!A465<>\"\",VLOOKUP($A419,Base_Arbres,4,FALSE)*Crit2,\"\")","v":""},{"$f":"IF(Base_Arbres!A465<>\"\",VLOOKUP($A419,Base_Arbres,5,FALSE)*Crit3,\"\")","v":""},{"$f":"IF(Base_Arbres!A465<>\"\",VLOOKUP($A419,Base_Arbres,6,FALSE)*Crit4,\"\")","v":""},{"$f":"IF(Base_Arbres!B419<>\"\",VLOOKUP($A419,Base_Arbres,7,FALSE)*Crit5,\"\")","v":""},{"$f":"IF(Base_Arbres!C419<>\"\",VLOOKUP($A419,Base_Arbres,8,FALSE)*crit8,\"\")","v":""},{"$f":"IF(Base_Arbres!D419<>\"\",VLOOKUP($A419,Base_Arbres,9,FALSE)*crit9,\"\")","v":""},{"$f":"IF(ISNA(VLOOKUP(INDEX(Base_Typologie!$A$6:$P$1003,MATCH(A419,Base_Typologie!$A:$A,0)-5,MATCH(Typologie_Espace_Public,Base_Typologie!$6:$6,0)),TableauScoreTypologie2,2,FALSE)*Crit6),0,VLOOKUP(INDEX(Base_Typologie!$A$6:$P$1003,MATCH(A419,Base_Typologie!$A:$A,0)-5,MATCH(Typologie_Espace_Public,Base_Typologie!$6:$6,0)),TableauScoreTypologie2,2,FALSE)*Crit6)","v":0},0,0,0,0,0,0,0,0,0,0,0,0,null,{"$f":"IF(Base_Arbres!A522<>\"\",VLOOKUP($A419,Base_Arbres,4,FALSE)*Crit7,\"\")","v":""}]
[{"$f":"IF(Base_Arbres!A466<>\"\",Base_Arbres!A466,\"\")","v":""},{"$f":"IF(Base_Arbres!A466<>\"\",VLOOKUP($A420,Base_Arbres,3,FALSE)*Crit1,\"\")","v":""},{"$f":"IF(Base_Arbres!A466<>\"\",VLOOKUP($A420,Base_Arbres,4,FALSE)*Crit2,\"\")","v":""},{"$f":"IF(Base_Arbres!A466<>\"\",VLOOKUP($A420,Base_Arbres,5,FALSE)*Crit3,\"\")","v":""},{"$f":"IF(Base_Arbres!A466<>\"\",VLOOKUP($A420,Base_Arbres,6,FALSE)*Crit4,\"\")","v":""},{"$f":"IF(Base_Arbres!B420<>\"\",VLOOKUP($A420,Base_Arbres,7,FALSE)*Crit5,\"\")","v":""},{"$f":"IF(Base_Arbres!C420<>\"\",VLOOKUP($A420,Base_Arbres,8,FALSE)*crit8,\"\")","v":""},{"$f":"IF(Base_Arbres!D420<>\"\",VLOOKUP($A420,Base_Arbres,9,FALSE)*crit9,\"\")","v":""},{"$f":"IF(ISNA(VLOOKUP(INDEX(Base_Typologie!$A$6:$P$1003,MATCH(A420,Base_Typologie!$A:$A,0)-5,MATCH(Typologie_Espace_Public,Base_Typologie!$6:$6,0)),TableauScoreTypologie2,2,FALSE)*Crit6),0,VLOOKUP(INDEX(Base_Typologie!$A$6:$P$1003,MATCH(A420,Base_Typologie!$A:$A,0)-5,MATCH(Typologie_Espace_Public,Base_Typologie!$6:$6,0)),TableauScoreTypologie2,2,FALSE)*Crit6)","v":0},0,0,0,0,0,0,0,0,0,0,0,0,null,{"$f":"IF(Base_Arbres!A523<>\"\",VLOOKUP($A420,Base_Arbres,4,FALSE)*Crit7,\"\")","v":""}]
[{"$f":"IF(Base_Arbres!A467<>\"\",Base_Arbres!A467,\"\")","v":""},{"$f":"IF(Base_Arbres!A467<>\"\",VLOOKUP($A421,Base_Arbres,3,FALSE)*Crit1,\"\")","v":""},{"$f":"IF(Base_Arbres!A467<>\"\",VLOOKUP($A421,Base_Arbres,4,FALSE)*Crit2,\"\")","v":""},{"$f":"IF(Base_Arbres!A467<>\"\",VLOOKUP($A421,Base_Arbres,5,FALSE)*Crit3,\"\")","v":""},{"$f":"IF(Base_Arbres!A467<>\"\",VLOOKUP($A421,Base_Arbres,6,FALSE)*Crit4,\"\")","v":""},{"$f":"IF(Base_Arbres!B421<>\"\",VLOOKUP($A421,Base_Arbres,7,FALSE)*Crit5,\"\")","v":""},{"$f":"IF(Base_Arbres!C421<>\"\",VLOOKUP($A421,Base_Arbres,8,FALSE)*crit8,\"\")","v":""},{"$f":"IF(Base_Arbres!D421<>\"\",VLOOKUP($A421,Base_Arbres,9,FALSE)*crit9,\"\")","v":""},{"$f":"IF(ISNA(VLOOKUP(INDEX(Base_Typologie!$A$6:$P$1003,MATCH(A421,Base_Typologie!$A:$A,0)-5,MATCH(Typologie_Espace_Public,Base_Typologie!$6:$6,0)),TableauScoreTypologie2,2,FALSE)*Crit6),0,VLOOKUP(INDEX(Base_Typologie!$A$6:$P$1003,MATCH(A421,Base_Typologie!$A:$A,0)-5,MATCH(Typologie_Espace_Public,Base_Typologie!$6:$6,0)),TableauScoreTypologie2,2,FALSE)*Crit6)","v":0},0,0,0,0,0,0,0,0,0,0,0,0,null,{"$f":"IF(Base_Arbres!A524<>\"\",VLOOKUP($A421,Base_Arbres,4,FALSE)*Crit7,\"\")","v":""}]
[{"$f":"IF(Base_Arbres!A468<>\"\",Base_Arbres!A468,\"\")","v":""},{"$f":"IF(Base_Arbres!A468<>\"\",VLOOKUP($A422,Base_Arbres,3,FALSE)*Crit1,\"\")","v":""},{"$f":"IF(Base_Arbres!A468<>\"\",VLOOKUP($A422,Base_Arbres,4,FALSE)*Crit2,\"\")","v":""},{"$f":"IF(Base_Arbres!A468<>\"\",VLOOKUP($A422,Base_Arbres,5,FALSE)*Crit3,\"\")","v":""},{"$f":"IF(Base_Arbres!A468<>\"\",VLOOKUP($A422,Base_Arbres,6,FALSE)*Crit4,\"\")","v":""},{"$f":"IF(Base_Arbres!B422<>\"\",VLOOKUP($A422,Base_Arbres,7,FALSE)*Crit5,\"\")","v":""},{"$f":"IF(Base_Arbres!C422<>\"\",VLOOKUP($A422,Base_Arbres,8,FALSE)*crit8,\"\")","v":""},{"$f":"IF(Base_Arbres!D422<>\"\",VLOOKUP($A422,Base_Arbres,9,FALSE)*crit9,\"\")","v":""},{"$f":"IF(ISNA(VLOOKUP(INDEX(Base_Typologie!$A$6:$P$1003,MATCH(A422,Base_Typologie!$A:$A,0)-5,MATCH(Typologie_Espace_Public,Base_Typologie!$6:$6,0)),TableauScoreTypologie2,2,FALSE)*Crit6),0,VLOOKUP(INDEX(Base_Typologie!$A$6:$P$1003,MATCH(A422,Base_Typologie!$A:$A,0)-5,MATCH(Typologie_Espace_Public,Base_Typologie!$6:$6,0)),TableauScoreTypologie2,2,FALSE)*Crit6)","v":0},0,0,0,0,0,0,0,0,0,0,0,0,null,{"$f":"IF(Base_Arbres!A525<>\"\",VLOOKUP($A422,Base_Arbres,4,FALSE)*Crit7,\"\")","v":""}]
[{"$f":"IF(Base_Arbres!A469<>\"\",Base_Arbres!A469,\"\")","v":""},{"$f":"IF(Base_Arbres!A469<>\"\",VLOOKUP($A423,Base_Arbres,3,FALSE)*Crit1,\"\")","v":""},{"$f":"IF(Base_Arbres!A469<>\"\",VLOOKUP($A423,Base_Arbres,4,FALSE)*Crit2,\"\")","v":""},{"$f":"IF(Base_Arbres!A469<>\"\",VLOOKUP($A423,Base_Arbres,5,FALSE)*Crit3,\"\")","v":""},{"$f":"IF(Base_Arbres!A469<>\"\",VLOOKUP($A423,Base_Arbres,6,FALSE)*Crit4,\"\")","v":""},{"$f":"IF(Base_Arbres!B423<>\"\",VLOOKUP($A423,Base_Arbres,7,FALSE)*Crit5,\"\")","v":""},{"$f":"IF(Base_Arbres!C423<>\"\",VLOOKUP($A423,Base_Arbres,8,FALSE)*crit8,\"\")","v":""},{"$f":"IF(Base_Arbres!D423<>\"\",VLOOKUP($A423,Base_Arbres,9,FALSE)*crit9,\"\")","v":""},{"$f":"IF(ISNA(VLOOKUP(INDEX(Base_Typologie!$A$6:$P$1003,MATCH(A423,Base_Typologie!$A:$A,0)-5,MATCH(Typologie_Espace_Public,Base_Typologie!$6:$6,0)),TableauScoreTypologie2,2,FALSE)*Crit6),0,VLOOKUP(INDEX(Base_Typologie!$A$6:$P$1003,MATCH(A423,Base_Typologie!$A:$A,0)-5,MATCH(Typologie_Espace_Public,Base_Typologie!$6:$6,0)),TableauScoreTypologie2,2,FALSE)*Crit6)","v":0},0,0,0,0,0,0,0,0,0,0,0,0,null,{"$f":"IF(Base_Arbres!A526<>\"\",VLOOKUP($A423,Base_Arbres,4,FALSE)*Crit7,\"\")","v":""}]
[{"$f":"IF(Base_Arbres!A470<>\"\",Base_Arbres!A470,\"\")","v":""},{"$f":"IF(Base_Arbres!A470<>\"\",VLOOKUP($A424,Base_Arbres,3,FALSE)*Crit1,\"\")","v":""},{"$f":"IF(Base_Arbres!A470<>\"\",VLOOKUP($A424,Base_Arbres,4,FALSE)*Crit2,\"\")","v":""},{"$f":"IF(Base_Arbres!A470<>\"\",VLOOKUP($A424,Base_Arbres,5,FALSE)*Crit3,\"\")","v":""},{"$f":"IF(Base_Arbres!A470<>\"\",VLOOKUP($A424,Base_Arbres,6,FALSE)*Crit4,\"\")","v":""},{"$f":"IF(Base_Arbres!B424<>\"\",VLOOKUP($A424,Base_Arbres,7,FALSE)*Crit5,\"\")","v":""},{"$f":"IF(Base_Arbres!C424<>\"\",VLOOKUP($A424,Base_Arbres,8,FALSE)*crit8,\"\")","v":""},{"$f":"IF(Base_Arbres!D424<>\"\",VLOOKUP($A424,Base_Arbres,9,FALSE)*crit9,\"\")","v":""},{"$f":"IF(ISNA(VLOOKUP(INDEX(Base_Typologie!$A$6:$P$1003,MATCH(A424,Base_Typologie!$A:$A,0)-5,MATCH(Typologie_Espace_Public,Base_Typologie!$6:$6,0)),TableauScoreTypologie2,2,FALSE)*Crit6),0,VLOOKUP(INDEX(Base_Typologie!$A$6:$P$1003,MATCH(A424,Base_Typologie!$A:$A,0)-5,MATCH(Typologie_Espace_Public,Base_Typologie!$6:$6,0)),TableauScoreTypologie2,2,FALSE)*Crit6)","v":0},0,0,0,0,0,0,0,0,0,0,0,0,null,{"$f":"IF(Base_Arbres!A527<>\"\",VLOOKUP($A424,Base_Arbres,4,FALSE)*Crit7,\"\")","v":""}]
[{"$f":"IF(Base_Arbres!A471<>\"\",Base_Arbres!A471,\"\")","v":""},{"$f":"IF(Base_Arbres!A471<>\"\",VLOOKUP($A425,Base_Arbres,3,FALSE)*Crit1,\"\")","v":""},{"$f":"IF(Base_Arbres!A471<>\"\",VLOOKUP($A425,Base_Arbres,4,FALSE)*Crit2,\"\")","v":""},{"$f":"IF(Base_Arbres!A471<>\"\",VLOOKUP($A425,Base_Arbres,5,FALSE)*Crit3,\"\")","v":""},{"$f":"IF(Base_Arbres!A471<>\"\",VLOOKUP($A425,Base_Arbres,6,FALSE)*Crit4,\"\")","v":""},{"$f":"IF(Base_Arbres!B425<>\"\",VLOOKUP($A425,Base_Arbres,7,FALSE)*Crit5,\"\")","v":""},{"$f":"IF(Base_Arbres!C425<>\"\",VLOOKUP($A425,Base_Arbres,8,FALSE)*crit8,\"\")","v":""},{"$f":"IF(Base_Arbres!D425<>\"\",VLOOKUP($A425,Base_Arbres,9,FALSE)*crit9,\"\")","v":""},{"$f":"IF(ISNA(VLOOKUP(INDEX(Base_Typologie!$A$6:$P$1003,MATCH(A425,Base_Typologie!$A:$A,0)-5,MATCH(Typologie_Espace_Public,Base_Typologie!$6:$6,0)),TableauScoreTypologie2,2,FALSE)*Crit6),0,VLOOKUP(INDEX(Base_Typologie!$A$6:$P$1003,MATCH(A425,Base_Typologie!$A:$A,0)-5,MATCH(Typologie_Espace_Public,Base_Typologie!$6:$6,0)),TableauScoreTypologie2,2,FALSE)*Crit6)","v":0},0,0,0,0,0,0,0,0,0,0,0,0,null,{"$f":"IF(Base_Arbres!A528<>\"\",VLOOKUP($A425,Base_Arbres,4,FALSE)*Crit7,\"\")","v":""}]
[{"$f":"IF(Base_Arbres!A472<>\"\",Base_Arbres!A472,\"\")","v":""},{"$f":"IF(Base_Arbres!A472<>\"\",VLOOKUP($A426,Base_Arbres,3,FALSE)*Crit1,\"\")","v":""},{"$f":"IF(Base_Arbres!A472<>\"\",VLOOKUP($A426,Base_Arbres,4,FALSE)*Crit2,\"\")","v":""},{"$f":"IF(Base_Arbres!A472<>\"\",VLOOKUP($A426,Base_Arbres,5,FALSE)*Crit3,\"\")","v":""},{"$f":"IF(Base_Arbres!A472<>\"\",VLOOKUP($A426,Base_Arbres,6,FALSE)*Crit4,\"\")","v":""},{"$f":"IF(Base_Arbres!B426<>\"\",VLOOKUP($A426,Base_Arbres,7,FALSE)*Crit5,\"\")","v":""},{"$f":"IF(Base_Arbres!C426<>\"\",VLOOKUP($A426,Base_Arbres,8,FALSE)*crit8,\"\")","v":""},{"$f":"IF(Base_Arbres!D426<>\"\",VLOOKUP($A426,Base_Arbres,9,FALSE)*crit9,\"\")","v":""},{"$f":"IF(ISNA(VLOOKUP(INDEX(Base_Typologie!$A$6:$P$1003,MATCH(A426,Base_Typologie!$A:$A,0)-5,MATCH(Typologie_Espace_Public,Base_Typologie!$6:$6,0)),TableauScoreTypologie2,2,FALSE)*Crit6),0,VLOOKUP(INDEX(Base_Typologie!$A$6:$P$1003,MATCH(A426,Base_Typologie!$A:$A,0)-5,MATCH(Typologie_Espace_Public,Base_Typologie!$6:$6,0)),TableauScoreTypologie2,2,FALSE)*Crit6)","v":0},0,0,0,0,0,0,0,0,0,0,0,0,null,{"$f":"IF(Base_Arbres!A529<>\"\",VLOOKUP($A426,Base_Arbres,4,FALSE)*Crit7,\"\")","v":""}]
[{"$f":"IF(Base_Arbres!A473<>\"\",Base_Arbres!A473,\"\")","v":""},{"$f":"IF(Base_Arbres!A473<>\"\",VLOOKUP($A427,Base_Arbres,3,FALSE)*Crit1,\"\")","v":""},{"$f":"IF(Base_Arbres!A473<>\"\",VLOOKUP($A427,Base_Arbres,4,FALSE)*Crit2,\"\")","v":""},{"$f":"IF(Base_Arbres!A473<>\"\",VLOOKUP($A427,Base_Arbres,5,FALSE)*Crit3,\"\")","v":""},{"$f":"IF(Base_Arbres!A473<>\"\",VLOOKUP($A427,Base_Arbres,6,FALSE)*Crit4,\"\")","v":""},{"$f":"IF(Base_Arbres!B427<>\"\",VLOOKUP($A427,Base_Arbres,7,FALSE)*Crit5,\"\")","v":""},{"$f":"IF(Base_Arbres!C427<>\"\",VLOOKUP($A427,Base_Arbres,8,FALSE)*crit8,\"\")","v":""},{"$f":"IF(Base_Arbres!D427<>\"\",VLOOKUP($A427,Base_Arbres,9,FALSE)*crit9,\"\")","v":""},{"$f":"IF(ISNA(VLOOKUP(INDEX(Base_Typologie!$A$6:$P$1003,MATCH(A427,Base_Typologie!$A:$A,0)-5,MATCH(Typologie_Espace_Public,Base_Typologie!$6:$6,0)),TableauScoreTypologie2,2,FALSE)*Crit6),0,VLOOKUP(INDEX(Base_Typologie!$A$6:$P$1003,MATCH(A427,Base_Typologie!$A:$A,0)-5,MATCH(Typologie_Espace_Public,Base_Typologie!$6:$6,0)),TableauScoreTypologie2,2,FALSE)*Crit6)","v":0},0,0,0,0,0,0,0,0,0,0,0,0,null,{"$f":"IF(Base_Arbres!A530<>\"\",VLOOKUP($A427,Base_Arbres,4,FALSE)*Crit7,\"\")","v":""}]
[{"$f":"IF(Base_Arbres!A474<>\"\",Base_Arbres!A474,\"\")","v":""},{"$f":"IF(Base_Arbres!A474<>\"\",VLOOKUP($A428,Base_Arbres,3,FALSE)*Crit1,\"\")","v":""},{"$f":"IF(Base_Arbres!A474<>\"\",VLOOKUP($A428,Base_Arbres,4,FALSE)*Crit2,\"\")","v":""},{"$f":"IF(Base_Arbres!A474<>\"\",VLOOKUP($A428,Base_Arbres,5,FALSE)*Crit3,\"\")","v":""},{"$f":"IF(Base_Arbres!A474<>\"\",VLOOKUP($A428,Base_Arbres,6,FALSE)*Crit4,\"\")","v":""},{"$f":"IF(Base_Arbres!B428<>\"\",VLOOKUP($A428,Base_Arbres,7,FALSE)*Crit5,\"\")","v":""},{"$f":"IF(Base_Arbres!C428<>\"\",VLOOKUP($A428,Base_Arbres,8,FALSE)*crit8,\"\")","v":""},{"$f":"IF(Base_Arbres!D428<>\"\",VLOOKUP($A428,Base_Arbres,9,FALSE)*crit9,\"\")","v":""},{"$f":"IF(ISNA(VLOOKUP(INDEX(Base_Typologie!$A$6:$P$1003,MATCH(A428,Base_Typologie!$A:$A,0)-5,MATCH(Typologie_Espace_Public,Base_Typologie!$6:$6,0)),TableauScoreTypologie2,2,FALSE)*Crit6),0,VLOOKUP(INDEX(Base_Typologie!$A$6:$P$1003,MATCH(A428,Base_Typologie!$A:$A,0)-5,MATCH(Typologie_Espace_Public,Base_Typologie!$6:$6,0)),TableauScoreTypologie2,2,FALSE)*Crit6)","v":0},0,0,0,0,0,0,0,0,0,0,0,0,null,{"$f":"IF(Base_Arbres!A531<>\"\",VLOOKUP($A428,Base_Arbres,4,FALSE)*Crit7,\"\")","v":""}]
[{"$f":"IF(Base_Arbres!A475<>\"\",Base_Arbres!A475,\"\")","v":""},{"$f":"IF(Base_Arbres!A475<>\"\",VLOOKUP($A429,Base_Arbres,3,FALSE)*Crit1,\"\")","v":""},{"$f":"IF(Base_Arbres!A475<>\"\",VLOOKUP($A429,Base_Arbres,4,FALSE)*Crit2,\"\")","v":""},{"$f":"IF(Base_Arbres!A475<>\"\",VLOOKUP($A429,Base_Arbres,5,FALSE)*Crit3,\"\")","v":""},{"$f":"IF(Base_Arbres!A475<>\"\",VLOOKUP($A429,Base_Arbres,6,FALSE)*Crit4,\"\")","v":""},{"$f":"IF(Base_Arbres!B429<>\"\",VLOOKUP($A429,Base_Arbres,7,FALSE)*Crit5,\"\")","v":""},{"$f":"IF(Base_Arbres!C429<>\"\",VLOOKUP($A429,Base_Arbres,8,FALSE)*crit8,\"\")","v":""},{"$f":"IF(Base_Arbres!D429<>\"\",VLOOKUP($A429,Base_Arbres,9,FALSE)*crit9,\"\")","v":""},{"$f":"IF(ISNA(VLOOKUP(INDEX(Base_Typologie!$A$6:$P$1003,MATCH(A429,Base_Typologie!$A:$A,0)-5,MATCH(Typologie_Espace_Public,Base_Typologie!$6:$6,0)),TableauScoreTypologie2,2,FALSE)*Crit6),0,VLOOKUP(INDEX(Base_Typologie!$A$6:$P$1003,MATCH(A429,Base_Typologie!$A:$A,0)-5,MATCH(Typologie_Espace_Public,Base_Typologie!$6:$6,0)),TableauScoreTypologie2,2,FALSE)*Crit6)","v":0},0,0,0,0,0,0,0,0,0,0,0,0,null,{"$f":"IF(Base_Arbres!A532<>\"\",VLOOKUP($A429,Base_Arbres,4,FALSE)*Crit7,\"\")","v":""}]
[{"$f":"IF(Base_Arbres!A476<>\"\",Base_Arbres!A476,\"\")","v":""},{"$f":"IF(Base_Arbres!A476<>\"\",VLOOKUP($A430,Base_Arbres,3,FALSE)*Crit1,\"\")","v":""},{"$f":"IF(Base_Arbres!A476<>\"\",VLOOKUP($A430,Base_Arbres,4,FALSE)*Crit2,\"\")","v":""},{"$f":"IF(Base_Arbres!A476<>\"\",VLOOKUP($A430,Base_Arbres,5,FALSE)*Crit3,\"\")","v":""},{"$f":"IF(Base_Arbres!A476<>\"\",VLOOKUP($A430,Base_Arbres,6,FALSE)*Crit4,\"\")","v":""},{"$f":"IF(Base_Arbres!B430<>\"\",VLOOKUP($A430,Base_Arbres,7,FALSE)*Crit5,\"\")","v":""},{"$f":"IF(Base_Arbres!C430<>\"\",VLOOKUP($A430,Base_Arbres,8,FALSE)*crit8,\"\")","v":""},{"$f":"IF(Base_Arbres!D430<>\"\",VLOOKUP($A430,Base_Arbres,9,FALSE)*crit9,\"\")","v":""},{"$f":"IF(ISNA(VLOOKUP(INDEX(Base_Typologie!$A$6:$P$1003,MATCH(A430,Base_Typologie!$A:$A,0)-5,MATCH(Typologie_Espace_Public,Base_Typologie!$6:$6,0)),TableauScoreTypologie2,2,FALSE)*Crit6),0,VLOOKUP(INDEX(Base_Typologie!$A$6:$P$1003,MATCH(A430,Base_Typologie!$A:$A,0)-5,MATCH(Typologie_Espace_Public,Base_Typologie!$6:$6,0)),TableauScoreTypologie2,2,FALSE)*Crit6)","v":0},0,0,0,0,0,0,0,0,0,0,0,0,null,{"$f":"IF(Base_Arbres!A533<>\"\",VLOOKUP($A430,Base_Arbres,4,FALSE)*Crit7,\"\")","v":""}]
[{"$f":"IF(Base_Arbres!A477<>\"\",Base_Arbres!A477,\"\")","v":""},{"$f":"IF(Base_Arbres!A477<>\"\",VLOOKUP($A431,Base_Arbres,3,FALSE)*Crit1,\"\")","v":""},{"$f":"IF(Base_Arbres!A477<>\"\",VLOOKUP($A431,Base_Arbres,4,FALSE)*Crit2,\"\")","v":""},{"$f":"IF(Base_Arbres!A477<>\"\",VLOOKUP($A431,Base_Arbres,5,FALSE)*Crit3,\"\")","v":""},{"$f":"IF(Base_Arbres!A477<>\"\",VLOOKUP($A431,Base_Arbres,6,FALSE)*Crit4,\"\")","v":""},{"$f":"IF(Base_Arbres!B431<>\"\",VLOOKUP($A431,Base_Arbres,7,FALSE)*Crit5,\"\")","v":""},{"$f":"IF(Base_Arbres!C431<>\"\",VLOOKUP($A431,Base_Arbres,8,FALSE)*crit8,\"\")","v":""},{"$f":"IF(Base_Arbres!D431<>\"\",VLOOKUP($A431,Base_Arbres,9,FALSE)*crit9,\"\")","v":""},{"$f":"IF(ISNA(VLOOKUP(INDEX(Base_Typologie!$A$6:$P$1003,MATCH(A431,Base_Typologie!$A:$A,0)-5,MATCH(Typologie_Espace_Public,Base_Typologie!$6:$6,0)),TableauScoreTypologie2,2,FALSE)*Crit6),0,VLOOKUP(INDEX(Base_Typologie!$A$6:$P$1003,MATCH(A431,Base_Typologie!$A:$A,0)-5,MATCH(Typologie_Espace_Public,Base_Typologie!$6:$6,0)),TableauScoreTypologie2,2,FALSE)*Crit6)","v":0},0,0,0,0,0,0,0,0,0,0,0,0,null,{"$f":"IF(Base_Arbres!A534<>\"\",VLOOKUP($A431,Base_Arbres,4,FALSE)*Crit7,\"\")","v":""}]
[{"$f":"IF(Base_Arbres!A478<>\"\",Base_Arbres!A478,\"\")","v":""},{"$f":"IF(Base_Arbres!A478<>\"\",VLOOKUP($A432,Base_Arbres,3,FALSE)*Crit1,\"\")","v":""},{"$f":"IF(Base_Arbres!A478<>\"\",VLOOKUP($A432,Base_Arbres,4,FALSE)*Crit2,\"\")","v":""},{"$f":"IF(Base_Arbres!A478<>\"\",VLOOKUP($A432,Base_Arbres,5,FALSE)*Crit3,\"\")","v":""},{"$f":"IF(Base_Arbres!A478<>\"\",VLOOKUP($A432,Base_Arbres,6,FALSE)*Crit4,\"\")","v":""},{"$f":"IF(Base_Arbres!B432<>\"\",VLOOKUP($A432,Base_Arbres,7,FALSE)*Crit5,\"\")","v":""},{"$f":"IF(Base_Arbres!C432<>\"\",VLOOKUP($A432,Base_Arbres,8,FALSE)*crit8,\"\")","v":""},{"$f":"IF(Base_Arbres!D432<>\"\",VLOOKUP($A432,Base_Arbres,9,FALSE)*crit9,\"\")","v":""},{"$f":"IF(ISNA(VLOOKUP(INDEX(Base_Typologie!$A$6:$P$1003,MATCH(A432,Base_Typologie!$A:$A,0)-5,MATCH(Typologie_Espace_Public,Base_Typologie!$6:$6,0)),TableauScoreTypologie2,2,FALSE)*Crit6),0,VLOOKUP(INDEX(Base_Typologie!$A$6:$P$1003,MATCH(A432,Base_Typologie!$A:$A,0)-5,MATCH(Typologie_Espace_Public,Base_Typologie!$6:$6,0)),TableauScoreTypologie2,2,FALSE)*Crit6)","v":0},0,0,0,0,0,0,0,0,0,0,0,0,null,{"$f":"IF(Base_Arbres!A535<>\"\",VLOOKUP($A432,Base_Arbres,4,FALSE)*Crit7,\"\")","v":""}]
[{"$f":"IF(Base_Arbres!A479<>\"\",Base_Arbres!A479,\"\")","v":""},{"$f":"IF(Base_Arbres!A479<>\"\",VLOOKUP($A433,Base_Arbres,3,FALSE)*Crit1,\"\")","v":""},{"$f":"IF(Base_Arbres!A479<>\"\",VLOOKUP($A433,Base_Arbres,4,FALSE)*Crit2,\"\")","v":""},{"$f":"IF(Base_Arbres!A479<>\"\",VLOOKUP($A433,Base_Arbres,5,FALSE)*Crit3,\"\")","v":""},{"$f":"IF(Base_Arbres!A479<>\"\",VLOOKUP($A433,Base_Arbres,6,FALSE)*Crit4,\"\")","v":""},{"$f":"IF(Base_Arbres!B433<>\"\",VLOOKUP($A433,Base_Arbres,7,FALSE)*Crit5,\"\")","v":""},{"$f":"IF(Base_Arbres!C433<>\"\",VLOOKUP($A433,Base_Arbres,8,FALSE)*crit8,\"\")","v":""},{"$f":"IF(Base_Arbres!D433<>\"\",VLOOKUP($A433,Base_Arbres,9,FALSE)*crit9,\"\")","v":""},{"$f":"IF(ISNA(VLOOKUP(INDEX(Base_Typologie!$A$6:$P$1003,MATCH(A433,Base_Typologie!$A:$A,0)-5,MATCH(Typologie_Espace_Public,Base_Typologie!$6:$6,0)),TableauScoreTypologie2,2,FALSE)*Crit6),0,VLOOKUP(INDEX(Base_Typologie!$A$6:$P$1003,MATCH(A433,Base_Typologie!$A:$A,0)-5,MATCH(Typologie_Espace_Public,Base_Typologie!$6:$6,0)),TableauScoreTypologie2,2,FALSE)*Crit6)","v":0},0,0,0,0,0,0,0,0,0,0,0,0,null,{"$f":"IF(Base_Arbres!A536<>\"\",VLOOKUP($A433,Base_Arbres,4,FALSE)*Crit7,\"\")","v":""}]
[{"$f":"IF(Base_Arbres!A480<>\"\",Base_Arbres!A480,\"\")","v":""},{"$f":"IF(Base_Arbres!A480<>\"\",VLOOKUP($A434,Base_Arbres,3,FALSE)*Crit1,\"\")","v":""},{"$f":"IF(Base_Arbres!A480<>\"\",VLOOKUP($A434,Base_Arbres,4,FALSE)*Crit2,\"\")","v":""},{"$f":"IF(Base_Arbres!A480<>\"\",VLOOKUP($A434,Base_Arbres,5,FALSE)*Crit3,\"\")","v":""},{"$f":"IF(Base_Arbres!A480<>\"\",VLOOKUP($A434,Base_Arbres,6,FALSE)*Crit4,\"\")","v":""},{"$f":"IF(Base_Arbres!B434<>\"\",VLOOKUP($A434,Base_Arbres,7,FALSE)*Crit5,\"\")","v":""},{"$f":"IF(Base_Arbres!C434<>\"\",VLOOKUP($A434,Base_Arbres,8,FALSE)*crit8,\"\")","v":""},{"$f":"IF(Base_Arbres!D434<>\"\",VLOOKUP($A434,Base_Arbres,9,FALSE)*crit9,\"\")","v":""},{"$f":"IF(ISNA(VLOOKUP(INDEX(Base_Typologie!$A$6:$P$1003,MATCH(A434,Base_Typologie!$A:$A,0)-5,MATCH(Typologie_Espace_Public,Base_Typologie!$6:$6,0)),TableauScoreTypologie2,2,FALSE)*Crit6),0,VLOOKUP(INDEX(Base_Typologie!$A$6:$P$1003,MATCH(A434,Base_Typologie!$A:$A,0)-5,MATCH(Typologie_Espace_Public,Base_Typologie!$6:$6,0)),TableauScoreTypologie2,2,FALSE)*Crit6)","v":0},0,0,0,0,0,0,0,0,0,0,0,0,null,{"$f":"IF(Base_Arbres!A537<>\"\",VLOOKUP($A434,Base_Arbres,4,FALSE)*Crit7,\"\")","v":""}]
[{"$f":"IF(Base_Arbres!A481<>\"\",Base_Arbres!A481,\"\")","v":""},{"$f":"IF(Base_Arbres!A481<>\"\",VLOOKUP($A435,Base_Arbres,3,FALSE)*Crit1,\"\")","v":""},{"$f":"IF(Base_Arbres!A481<>\"\",VLOOKUP($A435,Base_Arbres,4,FALSE)*Crit2,\"\")","v":""},{"$f":"IF(Base_Arbres!A481<>\"\",VLOOKUP($A435,Base_Arbres,5,FALSE)*Crit3,\"\")","v":""},{"$f":"IF(Base_Arbres!A481<>\"\",VLOOKUP($A435,Base_Arbres,6,FALSE)*Crit4,\"\")","v":""},{"$f":"IF(Base_Arbres!B435<>\"\",VLOOKUP($A435,Base_Arbres,7,FALSE)*Crit5,\"\")","v":""},{"$f":"IF(Base_Arbres!C435<>\"\",VLOOKUP($A435,Base_Arbres,8,FALSE)*crit8,\"\")","v":""},{"$f":"IF(Base_Arbres!D435<>\"\",VLOOKUP($A435,Base_Arbres,9,FALSE)*crit9,\"\")","v":""},{"$f":"IF(ISNA(VLOOKUP(INDEX(Base_Typologie!$A$6:$P$1003,MATCH(A435,Base_Typologie!$A:$A,0)-5,MATCH(Typologie_Espace_Public,Base_Typologie!$6:$6,0)),TableauScoreTypologie2,2,FALSE)*Crit6),0,VLOOKUP(INDEX(Base_Typologie!$A$6:$P$1003,MATCH(A435,Base_Typologie!$A:$A,0)-5,MATCH(Typologie_Espace_Public,Base_Typologie!$6:$6,0)),TableauScoreTypologie2,2,FALSE)*Crit6)","v":0},0,0,0,0,0,0,0,0,0,0,0,0,null,{"$f":"IF(Base_Arbres!A538<>\"\",VLOOKUP($A435,Base_Arbres,4,FALSE)*Crit7,\"\")","v":""}]
[{"$f":"IF(Base_Arbres!A482<>\"\",Base_Arbres!A482,\"\")","v":""},{"$f":"IF(Base_Arbres!A482<>\"\",VLOOKUP($A436,Base_Arbres,3,FALSE)*Crit1,\"\")","v":""},{"$f":"IF(Base_Arbres!A482<>\"\",VLOOKUP($A436,Base_Arbres,4,FALSE)*Crit2,\"\")","v":""},{"$f":"IF(Base_Arbres!A482<>\"\",VLOOKUP($A436,Base_Arbres,5,FALSE)*Crit3,\"\")","v":""},{"$f":"IF(Base_Arbres!A482<>\"\",VLOOKUP($A436,Base_Arbres,6,FALSE)*Crit4,\"\")","v":""},{"$f":"IF(Base_Arbres!B436<>\"\",VLOOKUP($A436,Base_Arbres,7,FALSE)*Crit5,\"\")","v":""},{"$f":"IF(Base_Arbres!C436<>\"\",VLOOKUP($A436,Base_Arbres,8,FALSE)*crit8,\"\")","v":""},{"$f":"IF(Base_Arbres!D436<>\"\",VLOOKUP($A436,Base_Arbres,9,FALSE)*crit9,\"\")","v":""},{"$f":"IF(ISNA(VLOOKUP(INDEX(Base_Typologie!$A$6:$P$1003,MATCH(A436,Base_Typologie!$A:$A,0)-5,MATCH(Typologie_Espace_Public,Base_Typologie!$6:$6,0)),TableauScoreTypologie2,2,FALSE)*Crit6),0,VLOOKUP(INDEX(Base_Typologie!$A$6:$P$1003,MATCH(A436,Base_Typologie!$A:$A,0)-5,MATCH(Typologie_Espace_Public,Base_Typologie!$6:$6,0)),TableauScoreTypologie2,2,FALSE)*Crit6)","v":0},0,0,0,0,0,0,0,0,0,0,0,0,null,{"$f":"IF(Base_Arbres!A539<>\"\",VLOOKUP($A436,Base_Arbres,4,FALSE)*Crit7,\"\")","v":""}]
[{"$f":"IF(Base_Arbres!A483<>\"\",Base_Arbres!A483,\"\")","v":""},{"$f":"IF(Base_Arbres!A483<>\"\",VLOOKUP($A437,Base_Arbres,3,FALSE)*Crit1,\"\")","v":""},{"$f":"IF(Base_Arbres!A483<>\"\",VLOOKUP($A437,Base_Arbres,4,FALSE)*Crit2,\"\")","v":""},{"$f":"IF(Base_Arbres!A483<>\"\",VLOOKUP($A437,Base_Arbres,5,FALSE)*Crit3,\"\")","v":""},{"$f":"IF(Base_Arbres!A483<>\"\",VLOOKUP($A437,Base_Arbres,6,FALSE)*Crit4,\"\")","v":""},{"$f":"IF(Base_Arbres!B437<>\"\",VLOOKUP($A437,Base_Arbres,7,FALSE)*Crit5,\"\")","v":""},{"$f":"IF(Base_Arbres!C437<>\"\",VLOOKUP($A437,Base_Arbres,8,FALSE)*crit8,\"\")","v":""},{"$f":"IF(Base_Arbres!D437<>\"\",VLOOKUP($A437,Base_Arbres,9,FALSE)*crit9,\"\")","v":""},{"$f":"IF(ISNA(VLOOKUP(INDEX(Base_Typologie!$A$6:$P$1003,MATCH(A437,Base_Typologie!$A:$A,0)-5,MATCH(Typologie_Espace_Public,Base_Typologie!$6:$6,0)),TableauScoreTypologie2,2,FALSE)*Crit6),0,VLOOKUP(INDEX(Base_Typologie!$A$6:$P$1003,MATCH(A437,Base_Typologie!$A:$A,0)-5,MATCH(Typologie_Espace_Public,Base_Typologie!$6:$6,0)),TableauScoreTypologie2,2,FALSE)*Crit6)","v":0},0,0,0,0,0,0,0,0,0,0,0,0,null,{"$f":"IF(Base_Arbres!A540<>\"\",VLOOKUP($A437,Base_Arbres,4,FALSE)*Crit7,\"\")","v":""}]
[{"$f":"IF(Base_Arbres!A484<>\"\",Base_Arbres!A484,\"\")","v":""},{"$f":"IF(Base_Arbres!A484<>\"\",VLOOKUP($A438,Base_Arbres,3,FALSE)*Crit1,\"\")","v":""},{"$f":"IF(Base_Arbres!A484<>\"\",VLOOKUP($A438,Base_Arbres,4,FALSE)*Crit2,\"\")","v":""},{"$f":"IF(Base_Arbres!A484<>\"\",VLOOKUP($A438,Base_Arbres,5,FALSE)*Crit3,\"\")","v":""},{"$f":"IF(Base_Arbres!A484<>\"\",VLOOKUP($A438,Base_Arbres,6,FALSE)*Crit4,\"\")","v":""},{"$f":"IF(Base_Arbres!B438<>\"\",VLOOKUP($A438,Base_Arbres,7,FALSE)*Crit5,\"\")","v":""},{"$f":"IF(Base_Arbres!C438<>\"\",VLOOKUP($A438,Base_Arbres,8,FALSE)*crit8,\"\")","v":""},{"$f":"IF(Base_Arbres!D438<>\"\",VLOOKUP($A438,Base_Arbres,9,FALSE)*crit9,\"\")","v":""},{"$f":"IF(ISNA(VLOOKUP(INDEX(Base_Typologie!$A$6:$P$1003,MATCH(A438,Base_Typologie!$A:$A,0)-5,MATCH(Typologie_Espace_Public,Base_Typologie!$6:$6,0)),TableauScoreTypologie2,2,FALSE)*Crit6),0,VLOOKUP(INDEX(Base_Typologie!$A$6:$P$1003,MATCH(A438,Base_Typologie!$A:$A,0)-5,MATCH(Typologie_Espace_Public,Base_Typologie!$6:$6,0)),TableauScoreTypologie2,2,FALSE)*Crit6)","v":0},0,0,0,0,0,0,0,0,0,0,0,0,null,{"$f":"IF(Base_Arbres!A541<>\"\",VLOOKUP($A438,Base_Arbres,4,FALSE)*Crit7,\"\")","v":""}]
[{"$f":"IF(Base_Arbres!A485<>\"\",Base_Arbres!A485,\"\")","v":""},{"$f":"IF(Base_Arbres!A485<>\"\",VLOOKUP($A439,Base_Arbres,3,FALSE)*Crit1,\"\")","v":""},{"$f":"IF(Base_Arbres!A485<>\"\",VLOOKUP($A439,Base_Arbres,4,FALSE)*Crit2,\"\")","v":""},{"$f":"IF(Base_Arbres!A485<>\"\",VLOOKUP($A439,Base_Arbres,5,FALSE)*Crit3,\"\")","v":""},{"$f":"IF(Base_Arbres!A485<>\"\",VLOOKUP($A439,Base_Arbres,6,FALSE)*Crit4,\"\")","v":""},{"$f":"IF(Base_Arbres!B439<>\"\",VLOOKUP($A439,Base_Arbres,7,FALSE)*Crit5,\"\")","v":""},{"$f":"IF(Base_Arbres!C439<>\"\",VLOOKUP($A439,Base_Arbres,8,FALSE)*crit8,\"\")","v":""},{"$f":"IF(Base_Arbres!D439<>\"\",VLOOKUP($A439,Base_Arbres,9,FALSE)*crit9,\"\")","v":""},{"$f":"IF(ISNA(VLOOKUP(INDEX(Base_Typologie!$A$6:$P$1003,MATCH(A439,Base_Typologie!$A:$A,0)-5,MATCH(Typologie_Espace_Public,Base_Typologie!$6:$6,0)),TableauScoreTypologie2,2,FALSE)*Crit6),0,VLOOKUP(INDEX(Base_Typologie!$A$6:$P$1003,MATCH(A439,Base_Typologie!$A:$A,0)-5,MATCH(Typologie_Espace_Public,Base_Typologie!$6:$6,0)),TableauScoreTypologie2,2,FALSE)*Crit6)","v":0},0,0,0,0,0,0,0,0,0,0,0,0,null,{"$f":"IF(Base_Arbres!A542<>\"\",VLOOKUP($A439,Base_Arbres,4,FALSE)*Crit7,\"\")","v":""}]
[{"$f":"IF(Base_Arbres!A486<>\"\",Base_Arbres!A486,\"\")","v":""},{"$f":"IF(Base_Arbres!A486<>\"\",VLOOKUP($A440,Base_Arbres,3,FALSE)*Crit1,\"\")","v":""},{"$f":"IF(Base_Arbres!A486<>\"\",VLOOKUP($A440,Base_Arbres,4,FALSE)*Crit2,\"\")","v":""},{"$f":"IF(Base_Arbres!A486<>\"\",VLOOKUP($A440,Base_Arbres,5,FALSE)*Crit3,\"\")","v":""},{"$f":"IF(Base_Arbres!A486<>\"\",VLOOKUP($A440,Base_Arbres,6,FALSE)*Crit4,\"\")","v":""},{"$f":"IF(Base_Arbres!B440<>\"\",VLOOKUP($A440,Base_Arbres,7,FALSE)*Crit5,\"\")","v":""},{"$f":"IF(Base_Arbres!C440<>\"\",VLOOKUP($A440,Base_Arbres,8,FALSE)*crit8,\"\")","v":""},{"$f":"IF(Base_Arbres!D440<>\"\",VLOOKUP($A440,Base_Arbres,9,FALSE)*crit9,\"\")","v":""},{"$f":"IF(ISNA(VLOOKUP(INDEX(Base_Typologie!$A$6:$P$1003,MATCH(A440,Base_Typologie!$A:$A,0)-5,MATCH(Typologie_Espace_Public,Base_Typologie!$6:$6,0)),TableauScoreTypologie2,2,FALSE)*Crit6),0,VLOOKUP(INDEX(Base_Typologie!$A$6:$P$1003,MATCH(A440,Base_Typologie!$A:$A,0)-5,MATCH(Typologie_Espace_Public,Base_Typologie!$6:$6,0)),TableauScoreTypologie2,2,FALSE)*Crit6)","v":0},0,0,0,0,0,0,0,0,0,0,0,0,null,{"$f":"IF(Base_Arbres!A543<>\"\",VLOOKUP($A440,Base_Arbres,4,FALSE)*Crit7,\"\")","v":""}]
[{"$f":"IF(Base_Arbres!A487<>\"\",Base_Arbres!A487,\"\")","v":""},{"$f":"IF(Base_Arbres!A487<>\"\",VLOOKUP($A441,Base_Arbres,3,FALSE)*Crit1,\"\")","v":""},{"$f":"IF(Base_Arbres!A487<>\"\",VLOOKUP($A441,Base_Arbres,4,FALSE)*Crit2,\"\")","v":""},{"$f":"IF(Base_Arbres!A487<>\"\",VLOOKUP($A441,Base_Arbres,5,FALSE)*Crit3,\"\")","v":""},{"$f":"IF(Base_Arbres!A487<>\"\",VLOOKUP($A441,Base_Arbres,6,FALSE)*Crit4,\"\")","v":""},{"$f":"IF(Base_Arbres!B441<>\"\",VLOOKUP($A441,Base_Arbres,7,FALSE)*Crit5,\"\")","v":""},{"$f":"IF(Base_Arbres!C441<>\"\",VLOOKUP($A441,Base_Arbres,8,FALSE)*crit8,\"\")","v":""},{"$f":"IF(Base_Arbres!D441<>\"\",VLOOKUP($A441,Base_Arbres,9,FALSE)*crit9,\"\")","v":""},{"$f":"IF(ISNA(VLOOKUP(INDEX(Base_Typologie!$A$6:$P$1003,MATCH(A441,Base_Typologie!$A:$A,0)-5,MATCH(Typologie_Espace_Public,Base_Typologie!$6:$6,0)),TableauScoreTypologie2,2,FALSE)*Crit6),0,VLOOKUP(INDEX(Base_Typologie!$A$6:$P$1003,MATCH(A441,Base_Typologie!$A:$A,0)-5,MATCH(Typologie_Espace_Public,Base_Typologie!$6:$6,0)),TableauScoreTypologie2,2,FALSE)*Crit6)","v":0},0,0,0,0,0,0,0,0,0,0,0,0,null,{"$f":"IF(Base_Arbres!A544<>\"\",VLOOKUP($A441,Base_Arbres,4,FALSE)*Crit7,\"\")","v":""}]
[{"$f":"IF(Base_Arbres!A488<>\"\",Base_Arbres!A488,\"\")","v":""},{"$f":"IF(Base_Arbres!A488<>\"\",VLOOKUP($A442,Base_Arbres,3,FALSE)*Crit1,\"\")","v":""},{"$f":"IF(Base_Arbres!A488<>\"\",VLOOKUP($A442,Base_Arbres,4,FALSE)*Crit2,\"\")","v":""},{"$f":"IF(Base_Arbres!A488<>\"\",VLOOKUP($A442,Base_Arbres,5,FALSE)*Crit3,\"\")","v":""},{"$f":"IF(Base_Arbres!A488<>\"\",VLOOKUP($A442,Base_Arbres,6,FALSE)*Crit4,\"\")","v":""},{"$f":"IF(Base_Arbres!B442<>\"\",VLOOKUP($A442,Base_Arbres,7,FALSE)*Crit5,\"\")","v":""},{"$f":"IF(Base_Arbres!C442<>\"\",VLOOKUP($A442,Base_Arbres,8,FALSE)*crit8,\"\")","v":""},{"$f":"IF(Base_Arbres!D442<>\"\",VLOOKUP($A442,Base_Arbres,9,FALSE)*crit9,\"\")","v":""},{"$f":"IF(ISNA(VLOOKUP(INDEX(Base_Typologie!$A$6:$P$1003,MATCH(A442,Base_Typologie!$A:$A,0)-5,MATCH(Typologie_Espace_Public,Base_Typologie!$6:$6,0)),TableauScoreTypologie2,2,FALSE)*Crit6),0,VLOOKUP(INDEX(Base_Typologie!$A$6:$P$1003,MATCH(A442,Base_Typologie!$A:$A,0)-5,MATCH(Typologie_Espace_Public,Base_Typologie!$6:$6,0)),TableauScoreTypologie2,2,FALSE)*Crit6)","v":0},0,0,0,0,0,0,0,0,0,0,0,0,null,{"$f":"IF(Base_Arbres!A545<>\"\",VLOOKUP($A442,Base_Arbres,4,FALSE)*Crit7,\"\")","v":""}]
[{"$f":"IF(Base_Arbres!A489<>\"\",Base_Arbres!A489,\"\")","v":""},{"$f":"IF(Base_Arbres!A489<>\"\",VLOOKUP($A443,Base_Arbres,3,FALSE)*Crit1,\"\")","v":""},{"$f":"IF(Base_Arbres!A489<>\"\",VLOOKUP($A443,Base_Arbres,4,FALSE)*Crit2,\"\")","v":""},{"$f":"IF(Base_Arbres!A489<>\"\",VLOOKUP($A443,Base_Arbres,5,FALSE)*Crit3,\"\")","v":""},{"$f":"IF(Base_Arbres!A489<>\"\",VLOOKUP($A443,Base_Arbres,6,FALSE)*Crit4,\"\")","v":""},{"$f":"IF(Base_Arbres!B443<>\"\",VLOOKUP($A443,Base_Arbres,7,FALSE)*Crit5,\"\")","v":""},{"$f":"IF(Base_Arbres!C443<>\"\",VLOOKUP($A443,Base_Arbres,8,FALSE)*crit8,\"\")","v":""},{"$f":"IF(Base_Arbres!D443<>\"\",VLOOKUP($A443,Base_Arbres,9,FALSE)*crit9,\"\")","v":""},{"$f":"IF(ISNA(VLOOKUP(INDEX(Base_Typologie!$A$6:$P$1003,MATCH(A443,Base_Typologie!$A:$A,0)-5,MATCH(Typologie_Espace_Public,Base_Typologie!$6:$6,0)),TableauScoreTypologie2,2,FALSE)*Crit6),0,VLOOKUP(INDEX(Base_Typologie!$A$6:$P$1003,MATCH(A443,Base_Typologie!$A:$A,0)-5,MATCH(Typologie_Espace_Public,Base_Typologie!$6:$6,0)),TableauScoreTypologie2,2,FALSE)*Crit6)","v":0},0,0,0,0,0,0,0,0,0,0,0,0,null,{"$f":"IF(Base_Arbres!A546<>\"\",VLOOKUP($A443,Base_Arbres,4,FALSE)*Crit7,\"\")","v":""}]
[{"$f":"IF(Base_Arbres!A490<>\"\",Base_Arbres!A490,\"\")","v":""},{"$f":"IF(Base_Arbres!A490<>\"\",VLOOKUP($A444,Base_Arbres,3,FALSE)*Crit1,\"\")","v":""},{"$f":"IF(Base_Arbres!A490<>\"\",VLOOKUP($A444,Base_Arbres,4,FALSE)*Crit2,\"\")","v":""},{"$f":"IF(Base_Arbres!A490<>\"\",VLOOKUP($A444,Base_Arbres,5,FALSE)*Crit3,\"\")","v":""},{"$f":"IF(Base_Arbres!A490<>\"\",VLOOKUP($A444,Base_Arbres,6,FALSE)*Crit4,\"\")","v":""},{"$f":"IF(Base_Arbres!B444<>\"\",VLOOKUP($A444,Base_Arbres,7,FALSE)*Crit5,\"\")","v":""},{"$f":"IF(Base_Arbres!C444<>\"\",VLOOKUP($A444,Base_Arbres,8,FALSE)*crit8,\"\")","v":""},{"$f":"IF(Base_Arbres!D444<>\"\",VLOOKUP($A444,Base_Arbres,9,FALSE)*crit9,\"\")","v":""},{"$f":"IF(ISNA(VLOOKUP(INDEX(Base_Typologie!$A$6:$P$1003,MATCH(A444,Base_Typologie!$A:$A,0)-5,MATCH(Typologie_Espace_Public,Base_Typologie!$6:$6,0)),TableauScoreTypologie2,2,FALSE)*Crit6),0,VLOOKUP(INDEX(Base_Typologie!$A$6:$P$1003,MATCH(A444,Base_Typologie!$A:$A,0)-5,MATCH(Typologie_Espace_Public,Base_Typologie!$6:$6,0)),TableauScoreTypologie2,2,FALSE)*Crit6)","v":0},0,0,0,0,0,0,0,0,0,0,0,0,null,{"$f":"IF(Base_Arbres!A547<>\"\",VLOOKUP($A444,Base_Arbres,4,FALSE)*Crit7,\"\")","v":""}]
[{"$f":"IF(Base_Arbres!A491<>\"\",Base_Arbres!A491,\"\")","v":""},{"$f":"IF(Base_Arbres!A491<>\"\",VLOOKUP($A445,Base_Arbres,3,FALSE)*Crit1,\"\")","v":""},{"$f":"IF(Base_Arbres!A491<>\"\",VLOOKUP($A445,Base_Arbres,4,FALSE)*Crit2,\"\")","v":""},{"$f":"IF(Base_Arbres!A491<>\"\",VLOOKUP($A445,Base_Arbres,5,FALSE)*Crit3,\"\")","v":""},{"$f":"IF(Base_Arbres!A491<>\"\",VLOOKUP($A445,Base_Arbres,6,FALSE)*Crit4,\"\")","v":""},{"$f":"IF(Base_Arbres!B445<>\"\",VLOOKUP($A445,Base_Arbres,7,FALSE)*Crit5,\"\")","v":""},{"$f":"IF(Base_Arbres!C445<>\"\",VLOOKUP($A445,Base_Arbres,8,FALSE)*crit8,\"\")","v":""},{"$f":"IF(Base_Arbres!D445<>\"\",VLOOKUP($A445,Base_Arbres,9,FALSE)*crit9,\"\")","v":""},{"$f":"IF(ISNA(VLOOKUP(INDEX(Base_Typologie!$A$6:$P$1003,MATCH(A445,Base_Typologie!$A:$A,0)-5,MATCH(Typologie_Espace_Public,Base_Typologie!$6:$6,0)),TableauScoreTypologie2,2,FALSE)*Crit6),0,VLOOKUP(INDEX(Base_Typologie!$A$6:$P$1003,MATCH(A445,Base_Typologie!$A:$A,0)-5,MATCH(Typologie_Espace_Public,Base_Typologie!$6:$6,0)),TableauScoreTypologie2,2,FALSE)*Crit6)","v":0},0,0,0,0,0,0,0,0,0,0,0,0,null,{"$f":"IF(Base_Arbres!A548<>\"\",VLOOKUP($A445,Base_Arbres,4,FALSE)*Crit7,\"\")","v":""}]
[{"$f":"IF(Base_Arbres!A492<>\"\",Base_Arbres!A492,\"\")","v":""},{"$f":"IF(Base_Arbres!A492<>\"\",VLOOKUP($A446,Base_Arbres,3,FALSE)*Crit1,\"\")","v":""},{"$f":"IF(Base_Arbres!A492<>\"\",VLOOKUP($A446,Base_Arbres,4,FALSE)*Crit2,\"\")","v":""},{"$f":"IF(Base_Arbres!A492<>\"\",VLOOKUP($A446,Base_Arbres,5,FALSE)*Crit3,\"\")","v":""},{"$f":"IF(Base_Arbres!A492<>\"\",VLOOKUP($A446,Base_Arbres,6,FALSE)*Crit4,\"\")","v":""},{"$f":"IF(Base_Arbres!B446<>\"\",VLOOKUP($A446,Base_Arbres,7,FALSE)*Crit5,\"\")","v":""},{"$f":"IF(Base_Arbres!C446<>\"\",VLOOKUP($A446,Base_Arbres,8,FALSE)*crit8,\"\")","v":""},{"$f":"IF(Base_Arbres!D446<>\"\",VLOOKUP($A446,Base_Arbres,9,FALSE)*crit9,\"\")","v":""},{"$f":"IF(ISNA(VLOOKUP(INDEX(Base_Typologie!$A$6:$P$1003,MATCH(A446,Base_Typologie!$A:$A,0)-5,MATCH(Typologie_Espace_Public,Base_Typologie!$6:$6,0)),TableauScoreTypologie2,2,FALSE)*Crit6),0,VLOOKUP(INDEX(Base_Typologie!$A$6:$P$1003,MATCH(A446,Base_Typologie!$A:$A,0)-5,MATCH(Typologie_Espace_Public,Base_Typologie!$6:$6,0)),TableauScoreTypologie2,2,FALSE)*Crit6)","v":0},0,0,0,0,0,0,0,0,0,0,0,0,null,{"$f":"IF(Base_Arbres!A549<>\"\",VLOOKUP($A446,Base_Arbres,4,FALSE)*Crit7,\"\")","v":""}]
[{"$f":"IF(Base_Arbres!A493<>\"\",Base_Arbres!A493,\"\")","v":""},{"$f":"IF(Base_Arbres!A493<>\"\",VLOOKUP($A447,Base_Arbres,3,FALSE)*Crit1,\"\")","v":""},{"$f":"IF(Base_Arbres!A493<>\"\",VLOOKUP($A447,Base_Arbres,4,FALSE)*Crit2,\"\")","v":""},{"$f":"IF(Base_Arbres!A493<>\"\",VLOOKUP($A447,Base_Arbres,5,FALSE)*Crit3,\"\")","v":""},{"$f":"IF(Base_Arbres!A493<>\"\",VLOOKUP($A447,Base_Arbres,6,FALSE)*Crit4,\"\")","v":""},{"$f":"IF(Base_Arbres!B447<>\"\",VLOOKUP($A447,Base_Arbres,7,FALSE)*Crit5,\"\")","v":""},{"$f":"IF(Base_Arbres!C447<>\"\",VLOOKUP($A447,Base_Arbres,8,FALSE)*crit8,\"\")","v":""},{"$f":"IF(Base_Arbres!D447<>\"\",VLOOKUP($A447,Base_Arbres,9,FALSE)*crit9,\"\")","v":""},{"$f":"IF(ISNA(VLOOKUP(INDEX(Base_Typologie!$A$6:$P$1003,MATCH(A447,Base_Typologie!$A:$A,0)-5,MATCH(Typologie_Espace_Public,Base_Typologie!$6:$6,0)),TableauScoreTypologie2,2,FALSE)*Crit6),0,VLOOKUP(INDEX(Base_Typologie!$A$6:$P$1003,MATCH(A447,Base_Typologie!$A:$A,0)-5,MATCH(Typologie_Espace_Public,Base_Typologie!$6:$6,0)),TableauScoreTypologie2,2,FALSE)*Crit6)","v":0},0,0,0,0,0,0,0,0,0,0,0,0,null,{"$f":"IF(Base_Arbres!A550<>\"\",VLOOKUP($A447,Base_Arbres,4,FALSE)*Crit7,\"\")","v":""}]
[{"$f":"IF(Base_Arbres!A494<>\"\",Base_Arbres!A494,\"\")","v":""},{"$f":"IF(Base_Arbres!A494<>\"\",VLOOKUP($A448,Base_Arbres,3,FALSE)*Crit1,\"\")","v":""},{"$f":"IF(Base_Arbres!A494<>\"\",VLOOKUP($A448,Base_Arbres,4,FALSE)*Crit2,\"\")","v":""},{"$f":"IF(Base_Arbres!A494<>\"\",VLOOKUP($A448,Base_Arbres,5,FALSE)*Crit3,\"\")","v":""},{"$f":"IF(Base_Arbres!A494<>\"\",VLOOKUP($A448,Base_Arbres,6,FALSE)*Crit4,\"\")","v":""},{"$f":"IF(Base_Arbres!B448<>\"\",VLOOKUP($A448,Base_Arbres,7,FALSE)*Crit5,\"\")","v":""},{"$f":"IF(Base_Arbres!C448<>\"\",VLOOKUP($A448,Base_Arbres,8,FALSE)*crit8,\"\")","v":""},{"$f":"IF(Base_Arbres!D448<>\"\",VLOOKUP($A448,Base_Arbres,9,FALSE)*crit9,\"\")","v":""},{"$f":"IF(ISNA(VLOOKUP(INDEX(Base_Typologie!$A$6:$P$1003,MATCH(A448,Base_Typologie!$A:$A,0)-5,MATCH(Typologie_Espace_Public,Base_Typologie!$6:$6,0)),TableauScoreTypologie2,2,FALSE)*Crit6),0,VLOOKUP(INDEX(Base_Typologie!$A$6:$P$1003,MATCH(A448,Base_Typologie!$A:$A,0)-5,MATCH(Typologie_Espace_Public,Base_Typologie!$6:$6,0)),TableauScoreTypologie2,2,FALSE)*Crit6)","v":0},0,0,0,0,0,0,0,0,0,0,0,0,null,{"$f":"IF(Base_Arbres!A551<>\"\",VLOOKUP($A448,Base_Arbres,4,FALSE)*Crit7,\"\")","v":""}]
[{"$f":"IF(Base_Arbres!A495<>\"\",Base_Arbres!A495,\"\")","v":""},{"$f":"IF(Base_Arbres!A495<>\"\",VLOOKUP($A449,Base_Arbres,3,FALSE)*Crit1,\"\")","v":""},{"$f":"IF(Base_Arbres!A495<>\"\",VLOOKUP($A449,Base_Arbres,4,FALSE)*Crit2,\"\")","v":""},{"$f":"IF(Base_Arbres!A495<>\"\",VLOOKUP($A449,Base_Arbres,5,FALSE)*Crit3,\"\")","v":""},{"$f":"IF(Base_Arbres!A495<>\"\",VLOOKUP($A449,Base_Arbres,6,FALSE)*Crit4,\"\")","v":""},{"$f":"IF(Base_Arbres!B449<>\"\",VLOOKUP($A449,Base_Arbres,7,FALSE)*Crit5,\"\")","v":""},{"$f":"IF(Base_Arbres!C449<>\"\",VLOOKUP($A449,Base_Arbres,8,FALSE)*crit8,\"\")","v":""},{"$f":"IF(Base_Arbres!D449<>\"\",VLOOKUP($A449,Base_Arbres,9,FALSE)*crit9,\"\")","v":""},{"$f":"IF(ISNA(VLOOKUP(INDEX(Base_Typologie!$A$6:$P$1003,MATCH(A449,Base_Typologie!$A:$A,0)-5,MATCH(Typologie_Espace_Public,Base_Typologie!$6:$6,0)),TableauScoreTypologie2,2,FALSE)*Crit6),0,VLOOKUP(INDEX(Base_Typologie!$A$6:$P$1003,MATCH(A449,Base_Typologie!$A:$A,0)-5,MATCH(Typologie_Espace_Public,Base_Typologie!$6:$6,0)),TableauScoreTypologie2,2,FALSE)*Crit6)","v":0},0,0,0,0,0,0,0,0,0,0,0,0,null,{"$f":"IF(Base_Arbres!A552<>\"\",VLOOKUP($A449,Base_Arbres,4,FALSE)*Crit7,\"\")","v":""}]
[{"$f":"IF(Base_Arbres!A496<>\"\",Base_Arbres!A496,\"\")","v":""},{"$f":"IF(Base_Arbres!A496<>\"\",VLOOKUP($A450,Base_Arbres,3,FALSE)*Crit1,\"\")","v":""},{"$f":"IF(Base_Arbres!A496<>\"\",VLOOKUP($A450,Base_Arbres,4,FALSE)*Crit2,\"\")","v":""},{"$f":"IF(Base_Arbres!A496<>\"\",VLOOKUP($A450,Base_Arbres,5,FALSE)*Crit3,\"\")","v":""},{"$f":"IF(Base_Arbres!A496<>\"\",VLOOKUP($A450,Base_Arbres,6,FALSE)*Crit4,\"\")","v":""},{"$f":"IF(Base_Arbres!B450<>\"\",VLOOKUP($A450,Base_Arbres,7,FALSE)*Crit5,\"\")","v":""},{"$f":"IF(Base_Arbres!C450<>\"\",VLOOKUP($A450,Base_Arbres,8,FALSE)*crit8,\"\")","v":""},{"$f":"IF(Base_Arbres!D450<>\"\",VLOOKUP($A450,Base_Arbres,9,FALSE)*crit9,\"\")","v":""},{"$f":"IF(ISNA(VLOOKUP(INDEX(Base_Typologie!$A$6:$P$1003,MATCH(A450,Base_Typologie!$A:$A,0)-5,MATCH(Typologie_Espace_Public,Base_Typologie!$6:$6,0)),TableauScoreTypologie2,2,FALSE)*Crit6),0,VLOOKUP(INDEX(Base_Typologie!$A$6:$P$1003,MATCH(A450,Base_Typologie!$A:$A,0)-5,MATCH(Typologie_Espace_Public,Base_Typologie!$6:$6,0)),TableauScoreTypologie2,2,FALSE)*Crit6)","v":0},{"$f":"IF(A450<>\"\",IF(LEFT(VLOOKUP($A450,Base_Arbres,10,FALSE),1)>=LEFT(Cont_Racines,1),0,1),0)","v":0},{"$f":"IF(A450<>\"\",IF(LEFT(VLOOKUP($A450,Base_Arbres,11,FALSE),1)>=LEFT(Cont_Branches,1),0,1),0)","v":0},{"$f":"IF(A450<>\"\",IF(LEFT(VLOOKUP($A450,Base_Arbres,12,FALSE),1)>=LEFT(Cont_Chablis,1),0,1),0)","v":0},{"$f":"IF(A450<>\"\",IF(LEFT(VLOOKUP($A450,Base_Arbres,13,FALSE),1)>=LEFT(Cont_Fructifications,1),0,1),0)","v":0},{"$f":"IF(A450<>\"\",IF(LEFT(VLOOKUP($A450,Base_Arbres,14,FALSE),1)>=LEFT(Cont_Miellat,1),0,1),0)","v":0},{"$f":"IF(A450<>\"\",IF(LEFT(VLOOKUP($A450,Base_Arbres,15,FALSE),1)>=LEFT(Cont_Fruits_Toxiques,1),0,1),0)","v":0},{"$f":"IF(A450<>\"\",IF(LEFT(VLOOKUP($A450,Base_Arbres,16,FALSE),1)>=LEFT(Cont_Hauteur,1),0,1),0)","v":0},{"$f":"IF(A450<>\"\",IF(LEFT(VLOOKUP($A450,Base_Arbres,17,FALSE),1)>=LEFT(Cont_Envergure,1),0,1),0)","v":0},{"$f":"IF(A450<>\"\",IF(LEFT(VLOOKUP($A450,Base_Arbres,18,FALSE),1)>=LEFT(Cont_pollen,1),0,1),0)","v":0},{"$f":"IF(B450<>\"\",IF(LEFT(VLOOKUP($A450,Base_Arbres,19,FALSE),1)>=LEFT(Cont_malodo,1),0,1),0)","v":0},{"$f":"IF(A450<>\"\",IF(LEFT(VLOOKUP($A450,Base_Arbres,20,FALSE),1)>=LEFT(Cont_chenilles,1),0,1),0)","v":0},{"$f":"IF(A450<>\"\",IF(LEFT(VLOOKUP($A450,Base_Arbres,21,FALSE),1)>=LEFT(Cont_epineux,1),0,1),0)","v":0},null,{"$f":"IF(Base_Arbres!A553<>\"\",VLOOKUP($A450,Base_Arbres,4,FALSE)*Crit7,\"\")","v":""}]
[{"$f":"IF(Base_Arbres!A497<>\"\",Base_Arbres!A497,\"\")","v":""},{"$f":"IF(Base_Arbres!A497<>\"\",VLOOKUP($A451,Base_Arbres,3,FALSE)*Crit1,\"\")","v":""},{"$f":"IF(Base_Arbres!A497<>\"\",VLOOKUP($A451,Base_Arbres,4,FALSE)*Crit2,\"\")","v":""},{"$f":"IF(Base_Arbres!A497<>\"\",VLOOKUP($A451,Base_Arbres,5,FALSE)*Crit3,\"\")","v":""},{"$f":"IF(Base_Arbres!A497<>\"\",VLOOKUP($A451,Base_Arbres,6,FALSE)*Crit4,\"\")","v":""},{"$f":"IF(Base_Arbres!B451<>\"\",VLOOKUP($A451,Base_Arbres,7,FALSE)*Crit5,\"\")","v":""},{"$f":"IF(Base_Arbres!C451<>\"\",VLOOKUP($A451,Base_Arbres,8,FALSE)*crit8,\"\")","v":""},{"$f":"IF(Base_Arbres!D451<>\"\",VLOOKUP($A451,Base_Arbres,9,FALSE)*crit9,\"\")","v":""},{"$f":"IF(ISNA(VLOOKUP(INDEX(Base_Typologie!$A$6:$P$1003,MATCH(A451,Base_Typologie!$A:$A,0)-5,MATCH(Typologie_Espace_Public,Base_Typologie!$6:$6,0)),TableauScoreTypologie2,2,FALSE)*Crit6),0,VLOOKUP(INDEX(Base_Typologie!$A$6:$P$1003,MATCH(A451,Base_Typologie!$A:$A,0)-5,MATCH(Typologie_Espace_Public,Base_Typologie!$6:$6,0)),TableauScoreTypologie2,2,FALSE)*Crit6)","v":0},0,0,0,0,0,0,0,0,0,0,0,0,null,{"$f":"IF(Base_Arbres!A554<>\"\",VLOOKUP($A451,Base_Arbres,4,FALSE)*Crit7,\"\")","v":""}]
[{"$f":"IF(Base_Arbres!A498<>\"\",Base_Arbres!A498,\"\")","v":""},{"$f":"IF(Base_Arbres!A498<>\"\",VLOOKUP($A452,Base_Arbres,3,FALSE)*Crit1,\"\")","v":""},{"$f":"IF(Base_Arbres!A498<>\"\",VLOOKUP($A452,Base_Arbres,4,FALSE)*Crit2,\"\")","v":""},{"$f":"IF(Base_Arbres!A498<>\"\",VLOOKUP($A452,Base_Arbres,5,FALSE)*Crit3,\"\")","v":""},{"$f":"IF(Base_Arbres!A498<>\"\",VLOOKUP($A452,Base_Arbres,6,FALSE)*Crit4,\"\")","v":""},{"$f":"IF(Base_Arbres!B452<>\"\",VLOOKUP($A452,Base_Arbres,7,FALSE)*Crit5,\"\")","v":""},{"$f":"IF(Base_Arbres!C452<>\"\",VLOOKUP($A452,Base_Arbres,8,FALSE)*crit8,\"\")","v":""},{"$f":"IF(Base_Arbres!D452<>\"\",VLOOKUP($A452,Base_Arbres,9,FALSE)*crit9,\"\")","v":""},{"$f":"IF(ISNA(VLOOKUP(INDEX(Base_Typologie!$A$6:$P$1003,MATCH(A452,Base_Typologie!$A:$A,0)-5,MATCH(Typologie_Espace_Public,Base_Typologie!$6:$6,0)),TableauScoreTypologie2,2,FALSE)*Crit6),0,VLOOKUP(INDEX(Base_Typologie!$A$6:$P$1003,MATCH(A452,Base_Typologie!$A:$A,0)-5,MATCH(Typologie_Espace_Public,Base_Typologie!$6:$6,0)),TableauScoreTypologie2,2,FALSE)*Crit6)","v":0},0,0,0,0,0,0,0,0,0,0,0,0,null,{"$f":"IF(Base_Arbres!A555<>\"\",VLOOKUP($A452,Base_Arbres,4,FALSE)*Crit7,\"\")","v":""}]
[{"$f":"IF(Base_Arbres!A499<>\"\",Base_Arbres!A499,\"\")","v":""},{"$f":"IF(Base_Arbres!A499<>\"\",VLOOKUP($A453,Base_Arbres,3,FALSE)*Crit1,\"\")","v":""},{"$f":"IF(Base_Arbres!A499<>\"\",VLOOKUP($A453,Base_Arbres,4,FALSE)*Crit2,\"\")","v":""},{"$f":"IF(Base_Arbres!A499<>\"\",VLOOKUP($A453,Base_Arbres,5,FALSE)*Crit3,\"\")","v":""},{"$f":"IF(Base_Arbres!A499<>\"\",VLOOKUP($A453,Base_Arbres,6,FALSE)*Crit4,\"\")","v":""},{"$f":"IF(Base_Arbres!B453<>\"\",VLOOKUP($A453,Base_Arbres,7,FALSE)*Crit5,\"\")","v":""},{"$f":"IF(Base_Arbres!C453<>\"\",VLOOKUP($A453,Base_Arbres,8,FALSE)*crit8,\"\")","v":""},{"$f":"IF(Base_Arbres!D453<>\"\",VLOOKUP($A453,Base_Arbres,9,FALSE)*crit9,\"\")","v":""},{"$f":"IF(ISNA(VLOOKUP(INDEX(Base_Typologie!$A$6:$P$1003,MATCH(A453,Base_Typologie!$A:$A,0)-5,MATCH(Typologie_Espace_Public,Base_Typologie!$6:$6,0)),TableauScoreTypologie2,2,FALSE)*Crit6),0,VLOOKUP(INDEX(Base_Typologie!$A$6:$P$1003,MATCH(A453,Base_Typologie!$A:$A,0)-5,MATCH(Typologie_Espace_Public,Base_Typologie!$6:$6,0)),TableauScoreTypologie2,2,FALSE)*Crit6)","v":0},0,0,0,0,0,0,0,0,0,0,0,0,null,{"$f":"IF(Base_Arbres!A556<>\"\",VLOOKUP($A453,Base_Arbres,4,FALSE)*Crit7,\"\")","v":""}]
[{"$f":"IF(Base_Arbres!A500<>\"\",Base_Arbres!A500,\"\")","v":""},{"$f":"IF(Base_Arbres!A500<>\"\",VLOOKUP($A454,Base_Arbres,3,FALSE)*Crit1,\"\")","v":""},{"$f":"IF(Base_Arbres!A500<>\"\",VLOOKUP($A454,Base_Arbres,4,FALSE)*Crit2,\"\")","v":""},{"$f":"IF(Base_Arbres!A500<>\"\",VLOOKUP($A454,Base_Arbres,5,FALSE)*Crit3,\"\")","v":""},{"$f":"IF(Base_Arbres!A500<>\"\",VLOOKUP($A454,Base_Arbres,6,FALSE)*Crit4,\"\")","v":""},{"$f":"IF(Base_Arbres!B454<>\"\",VLOOKUP($A454,Base_Arbres,7,FALSE)*Crit5,\"\")","v":""},{"$f":"IF(Base_Arbres!C454<>\"\",VLOOKUP($A454,Base_Arbres,8,FALSE)*crit8,\"\")","v":""},{"$f":"IF(Base_Arbres!D454<>\"\",VLOOKUP($A454,Base_Arbres,9,FALSE)*crit9,\"\")","v":""},{"$f":"IF(ISNA(VLOOKUP(INDEX(Base_Typologie!$A$6:$P$1003,MATCH(A454,Base_Typologie!$A:$A,0)-5,MATCH(Typologie_Espace_Public,Base_Typologie!$6:$6,0)),TableauScoreTypologie2,2,FALSE)*Crit6),0,VLOOKUP(INDEX(Base_Typologie!$A$6:$P$1003,MATCH(A454,Base_Typologie!$A:$A,0)-5,MATCH(Typologie_Espace_Public,Base_Typologie!$6:$6,0)),TableauScoreTypologie2,2,FALSE)*Crit6)","v":0},0,0,0,0,0,0,0,0,0,0,0,0,null,{"$f":"IF(Base_Arbres!A557<>\"\",VLOOKUP($A454,Base_Arbres,4,FALSE)*Crit7,\"\")","v":""}]
[{"$f":"IF(Base_Arbres!A501<>\"\",Base_Arbres!A501,\"\")","v":""},{"$f":"IF(Base_Arbres!A501<>\"\",VLOOKUP($A455,Base_Arbres,3,FALSE)*Crit1,\"\")","v":""},{"$f":"IF(Base_Arbres!A501<>\"\",VLOOKUP($A455,Base_Arbres,4,FALSE)*Crit2,\"\")","v":""},{"$f":"IF(Base_Arbres!A501<>\"\",VLOOKUP($A455,Base_Arbres,5,FALSE)*Crit3,\"\")","v":""},{"$f":"IF(Base_Arbres!A501<>\"\",VLOOKUP($A455,Base_Arbres,6,FALSE)*Crit4,\"\")","v":""},{"$f":"IF(Base_Arbres!B455<>\"\",VLOOKUP($A455,Base_Arbres,7,FALSE)*Crit5,\"\")","v":""},{"$f":"IF(Base_Arbres!C455<>\"\",VLOOKUP($A455,Base_Arbres,8,FALSE)*crit8,\"\")","v":""},{"$f":"IF(Base_Arbres!D455<>\"\",VLOOKUP($A455,Base_Arbres,9,FALSE)*crit9,\"\")","v":""},{"$f":"IF(ISNA(VLOOKUP(INDEX(Base_Typologie!$A$6:$P$1003,MATCH(A455,Base_Typologie!$A:$A,0)-5,MATCH(Typologie_Espace_Public,Base_Typologie!$6:$6,0)),TableauScoreTypologie2,2,FALSE)*Crit6),0,VLOOKUP(INDEX(Base_Typologie!$A$6:$P$1003,MATCH(A455,Base_Typologie!$A:$A,0)-5,MATCH(Typologie_Espace_Public,Base_Typologie!$6:$6,0)),TableauScoreTypologie2,2,FALSE)*Crit6)","v":0},0,0,0,0,0,0,0,0,0,0,0,0,null,{"$f":"IF(Base_Arbres!A558<>\"\",VLOOKUP($A455,Base_Arbres,4,FALSE)*Crit7,\"\")","v":""}]
[{"$f":"IF(Base_Arbres!A502<>\"\",Base_Arbres!A502,\"\")","v":""},{"$f":"IF(Base_Arbres!A502<>\"\",VLOOKUP($A456,Base_Arbres,3,FALSE)*Crit1,\"\")","v":""},{"$f":"IF(Base_Arbres!A502<>\"\",VLOOKUP($A456,Base_Arbres,4,FALSE)*Crit2,\"\")","v":""},{"$f":"IF(Base_Arbres!A502<>\"\",VLOOKUP($A456,Base_Arbres,5,FALSE)*Crit3,\"\")","v":""},{"$f":"IF(Base_Arbres!A502<>\"\",VLOOKUP($A456,Base_Arbres,6,FALSE)*Crit4,\"\")","v":""},{"$f":"IF(Base_Arbres!B456<>\"\",VLOOKUP($A456,Base_Arbres,7,FALSE)*Crit5,\"\")","v":""},{"$f":"IF(Base_Arbres!C456<>\"\",VLOOKUP($A456,Base_Arbres,8,FALSE)*crit8,\"\")","v":""},{"$f":"IF(Base_Arbres!D456<>\"\",VLOOKUP($A456,Base_Arbres,9,FALSE)*crit9,\"\")","v":""},{"$f":"IF(ISNA(VLOOKUP(INDEX(Base_Typologie!$A$6:$P$1003,MATCH(A456,Base_Typologie!$A:$A,0)-5,MATCH(Typologie_Espace_Public,Base_Typologie!$6:$6,0)),TableauScoreTypologie2,2,FALSE)*Crit6),0,VLOOKUP(INDEX(Base_Typologie!$A$6:$P$1003,MATCH(A456,Base_Typologie!$A:$A,0)-5,MATCH(Typologie_Espace_Public,Base_Typologie!$6:$6,0)),TableauScoreTypologie2,2,FALSE)*Crit6)","v":0},0,0,0,0,0,0,0,0,0,0,0,0,null,{"$f":"IF(Base_Arbres!A559<>\"\",VLOOKUP($A456,Base_Arbres,4,FALSE)*Crit7,\"\")","v":""}]
[{"$f":"IF(Base_Arbres!A503<>\"\",Base_Arbres!A503,\"\")","v":""},{"$f":"IF(Base_Arbres!A503<>\"\",VLOOKUP($A457,Base_Arbres,3,FALSE)*Crit1,\"\")","v":""},{"$f":"IF(Base_Arbres!A503<>\"\",VLOOKUP($A457,Base_Arbres,4,FALSE)*Crit2,\"\")","v":""},{"$f":"IF(Base_Arbres!A503<>\"\",VLOOKUP($A457,Base_Arbres,5,FALSE)*Crit3,\"\")","v":""},{"$f":"IF(Base_Arbres!A503<>\"\",VLOOKUP($A457,Base_Arbres,6,FALSE)*Crit4,\"\")","v":""},{"$f":"IF(Base_Arbres!B457<>\"\",VLOOKUP($A457,Base_Arbres,7,FALSE)*Crit5,\"\")","v":""},{"$f":"IF(Base_Arbres!C457<>\"\",VLOOKUP($A457,Base_Arbres,8,FALSE)*crit8,\"\")","v":""},{"$f":"IF(Base_Arbres!D457<>\"\",VLOOKUP($A457,Base_Arbres,9,FALSE)*crit9,\"\")","v":""},{"$f":"IF(ISNA(VLOOKUP(INDEX(Base_Typologie!$A$6:$P$1003,MATCH(A457,Base_Typologie!$A:$A,0)-5,MATCH(Typologie_Espace_Public,Base_Typologie!$6:$6,0)),TableauScoreTypologie2,2,FALSE)*Crit6),0,VLOOKUP(INDEX(Base_Typologie!$A$6:$P$1003,MATCH(A457,Base_Typologie!$A:$A,0)-5,MATCH(Typologie_Espace_Public,Base_Typologie!$6:$6,0)),TableauScoreTypologie2,2,FALSE)*Crit6)","v":0},0,0,0,0,0,0,0,0,0,0,0,0,null,{"$f":"IF(Base_Arbres!A560<>\"\",VLOOKUP($A457,Base_Arbres,4,FALSE)*Crit7,\"\")","v":""}]
[{"$f":"IF(Base_Arbres!A504<>\"\",Base_Arbres!A504,\"\")","v":""},{"$f":"IF(Base_Arbres!A504<>\"\",VLOOKUP($A458,Base_Arbres,3,FALSE)*Crit1,\"\")","v":""},{"$f":"IF(Base_Arbres!A504<>\"\",VLOOKUP($A458,Base_Arbres,4,FALSE)*Crit2,\"\")","v":""},{"$f":"IF(Base_Arbres!A504<>\"\",VLOOKUP($A458,Base_Arbres,5,FALSE)*Crit3,\"\")","v":""},{"$f":"IF(Base_Arbres!A504<>\"\",VLOOKUP($A458,Base_Arbres,6,FALSE)*Crit4,\"\")","v":""},{"$f":"IF(Base_Arbres!B458<>\"\",VLOOKUP($A458,Base_Arbres,7,FALSE)*Crit5,\"\")","v":""},{"$f":"IF(Base_Arbres!C458<>\"\",VLOOKUP($A458,Base_Arbres,8,FALSE)*crit8,\"\")","v":""},{"$f":"IF(Base_Arbres!D458<>\"\",VLOOKUP($A458,Base_Arbres,9,FALSE)*crit9,\"\")","v":""},{"$f":"IF(ISNA(VLOOKUP(INDEX(Base_Typologie!$A$6:$P$1003,MATCH(A458,Base_Typologie!$A:$A,0)-5,MATCH(Typologie_Espace_Public,Base_Typologie!$6:$6,0)),TableauScoreTypologie2,2,FALSE)*Crit6),0,VLOOKUP(INDEX(Base_Typologie!$A$6:$P$1003,MATCH(A458,Base_Typologie!$A:$A,0)-5,MATCH(Typologie_Espace_Public,Base_Typologie!$6:$6,0)),TableauScoreTypologie2,2,FALSE)*Crit6)","v":0},0,0,0,0,0,0,0,0,0,0,0,0,null,{"$f":"IF(Base_Arbres!A561<>\"\",VLOOKUP($A458,Base_Arbres,4,FALSE)*Crit7,\"\")","v":""}]
[{"$f":"IF(Base_Arbres!A505<>\"\",Base_Arbres!A505,\"\")","v":""},{"$f":"IF(Base_Arbres!A505<>\"\",VLOOKUP($A459,Base_Arbres,3,FALSE)*Crit1,\"\")","v":""},{"$f":"IF(Base_Arbres!A505<>\"\",VLOOKUP($A459,Base_Arbres,4,FALSE)*Crit2,\"\")","v":""},{"$f":"IF(Base_Arbres!A505<>\"\",VLOOKUP($A459,Base_Arbres,5,FALSE)*Crit3,\"\")","v":""},{"$f":"IF(Base_Arbres!A505<>\"\",VLOOKUP($A459,Base_Arbres,6,FALSE)*Crit4,\"\")","v":""},{"$f":"IF(Base_Arbres!B459<>\"\",VLOOKUP($A459,Base_Arbres,7,FALSE)*Crit5,\"\")","v":""},{"$f":"IF(Base_Arbres!C459<>\"\",VLOOKUP($A459,Base_Arbres,8,FALSE)*crit8,\"\")","v":""},{"$f":"IF(Base_Arbres!D459<>\"\",VLOOKUP($A459,Base_Arbres,9,FALSE)*crit9,\"\")","v":""},{"$f":"IF(ISNA(VLOOKUP(INDEX(Base_Typologie!$A$6:$P$1003,MATCH(A459,Base_Typologie!$A:$A,0)-5,MATCH(Typologie_Espace_Public,Base_Typologie!$6:$6,0)),TableauScoreTypologie2,2,FALSE)*Crit6),0,VLOOKUP(INDEX(Base_Typologie!$A$6:$P$1003,MATCH(A459,Base_Typologie!$A:$A,0)-5,MATCH(Typologie_Espace_Public,Base_Typologie!$6:$6,0)),TableauScoreTypologie2,2,FALSE)*Crit6)","v":0},0,0,0,0,0,0,0,0,0,0,0,0,null,{"$f":"IF(Base_Arbres!A562<>\"\",VLOOKUP($A459,Base_Arbres,4,FALSE)*Crit7,\"\")","v":""}]
[{"$f":"IF(Base_Arbres!A506<>\"\",Base_Arbres!A506,\"\")","v":""},{"$f":"IF(Base_Arbres!A506<>\"\",VLOOKUP($A460,Base_Arbres,3,FALSE)*Crit1,\"\")","v":""},{"$f":"IF(Base_Arbres!A506<>\"\",VLOOKUP($A460,Base_Arbres,4,FALSE)*Crit2,\"\")","v":""},{"$f":"IF(Base_Arbres!A506<>\"\",VLOOKUP($A460,Base_Arbres,5,FALSE)*Crit3,\"\")","v":""},{"$f":"IF(Base_Arbres!A506<>\"\",VLOOKUP($A460,Base_Arbres,6,FALSE)*Crit4,\"\")","v":""},{"$f":"IF(Base_Arbres!B460<>\"\",VLOOKUP($A460,Base_Arbres,7,FALSE)*Crit5,\"\")","v":""},{"$f":"IF(Base_Arbres!C460<>\"\",VLOOKUP($A460,Base_Arbres,8,FALSE)*crit8,\"\")","v":""},{"$f":"IF(Base_Arbres!D460<>\"\",VLOOKUP($A460,Base_Arbres,9,FALSE)*crit9,\"\")","v":""},{"$f":"IF(ISNA(VLOOKUP(INDEX(Base_Typologie!$A$6:$P$1003,MATCH(A460,Base_Typologie!$A:$A,0)-5,MATCH(Typologie_Espace_Public,Base_Typologie!$6:$6,0)),TableauScoreTypologie2,2,FALSE)*Crit6),0,VLOOKUP(INDEX(Base_Typologie!$A$6:$P$1003,MATCH(A460,Base_Typologie!$A:$A,0)-5,MATCH(Typologie_Espace_Public,Base_Typologie!$6:$6,0)),TableauScoreTypologie2,2,FALSE)*Crit6)","v":0},0,0,0,0,0,0,0,0,0,0,0,0,null,{"$f":"IF(Base_Arbres!A563<>\"\",VLOOKUP($A460,Base_Arbres,4,FALSE)*Crit7,\"\")","v":""}]
[{"$f":"IF(Base_Arbres!A507<>\"\",Base_Arbres!A507,\"\")","v":""},{"$f":"IF(Base_Arbres!A507<>\"\",VLOOKUP($A461,Base_Arbres,3,FALSE)*Crit1,\"\")","v":""},{"$f":"IF(Base_Arbres!A507<>\"\",VLOOKUP($A461,Base_Arbres,4,FALSE)*Crit2,\"\")","v":""},{"$f":"IF(Base_Arbres!A507<>\"\",VLOOKUP($A461,Base_Arbres,5,FALSE)*Crit3,\"\")","v":""},{"$f":"IF(Base_Arbres!A507<>\"\",VLOOKUP($A461,Base_Arbres,6,FALSE)*Crit4,\"\")","v":""},{"$f":"IF(Base_Arbres!B461<>\"\",VLOOKUP($A461,Base_Arbres,7,FALSE)*Crit5,\"\")","v":""},{"$f":"IF(Base_Arbres!C461<>\"\",VLOOKUP($A461,Base_Arbres,8,FALSE)*crit8,\"\")","v":""},{"$f":"IF(Base_Arbres!D461<>\"\",VLOOKUP($A461,Base_Arbres,9,FALSE)*crit9,\"\")","v":""},{"$f":"IF(ISNA(VLOOKUP(INDEX(Base_Typologie!$A$6:$P$1003,MATCH(A461,Base_Typologie!$A:$A,0)-5,MATCH(Typologie_Espace_Public,Base_Typologie!$6:$6,0)),TableauScoreTypologie2,2,FALSE)*Crit6),0,VLOOKUP(INDEX(Base_Typologie!$A$6:$P$1003,MATCH(A461,Base_Typologie!$A:$A,0)-5,MATCH(Typologie_Espace_Public,Base_Typologie!$6:$6,0)),TableauScoreTypologie2,2,FALSE)*Crit6)","v":0},0,0,0,0,0,0,0,0,0,0,0,0,null,{"$f":"IF(Base_Arbres!A564<>\"\",VLOOKUP($A461,Base_Arbres,4,FALSE)*Crit7,\"\")","v":""}]
[{"$f":"IF(Base_Arbres!A508<>\"\",Base_Arbres!A508,\"\")","v":""},{"$f":"IF(Base_Arbres!A508<>\"\",VLOOKUP($A462,Base_Arbres,3,FALSE)*Crit1,\"\")","v":""},{"$f":"IF(Base_Arbres!A508<>\"\",VLOOKUP($A462,Base_Arbres,4,FALSE)*Crit2,\"\")","v":""},{"$f":"IF(Base_Arbres!A508<>\"\",VLOOKUP($A462,Base_Arbres,5,FALSE)*Crit3,\"\")","v":""},{"$f":"IF(Base_Arbres!A508<>\"\",VLOOKUP($A462,Base_Arbres,6,FALSE)*Crit4,\"\")","v":""},{"$f":"IF(Base_Arbres!B462<>\"\",VLOOKUP($A462,Base_Arbres,7,FALSE)*Crit5,\"\")","v":""},{"$f":"IF(Base_Arbres!C462<>\"\",VLOOKUP($A462,Base_Arbres,8,FALSE)*crit8,\"\")","v":""},{"$f":"IF(Base_Arbres!D462<>\"\",VLOOKUP($A462,Base_Arbres,9,FALSE)*crit9,\"\")","v":""},{"$f":"IF(ISNA(VLOOKUP(INDEX(Base_Typologie!$A$6:$P$1003,MATCH(A462,Base_Typologie!$A:$A,0)-5,MATCH(Typologie_Espace_Public,Base_Typologie!$6:$6,0)),TableauScoreTypologie2,2,FALSE)*Crit6),0,VLOOKUP(INDEX(Base_Typologie!$A$6:$P$1003,MATCH(A462,Base_Typologie!$A:$A,0)-5,MATCH(Typologie_Espace_Public,Base_Typologie!$6:$6,0)),TableauScoreTypologie2,2,FALSE)*Crit6)","v":0},0,0,0,0,0,0,0,0,0,0,0,0,null,{"$f":"IF(Base_Arbres!A565<>\"\",VLOOKUP($A462,Base_Arbres,4,FALSE)*Crit7,\"\")","v":""}]
[{"$f":"IF(Base_Arbres!A509<>\"\",Base_Arbres!A509,\"\")","v":""},{"$f":"IF(Base_Arbres!A509<>\"\",VLOOKUP($A463,Base_Arbres,3,FALSE)*Crit1,\"\")","v":""},{"$f":"IF(Base_Arbres!A509<>\"\",VLOOKUP($A463,Base_Arbres,4,FALSE)*Crit2,\"\")","v":""},{"$f":"IF(Base_Arbres!A509<>\"\",VLOOKUP($A463,Base_Arbres,5,FALSE)*Crit3,\"\")","v":""},{"$f":"IF(Base_Arbres!A509<>\"\",VLOOKUP($A463,Base_Arbres,6,FALSE)*Crit4,\"\")","v":""},{"$f":"IF(Base_Arbres!B463<>\"\",VLOOKUP($A463,Base_Arbres,7,FALSE)*Crit5,\"\")","v":""},{"$f":"IF(Base_Arbres!C463<>\"\",VLOOKUP($A463,Base_Arbres,8,FALSE)*crit8,\"\")","v":""},{"$f":"IF(Base_Arbres!D463<>\"\",VLOOKUP($A463,Base_Arbres,9,FALSE)*crit9,\"\")","v":""},{"$f":"IF(ISNA(VLOOKUP(INDEX(Base_Typologie!$A$6:$P$1003,MATCH(A463,Base_Typologie!$A:$A,0)-5,MATCH(Typologie_Espace_Public,Base_Typologie!$6:$6,0)),TableauScoreTypologie2,2,FALSE)*Crit6),0,VLOOKUP(INDEX(Base_Typologie!$A$6:$P$1003,MATCH(A463,Base_Typologie!$A:$A,0)-5,MATCH(Typologie_Espace_Public,Base_Typologie!$6:$6,0)),TableauScoreTypologie2,2,FALSE)*Crit6)","v":0},0,0,0,0,0,0,0,0,0,0,0,0,null,{"$f":"IF(Base_Arbres!A566<>\"\",VLOOKUP($A463,Base_Arbres,4,FALSE)*Crit7,\"\")","v":""}]
[{"$f":"IF(Base_Arbres!A510<>\"\",Base_Arbres!A510,\"\")","v":""},{"$f":"IF(Base_Arbres!A510<>\"\",VLOOKUP($A464,Base_Arbres,3,FALSE)*Crit1,\"\")","v":""},{"$f":"IF(Base_Arbres!A510<>\"\",VLOOKUP($A464,Base_Arbres,4,FALSE)*Crit2,\"\")","v":""},{"$f":"IF(Base_Arbres!A510<>\"\",VLOOKUP($A464,Base_Arbres,5,FALSE)*Crit3,\"\")","v":""},{"$f":"IF(Base_Arbres!A510<>\"\",VLOOKUP($A464,Base_Arbres,6,FALSE)*Crit4,\"\")","v":""},{"$f":"IF(Base_Arbres!B464<>\"\",VLOOKUP($A464,Base_Arbres,7,FALSE)*Crit5,\"\")","v":""},{"$f":"IF(Base_Arbres!C464<>\"\",VLOOKUP($A464,Base_Arbres,8,FALSE)*crit8,\"\")","v":""},{"$f":"IF(Base_Arbres!D464<>\"\",VLOOKUP($A464,Base_Arbres,9,FALSE)*crit9,\"\")","v":""},{"$f":"IF(ISNA(VLOOKUP(INDEX(Base_Typologie!$A$6:$P$1003,MATCH(A464,Base_Typologie!$A:$A,0)-5,MATCH(Typologie_Espace_Public,Base_Typologie!$6:$6,0)),TableauScoreTypologie2,2,FALSE)*Crit6),0,VLOOKUP(INDEX(Base_Typologie!$A$6:$P$1003,MATCH(A464,Base_Typologie!$A:$A,0)-5,MATCH(Typologie_Espace_Public,Base_Typologie!$6:$6,0)),TableauScoreTypologie2,2,FALSE)*Crit6)","v":0},0,0,0,0,0,0,0,0,0,0,0,0,null,{"$f":"IF(Base_Arbres!A567<>\"\",VLOOKUP($A464,Base_Arbres,4,FALSE)*Crit7,\"\")","v":""}]
[{"$f":"IF(Base_Arbres!A511<>\"\",Base_Arbres!A511,\"\")","v":""},{"$f":"IF(Base_Arbres!A511<>\"\",VLOOKUP($A465,Base_Arbres,3,FALSE)*Crit1,\"\")","v":""},{"$f":"IF(Base_Arbres!A511<>\"\",VLOOKUP($A465,Base_Arbres,4,FALSE)*Crit2,\"\")","v":""},{"$f":"IF(Base_Arbres!A511<>\"\",VLOOKUP($A465,Base_Arbres,5,FALSE)*Crit3,\"\")","v":""},{"$f":"IF(Base_Arbres!A511<>\"\",VLOOKUP($A465,Base_Arbres,6,FALSE)*Crit4,\"\")","v":""},{"$f":"IF(Base_Arbres!B465<>\"\",VLOOKUP($A465,Base_Arbres,7,FALSE)*Crit5,\"\")","v":""},{"$f":"IF(Base_Arbres!C465<>\"\",VLOOKUP($A465,Base_Arbres,8,FALSE)*crit8,\"\")","v":""},{"$f":"IF(Base_Arbres!D465<>\"\",VLOOKUP($A465,Base_Arbres,9,FALSE)*crit9,\"\")","v":""},{"$f":"IF(ISNA(VLOOKUP(INDEX(Base_Typologie!$A$6:$P$1003,MATCH(A465,Base_Typologie!$A:$A,0)-5,MATCH(Typologie_Espace_Public,Base_Typologie!$6:$6,0)),TableauScoreTypologie2,2,FALSE)*Crit6),0,VLOOKUP(INDEX(Base_Typologie!$A$6:$P$1003,MATCH(A465,Base_Typologie!$A:$A,0)-5,MATCH(Typologie_Espace_Public,Base_Typologie!$6:$6,0)),TableauScoreTypologie2,2,FALSE)*Crit6)","v":0},0,0,0,0,0,0,0,0,0,0,0,0,null,{"$f":"IF(Base_Arbres!A568<>\"\",VLOOKUP($A465,Base_Arbres,4,FALSE)*Crit7,\"\")","v":""}]
[{"$f":"IF(Base_Arbres!A512<>\"\",Base_Arbres!A512,\"\")","v":""},{"$f":"IF(Base_Arbres!A512<>\"\",VLOOKUP($A466,Base_Arbres,3,FALSE)*Crit1,\"\")","v":""},{"$f":"IF(Base_Arbres!A512<>\"\",VLOOKUP($A466,Base_Arbres,4,FALSE)*Crit2,\"\")","v":""},{"$f":"IF(Base_Arbres!A512<>\"\",VLOOKUP($A466,Base_Arbres,5,FALSE)*Crit3,\"\")","v":""},{"$f":"IF(Base_Arbres!A512<>\"\",VLOOKUP($A466,Base_Arbres,6,FALSE)*Crit4,\"\")","v":""},{"$f":"IF(Base_Arbres!B466<>\"\",VLOOKUP($A466,Base_Arbres,7,FALSE)*Crit5,\"\")","v":""},{"$f":"IF(Base_Arbres!C466<>\"\",VLOOKUP($A466,Base_Arbres,8,FALSE)*crit8,\"\")","v":""},{"$f":"IF(Base_Arbres!D466<>\"\",VLOOKUP($A466,Base_Arbres,9,FALSE)*crit9,\"\")","v":""},{"$f":"IF(ISNA(VLOOKUP(INDEX(Base_Typologie!$A$6:$P$1003,MATCH(A466,Base_Typologie!$A:$A,0)-5,MATCH(Typologie_Espace_Public,Base_Typologie!$6:$6,0)),TableauScoreTypologie2,2,FALSE)*Crit6),0,VLOOKUP(INDEX(Base_Typologie!$A$6:$P$1003,MATCH(A466,Base_Typologie!$A:$A,0)-5,MATCH(Typologie_Espace_Public,Base_Typologie!$6:$6,0)),TableauScoreTypologie2,2,FALSE)*Crit6)","v":0},0,0,0,0,0,0,0,0,0,0,0,0,null,{"$f":"IF(Base_Arbres!A569<>\"\",VLOOKUP($A466,Base_Arbres,4,FALSE)*Crit7,\"\")","v":""}]
[{"$f":"IF(Base_Arbres!A513<>\"\",Base_Arbres!A513,\"\")","v":""},{"$f":"IF(Base_Arbres!A513<>\"\",VLOOKUP($A467,Base_Arbres,3,FALSE)*Crit1,\"\")","v":""},{"$f":"IF(Base_Arbres!A513<>\"\",VLOOKUP($A467,Base_Arbres,4,FALSE)*Crit2,\"\")","v":""},{"$f":"IF(Base_Arbres!A513<>\"\",VLOOKUP($A467,Base_Arbres,5,FALSE)*Crit3,\"\")","v":""},{"$f":"IF(Base_Arbres!A513<>\"\",VLOOKUP($A467,Base_Arbres,6,FALSE)*Crit4,\"\")","v":""},{"$f":"IF(Base_Arbres!B467<>\"\",VLOOKUP($A467,Base_Arbres,7,FALSE)*Crit5,\"\")","v":""},{"$f":"IF(Base_Arbres!C467<>\"\",VLOOKUP($A467,Base_Arbres,8,FALSE)*crit8,\"\")","v":""},{"$f":"IF(Base_Arbres!D467<>\"\",VLOOKUP($A467,Base_Arbres,9,FALSE)*crit9,\"\")","v":""},{"$f":"IF(ISNA(VLOOKUP(INDEX(Base_Typologie!$A$6:$P$1003,MATCH(A467,Base_Typologie!$A:$A,0)-5,MATCH(Typologie_Espace_Public,Base_Typologie!$6:$6,0)),TableauScoreTypologie2,2,FALSE)*Crit6),0,VLOOKUP(INDEX(Base_Typologie!$A$6:$P$1003,MATCH(A467,Base_Typologie!$A:$A,0)-5,MATCH(Typologie_Espace_Public,Base_Typologie!$6:$6,0)),TableauScoreTypologie2,2,FALSE)*Crit6)","v":0},0,0,0,0,0,0,0,0,0,0,0,0,null,{"$f":"IF(Base_Arbres!A570<>\"\",VLOOKUP($A467,Base_Arbres,4,FALSE)*Crit7,\"\")","v":""}]
[{"$f":"IF(Base_Arbres!A514<>\"\",Base_Arbres!A514,\"\")","v":""},{"$f":"IF(Base_Arbres!A514<>\"\",VLOOKUP($A468,Base_Arbres,3,FALSE)*Crit1,\"\")","v":""},{"$f":"IF(Base_Arbres!A514<>\"\",VLOOKUP($A468,Base_Arbres,4,FALSE)*Crit2,\"\")","v":""},{"$f":"IF(Base_Arbres!A514<>\"\",VLOOKUP($A468,Base_Arbres,5,FALSE)*Crit3,\"\")","v":""},{"$f":"IF(Base_Arbres!A514<>\"\",VLOOKUP($A468,Base_Arbres,6,FALSE)*Crit4,\"\")","v":""},{"$f":"IF(Base_Arbres!B468<>\"\",VLOOKUP($A468,Base_Arbres,7,FALSE)*Crit5,\"\")","v":""},{"$f":"IF(Base_Arbres!C468<>\"\",VLOOKUP($A468,Base_Arbres,8,FALSE)*crit8,\"\")","v":""},{"$f":"IF(Base_Arbres!D468<>\"\",VLOOKUP($A468,Base_Arbres,9,FALSE)*crit9,\"\")","v":""},{"$f":"IF(ISNA(VLOOKUP(INDEX(Base_Typologie!$A$6:$P$1003,MATCH(A468,Base_Typologie!$A:$A,0)-5,MATCH(Typologie_Espace_Public,Base_Typologie!$6:$6,0)),TableauScoreTypologie2,2,FALSE)*Crit6),0,VLOOKUP(INDEX(Base_Typologie!$A$6:$P$1003,MATCH(A468,Base_Typologie!$A:$A,0)-5,MATCH(Typologie_Espace_Public,Base_Typologie!$6:$6,0)),TableauScoreTypologie2,2,FALSE)*Crit6)","v":0},0,0,0,0,0,0,0,0,0,0,0,0,null,{"$f":"IF(Base_Arbres!A571<>\"\",VLOOKUP($A468,Base_Arbres,4,FALSE)*Crit7,\"\")","v":""}]
[{"$f":"IF(Base_Arbres!A515<>\"\",Base_Arbres!A515,\"\")","v":""},{"$f":"IF(Base_Arbres!A515<>\"\",VLOOKUP($A469,Base_Arbres,3,FALSE)*Crit1,\"\")","v":""},{"$f":"IF(Base_Arbres!A515<>\"\",VLOOKUP($A469,Base_Arbres,4,FALSE)*Crit2,\"\")","v":""},{"$f":"IF(Base_Arbres!A515<>\"\",VLOOKUP($A469,Base_Arbres,5,FALSE)*Crit3,\"\")","v":""},{"$f":"IF(Base_Arbres!A515<>\"\",VLOOKUP($A469,Base_Arbres,6,FALSE)*Crit4,\"\")","v":""},{"$f":"IF(Base_Arbres!B469<>\"\",VLOOKUP($A469,Base_Arbres,7,FALSE)*Crit5,\"\")","v":""},{"$f":"IF(Base_Arbres!C469<>\"\",VLOOKUP($A469,Base_Arbres,8,FALSE)*crit8,\"\")","v":""},{"$f":"IF(Base_Arbres!D469<>\"\",VLOOKUP($A469,Base_Arbres,9,FALSE)*crit9,\"\")","v":""},{"$f":"IF(ISNA(VLOOKUP(INDEX(Base_Typologie!$A$6:$P$1003,MATCH(A469,Base_Typologie!$A:$A,0)-5,MATCH(Typologie_Espace_Public,Base_Typologie!$6:$6,0)),TableauScoreTypologie2,2,FALSE)*Crit6),0,VLOOKUP(INDEX(Base_Typologie!$A$6:$P$1003,MATCH(A469,Base_Typologie!$A:$A,0)-5,MATCH(Typologie_Espace_Public,Base_Typologie!$6:$6,0)),TableauScoreTypologie2,2,FALSE)*Crit6)","v":0},0,0,0,0,0,0,0,0,0,0,0,0,null,{"$f":"IF(Base_Arbres!A572<>\"\",VLOOKUP($A469,Base_Arbres,4,FALSE)*Crit7,\"\")","v":""}]
[{"$f":"IF(Base_Arbres!A516<>\"\",Base_Arbres!A516,\"\")","v":""},{"$f":"IF(Base_Arbres!A516<>\"\",VLOOKUP($A470,Base_Arbres,3,FALSE)*Crit1,\"\")","v":""},{"$f":"IF(Base_Arbres!A516<>\"\",VLOOKUP($A470,Base_Arbres,4,FALSE)*Crit2,\"\")","v":""},{"$f":"IF(Base_Arbres!A516<>\"\",VLOOKUP($A470,Base_Arbres,5,FALSE)*Crit3,\"\")","v":""},{"$f":"IF(Base_Arbres!A516<>\"\",VLOOKUP($A470,Base_Arbres,6,FALSE)*Crit4,\"\")","v":""},{"$f":"IF(Base_Arbres!B470<>\"\",VLOOKUP($A470,Base_Arbres,7,FALSE)*Crit5,\"\")","v":""},{"$f":"IF(Base_Arbres!C470<>\"\",VLOOKUP($A470,Base_Arbres,8,FALSE)*crit8,\"\")","v":""},{"$f":"IF(Base_Arbres!D470<>\"\",VLOOKUP($A470,Base_Arbres,9,FALSE)*crit9,\"\")","v":""},{"$f":"IF(ISNA(VLOOKUP(INDEX(Base_Typologie!$A$6:$P$1003,MATCH(A470,Base_Typologie!$A:$A,0)-5,MATCH(Typologie_Espace_Public,Base_Typologie!$6:$6,0)),TableauScoreTypologie2,2,FALSE)*Crit6),0,VLOOKUP(INDEX(Base_Typologie!$A$6:$P$1003,MATCH(A470,Base_Typologie!$A:$A,0)-5,MATCH(Typologie_Espace_Public,Base_Typologie!$6:$6,0)),TableauScoreTypologie2,2,FALSE)*Crit6)","v":0},0,0,0,0,0,0,0,0,0,0,0,0,null,{"$f":"IF(Base_Arbres!A573<>\"\",VLOOKUP($A470,Base_Arbres,4,FALSE)*Crit7,\"\")","v":""}]
[{"$f":"IF(Base_Arbres!A517<>\"\",Base_Arbres!A517,\"\")","v":""},{"$f":"IF(Base_Arbres!A517<>\"\",VLOOKUP($A471,Base_Arbres,3,FALSE)*Crit1,\"\")","v":""},{"$f":"IF(Base_Arbres!A517<>\"\",VLOOKUP($A471,Base_Arbres,4,FALSE)*Crit2,\"\")","v":""},{"$f":"IF(Base_Arbres!A517<>\"\",VLOOKUP($A471,Base_Arbres,5,FALSE)*Crit3,\"\")","v":""},{"$f":"IF(Base_Arbres!A517<>\"\",VLOOKUP($A471,Base_Arbres,6,FALSE)*Crit4,\"\")","v":""},{"$f":"IF(Base_Arbres!B471<>\"\",VLOOKUP($A471,Base_Arbres,7,FALSE)*Crit5,\"\")","v":""},{"$f":"IF(Base_Arbres!C471<>\"\",VLOOKUP($A471,Base_Arbres,8,FALSE)*crit8,\"\")","v":""},{"$f":"IF(Base_Arbres!D471<>\"\",VLOOKUP($A471,Base_Arbres,9,FALSE)*crit9,\"\")","v":""},{"$f":"IF(ISNA(VLOOKUP(INDEX(Base_Typologie!$A$6:$P$1003,MATCH(A471,Base_Typologie!$A:$A,0)-5,MATCH(Typologie_Espace_Public,Base_Typologie!$6:$6,0)),TableauScoreTypologie2,2,FALSE)*Crit6),0,VLOOKUP(INDEX(Base_Typologie!$A$6:$P$1003,MATCH(A471,Base_Typologie!$A:$A,0)-5,MATCH(Typologie_Espace_Public,Base_Typologie!$6:$6,0)),TableauScoreTypologie2,2,FALSE)*Crit6)","v":0},0,0,0,0,0,0,0,0,0,0,0,0,null,{"$f":"IF(Base_Arbres!A574<>\"\",VLOOKUP($A471,Base_Arbres,4,FALSE)*Crit7,\"\")","v":""}]
[{"$f":"IF(Base_Arbres!A518<>\"\",Base_Arbres!A518,\"\")","v":""},{"$f":"IF(Base_Arbres!A518<>\"\",VLOOKUP($A472,Base_Arbres,3,FALSE)*Crit1,\"\")","v":""},{"$f":"IF(Base_Arbres!A518<>\"\",VLOOKUP($A472,Base_Arbres,4,FALSE)*Crit2,\"\")","v":""},{"$f":"IF(Base_Arbres!A518<>\"\",VLOOKUP($A472,Base_Arbres,5,FALSE)*Crit3,\"\")","v":""},{"$f":"IF(Base_Arbres!A518<>\"\",VLOOKUP($A472,Base_Arbres,6,FALSE)*Crit4,\"\")","v":""},{"$f":"IF(Base_Arbres!B472<>\"\",VLOOKUP($A472,Base_Arbres,7,FALSE)*Crit5,\"\")","v":""},{"$f":"IF(Base_Arbres!C472<>\"\",VLOOKUP($A472,Base_Arbres,8,FALSE)*crit8,\"\")","v":""},{"$f":"IF(Base_Arbres!D472<>\"\",VLOOKUP($A472,Base_Arbres,9,FALSE)*crit9,\"\")","v":""},{"$f":"IF(ISNA(VLOOKUP(INDEX(Base_Typologie!$A$6:$P$1003,MATCH(A472,Base_Typologie!$A:$A,0)-5,MATCH(Typologie_Espace_Public,Base_Typologie!$6:$6,0)),TableauScoreTypologie2,2,FALSE)*Crit6),0,VLOOKUP(INDEX(Base_Typologie!$A$6:$P$1003,MATCH(A472,Base_Typologie!$A:$A,0)-5,MATCH(Typologie_Espace_Public,Base_Typologie!$6:$6,0)),TableauScoreTypologie2,2,FALSE)*Crit6)","v":0},0,0,0,0,0,0,0,0,0,0,0,0,null,{"$f":"IF(Base_Arbres!A575<>\"\",VLOOKUP($A472,Base_Arbres,4,FALSE)*Crit7,\"\")","v":""}]
[{"$f":"IF(Base_Arbres!A519<>\"\",Base_Arbres!A519,\"\")","v":""},{"$f":"IF(Base_Arbres!A519<>\"\",VLOOKUP($A473,Base_Arbres,3,FALSE)*Crit1,\"\")","v":""},{"$f":"IF(Base_Arbres!A519<>\"\",VLOOKUP($A473,Base_Arbres,4,FALSE)*Crit2,\"\")","v":""},{"$f":"IF(Base_Arbres!A519<>\"\",VLOOKUP($A473,Base_Arbres,5,FALSE)*Crit3,\"\")","v":""},{"$f":"IF(Base_Arbres!A519<>\"\",VLOOKUP($A473,Base_Arbres,6,FALSE)*Crit4,\"\")","v":""},{"$f":"IF(Base_Arbres!B473<>\"\",VLOOKUP($A473,Base_Arbres,7,FALSE)*Crit5,\"\")","v":""},{"$f":"IF(Base_Arbres!C473<>\"\",VLOOKUP($A473,Base_Arbres,8,FALSE)*crit8,\"\")","v":""},{"$f":"IF(Base_Arbres!D473<>\"\",VLOOKUP($A473,Base_Arbres,9,FALSE)*crit9,\"\")","v":""},{"$f":"IF(ISNA(VLOOKUP(INDEX(Base_Typologie!$A$6:$P$1003,MATCH(A473,Base_Typologie!$A:$A,0)-5,MATCH(Typologie_Espace_Public,Base_Typologie!$6:$6,0)),TableauScoreTypologie2,2,FALSE)*Crit6),0,VLOOKUP(INDEX(Base_Typologie!$A$6:$P$1003,MATCH(A473,Base_Typologie!$A:$A,0)-5,MATCH(Typologie_Espace_Public,Base_Typologie!$6:$6,0)),TableauScoreTypologie2,2,FALSE)*Crit6)","v":0},0,0,0,0,0,0,0,0,0,0,0,0,null,{"$f":"IF(Base_Arbres!A576<>\"\",VLOOKUP($A473,Base_Arbres,4,FALSE)*Crit7,\"\")","v":""}]
[{"$f":"IF(Base_Arbres!A520<>\"\",Base_Arbres!A520,\"\")","v":""},{"$f":"IF(Base_Arbres!A520<>\"\",VLOOKUP($A474,Base_Arbres,3,FALSE)*Crit1,\"\")","v":""},{"$f":"IF(Base_Arbres!A520<>\"\",VLOOKUP($A474,Base_Arbres,4,FALSE)*Crit2,\"\")","v":""},{"$f":"IF(Base_Arbres!A520<>\"\",VLOOKUP($A474,Base_Arbres,5,FALSE)*Crit3,\"\")","v":""},{"$f":"IF(Base_Arbres!A520<>\"\",VLOOKUP($A474,Base_Arbres,6,FALSE)*Crit4,\"\")","v":""},{"$f":"IF(Base_Arbres!B474<>\"\",VLOOKUP($A474,Base_Arbres,7,FALSE)*Crit5,\"\")","v":""},{"$f":"IF(Base_Arbres!C474<>\"\",VLOOKUP($A474,Base_Arbres,8,FALSE)*crit8,\"\")","v":""},{"$f":"IF(Base_Arbres!D474<>\"\",VLOOKUP($A474,Base_Arbres,9,FALSE)*crit9,\"\")","v":""},{"$f":"IF(ISNA(VLOOKUP(INDEX(Base_Typologie!$A$6:$P$1003,MATCH(A474,Base_Typologie!$A:$A,0)-5,MATCH(Typologie_Espace_Public,Base_Typologie!$6:$6,0)),TableauScoreTypologie2,2,FALSE)*Crit6),0,VLOOKUP(INDEX(Base_Typologie!$A$6:$P$1003,MATCH(A474,Base_Typologie!$A:$A,0)-5,MATCH(Typologie_Espace_Public,Base_Typologie!$6:$6,0)),TableauScoreTypologie2,2,FALSE)*Crit6)","v":0},0,0,0,0,0,0,0,0,0,0,0,0,null,{"$f":"IF(Base_Arbres!A577<>\"\",VLOOKUP($A474,Base_Arbres,4,FALSE)*Crit7,\"\")","v":""}]
[{"$f":"IF(Base_Arbres!A521<>\"\",Base_Arbres!A521,\"\")","v":""},{"$f":"IF(Base_Arbres!A521<>\"\",VLOOKUP($A475,Base_Arbres,3,FALSE)*Crit1,\"\")","v":""},{"$f":"IF(Base_Arbres!A521<>\"\",VLOOKUP($A475,Base_Arbres,4,FALSE)*Crit2,\"\")","v":""},{"$f":"IF(Base_Arbres!A521<>\"\",VLOOKUP($A475,Base_Arbres,5,FALSE)*Crit3,\"\")","v":""},{"$f":"IF(Base_Arbres!A521<>\"\",VLOOKUP($A475,Base_Arbres,6,FALSE)*Crit4,\"\")","v":""},{"$f":"IF(Base_Arbres!B475<>\"\",VLOOKUP($A475,Base_Arbres,7,FALSE)*Crit5,\"\")","v":""},{"$f":"IF(Base_Arbres!C475<>\"\",VLOOKUP($A475,Base_Arbres,8,FALSE)*crit8,\"\")","v":""},{"$f":"IF(Base_Arbres!D475<>\"\",VLOOKUP($A475,Base_Arbres,9,FALSE)*crit9,\"\")","v":""},{"$f":"IF(ISNA(VLOOKUP(INDEX(Base_Typologie!$A$6:$P$1003,MATCH(A475,Base_Typologie!$A:$A,0)-5,MATCH(Typologie_Espace_Public,Base_Typologie!$6:$6,0)),TableauScoreTypologie2,2,FALSE)*Crit6),0,VLOOKUP(INDEX(Base_Typologie!$A$6:$P$1003,MATCH(A475,Base_Typologie!$A:$A,0)-5,MATCH(Typologie_Espace_Public,Base_Typologie!$6:$6,0)),TableauScoreTypologie2,2,FALSE)*Crit6)","v":0},0,0,0,0,0,0,0,0,0,0,0,0,null,{"$f":"IF(Base_Arbres!A578<>\"\",VLOOKUP($A475,Base_Arbres,4,FALSE)*Crit7,\"\")","v":""}]
[{"$f":"IF(Base_Arbres!A522<>\"\",Base_Arbres!A522,\"\")","v":""},{"$f":"IF(Base_Arbres!A522<>\"\",VLOOKUP($A476,Base_Arbres,3,FALSE)*Crit1,\"\")","v":""},{"$f":"IF(Base_Arbres!A522<>\"\",VLOOKUP($A476,Base_Arbres,4,FALSE)*Crit2,\"\")","v":""},{"$f":"IF(Base_Arbres!A522<>\"\",VLOOKUP($A476,Base_Arbres,5,FALSE)*Crit3,\"\")","v":""},{"$f":"IF(Base_Arbres!A522<>\"\",VLOOKUP($A476,Base_Arbres,6,FALSE)*Crit4,\"\")","v":""},{"$f":"IF(Base_Arbres!B476<>\"\",VLOOKUP($A476,Base_Arbres,7,FALSE)*Crit5,\"\")","v":""},{"$f":"IF(Base_Arbres!C476<>\"\",VLOOKUP($A476,Base_Arbres,8,FALSE)*crit8,\"\")","v":""},{"$f":"IF(Base_Arbres!D476<>\"\",VLOOKUP($A476,Base_Arbres,9,FALSE)*crit9,\"\")","v":""},{"$f":"IF(ISNA(VLOOKUP(INDEX(Base_Typologie!$A$6:$P$1003,MATCH(A476,Base_Typologie!$A:$A,0)-5,MATCH(Typologie_Espace_Public,Base_Typologie!$6:$6,0)),TableauScoreTypologie2,2,FALSE)*Crit6),0,VLOOKUP(INDEX(Base_Typologie!$A$6:$P$1003,MATCH(A476,Base_Typologie!$A:$A,0)-5,MATCH(Typologie_Espace_Public,Base_Typologie!$6:$6,0)),TableauScoreTypologie2,2,FALSE)*Crit6)","v":0},0,0,0,0,0,0,0,0,0,0,0,0,null,{"$f":"IF(Base_Arbres!A579<>\"\",VLOOKUP($A476,Base_Arbres,4,FALSE)*Crit7,\"\")","v":""}]
[{"$f":"IF(Base_Arbres!A523<>\"\",Base_Arbres!A523,\"\")","v":""},{"$f":"IF(Base_Arbres!A523<>\"\",VLOOKUP($A477,Base_Arbres,3,FALSE)*Crit1,\"\")","v":""},{"$f":"IF(Base_Arbres!A523<>\"\",VLOOKUP($A477,Base_Arbres,4,FALSE)*Crit2,\"\")","v":""},{"$f":"IF(Base_Arbres!A523<>\"\",VLOOKUP($A477,Base_Arbres,5,FALSE)*Crit3,\"\")","v":""},{"$f":"IF(Base_Arbres!A523<>\"\",VLOOKUP($A477,Base_Arbres,6,FALSE)*Crit4,\"\")","v":""},{"$f":"IF(Base_Arbres!B477<>\"\",VLOOKUP($A477,Base_Arbres,7,FALSE)*Crit5,\"\")","v":""},{"$f":"IF(Base_Arbres!C477<>\"\",VLOOKUP($A477,Base_Arbres,8,FALSE)*crit8,\"\")","v":""},{"$f":"IF(Base_Arbres!D477<>\"\",VLOOKUP($A477,Base_Arbres,9,FALSE)*crit9,\"\")","v":""},{"$f":"IF(ISNA(VLOOKUP(INDEX(Base_Typologie!$A$6:$P$1003,MATCH(A477,Base_Typologie!$A:$A,0)-5,MATCH(Typologie_Espace_Public,Base_Typologie!$6:$6,0)),TableauScoreTypologie2,2,FALSE)*Crit6),0,VLOOKUP(INDEX(Base_Typologie!$A$6:$P$1003,MATCH(A477,Base_Typologie!$A:$A,0)-5,MATCH(Typologie_Espace_Public,Base_Typologie!$6:$6,0)),TableauScoreTypologie2,2,FALSE)*Crit6)","v":0},0,0,0,0,0,0,0,0,0,0,0,0,null,{"$f":"IF(Base_Arbres!A580<>\"\",VLOOKUP($A477,Base_Arbres,4,FALSE)*Crit7,\"\")","v":""}]
[{"$f":"IF(Base_Arbres!A524<>\"\",Base_Arbres!A524,\"\")","v":""},{"$f":"IF(Base_Arbres!A524<>\"\",VLOOKUP($A478,Base_Arbres,3,FALSE)*Crit1,\"\")","v":""},{"$f":"IF(Base_Arbres!A524<>\"\",VLOOKUP($A478,Base_Arbres,4,FALSE)*Crit2,\"\")","v":""},{"$f":"IF(Base_Arbres!A524<>\"\",VLOOKUP($A478,Base_Arbres,5,FALSE)*Crit3,\"\")","v":""},{"$f":"IF(Base_Arbres!A524<>\"\",VLOOKUP($A478,Base_Arbres,6,FALSE)*Crit4,\"\")","v":""},{"$f":"IF(Base_Arbres!B478<>\"\",VLOOKUP($A478,Base_Arbres,7,FALSE)*Crit5,\"\")","v":""},{"$f":"IF(Base_Arbres!C478<>\"\",VLOOKUP($A478,Base_Arbres,8,FALSE)*crit8,\"\")","v":""},{"$f":"IF(Base_Arbres!D478<>\"\",VLOOKUP($A478,Base_Arbres,9,FALSE)*crit9,\"\")","v":""},{"$f":"IF(ISNA(VLOOKUP(INDEX(Base_Typologie!$A$6:$P$1003,MATCH(A478,Base_Typologie!$A:$A,0)-5,MATCH(Typologie_Espace_Public,Base_Typologie!$6:$6,0)),TableauScoreTypologie2,2,FALSE)*Crit6),0,VLOOKUP(INDEX(Base_Typologie!$A$6:$P$1003,MATCH(A478,Base_Typologie!$A:$A,0)-5,MATCH(Typologie_Espace_Public,Base_Typologie!$6:$6,0)),TableauScoreTypologie2,2,FALSE)*Crit6)","v":0},0,0,0,0,0,0,0,0,0,0,0,0,null,{"$f":"IF(Base_Arbres!A581<>\"\",VLOOKUP($A478,Base_Arbres,4,FALSE)*Crit7,\"\")","v":""}]
[{"$f":"IF(Base_Arbres!A525<>\"\",Base_Arbres!A525,\"\")","v":""},{"$f":"IF(Base_Arbres!A525<>\"\",VLOOKUP($A479,Base_Arbres,3,FALSE)*Crit1,\"\")","v":""},{"$f":"IF(Base_Arbres!A525<>\"\",VLOOKUP($A479,Base_Arbres,4,FALSE)*Crit2,\"\")","v":""},{"$f":"IF(Base_Arbres!A525<>\"\",VLOOKUP($A479,Base_Arbres,5,FALSE)*Crit3,\"\")","v":""},{"$f":"IF(Base_Arbres!A525<>\"\",VLOOKUP($A479,Base_Arbres,6,FALSE)*Crit4,\"\")","v":""},{"$f":"IF(Base_Arbres!B479<>\"\",VLOOKUP($A479,Base_Arbres,7,FALSE)*Crit5,\"\")","v":""},{"$f":"IF(Base_Arbres!C479<>\"\",VLOOKUP($A479,Base_Arbres,8,FALSE)*crit8,\"\")","v":""},{"$f":"IF(Base_Arbres!D479<>\"\",VLOOKUP($A479,Base_Arbres,9,FALSE)*crit9,\"\")","v":""},{"$f":"IF(ISNA(VLOOKUP(INDEX(Base_Typologie!$A$6:$P$1003,MATCH(A479,Base_Typologie!$A:$A,0)-5,MATCH(Typologie_Espace_Public,Base_Typologie!$6:$6,0)),TableauScoreTypologie2,2,FALSE)*Crit6),0,VLOOKUP(INDEX(Base_Typologie!$A$6:$P$1003,MATCH(A479,Base_Typologie!$A:$A,0)-5,MATCH(Typologie_Espace_Public,Base_Typologie!$6:$6,0)),TableauScoreTypologie2,2,FALSE)*Crit6)","v":0},0,0,0,0,0,0,0,0,0,0,0,0,null,{"$f":"IF(Base_Arbres!A582<>\"\",VLOOKUP($A479,Base_Arbres,4,FALSE)*Crit7,\"\")","v":""}]
[{"$f":"IF(Base_Arbres!A526<>\"\",Base_Arbres!A526,\"\")","v":""},{"$f":"IF(Base_Arbres!A526<>\"\",VLOOKUP($A480,Base_Arbres,3,FALSE)*Crit1,\"\")","v":""},{"$f":"IF(Base_Arbres!A526<>\"\",VLOOKUP($A480,Base_Arbres,4,FALSE)*Crit2,\"\")","v":""},{"$f":"IF(Base_Arbres!A526<>\"\",VLOOKUP($A480,Base_Arbres,5,FALSE)*Crit3,\"\")","v":""},{"$f":"IF(Base_Arbres!A526<>\"\",VLOOKUP($A480,Base_Arbres,6,FALSE)*Crit4,\"\")","v":""},{"$f":"IF(Base_Arbres!B480<>\"\",VLOOKUP($A480,Base_Arbres,7,FALSE)*Crit5,\"\")","v":""},{"$f":"IF(Base_Arbres!C480<>\"\",VLOOKUP($A480,Base_Arbres,8,FALSE)*crit8,\"\")","v":""},{"$f":"IF(Base_Arbres!D480<>\"\",VLOOKUP($A480,Base_Arbres,9,FALSE)*crit9,\"\")","v":""},{"$f":"IF(ISNA(VLOOKUP(INDEX(Base_Typologie!$A$6:$P$1003,MATCH(A480,Base_Typologie!$A:$A,0)-5,MATCH(Typologie_Espace_Public,Base_Typologie!$6:$6,0)),TableauScoreTypologie2,2,FALSE)*Crit6),0,VLOOKUP(INDEX(Base_Typologie!$A$6:$P$1003,MATCH(A480,Base_Typologie!$A:$A,0)-5,MATCH(Typologie_Espace_Public,Base_Typologie!$6:$6,0)),TableauScoreTypologie2,2,FALSE)*Crit6)","v":0},0,0,0,0,0,0,0,0,0,0,0,0,null,{"$f":"IF(Base_Arbres!A583<>\"\",VLOOKUP($A480,Base_Arbres,4,FALSE)*Crit7,\"\")","v":""}]
[{"$f":"IF(Base_Arbres!A527<>\"\",Base_Arbres!A527,\"\")","v":""},{"$f":"IF(Base_Arbres!A527<>\"\",VLOOKUP($A481,Base_Arbres,3,FALSE)*Crit1,\"\")","v":""},{"$f":"IF(Base_Arbres!A527<>\"\",VLOOKUP($A481,Base_Arbres,4,FALSE)*Crit2,\"\")","v":""},{"$f":"IF(Base_Arbres!A527<>\"\",VLOOKUP($A481,Base_Arbres,5,FALSE)*Crit3,\"\")","v":""},{"$f":"IF(Base_Arbres!A527<>\"\",VLOOKUP($A481,Base_Arbres,6,FALSE)*Crit4,\"\")","v":""},{"$f":"IF(Base_Arbres!B481<>\"\",VLOOKUP($A481,Base_Arbres,7,FALSE)*Crit5,\"\")","v":""},{"$f":"IF(Base_Arbres!C481<>\"\",VLOOKUP($A481,Base_Arbres,8,FALSE)*crit8,\"\")","v":""},{"$f":"IF(Base_Arbres!D481<>\"\",VLOOKUP($A481,Base_Arbres,9,FALSE)*crit9,\"\")","v":""},{"$f":"IF(ISNA(VLOOKUP(INDEX(Base_Typologie!$A$6:$P$1003,MATCH(A481,Base_Typologie!$A:$A,0)-5,MATCH(Typologie_Espace_Public,Base_Typologie!$6:$6,0)),TableauScoreTypologie2,2,FALSE)*Crit6),0,VLOOKUP(INDEX(Base_Typologie!$A$6:$P$1003,MATCH(A481,Base_Typologie!$A:$A,0)-5,MATCH(Typologie_Espace_Public,Base_Typologie!$6:$6,0)),TableauScoreTypologie2,2,FALSE)*Crit6)","v":0},0,0,0,0,0,0,0,0,0,0,0,0,null,{"$f":"IF(Base_Arbres!A584<>\"\",VLOOKUP($A481,Base_Arbres,4,FALSE)*Crit7,\"\")","v":""}]
[{"$f":"IF(Base_Arbres!A528<>\"\",Base_Arbres!A528,\"\")","v":""},{"$f":"IF(Base_Arbres!A528<>\"\",VLOOKUP($A482,Base_Arbres,3,FALSE)*Crit1,\"\")","v":""},{"$f":"IF(Base_Arbres!A528<>\"\",VLOOKUP($A482,Base_Arbres,4,FALSE)*Crit2,\"\")","v":""},{"$f":"IF(Base_Arbres!A528<>\"\",VLOOKUP($A482,Base_Arbres,5,FALSE)*Crit3,\"\")","v":""},{"$f":"IF(Base_Arbres!A528<>\"\",VLOOKUP($A482,Base_Arbres,6,FALSE)*Crit4,\"\")","v":""},{"$f":"IF(Base_Arbres!B482<>\"\",VLOOKUP($A482,Base_Arbres,7,FALSE)*Crit5,\"\")","v":""},{"$f":"IF(Base_Arbres!C482<>\"\",VLOOKUP($A482,Base_Arbres,8,FALSE)*crit8,\"\")","v":""},{"$f":"IF(Base_Arbres!D482<>\"\",VLOOKUP($A482,Base_Arbres,9,FALSE)*crit9,\"\")","v":""},{"$f":"IF(ISNA(VLOOKUP(INDEX(Base_Typologie!$A$6:$P$1003,MATCH(A482,Base_Typologie!$A:$A,0)-5,MATCH(Typologie_Espace_Public,Base_Typologie!$6:$6,0)),TableauScoreTypologie2,2,FALSE)*Crit6),0,VLOOKUP(INDEX(Base_Typologie!$A$6:$P$1003,MATCH(A482,Base_Typologie!$A:$A,0)-5,MATCH(Typologie_Espace_Public,Base_Typologie!$6:$6,0)),TableauScoreTypologie2,2,FALSE)*Crit6)","v":0},0,0,0,0,0,0,0,0,0,0,0,0,null,{"$f":"IF(Base_Arbres!A585<>\"\",VLOOKUP($A482,Base_Arbres,4,FALSE)*Crit7,\"\")","v":""}]
[{"$f":"IF(Base_Arbres!A529<>\"\",Base_Arbres!A529,\"\")","v":""},{"$f":"IF(Base_Arbres!A529<>\"\",VLOOKUP($A483,Base_Arbres,3,FALSE)*Crit1,\"\")","v":""},{"$f":"IF(Base_Arbres!A529<>\"\",VLOOKUP($A483,Base_Arbres,4,FALSE)*Crit2,\"\")","v":""},{"$f":"IF(Base_Arbres!A529<>\"\",VLOOKUP($A483,Base_Arbres,5,FALSE)*Crit3,\"\")","v":""},{"$f":"IF(Base_Arbres!A529<>\"\",VLOOKUP($A483,Base_Arbres,6,FALSE)*Crit4,\"\")","v":""},{"$f":"IF(Base_Arbres!B483<>\"\",VLOOKUP($A483,Base_Arbres,7,FALSE)*Crit5,\"\")","v":""},{"$f":"IF(Base_Arbres!C483<>\"\",VLOOKUP($A483,Base_Arbres,8,FALSE)*crit8,\"\")","v":""},{"$f":"IF(Base_Arbres!D483<>\"\",VLOOKUP($A483,Base_Arbres,9,FALSE)*crit9,\"\")","v":""},{"$f":"IF(ISNA(VLOOKUP(INDEX(Base_Typologie!$A$6:$P$1003,MATCH(A483,Base_Typologie!$A:$A,0)-5,MATCH(Typologie_Espace_Public,Base_Typologie!$6:$6,0)),TableauScoreTypologie2,2,FALSE)*Crit6),0,VLOOKUP(INDEX(Base_Typologie!$A$6:$P$1003,MATCH(A483,Base_Typologie!$A:$A,0)-5,MATCH(Typologie_Espace_Public,Base_Typologie!$6:$6,0)),TableauScoreTypologie2,2,FALSE)*Crit6)","v":0},0,0,0,0,0,0,0,0,0,0,0,0,null,{"$f":"IF(Base_Arbres!A586<>\"\",VLOOKUP($A483,Base_Arbres,4,FALSE)*Crit7,\"\")","v":""}]
[{"$f":"IF(Base_Arbres!A530<>\"\",Base_Arbres!A530,\"\")","v":""},{"$f":"IF(Base_Arbres!A530<>\"\",VLOOKUP($A484,Base_Arbres,3,FALSE)*Crit1,\"\")","v":""},{"$f":"IF(Base_Arbres!A530<>\"\",VLOOKUP($A484,Base_Arbres,4,FALSE)*Crit2,\"\")","v":""},{"$f":"IF(Base_Arbres!A530<>\"\",VLOOKUP($A484,Base_Arbres,5,FALSE)*Crit3,\"\")","v":""},{"$f":"IF(Base_Arbres!A530<>\"\",VLOOKUP($A484,Base_Arbres,6,FALSE)*Crit4,\"\")","v":""},{"$f":"IF(Base_Arbres!B484<>\"\",VLOOKUP($A484,Base_Arbres,7,FALSE)*Crit5,\"\")","v":""},{"$f":"IF(Base_Arbres!C484<>\"\",VLOOKUP($A484,Base_Arbres,8,FALSE)*crit8,\"\")","v":""},{"$f":"IF(Base_Arbres!D484<>\"\",VLOOKUP($A484,Base_Arbres,9,FALSE)*crit9,\"\")","v":""},{"$f":"IF(ISNA(VLOOKUP(INDEX(Base_Typologie!$A$6:$P$1003,MATCH(A484,Base_Typologie!$A:$A,0)-5,MATCH(Typologie_Espace_Public,Base_Typologie!$6:$6,0)),TableauScoreTypologie2,2,FALSE)*Crit6),0,VLOOKUP(INDEX(Base_Typologie!$A$6:$P$1003,MATCH(A484,Base_Typologie!$A:$A,0)-5,MATCH(Typologie_Espace_Public,Base_Typologie!$6:$6,0)),TableauScoreTypologie2,2,FALSE)*Crit6)","v":0},0,0,0,0,0,0,0,0,0,0,0,0,null,{"$f":"IF(Base_Arbres!A587<>\"\",VLOOKUP($A484,Base_Arbres,4,FALSE)*Crit7,\"\")","v":""}]
[{"$f":"IF(Base_Arbres!A531<>\"\",Base_Arbres!A531,\"\")","v":""},{"$f":"IF(Base_Arbres!A531<>\"\",VLOOKUP($A485,Base_Arbres,3,FALSE)*Crit1,\"\")","v":""},{"$f":"IF(Base_Arbres!A531<>\"\",VLOOKUP($A485,Base_Arbres,4,FALSE)*Crit2,\"\")","v":""},{"$f":"IF(Base_Arbres!A531<>\"\",VLOOKUP($A485,Base_Arbres,5,FALSE)*Crit3,\"\")","v":""},{"$f":"IF(Base_Arbres!A531<>\"\",VLOOKUP($A485,Base_Arbres,6,FALSE)*Crit4,\"\")","v":""},{"$f":"IF(Base_Arbres!B485<>\"\",VLOOKUP($A485,Base_Arbres,7,FALSE)*Crit5,\"\")","v":""},{"$f":"IF(Base_Arbres!C485<>\"\",VLOOKUP($A485,Base_Arbres,8,FALSE)*crit8,\"\")","v":""},{"$f":"IF(Base_Arbres!D485<>\"\",VLOOKUP($A485,Base_Arbres,9,FALSE)*crit9,\"\")","v":""},{"$f":"IF(ISNA(VLOOKUP(INDEX(Base_Typologie!$A$6:$P$1003,MATCH(A485,Base_Typologie!$A:$A,0)-5,MATCH(Typologie_Espace_Public,Base_Typologie!$6:$6,0)),TableauScoreTypologie2,2,FALSE)*Crit6),0,VLOOKUP(INDEX(Base_Typologie!$A$6:$P$1003,MATCH(A485,Base_Typologie!$A:$A,0)-5,MATCH(Typologie_Espace_Public,Base_Typologie!$6:$6,0)),TableauScoreTypologie2,2,FALSE)*Crit6)","v":0},0,0,0,0,0,0,0,0,0,0,0,0,null,{"$f":"IF(Base_Arbres!A588<>\"\",VLOOKUP($A485,Base_Arbres,4,FALSE)*Crit7,\"\")","v":""}]
[{"$f":"IF(Base_Arbres!A532<>\"\",Base_Arbres!A532,\"\")","v":""},{"$f":"IF(Base_Arbres!A532<>\"\",VLOOKUP($A486,Base_Arbres,3,FALSE)*Crit1,\"\")","v":""},{"$f":"IF(Base_Arbres!A532<>\"\",VLOOKUP($A486,Base_Arbres,4,FALSE)*Crit2,\"\")","v":""},{"$f":"IF(Base_Arbres!A532<>\"\",VLOOKUP($A486,Base_Arbres,5,FALSE)*Crit3,\"\")","v":""},{"$f":"IF(Base_Arbres!A532<>\"\",VLOOKUP($A486,Base_Arbres,6,FALSE)*Crit4,\"\")","v":""},{"$f":"IF(Base_Arbres!B486<>\"\",VLOOKUP($A486,Base_Arbres,7,FALSE)*Crit5,\"\")","v":""},{"$f":"IF(Base_Arbres!C486<>\"\",VLOOKUP($A486,Base_Arbres,8,FALSE)*crit8,\"\")","v":""},{"$f":"IF(Base_Arbres!D486<>\"\",VLOOKUP($A486,Base_Arbres,9,FALSE)*crit9,\"\")","v":""},{"$f":"IF(ISNA(VLOOKUP(INDEX(Base_Typologie!$A$6:$P$1003,MATCH(A486,Base_Typologie!$A:$A,0)-5,MATCH(Typologie_Espace_Public,Base_Typologie!$6:$6,0)),TableauScoreTypologie2,2,FALSE)*Crit6),0,VLOOKUP(INDEX(Base_Typologie!$A$6:$P$1003,MATCH(A486,Base_Typologie!$A:$A,0)-5,MATCH(Typologie_Espace_Public,Base_Typologie!$6:$6,0)),TableauScoreTypologie2,2,FALSE)*Crit6)","v":0},0,0,0,0,0,0,0,0,0,0,0,0,null,{"$f":"IF(Base_Arbres!A589<>\"\",VLOOKUP($A486,Base_Arbres,4,FALSE)*Crit7,\"\")","v":""}]
[{"$f":"IF(Base_Arbres!A533<>\"\",Base_Arbres!A533,\"\")","v":""},{"$f":"IF(Base_Arbres!A533<>\"\",VLOOKUP($A487,Base_Arbres,3,FALSE)*Crit1,\"\")","v":""},{"$f":"IF(Base_Arbres!A533<>\"\",VLOOKUP($A487,Base_Arbres,4,FALSE)*Crit2,\"\")","v":""},{"$f":"IF(Base_Arbres!A533<>\"\",VLOOKUP($A487,Base_Arbres,5,FALSE)*Crit3,\"\")","v":""},{"$f":"IF(Base_Arbres!A533<>\"\",VLOOKUP($A487,Base_Arbres,6,FALSE)*Crit4,\"\")","v":""},{"$f":"IF(Base_Arbres!B487<>\"\",VLOOKUP($A487,Base_Arbres,7,FALSE)*Crit5,\"\")","v":""},{"$f":"IF(Base_Arbres!C487<>\"\",VLOOKUP($A487,Base_Arbres,8,FALSE)*crit8,\"\")","v":""},{"$f":"IF(Base_Arbres!D487<>\"\",VLOOKUP($A487,Base_Arbres,9,FALSE)*crit9,\"\")","v":""},{"$f":"IF(ISNA(VLOOKUP(INDEX(Base_Typologie!$A$6:$P$1003,MATCH(A487,Base_Typologie!$A:$A,0)-5,MATCH(Typologie_Espace_Public,Base_Typologie!$6:$6,0)),TableauScoreTypologie2,2,FALSE)*Crit6),0,VLOOKUP(INDEX(Base_Typologie!$A$6:$P$1003,MATCH(A487,Base_Typologie!$A:$A,0)-5,MATCH(Typologie_Espace_Public,Base_Typologie!$6:$6,0)),TableauScoreTypologie2,2,FALSE)*Crit6)","v":0},0,0,0,0,0,0,0,0,0,0,0,0,null,{"$f":"IF(Base_Arbres!A590<>\"\",VLOOKUP($A487,Base_Arbres,4,FALSE)*Crit7,\"\")","v":""}]
[{"$f":"IF(Base_Arbres!A534<>\"\",Base_Arbres!A534,\"\")","v":""},{"$f":"IF(Base_Arbres!A534<>\"\",VLOOKUP($A488,Base_Arbres,3,FALSE)*Crit1,\"\")","v":""},{"$f":"IF(Base_Arbres!A534<>\"\",VLOOKUP($A488,Base_Arbres,4,FALSE)*Crit2,\"\")","v":""},{"$f":"IF(Base_Arbres!A534<>\"\",VLOOKUP($A488,Base_Arbres,5,FALSE)*Crit3,\"\")","v":""},{"$f":"IF(Base_Arbres!A534<>\"\",VLOOKUP($A488,Base_Arbres,6,FALSE)*Crit4,\"\")","v":""},{"$f":"IF(Base_Arbres!B488<>\"\",VLOOKUP($A488,Base_Arbres,7,FALSE)*Crit5,\"\")","v":""},{"$f":"IF(Base_Arbres!C488<>\"\",VLOOKUP($A488,Base_Arbres,8,FALSE)*crit8,\"\")","v":""},{"$f":"IF(Base_Arbres!D488<>\"\",VLOOKUP($A488,Base_Arbres,9,FALSE)*crit9,\"\")","v":""},{"$f":"IF(ISNA(VLOOKUP(INDEX(Base_Typologie!$A$6:$P$1003,MATCH(A488,Base_Typologie!$A:$A,0)-5,MATCH(Typologie_Espace_Public,Base_Typologie!$6:$6,0)),TableauScoreTypologie2,2,FALSE)*Crit6),0,VLOOKUP(INDEX(Base_Typologie!$A$6:$P$1003,MATCH(A488,Base_Typologie!$A:$A,0)-5,MATCH(Typologie_Espace_Public,Base_Typologie!$6:$6,0)),TableauScoreTypologie2,2,FALSE)*Crit6)","v":0},0,0,0,0,0,0,0,0,0,0,0,0,null,{"$f":"IF(Base_Arbres!A591<>\"\",VLOOKUP($A488,Base_Arbres,4,FALSE)*Crit7,\"\")","v":""}]
[{"$f":"IF(Base_Arbres!A535<>\"\",Base_Arbres!A535,\"\")","v":""},{"$f":"IF(Base_Arbres!A535<>\"\",VLOOKUP($A489,Base_Arbres,3,FALSE)*Crit1,\"\")","v":""},{"$f":"IF(Base_Arbres!A535<>\"\",VLOOKUP($A489,Base_Arbres,4,FALSE)*Crit2,\"\")","v":""},{"$f":"IF(Base_Arbres!A535<>\"\",VLOOKUP($A489,Base_Arbres,5,FALSE)*Crit3,\"\")","v":""},{"$f":"IF(Base_Arbres!A535<>\"\",VLOOKUP($A489,Base_Arbres,6,FALSE)*Crit4,\"\")","v":""},{"$f":"IF(Base_Arbres!B489<>\"\",VLOOKUP($A489,Base_Arbres,7,FALSE)*Crit5,\"\")","v":""},{"$f":"IF(Base_Arbres!C489<>\"\",VLOOKUP($A489,Base_Arbres,8,FALSE)*crit8,\"\")","v":""},{"$f":"IF(Base_Arbres!D489<>\"\",VLOOKUP($A489,Base_Arbres,9,FALSE)*crit9,\"\")","v":""},{"$f":"IF(ISNA(VLOOKUP(INDEX(Base_Typologie!$A$6:$P$1003,MATCH(A489,Base_Typologie!$A:$A,0)-5,MATCH(Typologie_Espace_Public,Base_Typologie!$6:$6,0)),TableauScoreTypologie2,2,FALSE)*Crit6),0,VLOOKUP(INDEX(Base_Typologie!$A$6:$P$1003,MATCH(A489,Base_Typologie!$A:$A,0)-5,MATCH(Typologie_Espace_Public,Base_Typologie!$6:$6,0)),TableauScoreTypologie2,2,FALSE)*Crit6)","v":0},0,0,0,0,0,0,0,0,0,0,0,0,null,{"$f":"IF(Base_Arbres!A592<>\"\",VLOOKUP($A489,Base_Arbres,4,FALSE)*Crit7,\"\")","v":""}]
[{"$f":"IF(Base_Arbres!A536<>\"\",Base_Arbres!A536,\"\")","v":""},{"$f":"IF(Base_Arbres!A536<>\"\",VLOOKUP($A490,Base_Arbres,3,FALSE)*Crit1,\"\")","v":""},{"$f":"IF(Base_Arbres!A536<>\"\",VLOOKUP($A490,Base_Arbres,4,FALSE)*Crit2,\"\")","v":""},{"$f":"IF(Base_Arbres!A536<>\"\",VLOOKUP($A490,Base_Arbres,5,FALSE)*Crit3,\"\")","v":""},{"$f":"IF(Base_Arbres!A536<>\"\",VLOOKUP($A490,Base_Arbres,6,FALSE)*Crit4,\"\")","v":""},{"$f":"IF(Base_Arbres!B490<>\"\",VLOOKUP($A490,Base_Arbres,7,FALSE)*Crit5,\"\")","v":""},{"$f":"IF(Base_Arbres!C490<>\"\",VLOOKUP($A490,Base_Arbres,8,FALSE)*crit8,\"\")","v":""},{"$f":"IF(Base_Arbres!D490<>\"\",VLOOKUP($A490,Base_Arbres,9,FALSE)*crit9,\"\")","v":""},{"$f":"IF(ISNA(VLOOKUP(INDEX(Base_Typologie!$A$6:$P$1003,MATCH(A490,Base_Typologie!$A:$A,0)-5,MATCH(Typologie_Espace_Public,Base_Typologie!$6:$6,0)),TableauScoreTypologie2,2,FALSE)*Crit6),0,VLOOKUP(INDEX(Base_Typologie!$A$6:$P$1003,MATCH(A490,Base_Typologie!$A:$A,0)-5,MATCH(Typologie_Espace_Public,Base_Typologie!$6:$6,0)),TableauScoreTypologie2,2,FALSE)*Crit6)","v":0},0,0,0,0,0,0,0,0,0,0,0,0,null,{"$f":"IF(Base_Arbres!A593<>\"\",VLOOKUP($A490,Base_Arbres,4,FALSE)*Crit7,\"\")","v":""}]
[{"$f":"IF(Base_Arbres!A537<>\"\",Base_Arbres!A537,\"\")","v":""},{"$f":"IF(Base_Arbres!A537<>\"\",VLOOKUP($A491,Base_Arbres,3,FALSE)*Crit1,\"\")","v":""},{"$f":"IF(Base_Arbres!A537<>\"\",VLOOKUP($A491,Base_Arbres,4,FALSE)*Crit2,\"\")","v":""},{"$f":"IF(Base_Arbres!A537<>\"\",VLOOKUP($A491,Base_Arbres,5,FALSE)*Crit3,\"\")","v":""},{"$f":"IF(Base_Arbres!A537<>\"\",VLOOKUP($A491,Base_Arbres,6,FALSE)*Crit4,\"\")","v":""},{"$f":"IF(Base_Arbres!B491<>\"\",VLOOKUP($A491,Base_Arbres,7,FALSE)*Crit5,\"\")","v":""},{"$f":"IF(Base_Arbres!C491<>\"\",VLOOKUP($A491,Base_Arbres,8,FALSE)*crit8,\"\")","v":""},{"$f":"IF(Base_Arbres!D491<>\"\",VLOOKUP($A491,Base_Arbres,9,FALSE)*crit9,\"\")","v":""},{"$f":"IF(ISNA(VLOOKUP(INDEX(Base_Typologie!$A$6:$P$1003,MATCH(A491,Base_Typologie!$A:$A,0)-5,MATCH(Typologie_Espace_Public,Base_Typologie!$6:$6,0)),TableauScoreTypologie2,2,FALSE)*Crit6),0,VLOOKUP(INDEX(Base_Typologie!$A$6:$P$1003,MATCH(A491,Base_Typologie!$A:$A,0)-5,MATCH(Typologie_Espace_Public,Base_Typologie!$6:$6,0)),TableauScoreTypologie2,2,FALSE)*Crit6)","v":0},0,0,0,0,0,0,0,0,0,0,0,0,null,{"$f":"IF(Base_Arbres!A594<>\"\",VLOOKUP($A491,Base_Arbres,4,FALSE)*Crit7,\"\")","v":""}]
[{"$f":"IF(Base_Arbres!A538<>\"\",Base_Arbres!A538,\"\")","v":""},{"$f":"IF(Base_Arbres!A538<>\"\",VLOOKUP($A492,Base_Arbres,3,FALSE)*Crit1,\"\")","v":""},{"$f":"IF(Base_Arbres!A538<>\"\",VLOOKUP($A492,Base_Arbres,4,FALSE)*Crit2,\"\")","v":""},{"$f":"IF(Base_Arbres!A538<>\"\",VLOOKUP($A492,Base_Arbres,5,FALSE)*Crit3,\"\")","v":""},{"$f":"IF(Base_Arbres!A538<>\"\",VLOOKUP($A492,Base_Arbres,6,FALSE)*Crit4,\"\")","v":""},{"$f":"IF(Base_Arbres!B492<>\"\",VLOOKUP($A492,Base_Arbres,7,FALSE)*Crit5,\"\")","v":""},{"$f":"IF(Base_Arbres!C492<>\"\",VLOOKUP($A492,Base_Arbres,8,FALSE)*crit8,\"\")","v":""},{"$f":"IF(Base_Arbres!D492<>\"\",VLOOKUP($A492,Base_Arbres,9,FALSE)*crit9,\"\")","v":""},{"$f":"IF(ISNA(VLOOKUP(INDEX(Base_Typologie!$A$6:$P$1003,MATCH(A492,Base_Typologie!$A:$A,0)-5,MATCH(Typologie_Espace_Public,Base_Typologie!$6:$6,0)),TableauScoreTypologie2,2,FALSE)*Crit6),0,VLOOKUP(INDEX(Base_Typologie!$A$6:$P$1003,MATCH(A492,Base_Typologie!$A:$A,0)-5,MATCH(Typologie_Espace_Public,Base_Typologie!$6:$6,0)),TableauScoreTypologie2,2,FALSE)*Crit6)","v":0},0,0,0,0,0,0,0,0,0,0,0,0,null,{"$f":"IF(Base_Arbres!A595<>\"\",VLOOKUP($A492,Base_Arbres,4,FALSE)*Crit7,\"\")","v":""}]
[{"$f":"IF(Base_Arbres!A539<>\"\",Base_Arbres!A539,\"\")","v":""},{"$f":"IF(Base_Arbres!A539<>\"\",VLOOKUP($A493,Base_Arbres,3,FALSE)*Crit1,\"\")","v":""},{"$f":"IF(Base_Arbres!A539<>\"\",VLOOKUP($A493,Base_Arbres,4,FALSE)*Crit2,\"\")","v":""},{"$f":"IF(Base_Arbres!A539<>\"\",VLOOKUP($A493,Base_Arbres,5,FALSE)*Crit3,\"\")","v":""},{"$f":"IF(Base_Arbres!A539<>\"\",VLOOKUP($A493,Base_Arbres,6,FALSE)*Crit4,\"\")","v":""},{"$f":"IF(Base_Arbres!B493<>\"\",VLOOKUP($A493,Base_Arbres,7,FALSE)*Crit5,\"\")","v":""},{"$f":"IF(Base_Arbres!C493<>\"\",VLOOKUP($A493,Base_Arbres,8,FALSE)*crit8,\"\")","v":""},{"$f":"IF(Base_Arbres!D493<>\"\",VLOOKUP($A493,Base_Arbres,9,FALSE)*crit9,\"\")","v":""},{"$f":"IF(ISNA(VLOOKUP(INDEX(Base_Typologie!$A$6:$P$1003,MATCH(A493,Base_Typologie!$A:$A,0)-5,MATCH(Typologie_Espace_Public,Base_Typologie!$6:$6,0)),TableauScoreTypologie2,2,FALSE)*Crit6),0,VLOOKUP(INDEX(Base_Typologie!$A$6:$P$1003,MATCH(A493,Base_Typologie!$A:$A,0)-5,MATCH(Typologie_Espace_Public,Base_Typologie!$6:$6,0)),TableauScoreTypologie2,2,FALSE)*Crit6)","v":0},0,0,0,0,0,0,0,0,0,0,0,0,null,{"$f":"IF(Base_Arbres!A596<>\"\",VLOOKUP($A493,Base_Arbres,4,FALSE)*Crit7,\"\")","v":""}]
[{"$f":"IF(Base_Arbres!A540<>\"\",Base_Arbres!A540,\"\")","v":""},{"$f":"IF(Base_Arbres!A540<>\"\",VLOOKUP($A494,Base_Arbres,3,FALSE)*Crit1,\"\")","v":""},{"$f":"IF(Base_Arbres!A540<>\"\",VLOOKUP($A494,Base_Arbres,4,FALSE)*Crit2,\"\")","v":""},{"$f":"IF(Base_Arbres!A540<>\"\",VLOOKUP($A494,Base_Arbres,5,FALSE)*Crit3,\"\")","v":""},{"$f":"IF(Base_Arbres!A540<>\"\",VLOOKUP($A494,Base_Arbres,6,FALSE)*Crit4,\"\")","v":""},{"$f":"IF(Base_Arbres!B494<>\"\",VLOOKUP($A494,Base_Arbres,7,FALSE)*Crit5,\"\")","v":""},{"$f":"IF(Base_Arbres!C494<>\"\",VLOOKUP($A494,Base_Arbres,8,FALSE)*crit8,\"\")","v":""},{"$f":"IF(Base_Arbres!D494<>\"\",VLOOKUP($A494,Base_Arbres,9,FALSE)*crit9,\"\")","v":""},{"$f":"IF(ISNA(VLOOKUP(INDEX(Base_Typologie!$A$6:$P$1003,MATCH(A494,Base_Typologie!$A:$A,0)-5,MATCH(Typologie_Espace_Public,Base_Typologie!$6:$6,0)),TableauScoreTypologie2,2,FALSE)*Crit6),0,VLOOKUP(INDEX(Base_Typologie!$A$6:$P$1003,MATCH(A494,Base_Typologie!$A:$A,0)-5,MATCH(Typologie_Espace_Public,Base_Typologie!$6:$6,0)),TableauScoreTypologie2,2,FALSE)*Crit6)","v":0},0,0,0,0,0,0,0,0,0,0,0,0,null,{"$f":"IF(Base_Arbres!A597<>\"\",VLOOKUP($A494,Base_Arbres,4,FALSE)*Crit7,\"\")","v":""}]
[{"$f":"IF(Base_Arbres!A541<>\"\",Base_Arbres!A541,\"\")","v":""},{"$f":"IF(Base_Arbres!A541<>\"\",VLOOKUP($A495,Base_Arbres,3,FALSE)*Crit1,\"\")","v":""},{"$f":"IF(Base_Arbres!A541<>\"\",VLOOKUP($A495,Base_Arbres,4,FALSE)*Crit2,\"\")","v":""},{"$f":"IF(Base_Arbres!A541<>\"\",VLOOKUP($A495,Base_Arbres,5,FALSE)*Crit3,\"\")","v":""},{"$f":"IF(Base_Arbres!A541<>\"\",VLOOKUP($A495,Base_Arbres,6,FALSE)*Crit4,\"\")","v":""},{"$f":"IF(Base_Arbres!B495<>\"\",VLOOKUP($A495,Base_Arbres,7,FALSE)*Crit5,\"\")","v":""},{"$f":"IF(Base_Arbres!C495<>\"\",VLOOKUP($A495,Base_Arbres,8,FALSE)*crit8,\"\")","v":""},{"$f":"IF(Base_Arbres!D495<>\"\",VLOOKUP($A495,Base_Arbres,9,FALSE)*crit9,\"\")","v":""},{"$f":"IF(ISNA(VLOOKUP(INDEX(Base_Typologie!$A$6:$P$1003,MATCH(A495,Base_Typologie!$A:$A,0)-5,MATCH(Typologie_Espace_Public,Base_Typologie!$6:$6,0)),TableauScoreTypologie2,2,FALSE)*Crit6),0,VLOOKUP(INDEX(Base_Typologie!$A$6:$P$1003,MATCH(A495,Base_Typologie!$A:$A,0)-5,MATCH(Typologie_Espace_Public,Base_Typologie!$6:$6,0)),TableauScoreTypologie2,2,FALSE)*Crit6)","v":0},0,0,0,0,0,0,0,0,0,0,0,0,null,{"$f":"IF(Base_Arbres!A598<>\"\",VLOOKUP($A495,Base_Arbres,4,FALSE)*Crit7,\"\")","v":""}]
[{"$f":"IF(Base_Arbres!A542<>\"\",Base_Arbres!A542,\"\")","v":""},{"$f":"IF(Base_Arbres!A542<>\"\",VLOOKUP($A496,Base_Arbres,3,FALSE)*Crit1,\"\")","v":""},{"$f":"IF(Base_Arbres!A542<>\"\",VLOOKUP($A496,Base_Arbres,4,FALSE)*Crit2,\"\")","v":""},{"$f":"IF(Base_Arbres!A542<>\"\",VLOOKUP($A496,Base_Arbres,5,FALSE)*Crit3,\"\")","v":""},{"$f":"IF(Base_Arbres!A542<>\"\",VLOOKUP($A496,Base_Arbres,6,FALSE)*Crit4,\"\")","v":""},{"$f":"IF(Base_Arbres!B496<>\"\",VLOOKUP($A496,Base_Arbres,7,FALSE)*Crit5,\"\")","v":""},{"$f":"IF(Base_Arbres!C496<>\"\",VLOOKUP($A496,Base_Arbres,8,FALSE)*crit8,\"\")","v":""},{"$f":"IF(Base_Arbres!D496<>\"\",VLOOKUP($A496,Base_Arbres,9,FALSE)*crit9,\"\")","v":""},{"$f":"IF(ISNA(VLOOKUP(INDEX(Base_Typologie!$A$6:$P$1003,MATCH(A496,Base_Typologie!$A:$A,0)-5,MATCH(Typologie_Espace_Public,Base_Typologie!$6:$6,0)),TableauScoreTypologie2,2,FALSE)*Crit6),0,VLOOKUP(INDEX(Base_Typologie!$A$6:$P$1003,MATCH(A496,Base_Typologie!$A:$A,0)-5,MATCH(Typologie_Espace_Public,Base_Typologie!$6:$6,0)),TableauScoreTypologie2,2,FALSE)*Crit6)","v":0},0,0,0,0,0,0,0,0,0,0,0,0,null,{"$f":"IF(Base_Arbres!A599<>\"\",VLOOKUP($A496,Base_Arbres,4,FALSE)*Crit7,\"\")","v":""}]
[{"$f":"IF(Base_Arbres!A543<>\"\",Base_Arbres!A543,\"\")","v":""},{"$f":"IF(Base_Arbres!A543<>\"\",VLOOKUP($A497,Base_Arbres,3,FALSE)*Crit1,\"\")","v":""},{"$f":"IF(Base_Arbres!A543<>\"\",VLOOKUP($A497,Base_Arbres,4,FALSE)*Crit2,\"\")","v":""},{"$f":"IF(Base_Arbres!A543<>\"\",VLOOKUP($A497,Base_Arbres,5,FALSE)*Crit3,\"\")","v":""},{"$f":"IF(Base_Arbres!A543<>\"\",VLOOKUP($A497,Base_Arbres,6,FALSE)*Crit4,\"\")","v":""},{"$f":"IF(Base_Arbres!B497<>\"\",VLOOKUP($A497,Base_Arbres,7,FALSE)*Crit5,\"\")","v":""},{"$f":"IF(Base_Arbres!C497<>\"\",VLOOKUP($A497,Base_Arbres,8,FALSE)*crit8,\"\")","v":""},{"$f":"IF(Base_Arbres!D497<>\"\",VLOOKUP($A497,Base_Arbres,9,FALSE)*crit9,\"\")","v":""},{"$f":"IF(ISNA(VLOOKUP(INDEX(Base_Typologie!$A$6:$P$1003,MATCH(A497,Base_Typologie!$A:$A,0)-5,MATCH(Typologie_Espace_Public,Base_Typologie!$6:$6,0)),TableauScoreTypologie2,2,FALSE)*Crit6),0,VLOOKUP(INDEX(Base_Typologie!$A$6:$P$1003,MATCH(A497,Base_Typologie!$A:$A,0)-5,MATCH(Typologie_Espace_Public,Base_Typologie!$6:$6,0)),TableauScoreTypologie2,2,FALSE)*Crit6)","v":0},0,0,0,0,0,0,0,0,0,0,0,0,null,{"$f":"IF(Base_Arbres!A600<>\"\",VLOOKUP($A497,Base_Arbres,4,FALSE)*Crit7,\"\")","v":""}]
[{"$f":"IF(Base_Arbres!A544<>\"\",Base_Arbres!A544,\"\")","v":""},{"$f":"IF(Base_Arbres!A544<>\"\",VLOOKUP($A498,Base_Arbres,3,FALSE)*Crit1,\"\")","v":""},{"$f":"IF(Base_Arbres!A544<>\"\",VLOOKUP($A498,Base_Arbres,4,FALSE)*Crit2,\"\")","v":""},{"$f":"IF(Base_Arbres!A544<>\"\",VLOOKUP($A498,Base_Arbres,5,FALSE)*Crit3,\"\")","v":""},{"$f":"IF(Base_Arbres!A544<>\"\",VLOOKUP($A498,Base_Arbres,6,FALSE)*Crit4,\"\")","v":""},{"$f":"IF(Base_Arbres!B498<>\"\",VLOOKUP($A498,Base_Arbres,7,FALSE)*Crit5,\"\")","v":""},{"$f":"IF(Base_Arbres!C498<>\"\",VLOOKUP($A498,Base_Arbres,8,FALSE)*crit8,\"\")","v":""},{"$f":"IF(Base_Arbres!D498<>\"\",VLOOKUP($A498,Base_Arbres,9,FALSE)*crit9,\"\")","v":""},{"$f":"IF(ISNA(VLOOKUP(INDEX(Base_Typologie!$A$6:$P$1003,MATCH(A498,Base_Typologie!$A:$A,0)-5,MATCH(Typologie_Espace_Public,Base_Typologie!$6:$6,0)),TableauScoreTypologie2,2,FALSE)*Crit6),0,VLOOKUP(INDEX(Base_Typologie!$A$6:$P$1003,MATCH(A498,Base_Typologie!$A:$A,0)-5,MATCH(Typologie_Espace_Public,Base_Typologie!$6:$6,0)),TableauScoreTypologie2,2,FALSE)*Crit6)","v":0},0,0,0,0,0,0,0,0,0,0,0,0,null,{"$f":"IF(Base_Arbres!A601<>\"\",VLOOKUP($A498,Base_Arbres,4,FALSE)*Crit7,\"\")","v":""}]
[{"$f":"IF(Base_Arbres!A545<>\"\",Base_Arbres!A545,\"\")","v":""},{"$f":"IF(Base_Arbres!A545<>\"\",VLOOKUP($A499,Base_Arbres,3,FALSE)*Crit1,\"\")","v":""},{"$f":"IF(Base_Arbres!A545<>\"\",VLOOKUP($A499,Base_Arbres,4,FALSE)*Crit2,\"\")","v":""},{"$f":"IF(Base_Arbres!A545<>\"\",VLOOKUP($A499,Base_Arbres,5,FALSE)*Crit3,\"\")","v":""},{"$f":"IF(Base_Arbres!A545<>\"\",VLOOKUP($A499,Base_Arbres,6,FALSE)*Crit4,\"\")","v":""},{"$f":"IF(Base_Arbres!B499<>\"\",VLOOKUP($A499,Base_Arbres,7,FALSE)*Crit5,\"\")","v":""},{"$f":"IF(Base_Arbres!C499<>\"\",VLOOKUP($A499,Base_Arbres,8,FALSE)*crit8,\"\")","v":""},{"$f":"IF(Base_Arbres!D499<>\"\",VLOOKUP($A499,Base_Arbres,9,FALSE)*crit9,\"\")","v":""},{"$f":"IF(ISNA(VLOOKUP(INDEX(Base_Typologie!$A$6:$P$1003,MATCH(A499,Base_Typologie!$A:$A,0)-5,MATCH(Typologie_Espace_Public,Base_Typologie!$6:$6,0)),TableauScoreTypologie2,2,FALSE)*Crit6),0,VLOOKUP(INDEX(Base_Typologie!$A$6:$P$1003,MATCH(A499,Base_Typologie!$A:$A,0)-5,MATCH(Typologie_Espace_Public,Base_Typologie!$6:$6,0)),TableauScoreTypologie2,2,FALSE)*Crit6)","v":0},0,0,0,0,0,0,0,0,0,0,0,0,null,{"$f":"IF(Base_Arbres!A602<>\"\",VLOOKUP($A499,Base_Arbres,4,FALSE)*Crit7,\"\")","v":""}]
[{"$f":"IF(Base_Arbres!A546<>\"\",Base_Arbres!A546,\"\")","v":""},{"$f":"IF(Base_Arbres!A546<>\"\",VLOOKUP($A500,Base_Arbres,3,FALSE)*Crit1,\"\")","v":""},{"$f":"IF(Base_Arbres!A546<>\"\",VLOOKUP($A500,Base_Arbres,4,FALSE)*Crit2,\"\")","v":""},{"$f":"IF(Base_Arbres!A546<>\"\",VLOOKUP($A500,Base_Arbres,5,FALSE)*Crit3,\"\")","v":""},{"$f":"IF(Base_Arbres!A546<>\"\",VLOOKUP($A500,Base_Arbres,6,FALSE)*Crit4,\"\")","v":""},{"$f":"IF(Base_Arbres!B500<>\"\",VLOOKUP($A500,Base_Arbres,7,FALSE)*Crit5,\"\")","v":""},{"$f":"IF(Base_Arbres!C500<>\"\",VLOOKUP($A500,Base_Arbres,8,FALSE)*crit8,\"\")","v":""},{"$f":"IF(Base_Arbres!D500<>\"\",VLOOKUP($A500,Base_Arbres,9,FALSE)*crit9,\"\")","v":""},{"$f":"IF(ISNA(VLOOKUP(INDEX(Base_Typologie!$A$6:$P$1003,MATCH(A500,Base_Typologie!$A:$A,0)-5,MATCH(Typologie_Espace_Public,Base_Typologie!$6:$6,0)),TableauScoreTypologie2,2,FALSE)*Crit6),0,VLOOKUP(INDEX(Base_Typologie!$A$6:$P$1003,MATCH(A500,Base_Typologie!$A:$A,0)-5,MATCH(Typologie_Espace_Public,Base_Typologie!$6:$6,0)),TableauScoreTypologie2,2,FALSE)*Crit6)","v":0},0,0,0,0,0,0,0,0,0,0,0,0,null,{"$f":"IF(Base_Arbres!A603<>\"\",VLOOKUP($A500,Base_Arbres,4,FALSE)*Crit7,\"\")","v":""}]
[{"$f":"IF(Base_Arbres!A547<>\"\",Base_Arbres!A547,\"\")","v":""},{"$f":"IF(Base_Arbres!A547<>\"\",VLOOKUP($A501,Base_Arbres,3,FALSE)*Crit1,\"\")","v":""},{"$f":"IF(Base_Arbres!A547<>\"\",VLOOKUP($A501,Base_Arbres,4,FALSE)*Crit2,\"\")","v":""},{"$f":"IF(Base_Arbres!A547<>\"\",VLOOKUP($A501,Base_Arbres,5,FALSE)*Crit3,\"\")","v":""},{"$f":"IF(Base_Arbres!A547<>\"\",VLOOKUP($A501,Base_Arbres,6,FALSE)*Crit4,\"\")","v":""},{"$f":"IF(Base_Arbres!B501<>\"\",VLOOKUP($A501,Base_Arbres,7,FALSE)*Crit5,\"\")","v":""},{"$f":"IF(Base_Arbres!C501<>\"\",VLOOKUP($A501,Base_Arbres,8,FALSE)*crit8,\"\")","v":""},{"$f":"IF(Base_Arbres!D501<>\"\",VLOOKUP($A501,Base_Arbres,9,FALSE)*crit9,\"\")","v":""},{"$f":"IF(ISNA(VLOOKUP(INDEX(Base_Typologie!$A$6:$P$1003,MATCH(A501,Base_Typologie!$A:$A,0)-5,MATCH(Typologie_Espace_Public,Base_Typologie!$6:$6,0)),TableauScoreTypologie2,2,FALSE)*Crit6),0,VLOOKUP(INDEX(Base_Typologie!$A$6:$P$1003,MATCH(A501,Base_Typologie!$A:$A,0)-5,MATCH(Typologie_Espace_Public,Base_Typologie!$6:$6,0)),TableauScoreTypologie2,2,FALSE)*Crit6)","v":0},0,0,0,0,0,0,0,0,0,0,0,0,null,{"$f":"IF(Base_Arbres!A604<>\"\",VLOOKUP($A501,Base_Arbres,4,FALSE)*Crit7,\"\")","v":""}]
[{"$f":"IF(Base_Arbres!A548<>\"\",Base_Arbres!A548,\"\")","v":""},{"$f":"IF(Base_Arbres!A548<>\"\",VLOOKUP($A502,Base_Arbres,3,FALSE)*Crit1,\"\")","v":""},{"$f":"IF(Base_Arbres!A548<>\"\",VLOOKUP($A502,Base_Arbres,4,FALSE)*Crit2,\"\")","v":""},{"$f":"IF(Base_Arbres!A548<>\"\",VLOOKUP($A502,Base_Arbres,5,FALSE)*Crit3,\"\")","v":""},{"$f":"IF(Base_Arbres!A548<>\"\",VLOOKUP($A502,Base_Arbres,6,FALSE)*Crit4,\"\")","v":""},{"$f":"IF(Base_Arbres!B502<>\"\",VLOOKUP($A502,Base_Arbres,7,FALSE)*Crit5,\"\")","v":""},{"$f":"IF(Base_Arbres!C502<>\"\",VLOOKUP($A502,Base_Arbres,8,FALSE)*crit8,\"\")","v":""},{"$f":"IF(Base_Arbres!D502<>\"\",VLOOKUP($A502,Base_Arbres,9,FALSE)*crit9,\"\")","v":""},{"$f":"IF(ISNA(VLOOKUP(INDEX(Base_Typologie!$A$6:$P$1003,MATCH(A502,Base_Typologie!$A:$A,0)-5,MATCH(Typologie_Espace_Public,Base_Typologie!$6:$6,0)),TableauScoreTypologie2,2,FALSE)*Crit6),0,VLOOKUP(INDEX(Base_Typologie!$A$6:$P$1003,MATCH(A502,Base_Typologie!$A:$A,0)-5,MATCH(Typologie_Espace_Public,Base_Typologie!$6:$6,0)),TableauScoreTypologie2,2,FALSE)*Crit6)","v":0},0,0,0,0,0,0,0,0,0,0,0,0,null,{"$f":"IF(Base_Arbres!A605<>\"\",VLOOKUP($A502,Base_Arbres,4,FALSE)*Crit7,\"\")","v":""}]
[{"$f":"IF(Base_Arbres!A549<>\"\",Base_Arbres!A549,\"\")","v":""},{"$f":"IF(Base_Arbres!A549<>\"\",VLOOKUP($A503,Base_Arbres,3,FALSE)*Crit1,\"\")","v":""},{"$f":"IF(Base_Arbres!A549<>\"\",VLOOKUP($A503,Base_Arbres,4,FALSE)*Crit2,\"\")","v":""},{"$f":"IF(Base_Arbres!A549<>\"\",VLOOKUP($A503,Base_Arbres,5,FALSE)*Crit3,\"\")","v":""},{"$f":"IF(Base_Arbres!A549<>\"\",VLOOKUP($A503,Base_Arbres,6,FALSE)*Crit4,\"\")","v":""},{"$f":"IF(Base_Arbres!B503<>\"\",VLOOKUP($A503,Base_Arbres,7,FALSE)*Crit5,\"\")","v":""},{"$f":"IF(Base_Arbres!C503<>\"\",VLOOKUP($A503,Base_Arbres,8,FALSE)*crit8,\"\")","v":""},{"$f":"IF(Base_Arbres!D503<>\"\",VLOOKUP($A503,Base_Arbres,9,FALSE)*crit9,\"\")","v":""},{"$f":"IF(ISNA(VLOOKUP(INDEX(Base_Typologie!$A$6:$P$1003,MATCH(A503,Base_Typologie!$A:$A,0)-5,MATCH(Typologie_Espace_Public,Base_Typologie!$6:$6,0)),TableauScoreTypologie2,2,FALSE)*Crit6),0,VLOOKUP(INDEX(Base_Typologie!$A$6:$P$1003,MATCH(A503,Base_Typologie!$A:$A,0)-5,MATCH(Typologie_Espace_Public,Base_Typologie!$6:$6,0)),TableauScoreTypologie2,2,FALSE)*Crit6)","v":0},0,0,0,0,0,0,0,0,0,0,0,0,null,{"$f":"IF(Base_Arbres!A606<>\"\",VLOOKUP($A503,Base_Arbres,4,FALSE)*Crit7,\"\")","v":""}]
[{"$f":"IF(Base_Arbres!A550<>\"\",Base_Arbres!A550,\"\")","v":""},{"$f":"IF(Base_Arbres!A550<>\"\",VLOOKUP($A504,Base_Arbres,3,FALSE)*Crit1,\"\")","v":""},{"$f":"IF(Base_Arbres!A550<>\"\",VLOOKUP($A504,Base_Arbres,4,FALSE)*Crit2,\"\")","v":""},{"$f":"IF(Base_Arbres!A550<>\"\",VLOOKUP($A504,Base_Arbres,5,FALSE)*Crit3,\"\")","v":""},{"$f":"IF(Base_Arbres!A550<>\"\",VLOOKUP($A504,Base_Arbres,6,FALSE)*Crit4,\"\")","v":""},{"$f":"IF(Base_Arbres!B504<>\"\",VLOOKUP($A504,Base_Arbres,7,FALSE)*Crit5,\"\")","v":""},{"$f":"IF(Base_Arbres!C504<>\"\",VLOOKUP($A504,Base_Arbres,8,FALSE)*crit8,\"\")","v":""},{"$f":"IF(Base_Arbres!D504<>\"\",VLOOKUP($A504,Base_Arbres,9,FALSE)*crit9,\"\")","v":""},{"$f":"IF(ISNA(VLOOKUP(INDEX(Base_Typologie!$A$6:$P$1003,MATCH(A504,Base_Typologie!$A:$A,0)-5,MATCH(Typologie_Espace_Public,Base_Typologie!$6:$6,0)),TableauScoreTypologie2,2,FALSE)*Crit6),0,VLOOKUP(INDEX(Base_Typologie!$A$6:$P$1003,MATCH(A504,Base_Typologie!$A:$A,0)-5,MATCH(Typologie_Espace_Public,Base_Typologie!$6:$6,0)),TableauScoreTypologie2,2,FALSE)*Crit6)","v":0},0,0,0,0,0,0,0,0,0,0,0,0,null,{"$f":"IF(Base_Arbres!A607<>\"\",VLOOKUP($A504,Base_Arbres,4,FALSE)*Crit7,\"\")","v":""}]
[{"$f":"IF(Base_Arbres!A551<>\"\",Base_Arbres!A551,\"\")","v":""},{"$f":"IF(Base_Arbres!A551<>\"\",VLOOKUP($A505,Base_Arbres,3,FALSE)*Crit1,\"\")","v":""},{"$f":"IF(Base_Arbres!A551<>\"\",VLOOKUP($A505,Base_Arbres,4,FALSE)*Crit2,\"\")","v":""},{"$f":"IF(Base_Arbres!A551<>\"\",VLOOKUP($A505,Base_Arbres,5,FALSE)*Crit3,\"\")","v":""},{"$f":"IF(Base_Arbres!A551<>\"\",VLOOKUP($A505,Base_Arbres,6,FALSE)*Crit4,\"\")","v":""},{"$f":"IF(Base_Arbres!B505<>\"\",VLOOKUP($A505,Base_Arbres,7,FALSE)*Crit5,\"\")","v":""},{"$f":"IF(Base_Arbres!C505<>\"\",VLOOKUP($A505,Base_Arbres,8,FALSE)*crit8,\"\")","v":""},{"$f":"IF(Base_Arbres!D505<>\"\",VLOOKUP($A505,Base_Arbres,9,FALSE)*crit9,\"\")","v":""},{"$f":"IF(ISNA(VLOOKUP(INDEX(Base_Typologie!$A$6:$P$1003,MATCH(A505,Base_Typologie!$A:$A,0)-5,MATCH(Typologie_Espace_Public,Base_Typologie!$6:$6,0)),TableauScoreTypologie2,2,FALSE)*Crit6),0,VLOOKUP(INDEX(Base_Typologie!$A$6:$P$1003,MATCH(A505,Base_Typologie!$A:$A,0)-5,MATCH(Typologie_Espace_Public,Base_Typologie!$6:$6,0)),TableauScoreTypologie2,2,FALSE)*Crit6)","v":0},0,0,0,0,0,0,0,0,0,0,0,0,null,{"$f":"IF(Base_Arbres!A608<>\"\",VLOOKUP($A505,Base_Arbres,4,FALSE)*Crit7,\"\")","v":""}]
[{"$f":"IF(Base_Arbres!A552<>\"\",Base_Arbres!A552,\"\")","v":""},{"$f":"IF(Base_Arbres!A552<>\"\",VLOOKUP($A506,Base_Arbres,3,FALSE)*Crit1,\"\")","v":""},{"$f":"IF(Base_Arbres!A552<>\"\",VLOOKUP($A506,Base_Arbres,4,FALSE)*Crit2,\"\")","v":""},{"$f":"IF(Base_Arbres!A552<>\"\",VLOOKUP($A506,Base_Arbres,5,FALSE)*Crit3,\"\")","v":""},{"$f":"IF(Base_Arbres!A552<>\"\",VLOOKUP($A506,Base_Arbres,6,FALSE)*Crit4,\"\")","v":""},{"$f":"IF(Base_Arbres!B506<>\"\",VLOOKUP($A506,Base_Arbres,7,FALSE)*Crit5,\"\")","v":""},{"$f":"IF(Base_Arbres!C506<>\"\",VLOOKUP($A506,Base_Arbres,8,FALSE)*crit8,\"\")","v":""},{"$f":"IF(Base_Arbres!D506<>\"\",VLOOKUP($A506,Base_Arbres,9,FALSE)*crit9,\"\")","v":""},{"$f":"IF(ISNA(VLOOKUP(INDEX(Base_Typologie!$A$6:$P$1003,MATCH(A506,Base_Typologie!$A:$A,0)-5,MATCH(Typologie_Espace_Public,Base_Typologie!$6:$6,0)),TableauScoreTypologie2,2,FALSE)*Crit6),0,VLOOKUP(INDEX(Base_Typologie!$A$6:$P$1003,MATCH(A506,Base_Typologie!$A:$A,0)-5,MATCH(Typologie_Espace_Public,Base_Typologie!$6:$6,0)),TableauScoreTypologie2,2,FALSE)*Crit6)","v":0},0,0,0,0,0,0,0,0,0,0,0,0,null,{"$f":"IF(Base_Arbres!A609<>\"\",VLOOKUP($A506,Base_Arbres,4,FALSE)*Crit7,\"\")","v":""}]
[{"$f":"IF(Base_Arbres!A553<>\"\",Base_Arbres!A553,\"\")","v":""},{"$f":"IF(Base_Arbres!A553<>\"\",VLOOKUP($A507,Base_Arbres,3,FALSE)*Crit1,\"\")","v":""},{"$f":"IF(Base_Arbres!A553<>\"\",VLOOKUP($A507,Base_Arbres,4,FALSE)*Crit2,\"\")","v":""},{"$f":"IF(Base_Arbres!A553<>\"\",VLOOKUP($A507,Base_Arbres,5,FALSE)*Crit3,\"\")","v":""},{"$f":"IF(Base_Arbres!A553<>\"\",VLOOKUP($A507,Base_Arbres,6,FALSE)*Crit4,\"\")","v":""},{"$f":"IF(Base_Arbres!B507<>\"\",VLOOKUP($A507,Base_Arbres,7,FALSE)*Crit5,\"\")","v":""},{"$f":"IF(Base_Arbres!C507<>\"\",VLOOKUP($A507,Base_Arbres,8,FALSE)*crit8,\"\")","v":""},{"$f":"IF(Base_Arbres!D507<>\"\",VLOOKUP($A507,Base_Arbres,9,FALSE)*crit9,\"\")","v":""},{"$f":"IF(ISNA(VLOOKUP(INDEX(Base_Typologie!$A$6:$P$1003,MATCH(A507,Base_Typologie!$A:$A,0)-5,MATCH(Typologie_Espace_Public,Base_Typologie!$6:$6,0)),TableauScoreTypologie2,2,FALSE)*Crit6),0,VLOOKUP(INDEX(Base_Typologie!$A$6:$P$1003,MATCH(A507,Base_Typologie!$A:$A,0)-5,MATCH(Typologie_Espace_Public,Base_Typologie!$6:$6,0)),TableauScoreTypologie2,2,FALSE)*Crit6)","v":0},0,0,0,0,0,0,0,0,0,0,0,0,null,{"$f":"IF(Base_Arbres!A610<>\"\",VLOOKUP($A507,Base_Arbres,4,FALSE)*Crit7,\"\")","v":""}]
[{"$f":"IF(Base_Arbres!A554<>\"\",Base_Arbres!A554,\"\")","v":""},{"$f":"IF(Base_Arbres!A554<>\"\",VLOOKUP($A508,Base_Arbres,3,FALSE)*Crit1,\"\")","v":""},{"$f":"IF(Base_Arbres!A554<>\"\",VLOOKUP($A508,Base_Arbres,4,FALSE)*Crit2,\"\")","v":""},{"$f":"IF(Base_Arbres!A554<>\"\",VLOOKUP($A508,Base_Arbres,5,FALSE)*Crit3,\"\")","v":""},{"$f":"IF(Base_Arbres!A554<>\"\",VLOOKUP($A508,Base_Arbres,6,FALSE)*Crit4,\"\")","v":""},{"$f":"IF(Base_Arbres!B508<>\"\",VLOOKUP($A508,Base_Arbres,7,FALSE)*Crit5,\"\")","v":""},{"$f":"IF(Base_Arbres!C508<>\"\",VLOOKUP($A508,Base_Arbres,8,FALSE)*crit8,\"\")","v":""},{"$f":"IF(Base_Arbres!D508<>\"\",VLOOKUP($A508,Base_Arbres,9,FALSE)*crit9,\"\")","v":""},{"$f":"IF(ISNA(VLOOKUP(INDEX(Base_Typologie!$A$6:$P$1003,MATCH(A508,Base_Typologie!$A:$A,0)-5,MATCH(Typologie_Espace_Public,Base_Typologie!$6:$6,0)),TableauScoreTypologie2,2,FALSE)*Crit6),0,VLOOKUP(INDEX(Base_Typologie!$A$6:$P$1003,MATCH(A508,Base_Typologie!$A:$A,0)-5,MATCH(Typologie_Espace_Public,Base_Typologie!$6:$6,0)),TableauScoreTypologie2,2,FALSE)*Crit6)","v":0},0,0,0,0,0,0,0,0,0,0,0,0,null,{"$f":"IF(Base_Arbres!A611<>\"\",VLOOKUP($A508,Base_Arbres,4,FALSE)*Crit7,\"\")","v":""}]
[{"$f":"IF(Base_Arbres!A555<>\"\",Base_Arbres!A555,\"\")","v":""},{"$f":"IF(Base_Arbres!A555<>\"\",VLOOKUP($A509,Base_Arbres,3,FALSE)*Crit1,\"\")","v":""},{"$f":"IF(Base_Arbres!A555<>\"\",VLOOKUP($A509,Base_Arbres,4,FALSE)*Crit2,\"\")","v":""},{"$f":"IF(Base_Arbres!A555<>\"\",VLOOKUP($A509,Base_Arbres,5,FALSE)*Crit3,\"\")","v":""},{"$f":"IF(Base_Arbres!A555<>\"\",VLOOKUP($A509,Base_Arbres,6,FALSE)*Crit4,\"\")","v":""},{"$f":"IF(Base_Arbres!B509<>\"\",VLOOKUP($A509,Base_Arbres,7,FALSE)*Crit5,\"\")","v":""},{"$f":"IF(Base_Arbres!C509<>\"\",VLOOKUP($A509,Base_Arbres,8,FALSE)*crit8,\"\")","v":""},{"$f":"IF(Base_Arbres!D509<>\"\",VLOOKUP($A509,Base_Arbres,9,FALSE)*crit9,\"\")","v":""},{"$f":"IF(ISNA(VLOOKUP(INDEX(Base_Typologie!$A$6:$P$1003,MATCH(A509,Base_Typologie!$A:$A,0)-5,MATCH(Typologie_Espace_Public,Base_Typologie!$6:$6,0)),TableauScoreTypologie2,2,FALSE)*Crit6),0,VLOOKUP(INDEX(Base_Typologie!$A$6:$P$1003,MATCH(A509,Base_Typologie!$A:$A,0)-5,MATCH(Typologie_Espace_Public,Base_Typologie!$6:$6,0)),TableauScoreTypologie2,2,FALSE)*Crit6)","v":0},0,0,0,0,0,0,0,0,0,0,0,0,null,{"$f":"IF(Base_Arbres!A612<>\"\",VLOOKUP($A509,Base_Arbres,4,FALSE)*Crit7,\"\")","v":""}]
[{"$f":"IF(Base_Arbres!A556<>\"\",Base_Arbres!A556,\"\")","v":""},{"$f":"IF(Base_Arbres!A556<>\"\",VLOOKUP($A510,Base_Arbres,3,FALSE)*Crit1,\"\")","v":""},{"$f":"IF(Base_Arbres!A556<>\"\",VLOOKUP($A510,Base_Arbres,4,FALSE)*Crit2,\"\")","v":""},{"$f":"IF(Base_Arbres!A556<>\"\",VLOOKUP($A510,Base_Arbres,5,FALSE)*Crit3,\"\")","v":""},{"$f":"IF(Base_Arbres!A556<>\"\",VLOOKUP($A510,Base_Arbres,6,FALSE)*Crit4,\"\")","v":""},{"$f":"IF(Base_Arbres!B510<>\"\",VLOOKUP($A510,Base_Arbres,7,FALSE)*Crit5,\"\")","v":""},{"$f":"IF(Base_Arbres!C510<>\"\",VLOOKUP($A510,Base_Arbres,8,FALSE)*crit8,\"\")","v":""},{"$f":"IF(Base_Arbres!D510<>\"\",VLOOKUP($A510,Base_Arbres,9,FALSE)*crit9,\"\")","v":""},{"$f":"IF(ISNA(VLOOKUP(INDEX(Base_Typologie!$A$6:$P$1003,MATCH(A510,Base_Typologie!$A:$A,0)-5,MATCH(Typologie_Espace_Public,Base_Typologie!$6:$6,0)),TableauScoreTypologie2,2,FALSE)*Crit6),0,VLOOKUP(INDEX(Base_Typologie!$A$6:$P$1003,MATCH(A510,Base_Typologie!$A:$A,0)-5,MATCH(Typologie_Espace_Public,Base_Typologie!$6:$6,0)),TableauScoreTypologie2,2,FALSE)*Crit6)","v":0},0,0,0,0,0,0,0,0,0,0,0,0,null,{"$f":"IF(Base_Arbres!A613<>\"\",VLOOKUP($A510,Base_Arbres,4,FALSE)*Crit7,\"\")","v":""}]
[{"$f":"IF(Base_Arbres!A557<>\"\",Base_Arbres!A557,\"\")","v":""},{"$f":"IF(Base_Arbres!A557<>\"\",VLOOKUP($A511,Base_Arbres,3,FALSE)*Crit1,\"\")","v":""},{"$f":"IF(Base_Arbres!A557<>\"\",VLOOKUP($A511,Base_Arbres,4,FALSE)*Crit2,\"\")","v":""},{"$f":"IF(Base_Arbres!A557<>\"\",VLOOKUP($A511,Base_Arbres,5,FALSE)*Crit3,\"\")","v":""},{"$f":"IF(Base_Arbres!A557<>\"\",VLOOKUP($A511,Base_Arbres,6,FALSE)*Crit4,\"\")","v":""},{"$f":"IF(Base_Arbres!B511<>\"\",VLOOKUP($A511,Base_Arbres,7,FALSE)*Crit5,\"\")","v":""},{"$f":"IF(Base_Arbres!C511<>\"\",VLOOKUP($A511,Base_Arbres,8,FALSE)*crit8,\"\")","v":""},{"$f":"IF(Base_Arbres!D511<>\"\",VLOOKUP($A511,Base_Arbres,9,FALSE)*crit9,\"\")","v":""},{"$f":"IF(ISNA(VLOOKUP(INDEX(Base_Typologie!$A$6:$P$1003,MATCH(A511,Base_Typologie!$A:$A,0)-5,MATCH(Typologie_Espace_Public,Base_Typologie!$6:$6,0)),TableauScoreTypologie2,2,FALSE)*Crit6),0,VLOOKUP(INDEX(Base_Typologie!$A$6:$P$1003,MATCH(A511,Base_Typologie!$A:$A,0)-5,MATCH(Typologie_Espace_Public,Base_Typologie!$6:$6,0)),TableauScoreTypologie2,2,FALSE)*Crit6)","v":0},0,0,0,0,0,0,0,0,0,0,0,0,null,{"$f":"IF(Base_Arbres!A614<>\"\",VLOOKUP($A511,Base_Arbres,4,FALSE)*Crit7,\"\")","v":""}]
[{"$f":"IF(Base_Arbres!A558<>\"\",Base_Arbres!A558,\"\")","v":""},{"$f":"IF(Base_Arbres!A558<>\"\",VLOOKUP($A512,Base_Arbres,3,FALSE)*Crit1,\"\")","v":""},{"$f":"IF(Base_Arbres!A558<>\"\",VLOOKUP($A512,Base_Arbres,4,FALSE)*Crit2,\"\")","v":""},{"$f":"IF(Base_Arbres!A558<>\"\",VLOOKUP($A512,Base_Arbres,5,FALSE)*Crit3,\"\")","v":""},{"$f":"IF(Base_Arbres!A558<>\"\",VLOOKUP($A512,Base_Arbres,6,FALSE)*Crit4,\"\")","v":""},{"$f":"IF(Base_Arbres!B512<>\"\",VLOOKUP($A512,Base_Arbres,7,FALSE)*Crit5,\"\")","v":""},{"$f":"IF(Base_Arbres!C512<>\"\",VLOOKUP($A512,Base_Arbres,8,FALSE)*crit8,\"\")","v":""},{"$f":"IF(Base_Arbres!D512<>\"\",VLOOKUP($A512,Base_Arbres,9,FALSE)*crit9,\"\")","v":""},{"$f":"IF(ISNA(VLOOKUP(INDEX(Base_Typologie!$A$6:$P$1003,MATCH(A512,Base_Typologie!$A:$A,0)-5,MATCH(Typologie_Espace_Public,Base_Typologie!$6:$6,0)),TableauScoreTypologie2,2,FALSE)*Crit6),0,VLOOKUP(INDEX(Base_Typologie!$A$6:$P$1003,MATCH(A512,Base_Typologie!$A:$A,0)-5,MATCH(Typologie_Espace_Public,Base_Typologie!$6:$6,0)),TableauScoreTypologie2,2,FALSE)*Crit6)","v":0},0,0,0,0,0,0,0,0,0,0,0,0,null,{"$f":"IF(Base_Arbres!A615<>\"\",VLOOKUP($A512,Base_Arbres,4,FALSE)*Crit7,\"\")","v":""}]
[{"$f":"IF(Base_Arbres!A559<>\"\",Base_Arbres!A559,\"\")","v":""},{"$f":"IF(Base_Arbres!A559<>\"\",VLOOKUP($A513,Base_Arbres,3,FALSE)*Crit1,\"\")","v":""},{"$f":"IF(Base_Arbres!A559<>\"\",VLOOKUP($A513,Base_Arbres,4,FALSE)*Crit2,\"\")","v":""},{"$f":"IF(Base_Arbres!A559<>\"\",VLOOKUP($A513,Base_Arbres,5,FALSE)*Crit3,\"\")","v":""},{"$f":"IF(Base_Arbres!A559<>\"\",VLOOKUP($A513,Base_Arbres,6,FALSE)*Crit4,\"\")","v":""},{"$f":"IF(Base_Arbres!B513<>\"\",VLOOKUP($A513,Base_Arbres,7,FALSE)*Crit5,\"\")","v":""},{"$f":"IF(Base_Arbres!C513<>\"\",VLOOKUP($A513,Base_Arbres,8,FALSE)*crit8,\"\")","v":""},{"$f":"IF(Base_Arbres!D513<>\"\",VLOOKUP($A513,Base_Arbres,9,FALSE)*crit9,\"\")","v":""},{"$f":"IF(ISNA(VLOOKUP(INDEX(Base_Typologie!$A$6:$P$1003,MATCH(A513,Base_Typologie!$A:$A,0)-5,MATCH(Typologie_Espace_Public,Base_Typologie!$6:$6,0)),TableauScoreTypologie2,2,FALSE)*Crit6),0,VLOOKUP(INDEX(Base_Typologie!$A$6:$P$1003,MATCH(A513,Base_Typologie!$A:$A,0)-5,MATCH(Typologie_Espace_Public,Base_Typologie!$6:$6,0)),TableauScoreTypologie2,2,FALSE)*Crit6)","v":0},0,0,0,0,0,0,0,0,0,0,0,0,null,{"$f":"IF(Base_Arbres!A616<>\"\",VLOOKUP($A513,Base_Arbres,4,FALSE)*Crit7,\"\")","v":""}]
[{"$f":"IF(Base_Arbres!A560<>\"\",Base_Arbres!A560,\"\")","v":""},{"$f":"IF(Base_Arbres!A560<>\"\",VLOOKUP($A514,Base_Arbres,3,FALSE)*Crit1,\"\")","v":""},{"$f":"IF(Base_Arbres!A560<>\"\",VLOOKUP($A514,Base_Arbres,4,FALSE)*Crit2,\"\")","v":""},{"$f":"IF(Base_Arbres!A560<>\"\",VLOOKUP($A514,Base_Arbres,5,FALSE)*Crit3,\"\")","v":""},{"$f":"IF(Base_Arbres!A560<>\"\",VLOOKUP($A514,Base_Arbres,6,FALSE)*Crit4,\"\")","v":""},{"$f":"IF(Base_Arbres!B514<>\"\",VLOOKUP($A514,Base_Arbres,7,FALSE)*Crit5,\"\")","v":""},{"$f":"IF(Base_Arbres!C514<>\"\",VLOOKUP($A514,Base_Arbres,8,FALSE)*crit8,\"\")","v":""},{"$f":"IF(Base_Arbres!D514<>\"\",VLOOKUP($A514,Base_Arbres,9,FALSE)*crit9,\"\")","v":""},{"$f":"IF(ISNA(VLOOKUP(INDEX(Base_Typologie!$A$6:$P$1003,MATCH(A514,Base_Typologie!$A:$A,0)-5,MATCH(Typologie_Espace_Public,Base_Typologie!$6:$6,0)),TableauScoreTypologie2,2,FALSE)*Crit6),0,VLOOKUP(INDEX(Base_Typologie!$A$6:$P$1003,MATCH(A514,Base_Typologie!$A:$A,0)-5,MATCH(Typologie_Espace_Public,Base_Typologie!$6:$6,0)),TableauScoreTypologie2,2,FALSE)*Crit6)","v":0},{"$f":"IF(A514<>\"\",IF(LEFT(VLOOKUP($A514,Base_Arbres,10,FALSE),1)>=LEFT(Cont_Racines,1),0,1),0)","v":0},{"$f":"IF(A514<>\"\",IF(LEFT(VLOOKUP($A514,Base_Arbres,11,FALSE),1)>=LEFT(Cont_Branches,1),0,1),0)","v":0},{"$f":"IF(A514<>\"\",IF(LEFT(VLOOKUP($A514,Base_Arbres,12,FALSE),1)>=LEFT(Cont_Chablis,1),0,1),0)","v":0},{"$f":"IF(A514<>\"\",IF(LEFT(VLOOKUP($A514,Base_Arbres,13,FALSE),1)>=LEFT(Cont_Fructifications,1),0,1),0)","v":0},{"$f":"IF(A514<>\"\",IF(LEFT(VLOOKUP($A514,Base_Arbres,14,FALSE),1)>=LEFT(Cont_Miellat,1),0,1),0)","v":0},{"$f":"IF(A514<>\"\",IF(LEFT(VLOOKUP($A514,Base_Arbres,15,FALSE),1)>=LEFT(Cont_Fruits_Toxiques,1),0,1),0)","v":0},{"$f":"IF(A514<>\"\",IF(LEFT(VLOOKUP($A514,Base_Arbres,16,FALSE),1)>=LEFT(Cont_Hauteur,1),0,1),0)","v":0},{"$f":"IF(A514<>\"\",IF(LEFT(VLOOKUP($A514,Base_Arbres,17,FALSE),1)>=LEFT(Cont_Envergure,1),0,1),0)","v":0},{"$f":"IF(A514<>\"\",IF(LEFT(VLOOKUP($A514,Base_Arbres,18,FALSE),1)>=LEFT(Cont_pollen,1),0,1),0)","v":0},{"$f":"IF(B514<>\"\",IF(LEFT(VLOOKUP($A514,Base_Arbres,19,FALSE),1)>=LEFT(Cont_malodo,1),0,1),0)","v":0},{"$f":"IF(A514<>\"\",IF(LEFT(VLOOKUP($A514,Base_Arbres,20,FALSE),1)>=LEFT(Cont_chenilles,1),0,1),0)","v":0},{"$f":"IF(A514<>\"\",IF(LEFT(VLOOKUP($A514,Base_Arbres,21,FALSE),1)>=LEFT(Cont_epineux,1),0,1),0)","v":0},null,{"$f":"IF(Base_Arbres!A617<>\"\",VLOOKUP($A514,Base_Arbres,4,FALSE)*Crit7,\"\")","v":""}]
[{"$f":"IF(Base_Arbres!A561<>\"\",Base_Arbres!A561,\"\")","v":""},{"$f":"IF(Base_Arbres!A561<>\"\",VLOOKUP($A515,Base_Arbres,3,FALSE)*Crit1,\"\")","v":""},{"$f":"IF(Base_Arbres!A561<>\"\",VLOOKUP($A515,Base_Arbres,4,FALSE)*Crit2,\"\")","v":""},{"$f":"IF(Base_Arbres!A561<>\"\",VLOOKUP($A515,Base_Arbres,5,FALSE)*Crit3,\"\")","v":""},{"$f":"IF(Base_Arbres!A561<>\"\",VLOOKUP($A515,Base_Arbres,6,FALSE)*Crit4,\"\")","v":""},{"$f":"IF(Base_Arbres!B515<>\"\",VLOOKUP($A515,Base_Arbres,7,FALSE)*Crit5,\"\")","v":""},{"$f":"IF(Base_Arbres!C515<>\"\",VLOOKUP($A515,Base_Arbres,8,FALSE)*crit8,\"\")","v":""},{"$f":"IF(Base_Arbres!D515<>\"\",VLOOKUP($A515,Base_Arbres,9,FALSE)*crit9,\"\")","v":""},{"$f":"IF(ISNA(VLOOKUP(INDEX(Base_Typologie!$A$6:$P$1003,MATCH(A515,Base_Typologie!$A:$A,0)-5,MATCH(Typologie_Espace_Public,Base_Typologie!$6:$6,0)),TableauScoreTypologie2,2,FALSE)*Crit6),0,VLOOKUP(INDEX(Base_Typologie!$A$6:$P$1003,MATCH(A515,Base_Typologie!$A:$A,0)-5,MATCH(Typologie_Espace_Public,Base_Typologie!$6:$6,0)),TableauScoreTypologie2,2,FALSE)*Crit6)","v":0},0,0,0,0,0,0,0,0,0,0,0,0,null,{"$f":"IF(Base_Arbres!A618<>\"\",VLOOKUP($A515,Base_Arbres,4,FALSE)*Crit7,\"\")","v":""}]
[{"$f":"IF(Base_Arbres!A562<>\"\",Base_Arbres!A562,\"\")","v":""},{"$f":"IF(Base_Arbres!A562<>\"\",VLOOKUP($A516,Base_Arbres,3,FALSE)*Crit1,\"\")","v":""},{"$f":"IF(Base_Arbres!A562<>\"\",VLOOKUP($A516,Base_Arbres,4,FALSE)*Crit2,\"\")","v":""},{"$f":"IF(Base_Arbres!A562<>\"\",VLOOKUP($A516,Base_Arbres,5,FALSE)*Crit3,\"\")","v":""},{"$f":"IF(Base_Arbres!A562<>\"\",VLOOKUP($A516,Base_Arbres,6,FALSE)*Crit4,\"\")","v":""},{"$f":"IF(Base_Arbres!B516<>\"\",VLOOKUP($A516,Base_Arbres,7,FALSE)*Crit5,\"\")","v":""},{"$f":"IF(Base_Arbres!C516<>\"\",VLOOKUP($A516,Base_Arbres,8,FALSE)*crit8,\"\")","v":""},{"$f":"IF(Base_Arbres!D516<>\"\",VLOOKUP($A516,Base_Arbres,9,FALSE)*crit9,\"\")","v":""},{"$f":"IF(ISNA(VLOOKUP(INDEX(Base_Typologie!$A$6:$P$1003,MATCH(A516,Base_Typologie!$A:$A,0)-5,MATCH(Typologie_Espace_Public,Base_Typologie!$6:$6,0)),TableauScoreTypologie2,2,FALSE)*Crit6),0,VLOOKUP(INDEX(Base_Typologie!$A$6:$P$1003,MATCH(A516,Base_Typologie!$A:$A,0)-5,MATCH(Typologie_Espace_Public,Base_Typologie!$6:$6,0)),TableauScoreTypologie2,2,FALSE)*Crit6)","v":0},0,0,0,0,0,0,0,0,0,0,0,0,null,{"$f":"IF(Base_Arbres!A619<>\"\",VLOOKUP($A516,Base_Arbres,4,FALSE)*Crit7,\"\")","v":""}]
[{"$f":"IF(Base_Arbres!A563<>\"\",Base_Arbres!A563,\"\")","v":""},{"$f":"IF(Base_Arbres!A563<>\"\",VLOOKUP($A517,Base_Arbres,3,FALSE)*Crit1,\"\")","v":""},{"$f":"IF(Base_Arbres!A563<>\"\",VLOOKUP($A517,Base_Arbres,4,FALSE)*Crit2,\"\")","v":""},{"$f":"IF(Base_Arbres!A563<>\"\",VLOOKUP($A517,Base_Arbres,5,FALSE)*Crit3,\"\")","v":""},{"$f":"IF(Base_Arbres!A563<>\"\",VLOOKUP($A517,Base_Arbres,6,FALSE)*Crit4,\"\")","v":""},{"$f":"IF(Base_Arbres!B517<>\"\",VLOOKUP($A517,Base_Arbres,7,FALSE)*Crit5,\"\")","v":""},{"$f":"IF(Base_Arbres!C517<>\"\",VLOOKUP($A517,Base_Arbres,8,FALSE)*crit8,\"\")","v":""},{"$f":"IF(Base_Arbres!D517<>\"\",VLOOKUP($A517,Base_Arbres,9,FALSE)*crit9,\"\")","v":""},{"$f":"IF(ISNA(VLOOKUP(INDEX(Base_Typologie!$A$6:$P$1003,MATCH(A517,Base_Typologie!$A:$A,0)-5,MATCH(Typologie_Espace_Public,Base_Typologie!$6:$6,0)),TableauScoreTypologie2,2,FALSE)*Crit6),0,VLOOKUP(INDEX(Base_Typologie!$A$6:$P$1003,MATCH(A517,Base_Typologie!$A:$A,0)-5,MATCH(Typologie_Espace_Public,Base_Typologie!$6:$6,0)),TableauScoreTypologie2,2,FALSE)*Crit6)","v":0},0,0,0,0,0,0,0,0,0,0,0,0,null,{"$f":"IF(Base_Arbres!A620<>\"\",VLOOKUP($A517,Base_Arbres,4,FALSE)*Crit7,\"\")","v":""}]
[{"$f":"IF(Base_Arbres!A564<>\"\",Base_Arbres!A564,\"\")","v":""},{"$f":"IF(Base_Arbres!A564<>\"\",VLOOKUP($A518,Base_Arbres,3,FALSE)*Crit1,\"\")","v":""},{"$f":"IF(Base_Arbres!A564<>\"\",VLOOKUP($A518,Base_Arbres,4,FALSE)*Crit2,\"\")","v":""},{"$f":"IF(Base_Arbres!A564<>\"\",VLOOKUP($A518,Base_Arbres,5,FALSE)*Crit3,\"\")","v":""},{"$f":"IF(Base_Arbres!A564<>\"\",VLOOKUP($A518,Base_Arbres,6,FALSE)*Crit4,\"\")","v":""},{"$f":"IF(Base_Arbres!B518<>\"\",VLOOKUP($A518,Base_Arbres,7,FALSE)*Crit5,\"\")","v":""},{"$f":"IF(Base_Arbres!C518<>\"\",VLOOKUP($A518,Base_Arbres,8,FALSE)*crit8,\"\")","v":""},{"$f":"IF(Base_Arbres!D518<>\"\",VLOOKUP($A518,Base_Arbres,9,FALSE)*crit9,\"\")","v":""},{"$f":"IF(ISNA(VLOOKUP(INDEX(Base_Typologie!$A$6:$P$1003,MATCH(A518,Base_Typologie!$A:$A,0)-5,MATCH(Typologie_Espace_Public,Base_Typologie!$6:$6,0)),TableauScoreTypologie2,2,FALSE)*Crit6),0,VLOOKUP(INDEX(Base_Typologie!$A$6:$P$1003,MATCH(A518,Base_Typologie!$A:$A,0)-5,MATCH(Typologie_Espace_Public,Base_Typologie!$6:$6,0)),TableauScoreTypologie2,2,FALSE)*Crit6)","v":0},0,0,0,0,0,0,0,0,0,0,0,0,null,{"$f":"IF(Base_Arbres!A621<>\"\",VLOOKUP($A518,Base_Arbres,4,FALSE)*Crit7,\"\")","v":""}]
[{"$f":"IF(Base_Arbres!A565<>\"\",Base_Arbres!A565,\"\")","v":""},{"$f":"IF(Base_Arbres!A565<>\"\",VLOOKUP($A519,Base_Arbres,3,FALSE)*Crit1,\"\")","v":""},{"$f":"IF(Base_Arbres!A565<>\"\",VLOOKUP($A519,Base_Arbres,4,FALSE)*Crit2,\"\")","v":""},{"$f":"IF(Base_Arbres!A565<>\"\",VLOOKUP($A519,Base_Arbres,5,FALSE)*Crit3,\"\")","v":""},{"$f":"IF(Base_Arbres!A565<>\"\",VLOOKUP($A519,Base_Arbres,6,FALSE)*Crit4,\"\")","v":""},{"$f":"IF(Base_Arbres!B519<>\"\",VLOOKUP($A519,Base_Arbres,7,FALSE)*Crit5,\"\")","v":""},{"$f":"IF(Base_Arbres!C519<>\"\",VLOOKUP($A519,Base_Arbres,8,FALSE)*crit8,\"\")","v":""},{"$f":"IF(Base_Arbres!D519<>\"\",VLOOKUP($A519,Base_Arbres,9,FALSE)*crit9,\"\")","v":""},{"$f":"IF(ISNA(VLOOKUP(INDEX(Base_Typologie!$A$6:$P$1003,MATCH(A519,Base_Typologie!$A:$A,0)-5,MATCH(Typologie_Espace_Public,Base_Typologie!$6:$6,0)),TableauScoreTypologie2,2,FALSE)*Crit6),0,VLOOKUP(INDEX(Base_Typologie!$A$6:$P$1003,MATCH(A519,Base_Typologie!$A:$A,0)-5,MATCH(Typologie_Espace_Public,Base_Typologie!$6:$6,0)),TableauScoreTypologie2,2,FALSE)*Crit6)","v":0},0,0,0,0,0,0,0,0,0,0,0,0,null,{"$f":"IF(Base_Arbres!A622<>\"\",VLOOKUP($A519,Base_Arbres,4,FALSE)*Crit7,\"\")","v":""}]
[{"$f":"IF(Base_Arbres!A566<>\"\",Base_Arbres!A566,\"\")","v":""},{"$f":"IF(Base_Arbres!A566<>\"\",VLOOKUP($A520,Base_Arbres,3,FALSE)*Crit1,\"\")","v":""},{"$f":"IF(Base_Arbres!A566<>\"\",VLOOKUP($A520,Base_Arbres,4,FALSE)*Crit2,\"\")","v":""},{"$f":"IF(Base_Arbres!A566<>\"\",VLOOKUP($A520,Base_Arbres,5,FALSE)*Crit3,\"\")","v":""},{"$f":"IF(Base_Arbres!A566<>\"\",VLOOKUP($A520,Base_Arbres,6,FALSE)*Crit4,\"\")","v":""},{"$f":"IF(Base_Arbres!B520<>\"\",VLOOKUP($A520,Base_Arbres,7,FALSE)*Crit5,\"\")","v":""},{"$f":"IF(Base_Arbres!C520<>\"\",VLOOKUP($A520,Base_Arbres,8,FALSE)*crit8,\"\")","v":""},{"$f":"IF(Base_Arbres!D520<>\"\",VLOOKUP($A520,Base_Arbres,9,FALSE)*crit9,\"\")","v":""},{"$f":"IF(ISNA(VLOOKUP(INDEX(Base_Typologie!$A$6:$P$1003,MATCH(A520,Base_Typologie!$A:$A,0)-5,MATCH(Typologie_Espace_Public,Base_Typologie!$6:$6,0)),TableauScoreTypologie2,2,FALSE)*Crit6),0,VLOOKUP(INDEX(Base_Typologie!$A$6:$P$1003,MATCH(A520,Base_Typologie!$A:$A,0)-5,MATCH(Typologie_Espace_Public,Base_Typologie!$6:$6,0)),TableauScoreTypologie2,2,FALSE)*Crit6)","v":0},0,0,0,0,0,0,0,0,0,0,0,0,null,{"$f":"IF(Base_Arbres!A623<>\"\",VLOOKUP($A520,Base_Arbres,4,FALSE)*Crit7,\"\")","v":""}]
[{"$f":"IF(Base_Arbres!A567<>\"\",Base_Arbres!A567,\"\")","v":""},{"$f":"IF(Base_Arbres!A567<>\"\",VLOOKUP($A521,Base_Arbres,3,FALSE)*Crit1,\"\")","v":""},{"$f":"IF(Base_Arbres!A567<>\"\",VLOOKUP($A521,Base_Arbres,4,FALSE)*Crit2,\"\")","v":""},{"$f":"IF(Base_Arbres!A567<>\"\",VLOOKUP($A521,Base_Arbres,5,FALSE)*Crit3,\"\")","v":""},{"$f":"IF(Base_Arbres!A567<>\"\",VLOOKUP($A521,Base_Arbres,6,FALSE)*Crit4,\"\")","v":""},{"$f":"IF(Base_Arbres!B521<>\"\",VLOOKUP($A521,Base_Arbres,7,FALSE)*Crit5,\"\")","v":""},{"$f":"IF(Base_Arbres!C521<>\"\",VLOOKUP($A521,Base_Arbres,8,FALSE)*crit8,\"\")","v":""},{"$f":"IF(Base_Arbres!D521<>\"\",VLOOKUP($A521,Base_Arbres,9,FALSE)*crit9,\"\")","v":""},{"$f":"IF(ISNA(VLOOKUP(INDEX(Base_Typologie!$A$6:$P$1003,MATCH(A521,Base_Typologie!$A:$A,0)-5,MATCH(Typologie_Espace_Public,Base_Typologie!$6:$6,0)),TableauScoreTypologie2,2,FALSE)*Crit6),0,VLOOKUP(INDEX(Base_Typologie!$A$6:$P$1003,MATCH(A521,Base_Typologie!$A:$A,0)-5,MATCH(Typologie_Espace_Public,Base_Typologie!$6:$6,0)),TableauScoreTypologie2,2,FALSE)*Crit6)","v":0},0,0,0,0,0,0,0,0,0,0,0,0,null,{"$f":"IF(Base_Arbres!A624<>\"\",VLOOKUP($A521,Base_Arbres,4,FALSE)*Crit7,\"\")","v":""}]
[{"$f":"IF(Base_Arbres!A568<>\"\",Base_Arbres!A568,\"\")","v":""},{"$f":"IF(Base_Arbres!A568<>\"\",VLOOKUP($A522,Base_Arbres,3,FALSE)*Crit1,\"\")","v":""},{"$f":"IF(Base_Arbres!A568<>\"\",VLOOKUP($A522,Base_Arbres,4,FALSE)*Crit2,\"\")","v":""},{"$f":"IF(Base_Arbres!A568<>\"\",VLOOKUP($A522,Base_Arbres,5,FALSE)*Crit3,\"\")","v":""},{"$f":"IF(Base_Arbres!A568<>\"\",VLOOKUP($A522,Base_Arbres,6,FALSE)*Crit4,\"\")","v":""},{"$f":"IF(Base_Arbres!B522<>\"\",VLOOKUP($A522,Base_Arbres,7,FALSE)*Crit5,\"\")","v":""},{"$f":"IF(Base_Arbres!C522<>\"\",VLOOKUP($A522,Base_Arbres,8,FALSE)*crit8,\"\")","v":""},{"$f":"IF(Base_Arbres!D522<>\"\",VLOOKUP($A522,Base_Arbres,9,FALSE)*crit9,\"\")","v":""},{"$f":"IF(ISNA(VLOOKUP(INDEX(Base_Typologie!$A$6:$P$1003,MATCH(A522,Base_Typologie!$A:$A,0)-5,MATCH(Typologie_Espace_Public,Base_Typologie!$6:$6,0)),TableauScoreTypologie2,2,FALSE)*Crit6),0,VLOOKUP(INDEX(Base_Typologie!$A$6:$P$1003,MATCH(A522,Base_Typologie!$A:$A,0)-5,MATCH(Typologie_Espace_Public,Base_Typologie!$6:$6,0)),TableauScoreTypologie2,2,FALSE)*Crit6)","v":0},0,0,0,0,0,0,0,0,0,0,0,0,null,{"$f":"IF(Base_Arbres!A625<>\"\",VLOOKUP($A522,Base_Arbres,4,FALSE)*Crit7,\"\")","v":""}]
[{"$f":"IF(Base_Arbres!A569<>\"\",Base_Arbres!A569,\"\")","v":""},{"$f":"IF(Base_Arbres!A569<>\"\",VLOOKUP($A523,Base_Arbres,3,FALSE)*Crit1,\"\")","v":""},{"$f":"IF(Base_Arbres!A569<>\"\",VLOOKUP($A523,Base_Arbres,4,FALSE)*Crit2,\"\")","v":""},{"$f":"IF(Base_Arbres!A569<>\"\",VLOOKUP($A523,Base_Arbres,5,FALSE)*Crit3,\"\")","v":""},{"$f":"IF(Base_Arbres!A569<>\"\",VLOOKUP($A523,Base_Arbres,6,FALSE)*Crit4,\"\")","v":""},{"$f":"IF(Base_Arbres!B523<>\"\",VLOOKUP($A523,Base_Arbres,7,FALSE)*Crit5,\"\")","v":""},{"$f":"IF(Base_Arbres!C523<>\"\",VLOOKUP($A523,Base_Arbres,8,FALSE)*crit8,\"\")","v":""},{"$f":"IF(Base_Arbres!D523<>\"\",VLOOKUP($A523,Base_Arbres,9,FALSE)*crit9,\"\")","v":""},{"$f":"IF(ISNA(VLOOKUP(INDEX(Base_Typologie!$A$6:$P$1003,MATCH(A523,Base_Typologie!$A:$A,0)-5,MATCH(Typologie_Espace_Public,Base_Typologie!$6:$6,0)),TableauScoreTypologie2,2,FALSE)*Crit6),0,VLOOKUP(INDEX(Base_Typologie!$A$6:$P$1003,MATCH(A523,Base_Typologie!$A:$A,0)-5,MATCH(Typologie_Espace_Public,Base_Typologie!$6:$6,0)),TableauScoreTypologie2,2,FALSE)*Crit6)","v":0},0,0,0,0,0,0,0,0,0,0,0,0,null,{"$f":"IF(Base_Arbres!A626<>\"\",VLOOKUP($A523,Base_Arbres,4,FALSE)*Crit7,\"\")","v":""}]
[{"$f":"IF(Base_Arbres!A570<>\"\",Base_Arbres!A570,\"\")","v":""},{"$f":"IF(Base_Arbres!A570<>\"\",VLOOKUP($A524,Base_Arbres,3,FALSE)*Crit1,\"\")","v":""},{"$f":"IF(Base_Arbres!A570<>\"\",VLOOKUP($A524,Base_Arbres,4,FALSE)*Crit2,\"\")","v":""},{"$f":"IF(Base_Arbres!A570<>\"\",VLOOKUP($A524,Base_Arbres,5,FALSE)*Crit3,\"\")","v":""},{"$f":"IF(Base_Arbres!A570<>\"\",VLOOKUP($A524,Base_Arbres,6,FALSE)*Crit4,\"\")","v":""},{"$f":"IF(Base_Arbres!B524<>\"\",VLOOKUP($A524,Base_Arbres,7,FALSE)*Crit5,\"\")","v":""},{"$f":"IF(Base_Arbres!C524<>\"\",VLOOKUP($A524,Base_Arbres,8,FALSE)*crit8,\"\")","v":""},{"$f":"IF(Base_Arbres!D524<>\"\",VLOOKUP($A524,Base_Arbres,9,FALSE)*crit9,\"\")","v":""},{"$f":"IF(ISNA(VLOOKUP(INDEX(Base_Typologie!$A$6:$P$1003,MATCH(A524,Base_Typologie!$A:$A,0)-5,MATCH(Typologie_Espace_Public,Base_Typologie!$6:$6,0)),TableauScoreTypologie2,2,FALSE)*Crit6),0,VLOOKUP(INDEX(Base_Typologie!$A$6:$P$1003,MATCH(A524,Base_Typologie!$A:$A,0)-5,MATCH(Typologie_Espace_Public,Base_Typologie!$6:$6,0)),TableauScoreTypologie2,2,FALSE)*Crit6)","v":0},0,0,0,0,0,0,0,0,0,0,0,0,null,{"$f":"IF(Base_Arbres!A627<>\"\",VLOOKUP($A524,Base_Arbres,4,FALSE)*Crit7,\"\")","v":""}]
[{"$f":"IF(Base_Arbres!A571<>\"\",Base_Arbres!A571,\"\")","v":""},{"$f":"IF(Base_Arbres!A571<>\"\",VLOOKUP($A525,Base_Arbres,3,FALSE)*Crit1,\"\")","v":""},{"$f":"IF(Base_Arbres!A571<>\"\",VLOOKUP($A525,Base_Arbres,4,FALSE)*Crit2,\"\")","v":""},{"$f":"IF(Base_Arbres!A571<>\"\",VLOOKUP($A525,Base_Arbres,5,FALSE)*Crit3,\"\")","v":""},{"$f":"IF(Base_Arbres!A571<>\"\",VLOOKUP($A525,Base_Arbres,6,FALSE)*Crit4,\"\")","v":""},{"$f":"IF(Base_Arbres!B525<>\"\",VLOOKUP($A525,Base_Arbres,7,FALSE)*Crit5,\"\")","v":""},{"$f":"IF(Base_Arbres!C525<>\"\",VLOOKUP($A525,Base_Arbres,8,FALSE)*crit8,\"\")","v":""},{"$f":"IF(Base_Arbres!D525<>\"\",VLOOKUP($A525,Base_Arbres,9,FALSE)*crit9,\"\")","v":""},{"$f":"IF(ISNA(VLOOKUP(INDEX(Base_Typologie!$A$6:$P$1003,MATCH(A525,Base_Typologie!$A:$A,0)-5,MATCH(Typologie_Espace_Public,Base_Typologie!$6:$6,0)),TableauScoreTypologie2,2,FALSE)*Crit6),0,VLOOKUP(INDEX(Base_Typologie!$A$6:$P$1003,MATCH(A525,Base_Typologie!$A:$A,0)-5,MATCH(Typologie_Espace_Public,Base_Typologie!$6:$6,0)),TableauScoreTypologie2,2,FALSE)*Crit6)","v":0},0,0,0,0,0,0,0,0,0,0,0,0,null,{"$f":"IF(Base_Arbres!A628<>\"\",VLOOKUP($A525,Base_Arbres,4,FALSE)*Crit7,\"\")","v":""}]
[{"$f":"IF(Base_Arbres!A572<>\"\",Base_Arbres!A572,\"\")","v":""},{"$f":"IF(Base_Arbres!A572<>\"\",VLOOKUP($A526,Base_Arbres,3,FALSE)*Crit1,\"\")","v":""},{"$f":"IF(Base_Arbres!A572<>\"\",VLOOKUP($A526,Base_Arbres,4,FALSE)*Crit2,\"\")","v":""},{"$f":"IF(Base_Arbres!A572<>\"\",VLOOKUP($A526,Base_Arbres,5,FALSE)*Crit3,\"\")","v":""},{"$f":"IF(Base_Arbres!A572<>\"\",VLOOKUP($A526,Base_Arbres,6,FALSE)*Crit4,\"\")","v":""},{"$f":"IF(Base_Arbres!B526<>\"\",VLOOKUP($A526,Base_Arbres,7,FALSE)*Crit5,\"\")","v":""},{"$f":"IF(Base_Arbres!C526<>\"\",VLOOKUP($A526,Base_Arbres,8,FALSE)*crit8,\"\")","v":""},{"$f":"IF(Base_Arbres!D526<>\"\",VLOOKUP($A526,Base_Arbres,9,FALSE)*crit9,\"\")","v":""},{"$f":"IF(ISNA(VLOOKUP(INDEX(Base_Typologie!$A$6:$P$1003,MATCH(A526,Base_Typologie!$A:$A,0)-5,MATCH(Typologie_Espace_Public,Base_Typologie!$6:$6,0)),TableauScoreTypologie2,2,FALSE)*Crit6),0,VLOOKUP(INDEX(Base_Typologie!$A$6:$P$1003,MATCH(A526,Base_Typologie!$A:$A,0)-5,MATCH(Typologie_Espace_Public,Base_Typologie!$6:$6,0)),TableauScoreTypologie2,2,FALSE)*Crit6)","v":0},0,0,0,0,0,0,0,0,0,0,0,0,null,{"$f":"IF(Base_Arbres!A629<>\"\",VLOOKUP($A526,Base_Arbres,4,FALSE)*Crit7,\"\")","v":""}]
[{"$f":"IF(Base_Arbres!A573<>\"\",Base_Arbres!A573,\"\")","v":""},{"$f":"IF(Base_Arbres!A573<>\"\",VLOOKUP($A527,Base_Arbres,3,FALSE)*Crit1,\"\")","v":""},{"$f":"IF(Base_Arbres!A573<>\"\",VLOOKUP($A527,Base_Arbres,4,FALSE)*Crit2,\"\")","v":""},{"$f":"IF(Base_Arbres!A573<>\"\",VLOOKUP($A527,Base_Arbres,5,FALSE)*Crit3,\"\")","v":""},{"$f":"IF(Base_Arbres!A573<>\"\",VLOOKUP($A527,Base_Arbres,6,FALSE)*Crit4,\"\")","v":""},{"$f":"IF(Base_Arbres!B527<>\"\",VLOOKUP($A527,Base_Arbres,7,FALSE)*Crit5,\"\")","v":""},{"$f":"IF(Base_Arbres!C527<>\"\",VLOOKUP($A527,Base_Arbres,8,FALSE)*crit8,\"\")","v":""},{"$f":"IF(Base_Arbres!D527<>\"\",VLOOKUP($A527,Base_Arbres,9,FALSE)*crit9,\"\")","v":""},{"$f":"IF(ISNA(VLOOKUP(INDEX(Base_Typologie!$A$6:$P$1003,MATCH(A527,Base_Typologie!$A:$A,0)-5,MATCH(Typologie_Espace_Public,Base_Typologie!$6:$6,0)),TableauScoreTypologie2,2,FALSE)*Crit6),0,VLOOKUP(INDEX(Base_Typologie!$A$6:$P$1003,MATCH(A527,Base_Typologie!$A:$A,0)-5,MATCH(Typologie_Espace_Public,Base_Typologie!$6:$6,0)),TableauScoreTypologie2,2,FALSE)*Crit6)","v":0},0,0,0,0,0,0,0,0,0,0,0,0,null,{"$f":"IF(Base_Arbres!A630<>\"\",VLOOKUP($A527,Base_Arbres,4,FALSE)*Crit7,\"\")","v":""}]
[{"$f":"IF(Base_Arbres!A574<>\"\",Base_Arbres!A574,\"\")","v":""},{"$f":"IF(Base_Arbres!A574<>\"\",VLOOKUP($A528,Base_Arbres,3,FALSE)*Crit1,\"\")","v":""},{"$f":"IF(Base_Arbres!A574<>\"\",VLOOKUP($A528,Base_Arbres,4,FALSE)*Crit2,\"\")","v":""},{"$f":"IF(Base_Arbres!A574<>\"\",VLOOKUP($A528,Base_Arbres,5,FALSE)*Crit3,\"\")","v":""},{"$f":"IF(Base_Arbres!A574<>\"\",VLOOKUP($A528,Base_Arbres,6,FALSE)*Crit4,\"\")","v":""},{"$f":"IF(Base_Arbres!B528<>\"\",VLOOKUP($A528,Base_Arbres,7,FALSE)*Crit5,\"\")","v":""},{"$f":"IF(Base_Arbres!C528<>\"\",VLOOKUP($A528,Base_Arbres,8,FALSE)*crit8,\"\")","v":""},{"$f":"IF(Base_Arbres!D528<>\"\",VLOOKUP($A528,Base_Arbres,9,FALSE)*crit9,\"\")","v":""},{"$f":"IF(ISNA(VLOOKUP(INDEX(Base_Typologie!$A$6:$P$1003,MATCH(A528,Base_Typologie!$A:$A,0)-5,MATCH(Typologie_Espace_Public,Base_Typologie!$6:$6,0)),TableauScoreTypologie2,2,FALSE)*Crit6),0,VLOOKUP(INDEX(Base_Typologie!$A$6:$P$1003,MATCH(A528,Base_Typologie!$A:$A,0)-5,MATCH(Typologie_Espace_Public,Base_Typologie!$6:$6,0)),TableauScoreTypologie2,2,FALSE)*Crit6)","v":0},0,0,0,0,0,0,0,0,0,0,0,0,null,{"$f":"IF(Base_Arbres!A631<>\"\",VLOOKUP($A528,Base_Arbres,4,FALSE)*Crit7,\"\")","v":""}]
[{"$f":"IF(Base_Arbres!A575<>\"\",Base_Arbres!A575,\"\")","v":""},{"$f":"IF(Base_Arbres!A575<>\"\",VLOOKUP($A529,Base_Arbres,3,FALSE)*Crit1,\"\")","v":""},{"$f":"IF(Base_Arbres!A575<>\"\",VLOOKUP($A529,Base_Arbres,4,FALSE)*Crit2,\"\")","v":""},{"$f":"IF(Base_Arbres!A575<>\"\",VLOOKUP($A529,Base_Arbres,5,FALSE)*Crit3,\"\")","v":""},{"$f":"IF(Base_Arbres!A575<>\"\",VLOOKUP($A529,Base_Arbres,6,FALSE)*Crit4,\"\")","v":""},{"$f":"IF(Base_Arbres!B529<>\"\",VLOOKUP($A529,Base_Arbres,7,FALSE)*Crit5,\"\")","v":""},{"$f":"IF(Base_Arbres!C529<>\"\",VLOOKUP($A529,Base_Arbres,8,FALSE)*crit8,\"\")","v":""},{"$f":"IF(Base_Arbres!D529<>\"\",VLOOKUP($A529,Base_Arbres,9,FALSE)*crit9,\"\")","v":""},{"$f":"IF(ISNA(VLOOKUP(INDEX(Base_Typologie!$A$6:$P$1003,MATCH(A529,Base_Typologie!$A:$A,0)-5,MATCH(Typologie_Espace_Public,Base_Typologie!$6:$6,0)),TableauScoreTypologie2,2,FALSE)*Crit6),0,VLOOKUP(INDEX(Base_Typologie!$A$6:$P$1003,MATCH(A529,Base_Typologie!$A:$A,0)-5,MATCH(Typologie_Espace_Public,Base_Typologie!$6:$6,0)),TableauScoreTypologie2,2,FALSE)*Crit6)","v":0},0,0,0,0,0,0,0,0,0,0,0,0,null,{"$f":"IF(Base_Arbres!A632<>\"\",VLOOKUP($A529,Base_Arbres,4,FALSE)*Crit7,\"\")","v":""}]
[{"$f":"IF(Base_Arbres!A576<>\"\",Base_Arbres!A576,\"\")","v":""},{"$f":"IF(Base_Arbres!A576<>\"\",VLOOKUP($A530,Base_Arbres,3,FALSE)*Crit1,\"\")","v":""},{"$f":"IF(Base_Arbres!A576<>\"\",VLOOKUP($A530,Base_Arbres,4,FALSE)*Crit2,\"\")","v":""},{"$f":"IF(Base_Arbres!A576<>\"\",VLOOKUP($A530,Base_Arbres,5,FALSE)*Crit3,\"\")","v":""},{"$f":"IF(Base_Arbres!A576<>\"\",VLOOKUP($A530,Base_Arbres,6,FALSE)*Crit4,\"\")","v":""},{"$f":"IF(Base_Arbres!B530<>\"\",VLOOKUP($A530,Base_Arbres,7,FALSE)*Crit5,\"\")","v":""},{"$f":"IF(Base_Arbres!C530<>\"\",VLOOKUP($A530,Base_Arbres,8,FALSE)*crit8,\"\")","v":""},{"$f":"IF(Base_Arbres!D530<>\"\",VLOOKUP($A530,Base_Arbres,9,FALSE)*crit9,\"\")","v":""},{"$f":"IF(ISNA(VLOOKUP(INDEX(Base_Typologie!$A$6:$P$1003,MATCH(A530,Base_Typologie!$A:$A,0)-5,MATCH(Typologie_Espace_Public,Base_Typologie!$6:$6,0)),TableauScoreTypologie2,2,FALSE)*Crit6),0,VLOOKUP(INDEX(Base_Typologie!$A$6:$P$1003,MATCH(A530,Base_Typologie!$A:$A,0)-5,MATCH(Typologie_Espace_Public,Base_Typologie!$6:$6,0)),TableauScoreTypologie2,2,FALSE)*Crit6)","v":0},0,0,0,0,0,0,0,0,0,0,0,0,null,{"$f":"IF(Base_Arbres!A633<>\"\",VLOOKUP($A530,Base_Arbres,4,FALSE)*Crit7,\"\")","v":""}]
[{"$f":"IF(Base_Arbres!A577<>\"\",Base_Arbres!A577,\"\")","v":""},{"$f":"IF(Base_Arbres!A577<>\"\",VLOOKUP($A531,Base_Arbres,3,FALSE)*Crit1,\"\")","v":""},{"$f":"IF(Base_Arbres!A577<>\"\",VLOOKUP($A531,Base_Arbres,4,FALSE)*Crit2,\"\")","v":""},{"$f":"IF(Base_Arbres!A577<>\"\",VLOOKUP($A531,Base_Arbres,5,FALSE)*Crit3,\"\")","v":""},{"$f":"IF(Base_Arbres!A577<>\"\",VLOOKUP($A531,Base_Arbres,6,FALSE)*Crit4,\"\")","v":""},{"$f":"IF(Base_Arbres!B531<>\"\",VLOOKUP($A531,Base_Arbres,7,FALSE)*Crit5,\"\")","v":""},{"$f":"IF(Base_Arbres!C531<>\"\",VLOOKUP($A531,Base_Arbres,8,FALSE)*crit8,\"\")","v":""},{"$f":"IF(Base_Arbres!D531<>\"\",VLOOKUP($A531,Base_Arbres,9,FALSE)*crit9,\"\")","v":""},{"$f":"IF(ISNA(VLOOKUP(INDEX(Base_Typologie!$A$6:$P$1003,MATCH(A531,Base_Typologie!$A:$A,0)-5,MATCH(Typologie_Espace_Public,Base_Typologie!$6:$6,0)),TableauScoreTypologie2,2,FALSE)*Crit6),0,VLOOKUP(INDEX(Base_Typologie!$A$6:$P$1003,MATCH(A531,Base_Typologie!$A:$A,0)-5,MATCH(Typologie_Espace_Public,Base_Typologie!$6:$6,0)),TableauScoreTypologie2,2,FALSE)*Crit6)","v":0},0,0,0,0,0,0,0,0,0,0,0,0,null,{"$f":"IF(Base_Arbres!A634<>\"\",VLOOKUP($A531,Base_Arbres,4,FALSE)*Crit7,\"\")","v":""}]
[{"$f":"IF(Base_Arbres!A578<>\"\",Base_Arbres!A578,\"\")","v":""},{"$f":"IF(Base_Arbres!A578<>\"\",VLOOKUP($A532,Base_Arbres,3,FALSE)*Crit1,\"\")","v":""},{"$f":"IF(Base_Arbres!A578<>\"\",VLOOKUP($A532,Base_Arbres,4,FALSE)*Crit2,\"\")","v":""},{"$f":"IF(Base_Arbres!A578<>\"\",VLOOKUP($A532,Base_Arbres,5,FALSE)*Crit3,\"\")","v":""},{"$f":"IF(Base_Arbres!A578<>\"\",VLOOKUP($A532,Base_Arbres,6,FALSE)*Crit4,\"\")","v":""},{"$f":"IF(Base_Arbres!B532<>\"\",VLOOKUP($A532,Base_Arbres,7,FALSE)*Crit5,\"\")","v":""},{"$f":"IF(Base_Arbres!C532<>\"\",VLOOKUP($A532,Base_Arbres,8,FALSE)*crit8,\"\")","v":""},{"$f":"IF(Base_Arbres!D532<>\"\",VLOOKUP($A532,Base_Arbres,9,FALSE)*crit9,\"\")","v":""},{"$f":"IF(ISNA(VLOOKUP(INDEX(Base_Typologie!$A$6:$P$1003,MATCH(A532,Base_Typologie!$A:$A,0)-5,MATCH(Typologie_Espace_Public,Base_Typologie!$6:$6,0)),TableauScoreTypologie2,2,FALSE)*Crit6),0,VLOOKUP(INDEX(Base_Typologie!$A$6:$P$1003,MATCH(A532,Base_Typologie!$A:$A,0)-5,MATCH(Typologie_Espace_Public,Base_Typologie!$6:$6,0)),TableauScoreTypologie2,2,FALSE)*Crit6)","v":0},0,0,0,0,0,0,0,0,0,0,0,0,null,{"$f":"IF(Base_Arbres!A635<>\"\",VLOOKUP($A532,Base_Arbres,4,FALSE)*Crit7,\"\")","v":""}]
[{"$f":"IF(Base_Arbres!A579<>\"\",Base_Arbres!A579,\"\")","v":""},{"$f":"IF(Base_Arbres!A579<>\"\",VLOOKUP($A533,Base_Arbres,3,FALSE)*Crit1,\"\")","v":""},{"$f":"IF(Base_Arbres!A579<>\"\",VLOOKUP($A533,Base_Arbres,4,FALSE)*Crit2,\"\")","v":""},{"$f":"IF(Base_Arbres!A579<>\"\",VLOOKUP($A533,Base_Arbres,5,FALSE)*Crit3,\"\")","v":""},{"$f":"IF(Base_Arbres!A579<>\"\",VLOOKUP($A533,Base_Arbres,6,FALSE)*Crit4,\"\")","v":""},{"$f":"IF(Base_Arbres!B533<>\"\",VLOOKUP($A533,Base_Arbres,7,FALSE)*Crit5,\"\")","v":""},{"$f":"IF(Base_Arbres!C533<>\"\",VLOOKUP($A533,Base_Arbres,8,FALSE)*crit8,\"\")","v":""},{"$f":"IF(Base_Arbres!D533<>\"\",VLOOKUP($A533,Base_Arbres,9,FALSE)*crit9,\"\")","v":""},{"$f":"IF(ISNA(VLOOKUP(INDEX(Base_Typologie!$A$6:$P$1003,MATCH(A533,Base_Typologie!$A:$A,0)-5,MATCH(Typologie_Espace_Public,Base_Typologie!$6:$6,0)),TableauScoreTypologie2,2,FALSE)*Crit6),0,VLOOKUP(INDEX(Base_Typologie!$A$6:$P$1003,MATCH(A533,Base_Typologie!$A:$A,0)-5,MATCH(Typologie_Espace_Public,Base_Typologie!$6:$6,0)),TableauScoreTypologie2,2,FALSE)*Crit6)","v":0},0,0,0,0,0,0,0,0,0,0,0,0,null,{"$f":"IF(Base_Arbres!A636<>\"\",VLOOKUP($A533,Base_Arbres,4,FALSE)*Crit7,\"\")","v":""}]
[{"$f":"IF(Base_Arbres!A580<>\"\",Base_Arbres!A580,\"\")","v":""},{"$f":"IF(Base_Arbres!A580<>\"\",VLOOKUP($A534,Base_Arbres,3,FALSE)*Crit1,\"\")","v":""},{"$f":"IF(Base_Arbres!A580<>\"\",VLOOKUP($A534,Base_Arbres,4,FALSE)*Crit2,\"\")","v":""},{"$f":"IF(Base_Arbres!A580<>\"\",VLOOKUP($A534,Base_Arbres,5,FALSE)*Crit3,\"\")","v":""},{"$f":"IF(Base_Arbres!A580<>\"\",VLOOKUP($A534,Base_Arbres,6,FALSE)*Crit4,\"\")","v":""},{"$f":"IF(Base_Arbres!B534<>\"\",VLOOKUP($A534,Base_Arbres,7,FALSE)*Crit5,\"\")","v":""},{"$f":"IF(Base_Arbres!C534<>\"\",VLOOKUP($A534,Base_Arbres,8,FALSE)*crit8,\"\")","v":""},{"$f":"IF(Base_Arbres!D534<>\"\",VLOOKUP($A534,Base_Arbres,9,FALSE)*crit9,\"\")","v":""},{"$f":"IF(ISNA(VLOOKUP(INDEX(Base_Typologie!$A$6:$P$1003,MATCH(A534,Base_Typologie!$A:$A,0)-5,MATCH(Typologie_Espace_Public,Base_Typologie!$6:$6,0)),TableauScoreTypologie2,2,FALSE)*Crit6),0,VLOOKUP(INDEX(Base_Typologie!$A$6:$P$1003,MATCH(A534,Base_Typologie!$A:$A,0)-5,MATCH(Typologie_Espace_Public,Base_Typologie!$6:$6,0)),TableauScoreTypologie2,2,FALSE)*Crit6)","v":0},0,0,0,0,0,0,0,0,0,0,0,0,null,{"$f":"IF(Base_Arbres!A637<>\"\",VLOOKUP($A534,Base_Arbres,4,FALSE)*Crit7,\"\")","v":""}]
[{"$f":"IF(Base_Arbres!A581<>\"\",Base_Arbres!A581,\"\")","v":""},{"$f":"IF(Base_Arbres!A581<>\"\",VLOOKUP($A535,Base_Arbres,3,FALSE)*Crit1,\"\")","v":""},{"$f":"IF(Base_Arbres!A581<>\"\",VLOOKUP($A535,Base_Arbres,4,FALSE)*Crit2,\"\")","v":""},{"$f":"IF(Base_Arbres!A581<>\"\",VLOOKUP($A535,Base_Arbres,5,FALSE)*Crit3,\"\")","v":""},{"$f":"IF(Base_Arbres!A581<>\"\",VLOOKUP($A535,Base_Arbres,6,FALSE)*Crit4,\"\")","v":""},{"$f":"IF(Base_Arbres!B535<>\"\",VLOOKUP($A535,Base_Arbres,7,FALSE)*Crit5,\"\")","v":""},{"$f":"IF(Base_Arbres!C535<>\"\",VLOOKUP($A535,Base_Arbres,8,FALSE)*crit8,\"\")","v":""},{"$f":"IF(Base_Arbres!D535<>\"\",VLOOKUP($A535,Base_Arbres,9,FALSE)*crit9,\"\")","v":""},{"$f":"IF(ISNA(VLOOKUP(INDEX(Base_Typologie!$A$6:$P$1003,MATCH(A535,Base_Typologie!$A:$A,0)-5,MATCH(Typologie_Espace_Public,Base_Typologie!$6:$6,0)),TableauScoreTypologie2,2,FALSE)*Crit6),0,VLOOKUP(INDEX(Base_Typologie!$A$6:$P$1003,MATCH(A535,Base_Typologie!$A:$A,0)-5,MATCH(Typologie_Espace_Public,Base_Typologie!$6:$6,0)),TableauScoreTypologie2,2,FALSE)*Crit6)","v":0},0,0,0,0,0,0,0,0,0,0,0,0,null,{"$f":"IF(Base_Arbres!A638<>\"\",VLOOKUP($A535,Base_Arbres,4,FALSE)*Crit7,\"\")","v":""}]
[{"$f":"IF(Base_Arbres!A582<>\"\",Base_Arbres!A582,\"\")","v":""},{"$f":"IF(Base_Arbres!A582<>\"\",VLOOKUP($A536,Base_Arbres,3,FALSE)*Crit1,\"\")","v":""},{"$f":"IF(Base_Arbres!A582<>\"\",VLOOKUP($A536,Base_Arbres,4,FALSE)*Crit2,\"\")","v":""},{"$f":"IF(Base_Arbres!A582<>\"\",VLOOKUP($A536,Base_Arbres,5,FALSE)*Crit3,\"\")","v":""},{"$f":"IF(Base_Arbres!A582<>\"\",VLOOKUP($A536,Base_Arbres,6,FALSE)*Crit4,\"\")","v":""},{"$f":"IF(Base_Arbres!B536<>\"\",VLOOKUP($A536,Base_Arbres,7,FALSE)*Crit5,\"\")","v":""},{"$f":"IF(Base_Arbres!C536<>\"\",VLOOKUP($A536,Base_Arbres,8,FALSE)*crit8,\"\")","v":""},{"$f":"IF(Base_Arbres!D536<>\"\",VLOOKUP($A536,Base_Arbres,9,FALSE)*crit9,\"\")","v":""},{"$f":"IF(ISNA(VLOOKUP(INDEX(Base_Typologie!$A$6:$P$1003,MATCH(A536,Base_Typologie!$A:$A,0)-5,MATCH(Typologie_Espace_Public,Base_Typologie!$6:$6,0)),TableauScoreTypologie2,2,FALSE)*Crit6),0,VLOOKUP(INDEX(Base_Typologie!$A$6:$P$1003,MATCH(A536,Base_Typologie!$A:$A,0)-5,MATCH(Typologie_Espace_Public,Base_Typologie!$6:$6,0)),TableauScoreTypologie2,2,FALSE)*Crit6)","v":0},0,0,0,0,0,0,0,0,0,0,0,0,null,{"$f":"IF(Base_Arbres!A639<>\"\",VLOOKUP($A536,Base_Arbres,4,FALSE)*Crit7,\"\")","v":""}]
[{"$f":"IF(Base_Arbres!A583<>\"\",Base_Arbres!A583,\"\")","v":""},{"$f":"IF(Base_Arbres!A583<>\"\",VLOOKUP($A537,Base_Arbres,3,FALSE)*Crit1,\"\")","v":""},{"$f":"IF(Base_Arbres!A583<>\"\",VLOOKUP($A537,Base_Arbres,4,FALSE)*Crit2,\"\")","v":""},{"$f":"IF(Base_Arbres!A583<>\"\",VLOOKUP($A537,Base_Arbres,5,FALSE)*Crit3,\"\")","v":""},{"$f":"IF(Base_Arbres!A583<>\"\",VLOOKUP($A537,Base_Arbres,6,FALSE)*Crit4,\"\")","v":""},{"$f":"IF(Base_Arbres!B537<>\"\",VLOOKUP($A537,Base_Arbres,7,FALSE)*Crit5,\"\")","v":""},{"$f":"IF(Base_Arbres!C537<>\"\",VLOOKUP($A537,Base_Arbres,8,FALSE)*crit8,\"\")","v":""},{"$f":"IF(Base_Arbres!D537<>\"\",VLOOKUP($A537,Base_Arbres,9,FALSE)*crit9,\"\")","v":""},{"$f":"IF(ISNA(VLOOKUP(INDEX(Base_Typologie!$A$6:$P$1003,MATCH(A537,Base_Typologie!$A:$A,0)-5,MATCH(Typologie_Espace_Public,Base_Typologie!$6:$6,0)),TableauScoreTypologie2,2,FALSE)*Crit6),0,VLOOKUP(INDEX(Base_Typologie!$A$6:$P$1003,MATCH(A537,Base_Typologie!$A:$A,0)-5,MATCH(Typologie_Espace_Public,Base_Typologie!$6:$6,0)),TableauScoreTypologie2,2,FALSE)*Crit6)","v":0},0,0,0,0,0,0,0,0,0,0,0,0,null,{"$f":"IF(Base_Arbres!A640<>\"\",VLOOKUP($A537,Base_Arbres,4,FALSE)*Crit7,\"\")","v":""}]
[{"$f":"IF(Base_Arbres!A584<>\"\",Base_Arbres!A584,\"\")","v":""},{"$f":"IF(Base_Arbres!A584<>\"\",VLOOKUP($A538,Base_Arbres,3,FALSE)*Crit1,\"\")","v":""},{"$f":"IF(Base_Arbres!A584<>\"\",VLOOKUP($A538,Base_Arbres,4,FALSE)*Crit2,\"\")","v":""},{"$f":"IF(Base_Arbres!A584<>\"\",VLOOKUP($A538,Base_Arbres,5,FALSE)*Crit3,\"\")","v":""},{"$f":"IF(Base_Arbres!A584<>\"\",VLOOKUP($A538,Base_Arbres,6,FALSE)*Crit4,\"\")","v":""},{"$f":"IF(Base_Arbres!B538<>\"\",VLOOKUP($A538,Base_Arbres,7,FALSE)*Crit5,\"\")","v":""},{"$f":"IF(Base_Arbres!C538<>\"\",VLOOKUP($A538,Base_Arbres,8,FALSE)*crit8,\"\")","v":""},{"$f":"IF(Base_Arbres!D538<>\"\",VLOOKUP($A538,Base_Arbres,9,FALSE)*crit9,\"\")","v":""},{"$f":"IF(ISNA(VLOOKUP(INDEX(Base_Typologie!$A$6:$P$1003,MATCH(A538,Base_Typologie!$A:$A,0)-5,MATCH(Typologie_Espace_Public,Base_Typologie!$6:$6,0)),TableauScoreTypologie2,2,FALSE)*Crit6),0,VLOOKUP(INDEX(Base_Typologie!$A$6:$P$1003,MATCH(A538,Base_Typologie!$A:$A,0)-5,MATCH(Typologie_Espace_Public,Base_Typologie!$6:$6,0)),TableauScoreTypologie2,2,FALSE)*Crit6)","v":0},0,0,0,0,0,0,0,0,0,0,0,0,null,{"$f":"IF(Base_Arbres!A641<>\"\",VLOOKUP($A538,Base_Arbres,4,FALSE)*Crit7,\"\")","v":""}]
[{"$f":"IF(Base_Arbres!A585<>\"\",Base_Arbres!A585,\"\")","v":""},{"$f":"IF(Base_Arbres!A585<>\"\",VLOOKUP($A539,Base_Arbres,3,FALSE)*Crit1,\"\")","v":""},{"$f":"IF(Base_Arbres!A585<>\"\",VLOOKUP($A539,Base_Arbres,4,FALSE)*Crit2,\"\")","v":""},{"$f":"IF(Base_Arbres!A585<>\"\",VLOOKUP($A539,Base_Arbres,5,FALSE)*Crit3,\"\")","v":""},{"$f":"IF(Base_Arbres!A585<>\"\",VLOOKUP($A539,Base_Arbres,6,FALSE)*Crit4,\"\")","v":""},{"$f":"IF(Base_Arbres!B539<>\"\",VLOOKUP($A539,Base_Arbres,7,FALSE)*Crit5,\"\")","v":""},{"$f":"IF(Base_Arbres!C539<>\"\",VLOOKUP($A539,Base_Arbres,8,FALSE)*crit8,\"\")","v":""},{"$f":"IF(Base_Arbres!D539<>\"\",VLOOKUP($A539,Base_Arbres,9,FALSE)*crit9,\"\")","v":""},{"$f":"IF(ISNA(VLOOKUP(INDEX(Base_Typologie!$A$6:$P$1003,MATCH(A539,Base_Typologie!$A:$A,0)-5,MATCH(Typologie_Espace_Public,Base_Typologie!$6:$6,0)),TableauScoreTypologie2,2,FALSE)*Crit6),0,VLOOKUP(INDEX(Base_Typologie!$A$6:$P$1003,MATCH(A539,Base_Typologie!$A:$A,0)-5,MATCH(Typologie_Espace_Public,Base_Typologie!$6:$6,0)),TableauScoreTypologie2,2,FALSE)*Crit6)","v":0},0,0,0,0,0,0,0,0,0,0,0,0,null,{"$f":"IF(Base_Arbres!A642<>\"\",VLOOKUP($A539,Base_Arbres,4,FALSE)*Crit7,\"\")","v":""}]
[{"$f":"IF(Base_Arbres!A586<>\"\",Base_Arbres!A586,\"\")","v":""},{"$f":"IF(Base_Arbres!A586<>\"\",VLOOKUP($A540,Base_Arbres,3,FALSE)*Crit1,\"\")","v":""},{"$f":"IF(Base_Arbres!A586<>\"\",VLOOKUP($A540,Base_Arbres,4,FALSE)*Crit2,\"\")","v":""},{"$f":"IF(Base_Arbres!A586<>\"\",VLOOKUP($A540,Base_Arbres,5,FALSE)*Crit3,\"\")","v":""},{"$f":"IF(Base_Arbres!A586<>\"\",VLOOKUP($A540,Base_Arbres,6,FALSE)*Crit4,\"\")","v":""},{"$f":"IF(Base_Arbres!B540<>\"\",VLOOKUP($A540,Base_Arbres,7,FALSE)*Crit5,\"\")","v":""},{"$f":"IF(Base_Arbres!C540<>\"\",VLOOKUP($A540,Base_Arbres,8,FALSE)*crit8,\"\")","v":""},{"$f":"IF(Base_Arbres!D540<>\"\",VLOOKUP($A540,Base_Arbres,9,FALSE)*crit9,\"\")","v":""},{"$f":"IF(ISNA(VLOOKUP(INDEX(Base_Typologie!$A$6:$P$1003,MATCH(A540,Base_Typologie!$A:$A,0)-5,MATCH(Typologie_Espace_Public,Base_Typologie!$6:$6,0)),TableauScoreTypologie2,2,FALSE)*Crit6),0,VLOOKUP(INDEX(Base_Typologie!$A$6:$P$1003,MATCH(A540,Base_Typologie!$A:$A,0)-5,MATCH(Typologie_Espace_Public,Base_Typologie!$6:$6,0)),TableauScoreTypologie2,2,FALSE)*Crit6)","v":0},0,0,0,0,0,0,0,0,0,0,0,0,null,{"$f":"IF(Base_Arbres!A643<>\"\",VLOOKUP($A540,Base_Arbres,4,FALSE)*Crit7,\"\")","v":""}]
[{"$f":"IF(Base_Arbres!A587<>\"\",Base_Arbres!A587,\"\")","v":""},{"$f":"IF(Base_Arbres!A587<>\"\",VLOOKUP($A541,Base_Arbres,3,FALSE)*Crit1,\"\")","v":""},{"$f":"IF(Base_Arbres!A587<>\"\",VLOOKUP($A541,Base_Arbres,4,FALSE)*Crit2,\"\")","v":""},{"$f":"IF(Base_Arbres!A587<>\"\",VLOOKUP($A541,Base_Arbres,5,FALSE)*Crit3,\"\")","v":""},{"$f":"IF(Base_Arbres!A587<>\"\",VLOOKUP($A541,Base_Arbres,6,FALSE)*Crit4,\"\")","v":""},{"$f":"IF(Base_Arbres!B541<>\"\",VLOOKUP($A541,Base_Arbres,7,FALSE)*Crit5,\"\")","v":""},{"$f":"IF(Base_Arbres!C541<>\"\",VLOOKUP($A541,Base_Arbres,8,FALSE)*crit8,\"\")","v":""},{"$f":"IF(Base_Arbres!D541<>\"\",VLOOKUP($A541,Base_Arbres,9,FALSE)*crit9,\"\")","v":""},{"$f":"IF(ISNA(VLOOKUP(INDEX(Base_Typologie!$A$6:$P$1003,MATCH(A541,Base_Typologie!$A:$A,0)-5,MATCH(Typologie_Espace_Public,Base_Typologie!$6:$6,0)),TableauScoreTypologie2,2,FALSE)*Crit6),0,VLOOKUP(INDEX(Base_Typologie!$A$6:$P$1003,MATCH(A541,Base_Typologie!$A:$A,0)-5,MATCH(Typologie_Espace_Public,Base_Typologie!$6:$6,0)),TableauScoreTypologie2,2,FALSE)*Crit6)","v":0},0,0,0,0,0,0,0,0,0,0,0,0,null,{"$f":"IF(Base_Arbres!A644<>\"\",VLOOKUP($A541,Base_Arbres,4,FALSE)*Crit7,\"\")","v":""}]
[{"$f":"IF(Base_Arbres!A588<>\"\",Base_Arbres!A588,\"\")","v":""},{"$f":"IF(Base_Arbres!A588<>\"\",VLOOKUP($A542,Base_Arbres,3,FALSE)*Crit1,\"\")","v":""},{"$f":"IF(Base_Arbres!A588<>\"\",VLOOKUP($A542,Base_Arbres,4,FALSE)*Crit2,\"\")","v":""},{"$f":"IF(Base_Arbres!A588<>\"\",VLOOKUP($A542,Base_Arbres,5,FALSE)*Crit3,\"\")","v":""},{"$f":"IF(Base_Arbres!A588<>\"\",VLOOKUP($A542,Base_Arbres,6,FALSE)*Crit4,\"\")","v":""},{"$f":"IF(Base_Arbres!B542<>\"\",VLOOKUP($A542,Base_Arbres,7,FALSE)*Crit5,\"\")","v":""},{"$f":"IF(Base_Arbres!C542<>\"\",VLOOKUP($A542,Base_Arbres,8,FALSE)*crit8,\"\")","v":""},{"$f":"IF(Base_Arbres!D542<>\"\",VLOOKUP($A542,Base_Arbres,9,FALSE)*crit9,\"\")","v":""},{"$f":"IF(ISNA(VLOOKUP(INDEX(Base_Typologie!$A$6:$P$1003,MATCH(A542,Base_Typologie!$A:$A,0)-5,MATCH(Typologie_Espace_Public,Base_Typologie!$6:$6,0)),TableauScoreTypologie2,2,FALSE)*Crit6),0,VLOOKUP(INDEX(Base_Typologie!$A$6:$P$1003,MATCH(A542,Base_Typologie!$A:$A,0)-5,MATCH(Typologie_Espace_Public,Base_Typologie!$6:$6,0)),TableauScoreTypologie2,2,FALSE)*Crit6)","v":0},0,0,0,0,0,0,0,0,0,0,0,0,null,{"$f":"IF(Base_Arbres!A645<>\"\",VLOOKUP($A542,Base_Arbres,4,FALSE)*Crit7,\"\")","v":""}]
[{"$f":"IF(Base_Arbres!A589<>\"\",Base_Arbres!A589,\"\")","v":""},{"$f":"IF(Base_Arbres!A589<>\"\",VLOOKUP($A543,Base_Arbres,3,FALSE)*Crit1,\"\")","v":""},{"$f":"IF(Base_Arbres!A589<>\"\",VLOOKUP($A543,Base_Arbres,4,FALSE)*Crit2,\"\")","v":""},{"$f":"IF(Base_Arbres!A589<>\"\",VLOOKUP($A543,Base_Arbres,5,FALSE)*Crit3,\"\")","v":""},{"$f":"IF(Base_Arbres!A589<>\"\",VLOOKUP($A543,Base_Arbres,6,FALSE)*Crit4,\"\")","v":""},{"$f":"IF(Base_Arbres!B543<>\"\",VLOOKUP($A543,Base_Arbres,7,FALSE)*Crit5,\"\")","v":""},{"$f":"IF(Base_Arbres!C543<>\"\",VLOOKUP($A543,Base_Arbres,8,FALSE)*crit8,\"\")","v":""},{"$f":"IF(Base_Arbres!D543<>\"\",VLOOKUP($A543,Base_Arbres,9,FALSE)*crit9,\"\")","v":""},{"$f":"IF(ISNA(VLOOKUP(INDEX(Base_Typologie!$A$6:$P$1003,MATCH(A543,Base_Typologie!$A:$A,0)-5,MATCH(Typologie_Espace_Public,Base_Typologie!$6:$6,0)),TableauScoreTypologie2,2,FALSE)*Crit6),0,VLOOKUP(INDEX(Base_Typologie!$A$6:$P$1003,MATCH(A543,Base_Typologie!$A:$A,0)-5,MATCH(Typologie_Espace_Public,Base_Typologie!$6:$6,0)),TableauScoreTypologie2,2,FALSE)*Crit6)","v":0},0,0,0,0,0,0,0,0,0,0,0,0,null,{"$f":"IF(Base_Arbres!A646<>\"\",VLOOKUP($A543,Base_Arbres,4,FALSE)*Crit7,\"\")","v":""}]
[{"$f":"IF(Base_Arbres!A590<>\"\",Base_Arbres!A590,\"\")","v":""},{"$f":"IF(Base_Arbres!A590<>\"\",VLOOKUP($A544,Base_Arbres,3,FALSE)*Crit1,\"\")","v":""},{"$f":"IF(Base_Arbres!A590<>\"\",VLOOKUP($A544,Base_Arbres,4,FALSE)*Crit2,\"\")","v":""},{"$f":"IF(Base_Arbres!A590<>\"\",VLOOKUP($A544,Base_Arbres,5,FALSE)*Crit3,\"\")","v":""},{"$f":"IF(Base_Arbres!A590<>\"\",VLOOKUP($A544,Base_Arbres,6,FALSE)*Crit4,\"\")","v":""},{"$f":"IF(Base_Arbres!B544<>\"\",VLOOKUP($A544,Base_Arbres,7,FALSE)*Crit5,\"\")","v":""},{"$f":"IF(Base_Arbres!C544<>\"\",VLOOKUP($A544,Base_Arbres,8,FALSE)*crit8,\"\")","v":""},{"$f":"IF(Base_Arbres!D544<>\"\",VLOOKUP($A544,Base_Arbres,9,FALSE)*crit9,\"\")","v":""},{"$f":"IF(ISNA(VLOOKUP(INDEX(Base_Typologie!$A$6:$P$1003,MATCH(A544,Base_Typologie!$A:$A,0)-5,MATCH(Typologie_Espace_Public,Base_Typologie!$6:$6,0)),TableauScoreTypologie2,2,FALSE)*Crit6),0,VLOOKUP(INDEX(Base_Typologie!$A$6:$P$1003,MATCH(A544,Base_Typologie!$A:$A,0)-5,MATCH(Typologie_Espace_Public,Base_Typologie!$6:$6,0)),TableauScoreTypologie2,2,FALSE)*Crit6)","v":0},0,0,0,0,0,0,0,0,0,0,0,0,null,{"$f":"IF(Base_Arbres!A647<>\"\",VLOOKUP($A544,Base_Arbres,4,FALSE)*Crit7,\"\")","v":""}]
[{"$f":"IF(Base_Arbres!A591<>\"\",Base_Arbres!A591,\"\")","v":""},{"$f":"IF(Base_Arbres!A591<>\"\",VLOOKUP($A545,Base_Arbres,3,FALSE)*Crit1,\"\")","v":""},{"$f":"IF(Base_Arbres!A591<>\"\",VLOOKUP($A545,Base_Arbres,4,FALSE)*Crit2,\"\")","v":""},{"$f":"IF(Base_Arbres!A591<>\"\",VLOOKUP($A545,Base_Arbres,5,FALSE)*Crit3,\"\")","v":""},{"$f":"IF(Base_Arbres!A591<>\"\",VLOOKUP($A545,Base_Arbres,6,FALSE)*Crit4,\"\")","v":""},{"$f":"IF(Base_Arbres!B545<>\"\",VLOOKUP($A545,Base_Arbres,7,FALSE)*Crit5,\"\")","v":""},{"$f":"IF(Base_Arbres!C545<>\"\",VLOOKUP($A545,Base_Arbres,8,FALSE)*crit8,\"\")","v":""},{"$f":"IF(Base_Arbres!D545<>\"\",VLOOKUP($A545,Base_Arbres,9,FALSE)*crit9,\"\")","v":""},{"$f":"IF(ISNA(VLOOKUP(INDEX(Base_Typologie!$A$6:$P$1003,MATCH(A545,Base_Typologie!$A:$A,0)-5,MATCH(Typologie_Espace_Public,Base_Typologie!$6:$6,0)),TableauScoreTypologie2,2,FALSE)*Crit6),0,VLOOKUP(INDEX(Base_Typologie!$A$6:$P$1003,MATCH(A545,Base_Typologie!$A:$A,0)-5,MATCH(Typologie_Espace_Public,Base_Typologie!$6:$6,0)),TableauScoreTypologie2,2,FALSE)*Crit6)","v":0},0,0,0,0,0,0,0,0,0,0,0,0,null,{"$f":"IF(Base_Arbres!A648<>\"\",VLOOKUP($A545,Base_Arbres,4,FALSE)*Crit7,\"\")","v":""}]
[{"$f":"IF(Base_Arbres!A592<>\"\",Base_Arbres!A592,\"\")","v":""},{"$f":"IF(Base_Arbres!A592<>\"\",VLOOKUP($A546,Base_Arbres,3,FALSE)*Crit1,\"\")","v":""},{"$f":"IF(Base_Arbres!A592<>\"\",VLOOKUP($A546,Base_Arbres,4,FALSE)*Crit2,\"\")","v":""},{"$f":"IF(Base_Arbres!A592<>\"\",VLOOKUP($A546,Base_Arbres,5,FALSE)*Crit3,\"\")","v":""},{"$f":"IF(Base_Arbres!A592<>\"\",VLOOKUP($A546,Base_Arbres,6,FALSE)*Crit4,\"\")","v":""},{"$f":"IF(Base_Arbres!B546<>\"\",VLOOKUP($A546,Base_Arbres,7,FALSE)*Crit5,\"\")","v":""},{"$f":"IF(Base_Arbres!C546<>\"\",VLOOKUP($A546,Base_Arbres,8,FALSE)*crit8,\"\")","v":""},{"$f":"IF(Base_Arbres!D546<>\"\",VLOOKUP($A546,Base_Arbres,9,FALSE)*crit9,\"\")","v":""},{"$f":"IF(ISNA(VLOOKUP(INDEX(Base_Typologie!$A$6:$P$1003,MATCH(A546,Base_Typologie!$A:$A,0)-5,MATCH(Typologie_Espace_Public,Base_Typologie!$6:$6,0)),TableauScoreTypologie2,2,FALSE)*Crit6),0,VLOOKUP(INDEX(Base_Typologie!$A$6:$P$1003,MATCH(A546,Base_Typologie!$A:$A,0)-5,MATCH(Typologie_Espace_Public,Base_Typologie!$6:$6,0)),TableauScoreTypologie2,2,FALSE)*Crit6)","v":0},0,0,0,0,0,0,0,0,0,0,0,0,null,{"$f":"IF(Base_Arbres!A649<>\"\",VLOOKUP($A546,Base_Arbres,4,FALSE)*Crit7,\"\")","v":""}]
[{"$f":"IF(Base_Arbres!A593<>\"\",Base_Arbres!A593,\"\")","v":""},{"$f":"IF(Base_Arbres!A593<>\"\",VLOOKUP($A547,Base_Arbres,3,FALSE)*Crit1,\"\")","v":""},{"$f":"IF(Base_Arbres!A593<>\"\",VLOOKUP($A547,Base_Arbres,4,FALSE)*Crit2,\"\")","v":""},{"$f":"IF(Base_Arbres!A593<>\"\",VLOOKUP($A547,Base_Arbres,5,FALSE)*Crit3,\"\")","v":""},{"$f":"IF(Base_Arbres!A593<>\"\",VLOOKUP($A547,Base_Arbres,6,FALSE)*Crit4,\"\")","v":""},{"$f":"IF(Base_Arbres!B547<>\"\",VLOOKUP($A547,Base_Arbres,7,FALSE)*Crit5,\"\")","v":""},{"$f":"IF(Base_Arbres!C547<>\"\",VLOOKUP($A547,Base_Arbres,8,FALSE)*crit8,\"\")","v":""},{"$f":"IF(Base_Arbres!D547<>\"\",VLOOKUP($A547,Base_Arbres,9,FALSE)*crit9,\"\")","v":""},{"$f":"IF(ISNA(VLOOKUP(INDEX(Base_Typologie!$A$6:$P$1003,MATCH(A547,Base_Typologie!$A:$A,0)-5,MATCH(Typologie_Espace_Public,Base_Typologie!$6:$6,0)),TableauScoreTypologie2,2,FALSE)*Crit6),0,VLOOKUP(INDEX(Base_Typologie!$A$6:$P$1003,MATCH(A547,Base_Typologie!$A:$A,0)-5,MATCH(Typologie_Espace_Public,Base_Typologie!$6:$6,0)),TableauScoreTypologie2,2,FALSE)*Crit6)","v":0},0,0,0,0,0,0,0,0,0,0,0,0,null,{"$f":"IF(Base_Arbres!A650<>\"\",VLOOKUP($A547,Base_Arbres,4,FALSE)*Crit7,\"\")","v":""}]
[{"$f":"IF(Base_Arbres!A594<>\"\",Base_Arbres!A594,\"\")","v":""},{"$f":"IF(Base_Arbres!A594<>\"\",VLOOKUP($A548,Base_Arbres,3,FALSE)*Crit1,\"\")","v":""},{"$f":"IF(Base_Arbres!A594<>\"\",VLOOKUP($A548,Base_Arbres,4,FALSE)*Crit2,\"\")","v":""},{"$f":"IF(Base_Arbres!A594<>\"\",VLOOKUP($A548,Base_Arbres,5,FALSE)*Crit3,\"\")","v":""},{"$f":"IF(Base_Arbres!A594<>\"\",VLOOKUP($A548,Base_Arbres,6,FALSE)*Crit4,\"\")","v":""},{"$f":"IF(Base_Arbres!B548<>\"\",VLOOKUP($A548,Base_Arbres,7,FALSE)*Crit5,\"\")","v":""},{"$f":"IF(Base_Arbres!C548<>\"\",VLOOKUP($A548,Base_Arbres,8,FALSE)*crit8,\"\")","v":""},{"$f":"IF(Base_Arbres!D548<>\"\",VLOOKUP($A548,Base_Arbres,9,FALSE)*crit9,\"\")","v":""},{"$f":"IF(ISNA(VLOOKUP(INDEX(Base_Typologie!$A$6:$P$1003,MATCH(A548,Base_Typologie!$A:$A,0)-5,MATCH(Typologie_Espace_Public,Base_Typologie!$6:$6,0)),TableauScoreTypologie2,2,FALSE)*Crit6),0,VLOOKUP(INDEX(Base_Typologie!$A$6:$P$1003,MATCH(A548,Base_Typologie!$A:$A,0)-5,MATCH(Typologie_Espace_Public,Base_Typologie!$6:$6,0)),TableauScoreTypologie2,2,FALSE)*Crit6)","v":0},0,0,0,0,0,0,0,0,0,0,0,0,null,{"$f":"IF(Base_Arbres!A651<>\"\",VLOOKUP($A548,Base_Arbres,4,FALSE)*Crit7,\"\")","v":""}]
[{"$f":"IF(Base_Arbres!A595<>\"\",Base_Arbres!A595,\"\")","v":""},{"$f":"IF(Base_Arbres!A595<>\"\",VLOOKUP($A549,Base_Arbres,3,FALSE)*Crit1,\"\")","v":""},{"$f":"IF(Base_Arbres!A595<>\"\",VLOOKUP($A549,Base_Arbres,4,FALSE)*Crit2,\"\")","v":""},{"$f":"IF(Base_Arbres!A595<>\"\",VLOOKUP($A549,Base_Arbres,5,FALSE)*Crit3,\"\")","v":""},{"$f":"IF(Base_Arbres!A595<>\"\",VLOOKUP($A549,Base_Arbres,6,FALSE)*Crit4,\"\")","v":""},{"$f":"IF(Base_Arbres!B549<>\"\",VLOOKUP($A549,Base_Arbres,7,FALSE)*Crit5,\"\")","v":""},{"$f":"IF(Base_Arbres!C549<>\"\",VLOOKUP($A549,Base_Arbres,8,FALSE)*crit8,\"\")","v":""},{"$f":"IF(Base_Arbres!D549<>\"\",VLOOKUP($A549,Base_Arbres,9,FALSE)*crit9,\"\")","v":""},{"$f":"IF(ISNA(VLOOKUP(INDEX(Base_Typologie!$A$6:$P$1003,MATCH(A549,Base_Typologie!$A:$A,0)-5,MATCH(Typologie_Espace_Public,Base_Typologie!$6:$6,0)),TableauScoreTypologie2,2,FALSE)*Crit6),0,VLOOKUP(INDEX(Base_Typologie!$A$6:$P$1003,MATCH(A549,Base_Typologie!$A:$A,0)-5,MATCH(Typologie_Espace_Public,Base_Typologie!$6:$6,0)),TableauScoreTypologie2,2,FALSE)*Crit6)","v":0},0,0,0,0,0,0,0,0,0,0,0,0,null,{"$f":"IF(Base_Arbres!A652<>\"\",VLOOKUP($A549,Base_Arbres,4,FALSE)*Crit7,\"\")","v":""}]
[{"$f":"IF(Base_Arbres!A596<>\"\",Base_Arbres!A596,\"\")","v":""},{"$f":"IF(Base_Arbres!A596<>\"\",VLOOKUP($A550,Base_Arbres,3,FALSE)*Crit1,\"\")","v":""},{"$f":"IF(Base_Arbres!A596<>\"\",VLOOKUP($A550,Base_Arbres,4,FALSE)*Crit2,\"\")","v":""},{"$f":"IF(Base_Arbres!A596<>\"\",VLOOKUP($A550,Base_Arbres,5,FALSE)*Crit3,\"\")","v":""},{"$f":"IF(Base_Arbres!A596<>\"\",VLOOKUP($A550,Base_Arbres,6,FALSE)*Crit4,\"\")","v":""},{"$f":"IF(Base_Arbres!B550<>\"\",VLOOKUP($A550,Base_Arbres,7,FALSE)*Crit5,\"\")","v":""},{"$f":"IF(Base_Arbres!C550<>\"\",VLOOKUP($A550,Base_Arbres,8,FALSE)*crit8,\"\")","v":""},{"$f":"IF(Base_Arbres!D550<>\"\",VLOOKUP($A550,Base_Arbres,9,FALSE)*crit9,\"\")","v":""},{"$f":"IF(ISNA(VLOOKUP(INDEX(Base_Typologie!$A$6:$P$1003,MATCH(A550,Base_Typologie!$A:$A,0)-5,MATCH(Typologie_Espace_Public,Base_Typologie!$6:$6,0)),TableauScoreTypologie2,2,FALSE)*Crit6),0,VLOOKUP(INDEX(Base_Typologie!$A$6:$P$1003,MATCH(A550,Base_Typologie!$A:$A,0)-5,MATCH(Typologie_Espace_Public,Base_Typologie!$6:$6,0)),TableauScoreTypologie2,2,FALSE)*Crit6)","v":0},0,0,0,0,0,0,0,0,0,0,0,0,null,{"$f":"IF(Base_Arbres!A653<>\"\",VLOOKUP($A550,Base_Arbres,4,FALSE)*Crit7,\"\")","v":""}]
[{"$f":"IF(Base_Arbres!A597<>\"\",Base_Arbres!A597,\"\")","v":""},{"$f":"IF(Base_Arbres!A597<>\"\",VLOOKUP($A551,Base_Arbres,3,FALSE)*Crit1,\"\")","v":""},{"$f":"IF(Base_Arbres!A597<>\"\",VLOOKUP($A551,Base_Arbres,4,FALSE)*Crit2,\"\")","v":""},{"$f":"IF(Base_Arbres!A597<>\"\",VLOOKUP($A551,Base_Arbres,5,FALSE)*Crit3,\"\")","v":""},{"$f":"IF(Base_Arbres!A597<>\"\",VLOOKUP($A551,Base_Arbres,6,FALSE)*Crit4,\"\")","v":""},{"$f":"IF(Base_Arbres!B551<>\"\",VLOOKUP($A551,Base_Arbres,7,FALSE)*Crit5,\"\")","v":""},{"$f":"IF(Base_Arbres!C551<>\"\",VLOOKUP($A551,Base_Arbres,8,FALSE)*crit8,\"\")","v":""},{"$f":"IF(Base_Arbres!D551<>\"\",VLOOKUP($A551,Base_Arbres,9,FALSE)*crit9,\"\")","v":""},{"$f":"IF(ISNA(VLOOKUP(INDEX(Base_Typologie!$A$6:$P$1003,MATCH(A551,Base_Typologie!$A:$A,0)-5,MATCH(Typologie_Espace_Public,Base_Typologie!$6:$6,0)),TableauScoreTypologie2,2,FALSE)*Crit6),0,VLOOKUP(INDEX(Base_Typologie!$A$6:$P$1003,MATCH(A551,Base_Typologie!$A:$A,0)-5,MATCH(Typologie_Espace_Public,Base_Typologie!$6:$6,0)),TableauScoreTypologie2,2,FALSE)*Crit6)","v":0},0,0,0,0,0,0,0,0,0,0,0,0,null,{"$f":"IF(Base_Arbres!A654<>\"\",VLOOKUP($A551,Base_Arbres,4,FALSE)*Crit7,\"\")","v":""}]
[{"$f":"IF(Base_Arbres!A598<>\"\",Base_Arbres!A598,\"\")","v":""},{"$f":"IF(Base_Arbres!A598<>\"\",VLOOKUP($A552,Base_Arbres,3,FALSE)*Crit1,\"\")","v":""},{"$f":"IF(Base_Arbres!A598<>\"\",VLOOKUP($A552,Base_Arbres,4,FALSE)*Crit2,\"\")","v":""},{"$f":"IF(Base_Arbres!A598<>\"\",VLOOKUP($A552,Base_Arbres,5,FALSE)*Crit3,\"\")","v":""},{"$f":"IF(Base_Arbres!A598<>\"\",VLOOKUP($A552,Base_Arbres,6,FALSE)*Crit4,\"\")","v":""},{"$f":"IF(Base_Arbres!B552<>\"\",VLOOKUP($A552,Base_Arbres,7,FALSE)*Crit5,\"\")","v":""},{"$f":"IF(Base_Arbres!C552<>\"\",VLOOKUP($A552,Base_Arbres,8,FALSE)*crit8,\"\")","v":""},{"$f":"IF(Base_Arbres!D552<>\"\",VLOOKUP($A552,Base_Arbres,9,FALSE)*crit9,\"\")","v":""},{"$f":"IF(ISNA(VLOOKUP(INDEX(Base_Typologie!$A$6:$P$1003,MATCH(A552,Base_Typologie!$A:$A,0)-5,MATCH(Typologie_Espace_Public,Base_Typologie!$6:$6,0)),TableauScoreTypologie2,2,FALSE)*Crit6),0,VLOOKUP(INDEX(Base_Typologie!$A$6:$P$1003,MATCH(A552,Base_Typologie!$A:$A,0)-5,MATCH(Typologie_Espace_Public,Base_Typologie!$6:$6,0)),TableauScoreTypologie2,2,FALSE)*Crit6)","v":0},0,0,0,0,0,0,0,0,0,0,0,0,null,{"$f":"IF(Base_Arbres!A655<>\"\",VLOOKUP($A552,Base_Arbres,4,FALSE)*Crit7,\"\")","v":""}]
[{"$f":"IF(Base_Arbres!A599<>\"\",Base_Arbres!A599,\"\")","v":""},{"$f":"IF(Base_Arbres!A599<>\"\",VLOOKUP($A553,Base_Arbres,3,FALSE)*Crit1,\"\")","v":""},{"$f":"IF(Base_Arbres!A599<>\"\",VLOOKUP($A553,Base_Arbres,4,FALSE)*Crit2,\"\")","v":""},{"$f":"IF(Base_Arbres!A599<>\"\",VLOOKUP($A553,Base_Arbres,5,FALSE)*Crit3,\"\")","v":""},{"$f":"IF(Base_Arbres!A599<>\"\",VLOOKUP($A553,Base_Arbres,6,FALSE)*Crit4,\"\")","v":""},{"$f":"IF(Base_Arbres!B553<>\"\",VLOOKUP($A553,Base_Arbres,7,FALSE)*Crit5,\"\")","v":""},{"$f":"IF(Base_Arbres!C553<>\"\",VLOOKUP($A553,Base_Arbres,8,FALSE)*crit8,\"\")","v":""},{"$f":"IF(Base_Arbres!D553<>\"\",VLOOKUP($A553,Base_Arbres,9,FALSE)*crit9,\"\")","v":""},{"$f":"IF(ISNA(VLOOKUP(INDEX(Base_Typologie!$A$6:$P$1003,MATCH(A553,Base_Typologie!$A:$A,0)-5,MATCH(Typologie_Espace_Public,Base_Typologie!$6:$6,0)),TableauScoreTypologie2,2,FALSE)*Crit6),0,VLOOKUP(INDEX(Base_Typologie!$A$6:$P$1003,MATCH(A553,Base_Typologie!$A:$A,0)-5,MATCH(Typologie_Espace_Public,Base_Typologie!$6:$6,0)),TableauScoreTypologie2,2,FALSE)*Crit6)","v":0},0,0,0,0,0,0,0,0,0,0,0,0,null,{"$f":"IF(Base_Arbres!A656<>\"\",VLOOKUP($A553,Base_Arbres,4,FALSE)*Crit7,\"\")","v":""}]
[{"$f":"IF(Base_Arbres!A600<>\"\",Base_Arbres!A600,\"\")","v":""},{"$f":"IF(Base_Arbres!A600<>\"\",VLOOKUP($A554,Base_Arbres,3,FALSE)*Crit1,\"\")","v":""},{"$f":"IF(Base_Arbres!A600<>\"\",VLOOKUP($A554,Base_Arbres,4,FALSE)*Crit2,\"\")","v":""},{"$f":"IF(Base_Arbres!A600<>\"\",VLOOKUP($A554,Base_Arbres,5,FALSE)*Crit3,\"\")","v":""},{"$f":"IF(Base_Arbres!A600<>\"\",VLOOKUP($A554,Base_Arbres,6,FALSE)*Crit4,\"\")","v":""},{"$f":"IF(Base_Arbres!B554<>\"\",VLOOKUP($A554,Base_Arbres,7,FALSE)*Crit5,\"\")","v":""},{"$f":"IF(Base_Arbres!C554<>\"\",VLOOKUP($A554,Base_Arbres,8,FALSE)*crit8,\"\")","v":""},{"$f":"IF(Base_Arbres!D554<>\"\",VLOOKUP($A554,Base_Arbres,9,FALSE)*crit9,\"\")","v":""},{"$f":"IF(ISNA(VLOOKUP(INDEX(Base_Typologie!$A$6:$P$1003,MATCH(A554,Base_Typologie!$A:$A,0)-5,MATCH(Typologie_Espace_Public,Base_Typologie!$6:$6,0)),TableauScoreTypologie2,2,FALSE)*Crit6),0,VLOOKUP(INDEX(Base_Typologie!$A$6:$P$1003,MATCH(A554,Base_Typologie!$A:$A,0)-5,MATCH(Typologie_Espace_Public,Base_Typologie!$6:$6,0)),TableauScoreTypologie2,2,FALSE)*Crit6)","v":0},0,0,0,0,0,0,0,0,0,0,0,0,null,{"$f":"IF(Base_Arbres!A657<>\"\",VLOOKUP($A554,Base_Arbres,4,FALSE)*Crit7,\"\")","v":""}]
[{"$f":"IF(Base_Arbres!A601<>\"\",Base_Arbres!A601,\"\")","v":""},{"$f":"IF(Base_Arbres!A601<>\"\",VLOOKUP($A555,Base_Arbres,3,FALSE)*Crit1,\"\")","v":""},{"$f":"IF(Base_Arbres!A601<>\"\",VLOOKUP($A555,Base_Arbres,4,FALSE)*Crit2,\"\")","v":""},{"$f":"IF(Base_Arbres!A601<>\"\",VLOOKUP($A555,Base_Arbres,5,FALSE)*Crit3,\"\")","v":""},{"$f":"IF(Base_Arbres!A601<>\"\",VLOOKUP($A555,Base_Arbres,6,FALSE)*Crit4,\"\")","v":""},{"$f":"IF(Base_Arbres!B555<>\"\",VLOOKUP($A555,Base_Arbres,7,FALSE)*Crit5,\"\")","v":""},{"$f":"IF(Base_Arbres!C555<>\"\",VLOOKUP($A555,Base_Arbres,8,FALSE)*crit8,\"\")","v":""},{"$f":"IF(Base_Arbres!D555<>\"\",VLOOKUP($A555,Base_Arbres,9,FALSE)*crit9,\"\")","v":""},{"$f":"IF(ISNA(VLOOKUP(INDEX(Base_Typologie!$A$6:$P$1003,MATCH(A555,Base_Typologie!$A:$A,0)-5,MATCH(Typologie_Espace_Public,Base_Typologie!$6:$6,0)),TableauScoreTypologie2,2,FALSE)*Crit6),0,VLOOKUP(INDEX(Base_Typologie!$A$6:$P$1003,MATCH(A555,Base_Typologie!$A:$A,0)-5,MATCH(Typologie_Espace_Public,Base_Typologie!$6:$6,0)),TableauScoreTypologie2,2,FALSE)*Crit6)","v":0},0,0,0,0,0,0,0,0,0,0,0,0,null,{"$f":"IF(Base_Arbres!A658<>\"\",VLOOKUP($A555,Base_Arbres,4,FALSE)*Crit7,\"\")","v":""}]
[{"$f":"IF(Base_Arbres!A602<>\"\",Base_Arbres!A602,\"\")","v":""},{"$f":"IF(Base_Arbres!A602<>\"\",VLOOKUP($A556,Base_Arbres,3,FALSE)*Crit1,\"\")","v":""},{"$f":"IF(Base_Arbres!A602<>\"\",VLOOKUP($A556,Base_Arbres,4,FALSE)*Crit2,\"\")","v":""},{"$f":"IF(Base_Arbres!A602<>\"\",VLOOKUP($A556,Base_Arbres,5,FALSE)*Crit3,\"\")","v":""},{"$f":"IF(Base_Arbres!A602<>\"\",VLOOKUP($A556,Base_Arbres,6,FALSE)*Crit4,\"\")","v":""},{"$f":"IF(Base_Arbres!B556<>\"\",VLOOKUP($A556,Base_Arbres,7,FALSE)*Crit5,\"\")","v":""},{"$f":"IF(Base_Arbres!C556<>\"\",VLOOKUP($A556,Base_Arbres,8,FALSE)*crit8,\"\")","v":""},{"$f":"IF(Base_Arbres!D556<>\"\",VLOOKUP($A556,Base_Arbres,9,FALSE)*crit9,\"\")","v":""},{"$f":"IF(ISNA(VLOOKUP(INDEX(Base_Typologie!$A$6:$P$1003,MATCH(A556,Base_Typologie!$A:$A,0)-5,MATCH(Typologie_Espace_Public,Base_Typologie!$6:$6,0)),TableauScoreTypologie2,2,FALSE)*Crit6),0,VLOOKUP(INDEX(Base_Typologie!$A$6:$P$1003,MATCH(A556,Base_Typologie!$A:$A,0)-5,MATCH(Typologie_Espace_Public,Base_Typologie!$6:$6,0)),TableauScoreTypologie2,2,FALSE)*Crit6)","v":0},0,0,0,0,0,0,0,0,0,0,0,0,null,{"$f":"IF(Base_Arbres!A659<>\"\",VLOOKUP($A556,Base_Arbres,4,FALSE)*Crit7,\"\")","v":""}]
[{"$f":"IF(Base_Arbres!A603<>\"\",Base_Arbres!A603,\"\")","v":""},{"$f":"IF(Base_Arbres!A603<>\"\",VLOOKUP($A557,Base_Arbres,3,FALSE)*Crit1,\"\")","v":""},{"$f":"IF(Base_Arbres!A603<>\"\",VLOOKUP($A557,Base_Arbres,4,FALSE)*Crit2,\"\")","v":""},{"$f":"IF(Base_Arbres!A603<>\"\",VLOOKUP($A557,Base_Arbres,5,FALSE)*Crit3,\"\")","v":""},{"$f":"IF(Base_Arbres!A603<>\"\",VLOOKUP($A557,Base_Arbres,6,FALSE)*Crit4,\"\")","v":""},{"$f":"IF(Base_Arbres!B557<>\"\",VLOOKUP($A557,Base_Arbres,7,FALSE)*Crit5,\"\")","v":""},{"$f":"IF(Base_Arbres!C557<>\"\",VLOOKUP($A557,Base_Arbres,8,FALSE)*crit8,\"\")","v":""},{"$f":"IF(Base_Arbres!D557<>\"\",VLOOKUP($A557,Base_Arbres,9,FALSE)*crit9,\"\")","v":""},{"$f":"IF(ISNA(VLOOKUP(INDEX(Base_Typologie!$A$6:$P$1003,MATCH(A557,Base_Typologie!$A:$A,0)-5,MATCH(Typologie_Espace_Public,Base_Typologie!$6:$6,0)),TableauScoreTypologie2,2,FALSE)*Crit6),0,VLOOKUP(INDEX(Base_Typologie!$A$6:$P$1003,MATCH(A557,Base_Typologie!$A:$A,0)-5,MATCH(Typologie_Espace_Public,Base_Typologie!$6:$6,0)),TableauScoreTypologie2,2,FALSE)*Crit6)","v":0},0,0,0,0,0,0,0,0,0,0,0,0,null,{"$f":"IF(Base_Arbres!A660<>\"\",VLOOKUP($A557,Base_Arbres,4,FALSE)*Crit7,\"\")","v":""}]
[{"$f":"IF(Base_Arbres!A604<>\"\",Base_Arbres!A604,\"\")","v":""},{"$f":"IF(Base_Arbres!A604<>\"\",VLOOKUP($A558,Base_Arbres,3,FALSE)*Crit1,\"\")","v":""},{"$f":"IF(Base_Arbres!A604<>\"\",VLOOKUP($A558,Base_Arbres,4,FALSE)*Crit2,\"\")","v":""},{"$f":"IF(Base_Arbres!A604<>\"\",VLOOKUP($A558,Base_Arbres,5,FALSE)*Crit3,\"\")","v":""},{"$f":"IF(Base_Arbres!A604<>\"\",VLOOKUP($A558,Base_Arbres,6,FALSE)*Crit4,\"\")","v":""},{"$f":"IF(Base_Arbres!B558<>\"\",VLOOKUP($A558,Base_Arbres,7,FALSE)*Crit5,\"\")","v":""},{"$f":"IF(Base_Arbres!C558<>\"\",VLOOKUP($A558,Base_Arbres,8,FALSE)*crit8,\"\")","v":""},{"$f":"IF(Base_Arbres!D558<>\"\",VLOOKUP($A558,Base_Arbres,9,FALSE)*crit9,\"\")","v":""},{"$f":"IF(ISNA(VLOOKUP(INDEX(Base_Typologie!$A$6:$P$1003,MATCH(A558,Base_Typologie!$A:$A,0)-5,MATCH(Typologie_Espace_Public,Base_Typologie!$6:$6,0)),TableauScoreTypologie2,2,FALSE)*Crit6),0,VLOOKUP(INDEX(Base_Typologie!$A$6:$P$1003,MATCH(A558,Base_Typologie!$A:$A,0)-5,MATCH(Typologie_Espace_Public,Base_Typologie!$6:$6,0)),TableauScoreTypologie2,2,FALSE)*Crit6)","v":0},0,0,0,0,0,0,0,0,0,0,0,0,null,{"$f":"IF(Base_Arbres!A661<>\"\",VLOOKUP($A558,Base_Arbres,4,FALSE)*Crit7,\"\")","v":""}]
[{"$f":"IF(Base_Arbres!A605<>\"\",Base_Arbres!A605,\"\")","v":""},{"$f":"IF(Base_Arbres!A605<>\"\",VLOOKUP($A559,Base_Arbres,3,FALSE)*Crit1,\"\")","v":""},{"$f":"IF(Base_Arbres!A605<>\"\",VLOOKUP($A559,Base_Arbres,4,FALSE)*Crit2,\"\")","v":""},{"$f":"IF(Base_Arbres!A605<>\"\",VLOOKUP($A559,Base_Arbres,5,FALSE)*Crit3,\"\")","v":""},{"$f":"IF(Base_Arbres!A605<>\"\",VLOOKUP($A559,Base_Arbres,6,FALSE)*Crit4,\"\")","v":""},{"$f":"IF(Base_Arbres!B559<>\"\",VLOOKUP($A559,Base_Arbres,7,FALSE)*Crit5,\"\")","v":""},{"$f":"IF(Base_Arbres!C559<>\"\",VLOOKUP($A559,Base_Arbres,8,FALSE)*crit8,\"\")","v":""},{"$f":"IF(Base_Arbres!D559<>\"\",VLOOKUP($A559,Base_Arbres,9,FALSE)*crit9,\"\")","v":""},{"$f":"IF(ISNA(VLOOKUP(INDEX(Base_Typologie!$A$6:$P$1003,MATCH(A559,Base_Typologie!$A:$A,0)-5,MATCH(Typologie_Espace_Public,Base_Typologie!$6:$6,0)),TableauScoreTypologie2,2,FALSE)*Crit6),0,VLOOKUP(INDEX(Base_Typologie!$A$6:$P$1003,MATCH(A559,Base_Typologie!$A:$A,0)-5,MATCH(Typologie_Espace_Public,Base_Typologie!$6:$6,0)),TableauScoreTypologie2,2,FALSE)*Crit6)","v":0},0,0,0,0,0,0,0,0,0,0,0,0,null,{"$f":"IF(Base_Arbres!A662<>\"\",VLOOKUP($A559,Base_Arbres,4,FALSE)*Crit7,\"\")","v":""}]
[{"$f":"IF(Base_Arbres!A606<>\"\",Base_Arbres!A606,\"\")","v":""},{"$f":"IF(Base_Arbres!A606<>\"\",VLOOKUP($A560,Base_Arbres,3,FALSE)*Crit1,\"\")","v":""},{"$f":"IF(Base_Arbres!A606<>\"\",VLOOKUP($A560,Base_Arbres,4,FALSE)*Crit2,\"\")","v":""},{"$f":"IF(Base_Arbres!A606<>\"\",VLOOKUP($A560,Base_Arbres,5,FALSE)*Crit3,\"\")","v":""},{"$f":"IF(Base_Arbres!A606<>\"\",VLOOKUP($A560,Base_Arbres,6,FALSE)*Crit4,\"\")","v":""},{"$f":"IF(Base_Arbres!B560<>\"\",VLOOKUP($A560,Base_Arbres,7,FALSE)*Crit5,\"\")","v":""},{"$f":"IF(Base_Arbres!C560<>\"\",VLOOKUP($A560,Base_Arbres,8,FALSE)*crit8,\"\")","v":""},{"$f":"IF(Base_Arbres!D560<>\"\",VLOOKUP($A560,Base_Arbres,9,FALSE)*crit9,\"\")","v":""},{"$f":"IF(ISNA(VLOOKUP(INDEX(Base_Typologie!$A$6:$P$1003,MATCH(A560,Base_Typologie!$A:$A,0)-5,MATCH(Typologie_Espace_Public,Base_Typologie!$6:$6,0)),TableauScoreTypologie2,2,FALSE)*Crit6),0,VLOOKUP(INDEX(Base_Typologie!$A$6:$P$1003,MATCH(A560,Base_Typologie!$A:$A,0)-5,MATCH(Typologie_Espace_Public,Base_Typologie!$6:$6,0)),TableauScoreTypologie2,2,FALSE)*Crit6)","v":0},0,0,0,0,0,0,0,0,0,0,0,0,null,{"$f":"IF(Base_Arbres!A663<>\"\",VLOOKUP($A560,Base_Arbres,4,FALSE)*Crit7,\"\")","v":""}]
[{"$f":"IF(Base_Arbres!A607<>\"\",Base_Arbres!A607,\"\")","v":""},{"$f":"IF(Base_Arbres!A607<>\"\",VLOOKUP($A561,Base_Arbres,3,FALSE)*Crit1,\"\")","v":""},{"$f":"IF(Base_Arbres!A607<>\"\",VLOOKUP($A561,Base_Arbres,4,FALSE)*Crit2,\"\")","v":""},{"$f":"IF(Base_Arbres!A607<>\"\",VLOOKUP($A561,Base_Arbres,5,FALSE)*Crit3,\"\")","v":""},{"$f":"IF(Base_Arbres!A607<>\"\",VLOOKUP($A561,Base_Arbres,6,FALSE)*Crit4,\"\")","v":""},{"$f":"IF(Base_Arbres!B561<>\"\",VLOOKUP($A561,Base_Arbres,7,FALSE)*Crit5,\"\")","v":""},{"$f":"IF(Base_Arbres!C561<>\"\",VLOOKUP($A561,Base_Arbres,8,FALSE)*crit8,\"\")","v":""},{"$f":"IF(Base_Arbres!D561<>\"\",VLOOKUP($A561,Base_Arbres,9,FALSE)*crit9,\"\")","v":""},{"$f":"IF(ISNA(VLOOKUP(INDEX(Base_Typologie!$A$6:$P$1003,MATCH(A561,Base_Typologie!$A:$A,0)-5,MATCH(Typologie_Espace_Public,Base_Typologie!$6:$6,0)),TableauScoreTypologie2,2,FALSE)*Crit6),0,VLOOKUP(INDEX(Base_Typologie!$A$6:$P$1003,MATCH(A561,Base_Typologie!$A:$A,0)-5,MATCH(Typologie_Espace_Public,Base_Typologie!$6:$6,0)),TableauScoreTypologie2,2,FALSE)*Crit6)","v":0},0,0,0,0,0,0,0,0,0,0,0,0,null,{"$f":"IF(Base_Arbres!A664<>\"\",VLOOKUP($A561,Base_Arbres,4,FALSE)*Crit7,\"\")","v":""}]
[{"$f":"IF(Base_Arbres!A608<>\"\",Base_Arbres!A608,\"\")","v":""},{"$f":"IF(Base_Arbres!A608<>\"\",VLOOKUP($A562,Base_Arbres,3,FALSE)*Crit1,\"\")","v":""},{"$f":"IF(Base_Arbres!A608<>\"\",VLOOKUP($A562,Base_Arbres,4,FALSE)*Crit2,\"\")","v":""},{"$f":"IF(Base_Arbres!A608<>\"\",VLOOKUP($A562,Base_Arbres,5,FALSE)*Crit3,\"\")","v":""},{"$f":"IF(Base_Arbres!A608<>\"\",VLOOKUP($A562,Base_Arbres,6,FALSE)*Crit4,\"\")","v":""},{"$f":"IF(Base_Arbres!B562<>\"\",VLOOKUP($A562,Base_Arbres,7,FALSE)*Crit5,\"\")","v":""},{"$f":"IF(Base_Arbres!C562<>\"\",VLOOKUP($A562,Base_Arbres,8,FALSE)*crit8,\"\")","v":""},{"$f":"IF(Base_Arbres!D562<>\"\",VLOOKUP($A562,Base_Arbres,9,FALSE)*crit9,\"\")","v":""},{"$f":"IF(ISNA(VLOOKUP(INDEX(Base_Typologie!$A$6:$P$1003,MATCH(A562,Base_Typologie!$A:$A,0)-5,MATCH(Typologie_Espace_Public,Base_Typologie!$6:$6,0)),TableauScoreTypologie2,2,FALSE)*Crit6),0,VLOOKUP(INDEX(Base_Typologie!$A$6:$P$1003,MATCH(A562,Base_Typologie!$A:$A,0)-5,MATCH(Typologie_Espace_Public,Base_Typologie!$6:$6,0)),TableauScoreTypologie2,2,FALSE)*Crit6)","v":0},0,0,0,0,0,0,0,0,0,0,0,0,null,{"$f":"IF(Base_Arbres!A665<>\"\",VLOOKUP($A562,Base_Arbres,4,FALSE)*Crit7,\"\")","v":""}]
[{"$f":"IF(Base_Arbres!A609<>\"\",Base_Arbres!A609,\"\")","v":""},{"$f":"IF(Base_Arbres!A609<>\"\",VLOOKUP($A563,Base_Arbres,3,FALSE)*Crit1,\"\")","v":""},{"$f":"IF(Base_Arbres!A609<>\"\",VLOOKUP($A563,Base_Arbres,4,FALSE)*Crit2,\"\")","v":""},{"$f":"IF(Base_Arbres!A609<>\"\",VLOOKUP($A563,Base_Arbres,5,FALSE)*Crit3,\"\")","v":""},{"$f":"IF(Base_Arbres!A609<>\"\",VLOOKUP($A563,Base_Arbres,6,FALSE)*Crit4,\"\")","v":""},{"$f":"IF(Base_Arbres!B563<>\"\",VLOOKUP($A563,Base_Arbres,7,FALSE)*Crit5,\"\")","v":""},{"$f":"IF(Base_Arbres!C563<>\"\",VLOOKUP($A563,Base_Arbres,8,FALSE)*crit8,\"\")","v":""},{"$f":"IF(Base_Arbres!D563<>\"\",VLOOKUP($A563,Base_Arbres,9,FALSE)*crit9,\"\")","v":""},{"$f":"IF(ISNA(VLOOKUP(INDEX(Base_Typologie!$A$6:$P$1003,MATCH(A563,Base_Typologie!$A:$A,0)-5,MATCH(Typologie_Espace_Public,Base_Typologie!$6:$6,0)),TableauScoreTypologie2,2,FALSE)*Crit6),0,VLOOKUP(INDEX(Base_Typologie!$A$6:$P$1003,MATCH(A563,Base_Typologie!$A:$A,0)-5,MATCH(Typologie_Espace_Public,Base_Typologie!$6:$6,0)),TableauScoreTypologie2,2,FALSE)*Crit6)","v":0},0,0,0,0,0,0,0,0,0,0,0,0,null,{"$f":"IF(Base_Arbres!A666<>\"\",VLOOKUP($A563,Base_Arbres,4,FALSE)*Crit7,\"\")","v":""}]
[{"$f":"IF(Base_Arbres!A610<>\"\",Base_Arbres!A610,\"\")","v":""},{"$f":"IF(Base_Arbres!A610<>\"\",VLOOKUP($A564,Base_Arbres,3,FALSE)*Crit1,\"\")","v":""},{"$f":"IF(Base_Arbres!A610<>\"\",VLOOKUP($A564,Base_Arbres,4,FALSE)*Crit2,\"\")","v":""},{"$f":"IF(Base_Arbres!A610<>\"\",VLOOKUP($A564,Base_Arbres,5,FALSE)*Crit3,\"\")","v":""},{"$f":"IF(Base_Arbres!A610<>\"\",VLOOKUP($A564,Base_Arbres,6,FALSE)*Crit4,\"\")","v":""},{"$f":"IF(Base_Arbres!B564<>\"\",VLOOKUP($A564,Base_Arbres,7,FALSE)*Crit5,\"\")","v":""},{"$f":"IF(Base_Arbres!C564<>\"\",VLOOKUP($A564,Base_Arbres,8,FALSE)*crit8,\"\")","v":""},{"$f":"IF(Base_Arbres!D564<>\"\",VLOOKUP($A564,Base_Arbres,9,FALSE)*crit9,\"\")","v":""},{"$f":"IF(ISNA(VLOOKUP(INDEX(Base_Typologie!$A$6:$P$1003,MATCH(A564,Base_Typologie!$A:$A,0)-5,MATCH(Typologie_Espace_Public,Base_Typologie!$6:$6,0)),TableauScoreTypologie2,2,FALSE)*Crit6),0,VLOOKUP(INDEX(Base_Typologie!$A$6:$P$1003,MATCH(A564,Base_Typologie!$A:$A,0)-5,MATCH(Typologie_Espace_Public,Base_Typologie!$6:$6,0)),TableauScoreTypologie2,2,FALSE)*Crit6)","v":0},0,0,0,0,0,0,0,0,0,0,0,0,null,{"$f":"IF(Base_Arbres!A667<>\"\",VLOOKUP($A564,Base_Arbres,4,FALSE)*Crit7,\"\")","v":""}]
[{"$f":"IF(Base_Arbres!A611<>\"\",Base_Arbres!A611,\"\")","v":""},{"$f":"IF(Base_Arbres!A611<>\"\",VLOOKUP($A565,Base_Arbres,3,FALSE)*Crit1,\"\")","v":""},{"$f":"IF(Base_Arbres!A611<>\"\",VLOOKUP($A565,Base_Arbres,4,FALSE)*Crit2,\"\")","v":""},{"$f":"IF(Base_Arbres!A611<>\"\",VLOOKUP($A565,Base_Arbres,5,FALSE)*Crit3,\"\")","v":""},{"$f":"IF(Base_Arbres!A611<>\"\",VLOOKUP($A565,Base_Arbres,6,FALSE)*Crit4,\"\")","v":""},{"$f":"IF(Base_Arbres!B565<>\"\",VLOOKUP($A565,Base_Arbres,7,FALSE)*Crit5,\"\")","v":""},{"$f":"IF(Base_Arbres!C565<>\"\",VLOOKUP($A565,Base_Arbres,8,FALSE)*crit8,\"\")","v":""},{"$f":"IF(Base_Arbres!D565<>\"\",VLOOKUP($A565,Base_Arbres,9,FALSE)*crit9,\"\")","v":""},{"$f":"IF(ISNA(VLOOKUP(INDEX(Base_Typologie!$A$6:$P$1003,MATCH(A565,Base_Typologie!$A:$A,0)-5,MATCH(Typologie_Espace_Public,Base_Typologie!$6:$6,0)),TableauScoreTypologie2,2,FALSE)*Crit6),0,VLOOKUP(INDEX(Base_Typologie!$A$6:$P$1003,MATCH(A565,Base_Typologie!$A:$A,0)-5,MATCH(Typologie_Espace_Public,Base_Typologie!$6:$6,0)),TableauScoreTypologie2,2,FALSE)*Crit6)","v":0},0,0,0,0,0,0,0,0,0,0,0,0,null,{"$f":"IF(Base_Arbres!A668<>\"\",VLOOKUP($A565,Base_Arbres,4,FALSE)*Crit7,\"\")","v":""}]
[{"$f":"IF(Base_Arbres!A612<>\"\",Base_Arbres!A612,\"\")","v":""},{"$f":"IF(Base_Arbres!A612<>\"\",VLOOKUP($A566,Base_Arbres,3,FALSE)*Crit1,\"\")","v":""},{"$f":"IF(Base_Arbres!A612<>\"\",VLOOKUP($A566,Base_Arbres,4,FALSE)*Crit2,\"\")","v":""},{"$f":"IF(Base_Arbres!A612<>\"\",VLOOKUP($A566,Base_Arbres,5,FALSE)*Crit3,\"\")","v":""},{"$f":"IF(Base_Arbres!A612<>\"\",VLOOKUP($A566,Base_Arbres,6,FALSE)*Crit4,\"\")","v":""},{"$f":"IF(Base_Arbres!B566<>\"\",VLOOKUP($A566,Base_Arbres,7,FALSE)*Crit5,\"\")","v":""},{"$f":"IF(Base_Arbres!C566<>\"\",VLOOKUP($A566,Base_Arbres,8,FALSE)*crit8,\"\")","v":""},{"$f":"IF(Base_Arbres!D566<>\"\",VLOOKUP($A566,Base_Arbres,9,FALSE)*crit9,\"\")","v":""},{"$f":"IF(ISNA(VLOOKUP(INDEX(Base_Typologie!$A$6:$P$1003,MATCH(A566,Base_Typologie!$A:$A,0)-5,MATCH(Typologie_Espace_Public,Base_Typologie!$6:$6,0)),TableauScoreTypologie2,2,FALSE)*Crit6),0,VLOOKUP(INDEX(Base_Typologie!$A$6:$P$1003,MATCH(A566,Base_Typologie!$A:$A,0)-5,MATCH(Typologie_Espace_Public,Base_Typologie!$6:$6,0)),TableauScoreTypologie2,2,FALSE)*Crit6)","v":0},0,0,0,0,0,0,0,0,0,0,0,0,null,{"$f":"IF(Base_Arbres!A669<>\"\",VLOOKUP($A566,Base_Arbres,4,FALSE)*Crit7,\"\")","v":""}]
[{"$f":"IF(Base_Arbres!A613<>\"\",Base_Arbres!A613,\"\")","v":""},{"$f":"IF(Base_Arbres!A613<>\"\",VLOOKUP($A567,Base_Arbres,3,FALSE)*Crit1,\"\")","v":""},{"$f":"IF(Base_Arbres!A613<>\"\",VLOOKUP($A567,Base_Arbres,4,FALSE)*Crit2,\"\")","v":""},{"$f":"IF(Base_Arbres!A613<>\"\",VLOOKUP($A567,Base_Arbres,5,FALSE)*Crit3,\"\")","v":""},{"$f":"IF(Base_Arbres!A613<>\"\",VLOOKUP($A567,Base_Arbres,6,FALSE)*Crit4,\"\")","v":""},{"$f":"IF(Base_Arbres!B567<>\"\",VLOOKUP($A567,Base_Arbres,7,FALSE)*Crit5,\"\")","v":""},{"$f":"IF(Base_Arbres!C567<>\"\",VLOOKUP($A567,Base_Arbres,8,FALSE)*crit8,\"\")","v":""},{"$f":"IF(Base_Arbres!D567<>\"\",VLOOKUP($A567,Base_Arbres,9,FALSE)*crit9,\"\")","v":""},{"$f":"IF(ISNA(VLOOKUP(INDEX(Base_Typologie!$A$6:$P$1003,MATCH(A567,Base_Typologie!$A:$A,0)-5,MATCH(Typologie_Espace_Public,Base_Typologie!$6:$6,0)),TableauScoreTypologie2,2,FALSE)*Crit6),0,VLOOKUP(INDEX(Base_Typologie!$A$6:$P$1003,MATCH(A567,Base_Typologie!$A:$A,0)-5,MATCH(Typologie_Espace_Public,Base_Typologie!$6:$6,0)),TableauScoreTypologie2,2,FALSE)*Crit6)","v":0},0,0,0,0,0,0,0,0,0,0,0,0,null,{"$f":"IF(Base_Arbres!A670<>\"\",VLOOKUP($A567,Base_Arbres,4,FALSE)*Crit7,\"\")","v":""}]
[{"$f":"IF(Base_Arbres!A614<>\"\",Base_Arbres!A614,\"\")","v":""},{"$f":"IF(Base_Arbres!A614<>\"\",VLOOKUP($A568,Base_Arbres,3,FALSE)*Crit1,\"\")","v":""},{"$f":"IF(Base_Arbres!A614<>\"\",VLOOKUP($A568,Base_Arbres,4,FALSE)*Crit2,\"\")","v":""},{"$f":"IF(Base_Arbres!A614<>\"\",VLOOKUP($A568,Base_Arbres,5,FALSE)*Crit3,\"\")","v":""},{"$f":"IF(Base_Arbres!A614<>\"\",VLOOKUP($A568,Base_Arbres,6,FALSE)*Crit4,\"\")","v":""},{"$f":"IF(Base_Arbres!B568<>\"\",VLOOKUP($A568,Base_Arbres,7,FALSE)*Crit5,\"\")","v":""},{"$f":"IF(Base_Arbres!C568<>\"\",VLOOKUP($A568,Base_Arbres,8,FALSE)*crit8,\"\")","v":""},{"$f":"IF(Base_Arbres!D568<>\"\",VLOOKUP($A568,Base_Arbres,9,FALSE)*crit9,\"\")","v":""},{"$f":"IF(ISNA(VLOOKUP(INDEX(Base_Typologie!$A$6:$P$1003,MATCH(A568,Base_Typologie!$A:$A,0)-5,MATCH(Typologie_Espace_Public,Base_Typologie!$6:$6,0)),TableauScoreTypologie2,2,FALSE)*Crit6),0,VLOOKUP(INDEX(Base_Typologie!$A$6:$P$1003,MATCH(A568,Base_Typologie!$A:$A,0)-5,MATCH(Typologie_Espace_Public,Base_Typologie!$6:$6,0)),TableauScoreTypologie2,2,FALSE)*Crit6)","v":0},0,0,0,0,0,0,0,0,0,0,0,0,null,{"$f":"IF(Base_Arbres!A671<>\"\",VLOOKUP($A568,Base_Arbres,4,FALSE)*Crit7,\"\")","v":""}]
[{"$f":"IF(Base_Arbres!A615<>\"\",Base_Arbres!A615,\"\")","v":""},{"$f":"IF(Base_Arbres!A615<>\"\",VLOOKUP($A569,Base_Arbres,3,FALSE)*Crit1,\"\")","v":""},{"$f":"IF(Base_Arbres!A615<>\"\",VLOOKUP($A569,Base_Arbres,4,FALSE)*Crit2,\"\")","v":""},{"$f":"IF(Base_Arbres!A615<>\"\",VLOOKUP($A569,Base_Arbres,5,FALSE)*Crit3,\"\")","v":""},{"$f":"IF(Base_Arbres!A615<>\"\",VLOOKUP($A569,Base_Arbres,6,FALSE)*Crit4,\"\")","v":""},{"$f":"IF(Base_Arbres!B569<>\"\",VLOOKUP($A569,Base_Arbres,7,FALSE)*Crit5,\"\")","v":""},{"$f":"IF(Base_Arbres!C569<>\"\",VLOOKUP($A569,Base_Arbres,8,FALSE)*crit8,\"\")","v":""},{"$f":"IF(Base_Arbres!D569<>\"\",VLOOKUP($A569,Base_Arbres,9,FALSE)*crit9,\"\")","v":""},{"$f":"IF(ISNA(VLOOKUP(INDEX(Base_Typologie!$A$6:$P$1003,MATCH(A569,Base_Typologie!$A:$A,0)-5,MATCH(Typologie_Espace_Public,Base_Typologie!$6:$6,0)),TableauScoreTypologie2,2,FALSE)*Crit6),0,VLOOKUP(INDEX(Base_Typologie!$A$6:$P$1003,MATCH(A569,Base_Typologie!$A:$A,0)-5,MATCH(Typologie_Espace_Public,Base_Typologie!$6:$6,0)),TableauScoreTypologie2,2,FALSE)*Crit6)","v":0},0,0,0,0,0,0,0,0,0,0,0,0,null,{"$f":"IF(Base_Arbres!A672<>\"\",VLOOKUP($A569,Base_Arbres,4,FALSE)*Crit7,\"\")","v":""}]
[{"$f":"IF(Base_Arbres!A616<>\"\",Base_Arbres!A616,\"\")","v":""},{"$f":"IF(Base_Arbres!A616<>\"\",VLOOKUP($A570,Base_Arbres,3,FALSE)*Crit1,\"\")","v":""},{"$f":"IF(Base_Arbres!A616<>\"\",VLOOKUP($A570,Base_Arbres,4,FALSE)*Crit2,\"\")","v":""},{"$f":"IF(Base_Arbres!A616<>\"\",VLOOKUP($A570,Base_Arbres,5,FALSE)*Crit3,\"\")","v":""},{"$f":"IF(Base_Arbres!A616<>\"\",VLOOKUP($A570,Base_Arbres,6,FALSE)*Crit4,\"\")","v":""},{"$f":"IF(Base_Arbres!B570<>\"\",VLOOKUP($A570,Base_Arbres,7,FALSE)*Crit5,\"\")","v":""},{"$f":"IF(Base_Arbres!C570<>\"\",VLOOKUP($A570,Base_Arbres,8,FALSE)*crit8,\"\")","v":""},{"$f":"IF(Base_Arbres!D570<>\"\",VLOOKUP($A570,Base_Arbres,9,FALSE)*crit9,\"\")","v":""},{"$f":"IF(ISNA(VLOOKUP(INDEX(Base_Typologie!$A$6:$P$1003,MATCH(A570,Base_Typologie!$A:$A,0)-5,MATCH(Typologie_Espace_Public,Base_Typologie!$6:$6,0)),TableauScoreTypologie2,2,FALSE)*Crit6),0,VLOOKUP(INDEX(Base_Typologie!$A$6:$P$1003,MATCH(A570,Base_Typologie!$A:$A,0)-5,MATCH(Typologie_Espace_Public,Base_Typologie!$6:$6,0)),TableauScoreTypologie2,2,FALSE)*Crit6)","v":0},0,0,0,0,0,0,0,0,0,0,0,0,null,{"$f":"IF(Base_Arbres!A673<>\"\",VLOOKUP($A570,Base_Arbres,4,FALSE)*Crit7,\"\")","v":""}]
[{"$f":"IF(Base_Arbres!A617<>\"\",Base_Arbres!A617,\"\")","v":""},{"$f":"IF(Base_Arbres!A617<>\"\",VLOOKUP($A571,Base_Arbres,3,FALSE)*Crit1,\"\")","v":""},{"$f":"IF(Base_Arbres!A617<>\"\",VLOOKUP($A571,Base_Arbres,4,FALSE)*Crit2,\"\")","v":""},{"$f":"IF(Base_Arbres!A617<>\"\",VLOOKUP($A571,Base_Arbres,5,FALSE)*Crit3,\"\")","v":""},{"$f":"IF(Base_Arbres!A617<>\"\",VLOOKUP($A571,Base_Arbres,6,FALSE)*Crit4,\"\")","v":""},{"$f":"IF(Base_Arbres!B571<>\"\",VLOOKUP($A571,Base_Arbres,7,FALSE)*Crit5,\"\")","v":""},{"$f":"IF(Base_Arbres!C571<>\"\",VLOOKUP($A571,Base_Arbres,8,FALSE)*crit8,\"\")","v":""},{"$f":"IF(Base_Arbres!D571<>\"\",VLOOKUP($A571,Base_Arbres,9,FALSE)*crit9,\"\")","v":""},{"$f":"IF(ISNA(VLOOKUP(INDEX(Base_Typologie!$A$6:$P$1003,MATCH(A571,Base_Typologie!$A:$A,0)-5,MATCH(Typologie_Espace_Public,Base_Typologie!$6:$6,0)),TableauScoreTypologie2,2,FALSE)*Crit6),0,VLOOKUP(INDEX(Base_Typologie!$A$6:$P$1003,MATCH(A571,Base_Typologie!$A:$A,0)-5,MATCH(Typologie_Espace_Public,Base_Typologie!$6:$6,0)),TableauScoreTypologie2,2,FALSE)*Crit6)","v":0},0,0,0,0,0,0,0,0,0,0,0,0,null,{"$f":"IF(Base_Arbres!A674<>\"\",VLOOKUP($A571,Base_Arbres,4,FALSE)*Crit7,\"\")","v":""}]
[{"$f":"IF(Base_Arbres!A618<>\"\",Base_Arbres!A618,\"\")","v":""},{"$f":"IF(Base_Arbres!A618<>\"\",VLOOKUP($A572,Base_Arbres,3,FALSE)*Crit1,\"\")","v":""},{"$f":"IF(Base_Arbres!A618<>\"\",VLOOKUP($A572,Base_Arbres,4,FALSE)*Crit2,\"\")","v":""},{"$f":"IF(Base_Arbres!A618<>\"\",VLOOKUP($A572,Base_Arbres,5,FALSE)*Crit3,\"\")","v":""},{"$f":"IF(Base_Arbres!A618<>\"\",VLOOKUP($A572,Base_Arbres,6,FALSE)*Crit4,\"\")","v":""},{"$f":"IF(Base_Arbres!B572<>\"\",VLOOKUP($A572,Base_Arbres,7,FALSE)*Crit5,\"\")","v":""},{"$f":"IF(Base_Arbres!C572<>\"\",VLOOKUP($A572,Base_Arbres,8,FALSE)*crit8,\"\")","v":""},{"$f":"IF(Base_Arbres!D572<>\"\",VLOOKUP($A572,Base_Arbres,9,FALSE)*crit9,\"\")","v":""},{"$f":"IF(ISNA(VLOOKUP(INDEX(Base_Typologie!$A$6:$P$1003,MATCH(A572,Base_Typologie!$A:$A,0)-5,MATCH(Typologie_Espace_Public,Base_Typologie!$6:$6,0)),TableauScoreTypologie2,2,FALSE)*Crit6),0,VLOOKUP(INDEX(Base_Typologie!$A$6:$P$1003,MATCH(A572,Base_Typologie!$A:$A,0)-5,MATCH(Typologie_Espace_Public,Base_Typologie!$6:$6,0)),TableauScoreTypologie2,2,FALSE)*Crit6)","v":0},0,0,0,0,0,0,0,0,0,0,0,0,null,{"$f":"IF(Base_Arbres!A675<>\"\",VLOOKUP($A572,Base_Arbres,4,FALSE)*Crit7,\"\")","v":""}]
[{"$f":"IF(Base_Arbres!A619<>\"\",Base_Arbres!A619,\"\")","v":""},{"$f":"IF(Base_Arbres!A619<>\"\",VLOOKUP($A573,Base_Arbres,3,FALSE)*Crit1,\"\")","v":""},{"$f":"IF(Base_Arbres!A619<>\"\",VLOOKUP($A573,Base_Arbres,4,FALSE)*Crit2,\"\")","v":""},{"$f":"IF(Base_Arbres!A619<>\"\",VLOOKUP($A573,Base_Arbres,5,FALSE)*Crit3,\"\")","v":""},{"$f":"IF(Base_Arbres!A619<>\"\",VLOOKUP($A573,Base_Arbres,6,FALSE)*Crit4,\"\")","v":""},{"$f":"IF(Base_Arbres!B573<>\"\",VLOOKUP($A573,Base_Arbres,7,FALSE)*Crit5,\"\")","v":""},{"$f":"IF(Base_Arbres!C573<>\"\",VLOOKUP($A573,Base_Arbres,8,FALSE)*crit8,\"\")","v":""},{"$f":"IF(Base_Arbres!D573<>\"\",VLOOKUP($A573,Base_Arbres,9,FALSE)*crit9,\"\")","v":""},{"$f":"IF(ISNA(VLOOKUP(INDEX(Base_Typologie!$A$6:$P$1003,MATCH(A573,Base_Typologie!$A:$A,0)-5,MATCH(Typologie_Espace_Public,Base_Typologie!$6:$6,0)),TableauScoreTypologie2,2,FALSE)*Crit6),0,VLOOKUP(INDEX(Base_Typologie!$A$6:$P$1003,MATCH(A573,Base_Typologie!$A:$A,0)-5,MATCH(Typologie_Espace_Public,Base_Typologie!$6:$6,0)),TableauScoreTypologie2,2,FALSE)*Crit6)","v":0},0,0,0,0,0,0,0,0,0,0,0,0,null,{"$f":"IF(Base_Arbres!A676<>\"\",VLOOKUP($A573,Base_Arbres,4,FALSE)*Crit7,\"\")","v":""}]
[{"$f":"IF(Base_Arbres!A620<>\"\",Base_Arbres!A620,\"\")","v":""},{"$f":"IF(Base_Arbres!A620<>\"\",VLOOKUP($A574,Base_Arbres,3,FALSE)*Crit1,\"\")","v":""},{"$f":"IF(Base_Arbres!A620<>\"\",VLOOKUP($A574,Base_Arbres,4,FALSE)*Crit2,\"\")","v":""},{"$f":"IF(Base_Arbres!A620<>\"\",VLOOKUP($A574,Base_Arbres,5,FALSE)*Crit3,\"\")","v":""},{"$f":"IF(Base_Arbres!A620<>\"\",VLOOKUP($A574,Base_Arbres,6,FALSE)*Crit4,\"\")","v":""},{"$f":"IF(Base_Arbres!B574<>\"\",VLOOKUP($A574,Base_Arbres,7,FALSE)*Crit5,\"\")","v":""},{"$f":"IF(Base_Arbres!C574<>\"\",VLOOKUP($A574,Base_Arbres,8,FALSE)*crit8,\"\")","v":""},{"$f":"IF(Base_Arbres!D574<>\"\",VLOOKUP($A574,Base_Arbres,9,FALSE)*crit9,\"\")","v":""},{"$f":"IF(ISNA(VLOOKUP(INDEX(Base_Typologie!$A$6:$P$1003,MATCH(A574,Base_Typologie!$A:$A,0)-5,MATCH(Typologie_Espace_Public,Base_Typologie!$6:$6,0)),TableauScoreTypologie2,2,FALSE)*Crit6),0,VLOOKUP(INDEX(Base_Typologie!$A$6:$P$1003,MATCH(A574,Base_Typologie!$A:$A,0)-5,MATCH(Typologie_Espace_Public,Base_Typologie!$6:$6,0)),TableauScoreTypologie2,2,FALSE)*Crit6)","v":0},0,0,0,0,0,0,0,0,0,0,0,0,null,{"$f":"IF(Base_Arbres!A677<>\"\",VLOOKUP($A574,Base_Arbres,4,FALSE)*Crit7,\"\")","v":""}]
[{"$f":"IF(Base_Arbres!A621<>\"\",Base_Arbres!A621,\"\")","v":""},{"$f":"IF(Base_Arbres!A621<>\"\",VLOOKUP($A575,Base_Arbres,3,FALSE)*Crit1,\"\")","v":""},{"$f":"IF(Base_Arbres!A621<>\"\",VLOOKUP($A575,Base_Arbres,4,FALSE)*Crit2,\"\")","v":""},{"$f":"IF(Base_Arbres!A621<>\"\",VLOOKUP($A575,Base_Arbres,5,FALSE)*Crit3,\"\")","v":""},{"$f":"IF(Base_Arbres!A621<>\"\",VLOOKUP($A575,Base_Arbres,6,FALSE)*Crit4,\"\")","v":""},{"$f":"IF(Base_Arbres!B575<>\"\",VLOOKUP($A575,Base_Arbres,7,FALSE)*Crit5,\"\")","v":""},{"$f":"IF(Base_Arbres!C575<>\"\",VLOOKUP($A575,Base_Arbres,8,FALSE)*crit8,\"\")","v":""},{"$f":"IF(Base_Arbres!D575<>\"\",VLOOKUP($A575,Base_Arbres,9,FALSE)*crit9,\"\")","v":""},{"$f":"IF(ISNA(VLOOKUP(INDEX(Base_Typologie!$A$6:$P$1003,MATCH(A575,Base_Typologie!$A:$A,0)-5,MATCH(Typologie_Espace_Public,Base_Typologie!$6:$6,0)),TableauScoreTypologie2,2,FALSE)*Crit6),0,VLOOKUP(INDEX(Base_Typologie!$A$6:$P$1003,MATCH(A575,Base_Typologie!$A:$A,0)-5,MATCH(Typologie_Espace_Public,Base_Typologie!$6:$6,0)),TableauScoreTypologie2,2,FALSE)*Crit6)","v":0},0,0,0,0,0,0,0,0,0,0,0,0,null,{"$f":"IF(Base_Arbres!A678<>\"\",VLOOKUP($A575,Base_Arbres,4,FALSE)*Crit7,\"\")","v":""}]
[{"$f":"IF(Base_Arbres!A622<>\"\",Base_Arbres!A622,\"\")","v":""},{"$f":"IF(Base_Arbres!A622<>\"\",VLOOKUP($A576,Base_Arbres,3,FALSE)*Crit1,\"\")","v":""},{"$f":"IF(Base_Arbres!A622<>\"\",VLOOKUP($A576,Base_Arbres,4,FALSE)*Crit2,\"\")","v":""},{"$f":"IF(Base_Arbres!A622<>\"\",VLOOKUP($A576,Base_Arbres,5,FALSE)*Crit3,\"\")","v":""},{"$f":"IF(Base_Arbres!A622<>\"\",VLOOKUP($A576,Base_Arbres,6,FALSE)*Crit4,\"\")","v":""},{"$f":"IF(Base_Arbres!B576<>\"\",VLOOKUP($A576,Base_Arbres,7,FALSE)*Crit5,\"\")","v":""},{"$f":"IF(Base_Arbres!C576<>\"\",VLOOKUP($A576,Base_Arbres,8,FALSE)*crit8,\"\")","v":""},{"$f":"IF(Base_Arbres!D576<>\"\",VLOOKUP($A576,Base_Arbres,9,FALSE)*crit9,\"\")","v":""},{"$f":"IF(ISNA(VLOOKUP(INDEX(Base_Typologie!$A$6:$P$1003,MATCH(A576,Base_Typologie!$A:$A,0)-5,MATCH(Typologie_Espace_Public,Base_Typologie!$6:$6,0)),TableauScoreTypologie2,2,FALSE)*Crit6),0,VLOOKUP(INDEX(Base_Typologie!$A$6:$P$1003,MATCH(A576,Base_Typologie!$A:$A,0)-5,MATCH(Typologie_Espace_Public,Base_Typologie!$6:$6,0)),TableauScoreTypologie2,2,FALSE)*Crit6)","v":0},0,0,0,0,0,0,0,0,0,0,0,0,null,{"$f":"IF(Base_Arbres!A679<>\"\",VLOOKUP($A576,Base_Arbres,4,FALSE)*Crit7,\"\")","v":""}]
[{"$f":"IF(Base_Arbres!A623<>\"\",Base_Arbres!A623,\"\")","v":""},{"$f":"IF(Base_Arbres!A623<>\"\",VLOOKUP($A577,Base_Arbres,3,FALSE)*Crit1,\"\")","v":""},{"$f":"IF(Base_Arbres!A623<>\"\",VLOOKUP($A577,Base_Arbres,4,FALSE)*Crit2,\"\")","v":""},{"$f":"IF(Base_Arbres!A623<>\"\",VLOOKUP($A577,Base_Arbres,5,FALSE)*Crit3,\"\")","v":""},{"$f":"IF(Base_Arbres!A623<>\"\",VLOOKUP($A577,Base_Arbres,6,FALSE)*Crit4,\"\")","v":""},{"$f":"IF(Base_Arbres!B577<>\"\",VLOOKUP($A577,Base_Arbres,7,FALSE)*Crit5,\"\")","v":""},{"$f":"IF(Base_Arbres!C577<>\"\",VLOOKUP($A577,Base_Arbres,8,FALSE)*crit8,\"\")","v":""},{"$f":"IF(Base_Arbres!D577<>\"\",VLOOKUP($A577,Base_Arbres,9,FALSE)*crit9,\"\")","v":""},{"$f":"IF(ISNA(VLOOKUP(INDEX(Base_Typologie!$A$6:$P$1003,MATCH(A577,Base_Typologie!$A:$A,0)-5,MATCH(Typologie_Espace_Public,Base_Typologie!$6:$6,0)),TableauScoreTypologie2,2,FALSE)*Crit6),0,VLOOKUP(INDEX(Base_Typologie!$A$6:$P$1003,MATCH(A577,Base_Typologie!$A:$A,0)-5,MATCH(Typologie_Espace_Public,Base_Typologie!$6:$6,0)),TableauScoreTypologie2,2,FALSE)*Crit6)","v":0},0,0,0,0,0,0,0,0,0,0,0,0,null,{"$f":"IF(Base_Arbres!A680<>\"\",VLOOKUP($A577,Base_Arbres,4,FALSE)*Crit7,\"\")","v":""}]
[{"$f":"IF(Base_Arbres!A624<>\"\",Base_Arbres!A624,\"\")","v":""},{"$f":"IF(Base_Arbres!A624<>\"\",VLOOKUP($A578,Base_Arbres,3,FALSE)*Crit1,\"\")","v":""},{"$f":"IF(Base_Arbres!A624<>\"\",VLOOKUP($A578,Base_Arbres,4,FALSE)*Crit2,\"\")","v":""},{"$f":"IF(Base_Arbres!A624<>\"\",VLOOKUP($A578,Base_Arbres,5,FALSE)*Crit3,\"\")","v":""},{"$f":"IF(Base_Arbres!A624<>\"\",VLOOKUP($A578,Base_Arbres,6,FALSE)*Crit4,\"\")","v":""},{"$f":"IF(Base_Arbres!B578<>\"\",VLOOKUP($A578,Base_Arbres,7,FALSE)*Crit5,\"\")","v":""},{"$f":"IF(Base_Arbres!C578<>\"\",VLOOKUP($A578,Base_Arbres,8,FALSE)*crit8,\"\")","v":""},{"$f":"IF(Base_Arbres!D578<>\"\",VLOOKUP($A578,Base_Arbres,9,FALSE)*crit9,\"\")","v":""},{"$f":"IF(ISNA(VLOOKUP(INDEX(Base_Typologie!$A$6:$P$1003,MATCH(A578,Base_Typologie!$A:$A,0)-5,MATCH(Typologie_Espace_Public,Base_Typologie!$6:$6,0)),TableauScoreTypologie2,2,FALSE)*Crit6),0,VLOOKUP(INDEX(Base_Typologie!$A$6:$P$1003,MATCH(A578,Base_Typologie!$A:$A,0)-5,MATCH(Typologie_Espace_Public,Base_Typologie!$6:$6,0)),TableauScoreTypologie2,2,FALSE)*Crit6)","v":0},{"$f":"IF(A578<>\"\",IF(LEFT(VLOOKUP($A578,Base_Arbres,10,FALSE),1)>=LEFT(Cont_Racines,1),0,1),0)","v":0},{"$f":"IF(A578<>\"\",IF(LEFT(VLOOKUP($A578,Base_Arbres,11,FALSE),1)>=LEFT(Cont_Branches,1),0,1),0)","v":0},{"$f":"IF(A578<>\"\",IF(LEFT(VLOOKUP($A578,Base_Arbres,12,FALSE),1)>=LEFT(Cont_Chablis,1),0,1),0)","v":0},{"$f":"IF(A578<>\"\",IF(LEFT(VLOOKUP($A578,Base_Arbres,13,FALSE),1)>=LEFT(Cont_Fructifications,1),0,1),0)","v":0},{"$f":"IF(A578<>\"\",IF(LEFT(VLOOKUP($A578,Base_Arbres,14,FALSE),1)>=LEFT(Cont_Miellat,1),0,1),0)","v":0},{"$f":"IF(A578<>\"\",IF(LEFT(VLOOKUP($A578,Base_Arbres,15,FALSE),1)>=LEFT(Cont_Fruits_Toxiques,1),0,1),0)","v":0},{"$f":"IF(A578<>\"\",IF(LEFT(VLOOKUP($A578,Base_Arbres,16,FALSE),1)>=LEFT(Cont_Hauteur,1),0,1),0)","v":0},{"$f":"IF(A578<>\"\",IF(LEFT(VLOOKUP($A578,Base_Arbres,17,FALSE),1)>=LEFT(Cont_Envergure,1),0,1),0)","v":0},{"$f":"IF(A578<>\"\",IF(LEFT(VLOOKUP($A578,Base_Arbres,18,FALSE),1)>=LEFT(Cont_pollen,1),0,1),0)","v":0},{"$f":"IF(B578<>\"\",IF(LEFT(VLOOKUP($A578,Base_Arbres,19,FALSE),1)>=LEFT(Cont_malodo,1),0,1),0)","v":0},{"$f":"IF(A578<>\"\",IF(LEFT(VLOOKUP($A578,Base_Arbres,20,FALSE),1)>=LEFT(Cont_chenilles,1),0,1),0)","v":0},{"$f":"IF(A578<>\"\",IF(LEFT(VLOOKUP($A578,Base_Arbres,21,FALSE),1)>=LEFT(Cont_epineux,1),0,1),0)","v":0},null,{"$f":"IF(Base_Arbres!A681<>\"\",VLOOKUP($A578,Base_Arbres,4,FALSE)*Crit7,\"\")","v":""}]
[{"$f":"IF(Base_Arbres!A625<>\"\",Base_Arbres!A625,\"\")","v":""},{"$f":"IF(Base_Arbres!A625<>\"\",VLOOKUP($A579,Base_Arbres,3,FALSE)*Crit1,\"\")","v":""},{"$f":"IF(Base_Arbres!A625<>\"\",VLOOKUP($A579,Base_Arbres,4,FALSE)*Crit2,\"\")","v":""},{"$f":"IF(Base_Arbres!A625<>\"\",VLOOKUP($A579,Base_Arbres,5,FALSE)*Crit3,\"\")","v":""},{"$f":"IF(Base_Arbres!A625<>\"\",VLOOKUP($A579,Base_Arbres,6,FALSE)*Crit4,\"\")","v":""},{"$f":"IF(Base_Arbres!B579<>\"\",VLOOKUP($A579,Base_Arbres,7,FALSE)*Crit5,\"\")","v":""},{"$f":"IF(Base_Arbres!C579<>\"\",VLOOKUP($A579,Base_Arbres,8,FALSE)*crit8,\"\")","v":""},{"$f":"IF(Base_Arbres!D579<>\"\",VLOOKUP($A579,Base_Arbres,9,FALSE)*crit9,\"\")","v":""},{"$f":"IF(ISNA(VLOOKUP(INDEX(Base_Typologie!$A$6:$P$1003,MATCH(A579,Base_Typologie!$A:$A,0)-5,MATCH(Typologie_Espace_Public,Base_Typologie!$6:$6,0)),TableauScoreTypologie2,2,FALSE)*Crit6),0,VLOOKUP(INDEX(Base_Typologie!$A$6:$P$1003,MATCH(A579,Base_Typologie!$A:$A,0)-5,MATCH(Typologie_Espace_Public,Base_Typologie!$6:$6,0)),TableauScoreTypologie2,2,FALSE)*Crit6)","v":0},0,0,0,0,0,0,0,0,0,0,0,0,null,{"$f":"IF(Base_Arbres!A682<>\"\",VLOOKUP($A579,Base_Arbres,4,FALSE)*Crit7,\"\")","v":""}]
[{"$f":"IF(Base_Arbres!A626<>\"\",Base_Arbres!A626,\"\")","v":""},{"$f":"IF(Base_Arbres!A626<>\"\",VLOOKUP($A580,Base_Arbres,3,FALSE)*Crit1,\"\")","v":""},{"$f":"IF(Base_Arbres!A626<>\"\",VLOOKUP($A580,Base_Arbres,4,FALSE)*Crit2,\"\")","v":""},{"$f":"IF(Base_Arbres!A626<>\"\",VLOOKUP($A580,Base_Arbres,5,FALSE)*Crit3,\"\")","v":""},{"$f":"IF(Base_Arbres!A626<>\"\",VLOOKUP($A580,Base_Arbres,6,FALSE)*Crit4,\"\")","v":""},{"$f":"IF(Base_Arbres!B580<>\"\",VLOOKUP($A580,Base_Arbres,7,FALSE)*Crit5,\"\")","v":""},{"$f":"IF(Base_Arbres!C580<>\"\",VLOOKUP($A580,Base_Arbres,8,FALSE)*crit8,\"\")","v":""},{"$f":"IF(Base_Arbres!D580<>\"\",VLOOKUP($A580,Base_Arbres,9,FALSE)*crit9,\"\")","v":""},{"$f":"IF(ISNA(VLOOKUP(INDEX(Base_Typologie!$A$6:$P$1003,MATCH(A580,Base_Typologie!$A:$A,0)-5,MATCH(Typologie_Espace_Public,Base_Typologie!$6:$6,0)),TableauScoreTypologie2,2,FALSE)*Crit6),0,VLOOKUP(INDEX(Base_Typologie!$A$6:$P$1003,MATCH(A580,Base_Typologie!$A:$A,0)-5,MATCH(Typologie_Espace_Public,Base_Typologie!$6:$6,0)),TableauScoreTypologie2,2,FALSE)*Crit6)","v":0},0,0,0,0,0,0,0,0,0,0,0,0,null,{"$f":"IF(Base_Arbres!A683<>\"\",VLOOKUP($A580,Base_Arbres,4,FALSE)*Crit7,\"\")","v":""}]
[{"$f":"IF(Base_Arbres!A627<>\"\",Base_Arbres!A627,\"\")","v":""},{"$f":"IF(Base_Arbres!A627<>\"\",VLOOKUP($A581,Base_Arbres,3,FALSE)*Crit1,\"\")","v":""},{"$f":"IF(Base_Arbres!A627<>\"\",VLOOKUP($A581,Base_Arbres,4,FALSE)*Crit2,\"\")","v":""},{"$f":"IF(Base_Arbres!A627<>\"\",VLOOKUP($A581,Base_Arbres,5,FALSE)*Crit3,\"\")","v":""},{"$f":"IF(Base_Arbres!A627<>\"\",VLOOKUP($A581,Base_Arbres,6,FALSE)*Crit4,\"\")","v":""},{"$f":"IF(Base_Arbres!B581<>\"\",VLOOKUP($A581,Base_Arbres,7,FALSE)*Crit5,\"\")","v":""},{"$f":"IF(Base_Arbres!C581<>\"\",VLOOKUP($A581,Base_Arbres,8,FALSE)*crit8,\"\")","v":""},{"$f":"IF(Base_Arbres!D581<>\"\",VLOOKUP($A581,Base_Arbres,9,FALSE)*crit9,\"\")","v":""},{"$f":"IF(ISNA(VLOOKUP(INDEX(Base_Typologie!$A$6:$P$1003,MATCH(A581,Base_Typologie!$A:$A,0)-5,MATCH(Typologie_Espace_Public,Base_Typologie!$6:$6,0)),TableauScoreTypologie2,2,FALSE)*Crit6),0,VLOOKUP(INDEX(Base_Typologie!$A$6:$P$1003,MATCH(A581,Base_Typologie!$A:$A,0)-5,MATCH(Typologie_Espace_Public,Base_Typologie!$6:$6,0)),TableauScoreTypologie2,2,FALSE)*Crit6)","v":0},0,0,0,0,0,0,0,0,0,0,0,0,null,{"$f":"IF(Base_Arbres!A684<>\"\",VLOOKUP($A581,Base_Arbres,4,FALSE)*Crit7,\"\")","v":""}]
[{"$f":"IF(Base_Arbres!A628<>\"\",Base_Arbres!A628,\"\")","v":""},{"$f":"IF(Base_Arbres!A628<>\"\",VLOOKUP($A582,Base_Arbres,3,FALSE)*Crit1,\"\")","v":""},{"$f":"IF(Base_Arbres!A628<>\"\",VLOOKUP($A582,Base_Arbres,4,FALSE)*Crit2,\"\")","v":""},{"$f":"IF(Base_Arbres!A628<>\"\",VLOOKUP($A582,Base_Arbres,5,FALSE)*Crit3,\"\")","v":""},{"$f":"IF(Base_Arbres!A628<>\"\",VLOOKUP($A582,Base_Arbres,6,FALSE)*Crit4,\"\")","v":""},{"$f":"IF(Base_Arbres!B582<>\"\",VLOOKUP($A582,Base_Arbres,7,FALSE)*Crit5,\"\")","v":""},{"$f":"IF(Base_Arbres!C582<>\"\",VLOOKUP($A582,Base_Arbres,8,FALSE)*crit8,\"\")","v":""},{"$f":"IF(Base_Arbres!D582<>\"\",VLOOKUP($A582,Base_Arbres,9,FALSE)*crit9,\"\")","v":""},{"$f":"IF(ISNA(VLOOKUP(INDEX(Base_Typologie!$A$6:$P$1003,MATCH(A582,Base_Typologie!$A:$A,0)-5,MATCH(Typologie_Espace_Public,Base_Typologie!$6:$6,0)),TableauScoreTypologie2,2,FALSE)*Crit6),0,VLOOKUP(INDEX(Base_Typologie!$A$6:$P$1003,MATCH(A582,Base_Typologie!$A:$A,0)-5,MATCH(Typologie_Espace_Public,Base_Typologie!$6:$6,0)),TableauScoreTypologie2,2,FALSE)*Crit6)","v":0},0,0,0,0,0,0,0,0,0,0,0,0,null,{"$f":"IF(Base_Arbres!A685<>\"\",VLOOKUP($A582,Base_Arbres,4,FALSE)*Crit7,\"\")","v":""}]
[{"$f":"IF(Base_Arbres!A629<>\"\",Base_Arbres!A629,\"\")","v":""},{"$f":"IF(Base_Arbres!A629<>\"\",VLOOKUP($A583,Base_Arbres,3,FALSE)*Crit1,\"\")","v":""},{"$f":"IF(Base_Arbres!A629<>\"\",VLOOKUP($A583,Base_Arbres,4,FALSE)*Crit2,\"\")","v":""},{"$f":"IF(Base_Arbres!A629<>\"\",VLOOKUP($A583,Base_Arbres,5,FALSE)*Crit3,\"\")","v":""},{"$f":"IF(Base_Arbres!A629<>\"\",VLOOKUP($A583,Base_Arbres,6,FALSE)*Crit4,\"\")","v":""},{"$f":"IF(Base_Arbres!B583<>\"\",VLOOKUP($A583,Base_Arbres,7,FALSE)*Crit5,\"\")","v":""},{"$f":"IF(Base_Arbres!C583<>\"\",VLOOKUP($A583,Base_Arbres,8,FALSE)*crit8,\"\")","v":""},{"$f":"IF(Base_Arbres!D583<>\"\",VLOOKUP($A583,Base_Arbres,9,FALSE)*crit9,\"\")","v":""},{"$f":"IF(ISNA(VLOOKUP(INDEX(Base_Typologie!$A$6:$P$1003,MATCH(A583,Base_Typologie!$A:$A,0)-5,MATCH(Typologie_Espace_Public,Base_Typologie!$6:$6,0)),TableauScoreTypologie2,2,FALSE)*Crit6),0,VLOOKUP(INDEX(Base_Typologie!$A$6:$P$1003,MATCH(A583,Base_Typologie!$A:$A,0)-5,MATCH(Typologie_Espace_Public,Base_Typologie!$6:$6,0)),TableauScoreTypologie2,2,FALSE)*Crit6)","v":0},0,0,0,0,0,0,0,0,0,0,0,0,null,{"$f":"IF(Base_Arbres!A686<>\"\",VLOOKUP($A583,Base_Arbres,4,FALSE)*Crit7,\"\")","v":""}]
[{"$f":"IF(Base_Arbres!A630<>\"\",Base_Arbres!A630,\"\")","v":""},{"$f":"IF(Base_Arbres!A630<>\"\",VLOOKUP($A584,Base_Arbres,3,FALSE)*Crit1,\"\")","v":""},{"$f":"IF(Base_Arbres!A630<>\"\",VLOOKUP($A584,Base_Arbres,4,FALSE)*Crit2,\"\")","v":""},{"$f":"IF(Base_Arbres!A630<>\"\",VLOOKUP($A584,Base_Arbres,5,FALSE)*Crit3,\"\")","v":""},{"$f":"IF(Base_Arbres!A630<>\"\",VLOOKUP($A584,Base_Arbres,6,FALSE)*Crit4,\"\")","v":""},{"$f":"IF(Base_Arbres!B584<>\"\",VLOOKUP($A584,Base_Arbres,7,FALSE)*Crit5,\"\")","v":""},{"$f":"IF(Base_Arbres!C584<>\"\",VLOOKUP($A584,Base_Arbres,8,FALSE)*crit8,\"\")","v":""},{"$f":"IF(Base_Arbres!D584<>\"\",VLOOKUP($A584,Base_Arbres,9,FALSE)*crit9,\"\")","v":""},{"$f":"IF(ISNA(VLOOKUP(INDEX(Base_Typologie!$A$6:$P$1003,MATCH(A584,Base_Typologie!$A:$A,0)-5,MATCH(Typologie_Espace_Public,Base_Typologie!$6:$6,0)),TableauScoreTypologie2,2,FALSE)*Crit6),0,VLOOKUP(INDEX(Base_Typologie!$A$6:$P$1003,MATCH(A584,Base_Typologie!$A:$A,0)-5,MATCH(Typologie_Espace_Public,Base_Typologie!$6:$6,0)),TableauScoreTypologie2,2,FALSE)*Crit6)","v":0},0,0,0,0,0,0,0,0,0,0,0,0,null,{"$f":"IF(Base_Arbres!A687<>\"\",VLOOKUP($A584,Base_Arbres,4,FALSE)*Crit7,\"\")","v":""}]
[{"$f":"IF(Base_Arbres!A631<>\"\",Base_Arbres!A631,\"\")","v":""},{"$f":"IF(Base_Arbres!A631<>\"\",VLOOKUP($A585,Base_Arbres,3,FALSE)*Crit1,\"\")","v":""},{"$f":"IF(Base_Arbres!A631<>\"\",VLOOKUP($A585,Base_Arbres,4,FALSE)*Crit2,\"\")","v":""},{"$f":"IF(Base_Arbres!A631<>\"\",VLOOKUP($A585,Base_Arbres,5,FALSE)*Crit3,\"\")","v":""},{"$f":"IF(Base_Arbres!A631<>\"\",VLOOKUP($A585,Base_Arbres,6,FALSE)*Crit4,\"\")","v":""},{"$f":"IF(Base_Arbres!B585<>\"\",VLOOKUP($A585,Base_Arbres,7,FALSE)*Crit5,\"\")","v":""},{"$f":"IF(Base_Arbres!C585<>\"\",VLOOKUP($A585,Base_Arbres,8,FALSE)*crit8,\"\")","v":""},{"$f":"IF(Base_Arbres!D585<>\"\",VLOOKUP($A585,Base_Arbres,9,FALSE)*crit9,\"\")","v":""},{"$f":"IF(ISNA(VLOOKUP(INDEX(Base_Typologie!$A$6:$P$1003,MATCH(A585,Base_Typologie!$A:$A,0)-5,MATCH(Typologie_Espace_Public,Base_Typologie!$6:$6,0)),TableauScoreTypologie2,2,FALSE)*Crit6),0,VLOOKUP(INDEX(Base_Typologie!$A$6:$P$1003,MATCH(A585,Base_Typologie!$A:$A,0)-5,MATCH(Typologie_Espace_Public,Base_Typologie!$6:$6,0)),TableauScoreTypologie2,2,FALSE)*Crit6)","v":0},0,0,0,0,0,0,0,0,0,0,0,0,null,{"$f":"IF(Base_Arbres!A688<>\"\",VLOOKUP($A585,Base_Arbres,4,FALSE)*Crit7,\"\")","v":""}]
[{"$f":"IF(Base_Arbres!A632<>\"\",Base_Arbres!A632,\"\")","v":""},{"$f":"IF(Base_Arbres!A632<>\"\",VLOOKUP($A586,Base_Arbres,3,FALSE)*Crit1,\"\")","v":""},{"$f":"IF(Base_Arbres!A632<>\"\",VLOOKUP($A586,Base_Arbres,4,FALSE)*Crit2,\"\")","v":""},{"$f":"IF(Base_Arbres!A632<>\"\",VLOOKUP($A586,Base_Arbres,5,FALSE)*Crit3,\"\")","v":""},{"$f":"IF(Base_Arbres!A632<>\"\",VLOOKUP($A586,Base_Arbres,6,FALSE)*Crit4,\"\")","v":""},{"$f":"IF(Base_Arbres!B586<>\"\",VLOOKUP($A586,Base_Arbres,7,FALSE)*Crit5,\"\")","v":""},{"$f":"IF(Base_Arbres!C586<>\"\",VLOOKUP($A586,Base_Arbres,8,FALSE)*crit8,\"\")","v":""},{"$f":"IF(Base_Arbres!D586<>\"\",VLOOKUP($A586,Base_Arbres,9,FALSE)*crit9,\"\")","v":""},{"$f":"IF(ISNA(VLOOKUP(INDEX(Base_Typologie!$A$6:$P$1003,MATCH(A586,Base_Typologie!$A:$A,0)-5,MATCH(Typologie_Espace_Public,Base_Typologie!$6:$6,0)),TableauScoreTypologie2,2,FALSE)*Crit6),0,VLOOKUP(INDEX(Base_Typologie!$A$6:$P$1003,MATCH(A586,Base_Typologie!$A:$A,0)-5,MATCH(Typologie_Espace_Public,Base_Typologie!$6:$6,0)),TableauScoreTypologie2,2,FALSE)*Crit6)","v":0},0,0,0,0,0,0,0,0,0,0,0,0,null,{"$f":"IF(Base_Arbres!A689<>\"\",VLOOKUP($A586,Base_Arbres,4,FALSE)*Crit7,\"\")","v":""}]
[{"$f":"IF(Base_Arbres!A633<>\"\",Base_Arbres!A633,\"\")","v":""},{"$f":"IF(Base_Arbres!A633<>\"\",VLOOKUP($A587,Base_Arbres,3,FALSE)*Crit1,\"\")","v":""},{"$f":"IF(Base_Arbres!A633<>\"\",VLOOKUP($A587,Base_Arbres,4,FALSE)*Crit2,\"\")","v":""},{"$f":"IF(Base_Arbres!A633<>\"\",VLOOKUP($A587,Base_Arbres,5,FALSE)*Crit3,\"\")","v":""},{"$f":"IF(Base_Arbres!A633<>\"\",VLOOKUP($A587,Base_Arbres,6,FALSE)*Crit4,\"\")","v":""},{"$f":"IF(Base_Arbres!B587<>\"\",VLOOKUP($A587,Base_Arbres,7,FALSE)*Crit5,\"\")","v":""},{"$f":"IF(Base_Arbres!C587<>\"\",VLOOKUP($A587,Base_Arbres,8,FALSE)*crit8,\"\")","v":""},{"$f":"IF(Base_Arbres!D587<>\"\",VLOOKUP($A587,Base_Arbres,9,FALSE)*crit9,\"\")","v":""},{"$f":"IF(ISNA(VLOOKUP(INDEX(Base_Typologie!$A$6:$P$1003,MATCH(A587,Base_Typologie!$A:$A,0)-5,MATCH(Typologie_Espace_Public,Base_Typologie!$6:$6,0)),TableauScoreTypologie2,2,FALSE)*Crit6),0,VLOOKUP(INDEX(Base_Typologie!$A$6:$P$1003,MATCH(A587,Base_Typologie!$A:$A,0)-5,MATCH(Typologie_Espace_Public,Base_Typologie!$6:$6,0)),TableauScoreTypologie2,2,FALSE)*Crit6)","v":0},0,0,0,0,0,0,0,0,0,0,0,0,null,{"$f":"IF(Base_Arbres!A690<>\"\",VLOOKUP($A587,Base_Arbres,4,FALSE)*Crit7,\"\")","v":""}]
[{"$f":"IF(Base_Arbres!A634<>\"\",Base_Arbres!A634,\"\")","v":""},{"$f":"IF(Base_Arbres!A634<>\"\",VLOOKUP($A588,Base_Arbres,3,FALSE)*Crit1,\"\")","v":""},{"$f":"IF(Base_Arbres!A634<>\"\",VLOOKUP($A588,Base_Arbres,4,FALSE)*Crit2,\"\")","v":""},{"$f":"IF(Base_Arbres!A634<>\"\",VLOOKUP($A588,Base_Arbres,5,FALSE)*Crit3,\"\")","v":""},{"$f":"IF(Base_Arbres!A634<>\"\",VLOOKUP($A588,Base_Arbres,6,FALSE)*Crit4,\"\")","v":""},{"$f":"IF(Base_Arbres!B588<>\"\",VLOOKUP($A588,Base_Arbres,7,FALSE)*Crit5,\"\")","v":""},{"$f":"IF(Base_Arbres!C588<>\"\",VLOOKUP($A588,Base_Arbres,8,FALSE)*crit8,\"\")","v":""},{"$f":"IF(Base_Arbres!D588<>\"\",VLOOKUP($A588,Base_Arbres,9,FALSE)*crit9,\"\")","v":""},{"$f":"IF(ISNA(VLOOKUP(INDEX(Base_Typologie!$A$6:$P$1003,MATCH(A588,Base_Typologie!$A:$A,0)-5,MATCH(Typologie_Espace_Public,Base_Typologie!$6:$6,0)),TableauScoreTypologie2,2,FALSE)*Crit6),0,VLOOKUP(INDEX(Base_Typologie!$A$6:$P$1003,MATCH(A588,Base_Typologie!$A:$A,0)-5,MATCH(Typologie_Espace_Public,Base_Typologie!$6:$6,0)),TableauScoreTypologie2,2,FALSE)*Crit6)","v":0},0,0,0,0,0,0,0,0,0,0,0,0,null,{"$f":"IF(Base_Arbres!A691<>\"\",VLOOKUP($A588,Base_Arbres,4,FALSE)*Crit7,\"\")","v":""}]
[{"$f":"IF(Base_Arbres!A635<>\"\",Base_Arbres!A635,\"\")","v":""},{"$f":"IF(Base_Arbres!A635<>\"\",VLOOKUP($A589,Base_Arbres,3,FALSE)*Crit1,\"\")","v":""},{"$f":"IF(Base_Arbres!A635<>\"\",VLOOKUP($A589,Base_Arbres,4,FALSE)*Crit2,\"\")","v":""},{"$f":"IF(Base_Arbres!A635<>\"\",VLOOKUP($A589,Base_Arbres,5,FALSE)*Crit3,\"\")","v":""},{"$f":"IF(Base_Arbres!A635<>\"\",VLOOKUP($A589,Base_Arbres,6,FALSE)*Crit4,\"\")","v":""},{"$f":"IF(Base_Arbres!B589<>\"\",VLOOKUP($A589,Base_Arbres,7,FALSE)*Crit5,\"\")","v":""},{"$f":"IF(Base_Arbres!C589<>\"\",VLOOKUP($A589,Base_Arbres,8,FALSE)*crit8,\"\")","v":""},{"$f":"IF(Base_Arbres!D589<>\"\",VLOOKUP($A589,Base_Arbres,9,FALSE)*crit9,\"\")","v":""},{"$f":"IF(ISNA(VLOOKUP(INDEX(Base_Typologie!$A$6:$P$1003,MATCH(A589,Base_Typologie!$A:$A,0)-5,MATCH(Typologie_Espace_Public,Base_Typologie!$6:$6,0)),TableauScoreTypologie2,2,FALSE)*Crit6),0,VLOOKUP(INDEX(Base_Typologie!$A$6:$P$1003,MATCH(A589,Base_Typologie!$A:$A,0)-5,MATCH(Typologie_Espace_Public,Base_Typologie!$6:$6,0)),TableauScoreTypologie2,2,FALSE)*Crit6)","v":0},0,0,0,0,0,0,0,0,0,0,0,0,null,{"$f":"IF(Base_Arbres!A692<>\"\",VLOOKUP($A589,Base_Arbres,4,FALSE)*Crit7,\"\")","v":""}]
[{"$f":"IF(Base_Arbres!A636<>\"\",Base_Arbres!A636,\"\")","v":""},{"$f":"IF(Base_Arbres!A636<>\"\",VLOOKUP($A590,Base_Arbres,3,FALSE)*Crit1,\"\")","v":""},{"$f":"IF(Base_Arbres!A636<>\"\",VLOOKUP($A590,Base_Arbres,4,FALSE)*Crit2,\"\")","v":""},{"$f":"IF(Base_Arbres!A636<>\"\",VLOOKUP($A590,Base_Arbres,5,FALSE)*Crit3,\"\")","v":""},{"$f":"IF(Base_Arbres!A636<>\"\",VLOOKUP($A590,Base_Arbres,6,FALSE)*Crit4,\"\")","v":""},{"$f":"IF(Base_Arbres!B590<>\"\",VLOOKUP($A590,Base_Arbres,7,FALSE)*Crit5,\"\")","v":""},{"$f":"IF(Base_Arbres!C590<>\"\",VLOOKUP($A590,Base_Arbres,8,FALSE)*crit8,\"\")","v":""},{"$f":"IF(Base_Arbres!D590<>\"\",VLOOKUP($A590,Base_Arbres,9,FALSE)*crit9,\"\")","v":""},{"$f":"IF(ISNA(VLOOKUP(INDEX(Base_Typologie!$A$6:$P$1003,MATCH(A590,Base_Typologie!$A:$A,0)-5,MATCH(Typologie_Espace_Public,Base_Typologie!$6:$6,0)),TableauScoreTypologie2,2,FALSE)*Crit6),0,VLOOKUP(INDEX(Base_Typologie!$A$6:$P$1003,MATCH(A590,Base_Typologie!$A:$A,0)-5,MATCH(Typologie_Espace_Public,Base_Typologie!$6:$6,0)),TableauScoreTypologie2,2,FALSE)*Crit6)","v":0},0,0,0,0,0,0,0,0,0,0,0,0,null,{"$f":"IF(Base_Arbres!A693<>\"\",VLOOKUP($A590,Base_Arbres,4,FALSE)*Crit7,\"\")","v":""}]
[{"$f":"IF(Base_Arbres!A637<>\"\",Base_Arbres!A637,\"\")","v":""},{"$f":"IF(Base_Arbres!A637<>\"\",VLOOKUP($A591,Base_Arbres,3,FALSE)*Crit1,\"\")","v":""},{"$f":"IF(Base_Arbres!A637<>\"\",VLOOKUP($A591,Base_Arbres,4,FALSE)*Crit2,\"\")","v":""},{"$f":"IF(Base_Arbres!A637<>\"\",VLOOKUP($A591,Base_Arbres,5,FALSE)*Crit3,\"\")","v":""},{"$f":"IF(Base_Arbres!A637<>\"\",VLOOKUP($A591,Base_Arbres,6,FALSE)*Crit4,\"\")","v":""},{"$f":"IF(Base_Arbres!B591<>\"\",VLOOKUP($A591,Base_Arbres,7,FALSE)*Crit5,\"\")","v":""},{"$f":"IF(Base_Arbres!C591<>\"\",VLOOKUP($A591,Base_Arbres,8,FALSE)*crit8,\"\")","v":""},{"$f":"IF(Base_Arbres!D591<>\"\",VLOOKUP($A591,Base_Arbres,9,FALSE)*crit9,\"\")","v":""},{"$f":"IF(ISNA(VLOOKUP(INDEX(Base_Typologie!$A$6:$P$1003,MATCH(A591,Base_Typologie!$A:$A,0)-5,MATCH(Typologie_Espace_Public,Base_Typologie!$6:$6,0)),TableauScoreTypologie2,2,FALSE)*Crit6),0,VLOOKUP(INDEX(Base_Typologie!$A$6:$P$1003,MATCH(A591,Base_Typologie!$A:$A,0)-5,MATCH(Typologie_Espace_Public,Base_Typologie!$6:$6,0)),TableauScoreTypologie2,2,FALSE)*Crit6)","v":0},0,0,0,0,0,0,0,0,0,0,0,0,null,{"$f":"IF(Base_Arbres!A694<>\"\",VLOOKUP($A591,Base_Arbres,4,FALSE)*Crit7,\"\")","v":""}]
[{"$f":"IF(Base_Arbres!A638<>\"\",Base_Arbres!A638,\"\")","v":""},{"$f":"IF(Base_Arbres!A638<>\"\",VLOOKUP($A592,Base_Arbres,3,FALSE)*Crit1,\"\")","v":""},{"$f":"IF(Base_Arbres!A638<>\"\",VLOOKUP($A592,Base_Arbres,4,FALSE)*Crit2,\"\")","v":""},{"$f":"IF(Base_Arbres!A638<>\"\",VLOOKUP($A592,Base_Arbres,5,FALSE)*Crit3,\"\")","v":""},{"$f":"IF(Base_Arbres!A638<>\"\",VLOOKUP($A592,Base_Arbres,6,FALSE)*Crit4,\"\")","v":""},{"$f":"IF(Base_Arbres!B592<>\"\",VLOOKUP($A592,Base_Arbres,7,FALSE)*Crit5,\"\")","v":""},{"$f":"IF(Base_Arbres!C592<>\"\",VLOOKUP($A592,Base_Arbres,8,FALSE)*crit8,\"\")","v":""},{"$f":"IF(Base_Arbres!D592<>\"\",VLOOKUP($A592,Base_Arbres,9,FALSE)*crit9,\"\")","v":""},{"$f":"IF(ISNA(VLOOKUP(INDEX(Base_Typologie!$A$6:$P$1003,MATCH(A592,Base_Typologie!$A:$A,0)-5,MATCH(Typologie_Espace_Public,Base_Typologie!$6:$6,0)),TableauScoreTypologie2,2,FALSE)*Crit6),0,VLOOKUP(INDEX(Base_Typologie!$A$6:$P$1003,MATCH(A592,Base_Typologie!$A:$A,0)-5,MATCH(Typologie_Espace_Public,Base_Typologie!$6:$6,0)),TableauScoreTypologie2,2,FALSE)*Crit6)","v":0},0,0,0,0,0,0,0,0,0,0,0,0,null,{"$f":"IF(Base_Arbres!A695<>\"\",VLOOKUP($A592,Base_Arbres,4,FALSE)*Crit7,\"\")","v":""}]
[{"$f":"IF(Base_Arbres!A639<>\"\",Base_Arbres!A639,\"\")","v":""},{"$f":"IF(Base_Arbres!A639<>\"\",VLOOKUP($A593,Base_Arbres,3,FALSE)*Crit1,\"\")","v":""},{"$f":"IF(Base_Arbres!A639<>\"\",VLOOKUP($A593,Base_Arbres,4,FALSE)*Crit2,\"\")","v":""},{"$f":"IF(Base_Arbres!A639<>\"\",VLOOKUP($A593,Base_Arbres,5,FALSE)*Crit3,\"\")","v":""},{"$f":"IF(Base_Arbres!A639<>\"\",VLOOKUP($A593,Base_Arbres,6,FALSE)*Crit4,\"\")","v":""},{"$f":"IF(Base_Arbres!B593<>\"\",VLOOKUP($A593,Base_Arbres,7,FALSE)*Crit5,\"\")","v":""},{"$f":"IF(Base_Arbres!C593<>\"\",VLOOKUP($A593,Base_Arbres,8,FALSE)*crit8,\"\")","v":""},{"$f":"IF(Base_Arbres!D593<>\"\",VLOOKUP($A593,Base_Arbres,9,FALSE)*crit9,\"\")","v":""},{"$f":"IF(ISNA(VLOOKUP(INDEX(Base_Typologie!$A$6:$P$1003,MATCH(A593,Base_Typologie!$A:$A,0)-5,MATCH(Typologie_Espace_Public,Base_Typologie!$6:$6,0)),TableauScoreTypologie2,2,FALSE)*Crit6),0,VLOOKUP(INDEX(Base_Typologie!$A$6:$P$1003,MATCH(A593,Base_Typologie!$A:$A,0)-5,MATCH(Typologie_Espace_Public,Base_Typologie!$6:$6,0)),TableauScoreTypologie2,2,FALSE)*Crit6)","v":0},0,0,0,0,0,0,0,0,0,0,0,0,null,{"$f":"IF(Base_Arbres!A696<>\"\",VLOOKUP($A593,Base_Arbres,4,FALSE)*Crit7,\"\")","v":""}]
[{"$f":"IF(Base_Arbres!A640<>\"\",Base_Arbres!A640,\"\")","v":""},{"$f":"IF(Base_Arbres!A640<>\"\",VLOOKUP($A594,Base_Arbres,3,FALSE)*Crit1,\"\")","v":""},{"$f":"IF(Base_Arbres!A640<>\"\",VLOOKUP($A594,Base_Arbres,4,FALSE)*Crit2,\"\")","v":""},{"$f":"IF(Base_Arbres!A640<>\"\",VLOOKUP($A594,Base_Arbres,5,FALSE)*Crit3,\"\")","v":""},{"$f":"IF(Base_Arbres!A640<>\"\",VLOOKUP($A594,Base_Arbres,6,FALSE)*Crit4,\"\")","v":""},{"$f":"IF(Base_Arbres!B594<>\"\",VLOOKUP($A594,Base_Arbres,7,FALSE)*Crit5,\"\")","v":""},{"$f":"IF(Base_Arbres!C594<>\"\",VLOOKUP($A594,Base_Arbres,8,FALSE)*crit8,\"\")","v":""},{"$f":"IF(Base_Arbres!D594<>\"\",VLOOKUP($A594,Base_Arbres,9,FALSE)*crit9,\"\")","v":""},{"$f":"IF(ISNA(VLOOKUP(INDEX(Base_Typologie!$A$6:$P$1003,MATCH(A594,Base_Typologie!$A:$A,0)-5,MATCH(Typologie_Espace_Public,Base_Typologie!$6:$6,0)),TableauScoreTypologie2,2,FALSE)*Crit6),0,VLOOKUP(INDEX(Base_Typologie!$A$6:$P$1003,MATCH(A594,Base_Typologie!$A:$A,0)-5,MATCH(Typologie_Espace_Public,Base_Typologie!$6:$6,0)),TableauScoreTypologie2,2,FALSE)*Crit6)","v":0},0,0,0,0,0,0,0,0,0,0,0,0,null,{"$f":"IF(Base_Arbres!A697<>\"\",VLOOKUP($A594,Base_Arbres,4,FALSE)*Crit7,\"\")","v":""}]
[{"$f":"IF(Base_Arbres!A641<>\"\",Base_Arbres!A641,\"\")","v":""},{"$f":"IF(Base_Arbres!A641<>\"\",VLOOKUP($A595,Base_Arbres,3,FALSE)*Crit1,\"\")","v":""},{"$f":"IF(Base_Arbres!A641<>\"\",VLOOKUP($A595,Base_Arbres,4,FALSE)*Crit2,\"\")","v":""},{"$f":"IF(Base_Arbres!A641<>\"\",VLOOKUP($A595,Base_Arbres,5,FALSE)*Crit3,\"\")","v":""},{"$f":"IF(Base_Arbres!A641<>\"\",VLOOKUP($A595,Base_Arbres,6,FALSE)*Crit4,\"\")","v":""},{"$f":"IF(Base_Arbres!B595<>\"\",VLOOKUP($A595,Base_Arbres,7,FALSE)*Crit5,\"\")","v":""},{"$f":"IF(Base_Arbres!C595<>\"\",VLOOKUP($A595,Base_Arbres,8,FALSE)*crit8,\"\")","v":""},{"$f":"IF(Base_Arbres!D595<>\"\",VLOOKUP($A595,Base_Arbres,9,FALSE)*crit9,\"\")","v":""},{"$f":"IF(ISNA(VLOOKUP(INDEX(Base_Typologie!$A$6:$P$1003,MATCH(A595,Base_Typologie!$A:$A,0)-5,MATCH(Typologie_Espace_Public,Base_Typologie!$6:$6,0)),TableauScoreTypologie2,2,FALSE)*Crit6),0,VLOOKUP(INDEX(Base_Typologie!$A$6:$P$1003,MATCH(A595,Base_Typologie!$A:$A,0)-5,MATCH(Typologie_Espace_Public,Base_Typologie!$6:$6,0)),TableauScoreTypologie2,2,FALSE)*Crit6)","v":0},0,0,0,0,0,0,0,0,0,0,0,0,null,{"$f":"IF(Base_Arbres!A698<>\"\",VLOOKUP($A595,Base_Arbres,4,FALSE)*Crit7,\"\")","v":""}]
[{"$f":"IF(Base_Arbres!A642<>\"\",Base_Arbres!A642,\"\")","v":""},{"$f":"IF(Base_Arbres!A642<>\"\",VLOOKUP($A596,Base_Arbres,3,FALSE)*Crit1,\"\")","v":""},{"$f":"IF(Base_Arbres!A642<>\"\",VLOOKUP($A596,Base_Arbres,4,FALSE)*Crit2,\"\")","v":""},{"$f":"IF(Base_Arbres!A642<>\"\",VLOOKUP($A596,Base_Arbres,5,FALSE)*Crit3,\"\")","v":""},{"$f":"IF(Base_Arbres!A642<>\"\",VLOOKUP($A596,Base_Arbres,6,FALSE)*Crit4,\"\")","v":""},{"$f":"IF(Base_Arbres!B596<>\"\",VLOOKUP($A596,Base_Arbres,7,FALSE)*Crit5,\"\")","v":""},{"$f":"IF(Base_Arbres!C596<>\"\",VLOOKUP($A596,Base_Arbres,8,FALSE)*crit8,\"\")","v":""},{"$f":"IF(Base_Arbres!D596<>\"\",VLOOKUP($A596,Base_Arbres,9,FALSE)*crit9,\"\")","v":""},{"$f":"IF(ISNA(VLOOKUP(INDEX(Base_Typologie!$A$6:$P$1003,MATCH(A596,Base_Typologie!$A:$A,0)-5,MATCH(Typologie_Espace_Public,Base_Typologie!$6:$6,0)),TableauScoreTypologie2,2,FALSE)*Crit6),0,VLOOKUP(INDEX(Base_Typologie!$A$6:$P$1003,MATCH(A596,Base_Typologie!$A:$A,0)-5,MATCH(Typologie_Espace_Public,Base_Typologie!$6:$6,0)),TableauScoreTypologie2,2,FALSE)*Crit6)","v":0},0,0,0,0,0,0,0,0,0,0,0,0,null,{"$f":"IF(Base_Arbres!A699<>\"\",VLOOKUP($A596,Base_Arbres,4,FALSE)*Crit7,\"\")","v":""}]
[{"$f":"IF(Base_Arbres!A643<>\"\",Base_Arbres!A643,\"\")","v":""},{"$f":"IF(Base_Arbres!A643<>\"\",VLOOKUP($A597,Base_Arbres,3,FALSE)*Crit1,\"\")","v":""},{"$f":"IF(Base_Arbres!A643<>\"\",VLOOKUP($A597,Base_Arbres,4,FALSE)*Crit2,\"\")","v":""},{"$f":"IF(Base_Arbres!A643<>\"\",VLOOKUP($A597,Base_Arbres,5,FALSE)*Crit3,\"\")","v":""},{"$f":"IF(Base_Arbres!A643<>\"\",VLOOKUP($A597,Base_Arbres,6,FALSE)*Crit4,\"\")","v":""},{"$f":"IF(Base_Arbres!B597<>\"\",VLOOKUP($A597,Base_Arbres,7,FALSE)*Crit5,\"\")","v":""},{"$f":"IF(Base_Arbres!C597<>\"\",VLOOKUP($A597,Base_Arbres,8,FALSE)*crit8,\"\")","v":""},{"$f":"IF(Base_Arbres!D597<>\"\",VLOOKUP($A597,Base_Arbres,9,FALSE)*crit9,\"\")","v":""},{"$f":"IF(ISNA(VLOOKUP(INDEX(Base_Typologie!$A$6:$P$1003,MATCH(A597,Base_Typologie!$A:$A,0)-5,MATCH(Typologie_Espace_Public,Base_Typologie!$6:$6,0)),TableauScoreTypologie2,2,FALSE)*Crit6),0,VLOOKUP(INDEX(Base_Typologie!$A$6:$P$1003,MATCH(A597,Base_Typologie!$A:$A,0)-5,MATCH(Typologie_Espace_Public,Base_Typologie!$6:$6,0)),TableauScoreTypologie2,2,FALSE)*Crit6)","v":0},0,0,0,0,0,0,0,0,0,0,0,0,null,{"$f":"IF(Base_Arbres!A700<>\"\",VLOOKUP($A597,Base_Arbres,4,FALSE)*Crit7,\"\")","v":""}]
[{"$f":"IF(Base_Arbres!A644<>\"\",Base_Arbres!A644,\"\")","v":""},{"$f":"IF(Base_Arbres!A644<>\"\",VLOOKUP($A598,Base_Arbres,3,FALSE)*Crit1,\"\")","v":""},{"$f":"IF(Base_Arbres!A644<>\"\",VLOOKUP($A598,Base_Arbres,4,FALSE)*Crit2,\"\")","v":""},{"$f":"IF(Base_Arbres!A644<>\"\",VLOOKUP($A598,Base_Arbres,5,FALSE)*Crit3,\"\")","v":""},{"$f":"IF(Base_Arbres!A644<>\"\",VLOOKUP($A598,Base_Arbres,6,FALSE)*Crit4,\"\")","v":""},{"$f":"IF(Base_Arbres!B598<>\"\",VLOOKUP($A598,Base_Arbres,7,FALSE)*Crit5,\"\")","v":""},{"$f":"IF(Base_Arbres!C598<>\"\",VLOOKUP($A598,Base_Arbres,8,FALSE)*crit8,\"\")","v":""},{"$f":"IF(Base_Arbres!D598<>\"\",VLOOKUP($A598,Base_Arbres,9,FALSE)*crit9,\"\")","v":""},{"$f":"IF(ISNA(VLOOKUP(INDEX(Base_Typologie!$A$6:$P$1003,MATCH(A598,Base_Typologie!$A:$A,0)-5,MATCH(Typologie_Espace_Public,Base_Typologie!$6:$6,0)),TableauScoreTypologie2,2,FALSE)*Crit6),0,VLOOKUP(INDEX(Base_Typologie!$A$6:$P$1003,MATCH(A598,Base_Typologie!$A:$A,0)-5,MATCH(Typologie_Espace_Public,Base_Typologie!$6:$6,0)),TableauScoreTypologie2,2,FALSE)*Crit6)","v":0},0,0,0,0,0,0,0,0,0,0,0,0,null,{"$f":"IF(Base_Arbres!A701<>\"\",VLOOKUP($A598,Base_Arbres,4,FALSE)*Crit7,\"\")","v":""}]
[{"$f":"IF(Base_Arbres!A645<>\"\",Base_Arbres!A645,\"\")","v":""},{"$f":"IF(Base_Arbres!A645<>\"\",VLOOKUP($A599,Base_Arbres,3,FALSE)*Crit1,\"\")","v":""},{"$f":"IF(Base_Arbres!A645<>\"\",VLOOKUP($A599,Base_Arbres,4,FALSE)*Crit2,\"\")","v":""},{"$f":"IF(Base_Arbres!A645<>\"\",VLOOKUP($A599,Base_Arbres,5,FALSE)*Crit3,\"\")","v":""},{"$f":"IF(Base_Arbres!A645<>\"\",VLOOKUP($A599,Base_Arbres,6,FALSE)*Crit4,\"\")","v":""},{"$f":"IF(Base_Arbres!B599<>\"\",VLOOKUP($A599,Base_Arbres,7,FALSE)*Crit5,\"\")","v":""},{"$f":"IF(Base_Arbres!C599<>\"\",VLOOKUP($A599,Base_Arbres,8,FALSE)*crit8,\"\")","v":""},{"$f":"IF(Base_Arbres!D599<>\"\",VLOOKUP($A599,Base_Arbres,9,FALSE)*crit9,\"\")","v":""},{"$f":"IF(ISNA(VLOOKUP(INDEX(Base_Typologie!$A$6:$P$1003,MATCH(A599,Base_Typologie!$A:$A,0)-5,MATCH(Typologie_Espace_Public,Base_Typologie!$6:$6,0)),TableauScoreTypologie2,2,FALSE)*Crit6),0,VLOOKUP(INDEX(Base_Typologie!$A$6:$P$1003,MATCH(A599,Base_Typologie!$A:$A,0)-5,MATCH(Typologie_Espace_Public,Base_Typologie!$6:$6,0)),TableauScoreTypologie2,2,FALSE)*Crit6)","v":0},0,0,0,0,0,0,0,0,0,0,0,0,null,{"$f":"IF(Base_Arbres!A702<>\"\",VLOOKUP($A599,Base_Arbres,4,FALSE)*Crit7,\"\")","v":""}]
[{"$f":"IF(Base_Arbres!A646<>\"\",Base_Arbres!A646,\"\")","v":""},{"$f":"IF(Base_Arbres!A646<>\"\",VLOOKUP($A600,Base_Arbres,3,FALSE)*Crit1,\"\")","v":""},{"$f":"IF(Base_Arbres!A646<>\"\",VLOOKUP($A600,Base_Arbres,4,FALSE)*Crit2,\"\")","v":""},{"$f":"IF(Base_Arbres!A646<>\"\",VLOOKUP($A600,Base_Arbres,5,FALSE)*Crit3,\"\")","v":""},{"$f":"IF(Base_Arbres!A646<>\"\",VLOOKUP($A600,Base_Arbres,6,FALSE)*Crit4,\"\")","v":""},{"$f":"IF(Base_Arbres!B600<>\"\",VLOOKUP($A600,Base_Arbres,7,FALSE)*Crit5,\"\")","v":""},{"$f":"IF(Base_Arbres!C600<>\"\",VLOOKUP($A600,Base_Arbres,8,FALSE)*crit8,\"\")","v":""},{"$f":"IF(Base_Arbres!D600<>\"\",VLOOKUP($A600,Base_Arbres,9,FALSE)*crit9,\"\")","v":""},{"$f":"IF(ISNA(VLOOKUP(INDEX(Base_Typologie!$A$6:$P$1003,MATCH(A600,Base_Typologie!$A:$A,0)-5,MATCH(Typologie_Espace_Public,Base_Typologie!$6:$6,0)),TableauScoreTypologie2,2,FALSE)*Crit6),0,VLOOKUP(INDEX(Base_Typologie!$A$6:$P$1003,MATCH(A600,Base_Typologie!$A:$A,0)-5,MATCH(Typologie_Espace_Public,Base_Typologie!$6:$6,0)),TableauScoreTypologie2,2,FALSE)*Crit6)","v":0},0,0,0,0,0,0,0,0,0,0,0,0,null,{"$f":"IF(Base_Arbres!A703<>\"\",VLOOKUP($A600,Base_Arbres,4,FALSE)*Crit7,\"\")","v":""}]
[{"$f":"IF(Base_Arbres!A647<>\"\",Base_Arbres!A647,\"\")","v":""},{"$f":"IF(Base_Arbres!A647<>\"\",VLOOKUP($A601,Base_Arbres,3,FALSE)*Crit1,\"\")","v":""},{"$f":"IF(Base_Arbres!A647<>\"\",VLOOKUP($A601,Base_Arbres,4,FALSE)*Crit2,\"\")","v":""},{"$f":"IF(Base_Arbres!A647<>\"\",VLOOKUP($A601,Base_Arbres,5,FALSE)*Crit3,\"\")","v":""},{"$f":"IF(Base_Arbres!A647<>\"\",VLOOKUP($A601,Base_Arbres,6,FALSE)*Crit4,\"\")","v":""},{"$f":"IF(Base_Arbres!B601<>\"\",VLOOKUP($A601,Base_Arbres,7,FALSE)*Crit5,\"\")","v":""},{"$f":"IF(Base_Arbres!C601<>\"\",VLOOKUP($A601,Base_Arbres,8,FALSE)*crit8,\"\")","v":""},{"$f":"IF(Base_Arbres!D601<>\"\",VLOOKUP($A601,Base_Arbres,9,FALSE)*crit9,\"\")","v":""},{"$f":"IF(ISNA(VLOOKUP(INDEX(Base_Typologie!$A$6:$P$1003,MATCH(A601,Base_Typologie!$A:$A,0)-5,MATCH(Typologie_Espace_Public,Base_Typologie!$6:$6,0)),TableauScoreTypologie2,2,FALSE)*Crit6),0,VLOOKUP(INDEX(Base_Typologie!$A$6:$P$1003,MATCH(A601,Base_Typologie!$A:$A,0)-5,MATCH(Typologie_Espace_Public,Base_Typologie!$6:$6,0)),TableauScoreTypologie2,2,FALSE)*Crit6)","v":0},0,0,0,0,0,0,0,0,0,0,0,0,null,{"$f":"IF(Base_Arbres!A704<>\"\",VLOOKUP($A601,Base_Arbres,4,FALSE)*Crit7,\"\")","v":""}]
[{"$f":"IF(Base_Arbres!A648<>\"\",Base_Arbres!A648,\"\")","v":""},{"$f":"IF(Base_Arbres!A648<>\"\",VLOOKUP($A602,Base_Arbres,3,FALSE)*Crit1,\"\")","v":""},{"$f":"IF(Base_Arbres!A648<>\"\",VLOOKUP($A602,Base_Arbres,4,FALSE)*Crit2,\"\")","v":""},{"$f":"IF(Base_Arbres!A648<>\"\",VLOOKUP($A602,Base_Arbres,5,FALSE)*Crit3,\"\")","v":""},{"$f":"IF(Base_Arbres!A648<>\"\",VLOOKUP($A602,Base_Arbres,6,FALSE)*Crit4,\"\")","v":""},{"$f":"IF(Base_Arbres!B602<>\"\",VLOOKUP($A602,Base_Arbres,7,FALSE)*Crit5,\"\")","v":""},{"$f":"IF(Base_Arbres!C602<>\"\",VLOOKUP($A602,Base_Arbres,8,FALSE)*crit8,\"\")","v":""},{"$f":"IF(Base_Arbres!D602<>\"\",VLOOKUP($A602,Base_Arbres,9,FALSE)*crit9,\"\")","v":""},{"$f":"IF(ISNA(VLOOKUP(INDEX(Base_Typologie!$A$6:$P$1003,MATCH(A602,Base_Typologie!$A:$A,0)-5,MATCH(Typologie_Espace_Public,Base_Typologie!$6:$6,0)),TableauScoreTypologie2,2,FALSE)*Crit6),0,VLOOKUP(INDEX(Base_Typologie!$A$6:$P$1003,MATCH(A602,Base_Typologie!$A:$A,0)-5,MATCH(Typologie_Espace_Public,Base_Typologie!$6:$6,0)),TableauScoreTypologie2,2,FALSE)*Crit6)","v":0},0,0,0,0,0,0,0,0,0,0,0,0,null,{"$f":"IF(Base_Arbres!A705<>\"\",VLOOKUP($A602,Base_Arbres,4,FALSE)*Crit7,\"\")","v":""}]
[{"$f":"IF(Base_Arbres!A649<>\"\",Base_Arbres!A649,\"\")","v":""},{"$f":"IF(Base_Arbres!A649<>\"\",VLOOKUP($A603,Base_Arbres,3,FALSE)*Crit1,\"\")","v":""},{"$f":"IF(Base_Arbres!A649<>\"\",VLOOKUP($A603,Base_Arbres,4,FALSE)*Crit2,\"\")","v":""},{"$f":"IF(Base_Arbres!A649<>\"\",VLOOKUP($A603,Base_Arbres,5,FALSE)*Crit3,\"\")","v":""},{"$f":"IF(Base_Arbres!A649<>\"\",VLOOKUP($A603,Base_Arbres,6,FALSE)*Crit4,\"\")","v":""},{"$f":"IF(Base_Arbres!B603<>\"\",VLOOKUP($A603,Base_Arbres,7,FALSE)*Crit5,\"\")","v":""},{"$f":"IF(Base_Arbres!C603<>\"\",VLOOKUP($A603,Base_Arbres,8,FALSE)*crit8,\"\")","v":""},{"$f":"IF(Base_Arbres!D603<>\"\",VLOOKUP($A603,Base_Arbres,9,FALSE)*crit9,\"\")","v":""},{"$f":"IF(ISNA(VLOOKUP(INDEX(Base_Typologie!$A$6:$P$1003,MATCH(A603,Base_Typologie!$A:$A,0)-5,MATCH(Typologie_Espace_Public,Base_Typologie!$6:$6,0)),TableauScoreTypologie2,2,FALSE)*Crit6),0,VLOOKUP(INDEX(Base_Typologie!$A$6:$P$1003,MATCH(A603,Base_Typologie!$A:$A,0)-5,MATCH(Typologie_Espace_Public,Base_Typologie!$6:$6,0)),TableauScoreTypologie2,2,FALSE)*Crit6)","v":0},0,0,0,0,0,0,0,0,0,0,0,0,null,{"$f":"IF(Base_Arbres!A706<>\"\",VLOOKUP($A603,Base_Arbres,4,FALSE)*Crit7,\"\")","v":""}]
[{"$f":"IF(Base_Arbres!A650<>\"\",Base_Arbres!A650,\"\")","v":""},{"$f":"IF(Base_Arbres!A650<>\"\",VLOOKUP($A604,Base_Arbres,3,FALSE)*Crit1,\"\")","v":""},{"$f":"IF(Base_Arbres!A650<>\"\",VLOOKUP($A604,Base_Arbres,4,FALSE)*Crit2,\"\")","v":""},{"$f":"IF(Base_Arbres!A650<>\"\",VLOOKUP($A604,Base_Arbres,5,FALSE)*Crit3,\"\")","v":""},{"$f":"IF(Base_Arbres!A650<>\"\",VLOOKUP($A604,Base_Arbres,6,FALSE)*Crit4,\"\")","v":""},{"$f":"IF(Base_Arbres!B604<>\"\",VLOOKUP($A604,Base_Arbres,7,FALSE)*Crit5,\"\")","v":""},{"$f":"IF(Base_Arbres!C604<>\"\",VLOOKUP($A604,Base_Arbres,8,FALSE)*crit8,\"\")","v":""},{"$f":"IF(Base_Arbres!D604<>\"\",VLOOKUP($A604,Base_Arbres,9,FALSE)*crit9,\"\")","v":""},{"$f":"IF(ISNA(VLOOKUP(INDEX(Base_Typologie!$A$6:$P$1003,MATCH(A604,Base_Typologie!$A:$A,0)-5,MATCH(Typologie_Espace_Public,Base_Typologie!$6:$6,0)),TableauScoreTypologie2,2,FALSE)*Crit6),0,VLOOKUP(INDEX(Base_Typologie!$A$6:$P$1003,MATCH(A604,Base_Typologie!$A:$A,0)-5,MATCH(Typologie_Espace_Public,Base_Typologie!$6:$6,0)),TableauScoreTypologie2,2,FALSE)*Crit6)","v":0},0,0,0,0,0,0,0,0,0,0,0,0,null,{"$f":"IF(Base_Arbres!A707<>\"\",VLOOKUP($A604,Base_Arbres,4,FALSE)*Crit7,\"\")","v":""}]
[{"$f":"IF(Base_Arbres!A651<>\"\",Base_Arbres!A651,\"\")","v":""},{"$f":"IF(Base_Arbres!A651<>\"\",VLOOKUP($A605,Base_Arbres,3,FALSE)*Crit1,\"\")","v":""},{"$f":"IF(Base_Arbres!A651<>\"\",VLOOKUP($A605,Base_Arbres,4,FALSE)*Crit2,\"\")","v":""},{"$f":"IF(Base_Arbres!A651<>\"\",VLOOKUP($A605,Base_Arbres,5,FALSE)*Crit3,\"\")","v":""},{"$f":"IF(Base_Arbres!A651<>\"\",VLOOKUP($A605,Base_Arbres,6,FALSE)*Crit4,\"\")","v":""},{"$f":"IF(Base_Arbres!B605<>\"\",VLOOKUP($A605,Base_Arbres,7,FALSE)*Crit5,\"\")","v":""},{"$f":"IF(Base_Arbres!C605<>\"\",VLOOKUP($A605,Base_Arbres,8,FALSE)*crit8,\"\")","v":""},{"$f":"IF(Base_Arbres!D605<>\"\",VLOOKUP($A605,Base_Arbres,9,FALSE)*crit9,\"\")","v":""},{"$f":"IF(ISNA(VLOOKUP(INDEX(Base_Typologie!$A$6:$P$1003,MATCH(A605,Base_Typologie!$A:$A,0)-5,MATCH(Typologie_Espace_Public,Base_Typologie!$6:$6,0)),TableauScoreTypologie2,2,FALSE)*Crit6),0,VLOOKUP(INDEX(Base_Typologie!$A$6:$P$1003,MATCH(A605,Base_Typologie!$A:$A,0)-5,MATCH(Typologie_Espace_Public,Base_Typologie!$6:$6,0)),TableauScoreTypologie2,2,FALSE)*Crit6)","v":0},0,0,0,0,0,0,0,0,0,0,0,0,null,{"$f":"IF(Base_Arbres!A708<>\"\",VLOOKUP($A605,Base_Arbres,4,FALSE)*Crit7,\"\")","v":""}]
[{"$f":"IF(Base_Arbres!A652<>\"\",Base_Arbres!A652,\"\")","v":""},{"$f":"IF(Base_Arbres!A652<>\"\",VLOOKUP($A606,Base_Arbres,3,FALSE)*Crit1,\"\")","v":""},{"$f":"IF(Base_Arbres!A652<>\"\",VLOOKUP($A606,Base_Arbres,4,FALSE)*Crit2,\"\")","v":""},{"$f":"IF(Base_Arbres!A652<>\"\",VLOOKUP($A606,Base_Arbres,5,FALSE)*Crit3,\"\")","v":""},{"$f":"IF(Base_Arbres!A652<>\"\",VLOOKUP($A606,Base_Arbres,6,FALSE)*Crit4,\"\")","v":""},{"$f":"IF(Base_Arbres!B606<>\"\",VLOOKUP($A606,Base_Arbres,7,FALSE)*Crit5,\"\")","v":""},{"$f":"IF(Base_Arbres!C606<>\"\",VLOOKUP($A606,Base_Arbres,8,FALSE)*crit8,\"\")","v":""},{"$f":"IF(Base_Arbres!D606<>\"\",VLOOKUP($A606,Base_Arbres,9,FALSE)*crit9,\"\")","v":""},{"$f":"IF(ISNA(VLOOKUP(INDEX(Base_Typologie!$A$6:$P$1003,MATCH(A606,Base_Typologie!$A:$A,0)-5,MATCH(Typologie_Espace_Public,Base_Typologie!$6:$6,0)),TableauScoreTypologie2,2,FALSE)*Crit6),0,VLOOKUP(INDEX(Base_Typologie!$A$6:$P$1003,MATCH(A606,Base_Typologie!$A:$A,0)-5,MATCH(Typologie_Espace_Public,Base_Typologie!$6:$6,0)),TableauScoreTypologie2,2,FALSE)*Crit6)","v":0},0,0,0,0,0,0,0,0,0,0,0,0,null,{"$f":"IF(Base_Arbres!A709<>\"\",VLOOKUP($A606,Base_Arbres,4,FALSE)*Crit7,\"\")","v":""}]
[{"$f":"IF(Base_Arbres!A653<>\"\",Base_Arbres!A653,\"\")","v":""},{"$f":"IF(Base_Arbres!A653<>\"\",VLOOKUP($A607,Base_Arbres,3,FALSE)*Crit1,\"\")","v":""},{"$f":"IF(Base_Arbres!A653<>\"\",VLOOKUP($A607,Base_Arbres,4,FALSE)*Crit2,\"\")","v":""},{"$f":"IF(Base_Arbres!A653<>\"\",VLOOKUP($A607,Base_Arbres,5,FALSE)*Crit3,\"\")","v":""},{"$f":"IF(Base_Arbres!A653<>\"\",VLOOKUP($A607,Base_Arbres,6,FALSE)*Crit4,\"\")","v":""},{"$f":"IF(Base_Arbres!B607<>\"\",VLOOKUP($A607,Base_Arbres,7,FALSE)*Crit5,\"\")","v":""},{"$f":"IF(Base_Arbres!C607<>\"\",VLOOKUP($A607,Base_Arbres,8,FALSE)*crit8,\"\")","v":""},{"$f":"IF(Base_Arbres!D607<>\"\",VLOOKUP($A607,Base_Arbres,9,FALSE)*crit9,\"\")","v":""},{"$f":"IF(ISNA(VLOOKUP(INDEX(Base_Typologie!$A$6:$P$1003,MATCH(A607,Base_Typologie!$A:$A,0)-5,MATCH(Typologie_Espace_Public,Base_Typologie!$6:$6,0)),TableauScoreTypologie2,2,FALSE)*Crit6),0,VLOOKUP(INDEX(Base_Typologie!$A$6:$P$1003,MATCH(A607,Base_Typologie!$A:$A,0)-5,MATCH(Typologie_Espace_Public,Base_Typologie!$6:$6,0)),TableauScoreTypologie2,2,FALSE)*Crit6)","v":0},0,0,0,0,0,0,0,0,0,0,0,0,null,{"$f":"IF(Base_Arbres!A710<>\"\",VLOOKUP($A607,Base_Arbres,4,FALSE)*Crit7,\"\")","v":""}]
[{"$f":"IF(Base_Arbres!A654<>\"\",Base_Arbres!A654,\"\")","v":""},{"$f":"IF(Base_Arbres!A654<>\"\",VLOOKUP($A608,Base_Arbres,3,FALSE)*Crit1,\"\")","v":""},{"$f":"IF(Base_Arbres!A654<>\"\",VLOOKUP($A608,Base_Arbres,4,FALSE)*Crit2,\"\")","v":""},{"$f":"IF(Base_Arbres!A654<>\"\",VLOOKUP($A608,Base_Arbres,5,FALSE)*Crit3,\"\")","v":""},{"$f":"IF(Base_Arbres!A654<>\"\",VLOOKUP($A608,Base_Arbres,6,FALSE)*Crit4,\"\")","v":""},{"$f":"IF(Base_Arbres!B608<>\"\",VLOOKUP($A608,Base_Arbres,7,FALSE)*Crit5,\"\")","v":""},{"$f":"IF(Base_Arbres!C608<>\"\",VLOOKUP($A608,Base_Arbres,8,FALSE)*crit8,\"\")","v":""},{"$f":"IF(Base_Arbres!D608<>\"\",VLOOKUP($A608,Base_Arbres,9,FALSE)*crit9,\"\")","v":""},{"$f":"IF(ISNA(VLOOKUP(INDEX(Base_Typologie!$A$6:$P$1003,MATCH(A608,Base_Typologie!$A:$A,0)-5,MATCH(Typologie_Espace_Public,Base_Typologie!$6:$6,0)),TableauScoreTypologie2,2,FALSE)*Crit6),0,VLOOKUP(INDEX(Base_Typologie!$A$6:$P$1003,MATCH(A608,Base_Typologie!$A:$A,0)-5,MATCH(Typologie_Espace_Public,Base_Typologie!$6:$6,0)),TableauScoreTypologie2,2,FALSE)*Crit6)","v":0},0,0,0,0,0,0,0,0,0,0,0,0,null,{"$f":"IF(Base_Arbres!A711<>\"\",VLOOKUP($A608,Base_Arbres,4,FALSE)*Crit7,\"\")","v":""}]
[{"$f":"IF(Base_Arbres!A655<>\"\",Base_Arbres!A655,\"\")","v":""},{"$f":"IF(Base_Arbres!A655<>\"\",VLOOKUP($A609,Base_Arbres,3,FALSE)*Crit1,\"\")","v":""},{"$f":"IF(Base_Arbres!A655<>\"\",VLOOKUP($A609,Base_Arbres,4,FALSE)*Crit2,\"\")","v":""},{"$f":"IF(Base_Arbres!A655<>\"\",VLOOKUP($A609,Base_Arbres,5,FALSE)*Crit3,\"\")","v":""},{"$f":"IF(Base_Arbres!A655<>\"\",VLOOKUP($A609,Base_Arbres,6,FALSE)*Crit4,\"\")","v":""},{"$f":"IF(Base_Arbres!B609<>\"\",VLOOKUP($A609,Base_Arbres,7,FALSE)*Crit5,\"\")","v":""},{"$f":"IF(Base_Arbres!C609<>\"\",VLOOKUP($A609,Base_Arbres,8,FALSE)*crit8,\"\")","v":""},{"$f":"IF(Base_Arbres!D609<>\"\",VLOOKUP($A609,Base_Arbres,9,FALSE)*crit9,\"\")","v":""},{"$f":"IF(ISNA(VLOOKUP(INDEX(Base_Typologie!$A$6:$P$1003,MATCH(A609,Base_Typologie!$A:$A,0)-5,MATCH(Typologie_Espace_Public,Base_Typologie!$6:$6,0)),TableauScoreTypologie2,2,FALSE)*Crit6),0,VLOOKUP(INDEX(Base_Typologie!$A$6:$P$1003,MATCH(A609,Base_Typologie!$A:$A,0)-5,MATCH(Typologie_Espace_Public,Base_Typologie!$6:$6,0)),TableauScoreTypologie2,2,FALSE)*Crit6)","v":0},0,0,0,0,0,0,0,0,0,0,0,0,null,{"$f":"IF(Base_Arbres!A712<>\"\",VLOOKUP($A609,Base_Arbres,4,FALSE)*Crit7,\"\")","v":""}]
[{"$f":"IF(Base_Arbres!A656<>\"\",Base_Arbres!A656,\"\")","v":""},{"$f":"IF(Base_Arbres!A656<>\"\",VLOOKUP($A610,Base_Arbres,3,FALSE)*Crit1,\"\")","v":""},{"$f":"IF(Base_Arbres!A656<>\"\",VLOOKUP($A610,Base_Arbres,4,FALSE)*Crit2,\"\")","v":""},{"$f":"IF(Base_Arbres!A656<>\"\",VLOOKUP($A610,Base_Arbres,5,FALSE)*Crit3,\"\")","v":""},{"$f":"IF(Base_Arbres!A656<>\"\",VLOOKUP($A610,Base_Arbres,6,FALSE)*Crit4,\"\")","v":""},{"$f":"IF(Base_Arbres!B610<>\"\",VLOOKUP($A610,Base_Arbres,7,FALSE)*Crit5,\"\")","v":""},{"$f":"IF(Base_Arbres!C610<>\"\",VLOOKUP($A610,Base_Arbres,8,FALSE)*crit8,\"\")","v":""},{"$f":"IF(Base_Arbres!D610<>\"\",VLOOKUP($A610,Base_Arbres,9,FALSE)*crit9,\"\")","v":""},{"$f":"IF(ISNA(VLOOKUP(INDEX(Base_Typologie!$A$6:$P$1003,MATCH(A610,Base_Typologie!$A:$A,0)-5,MATCH(Typologie_Espace_Public,Base_Typologie!$6:$6,0)),TableauScoreTypologie2,2,FALSE)*Crit6),0,VLOOKUP(INDEX(Base_Typologie!$A$6:$P$1003,MATCH(A610,Base_Typologie!$A:$A,0)-5,MATCH(Typologie_Espace_Public,Base_Typologie!$6:$6,0)),TableauScoreTypologie2,2,FALSE)*Crit6)","v":0},0,0,0,0,0,0,0,0,0,0,0,0,null,{"$f":"IF(Base_Arbres!A713<>\"\",VLOOKUP($A610,Base_Arbres,4,FALSE)*Crit7,\"\")","v":""}]
[{"$f":"IF(Base_Arbres!A657<>\"\",Base_Arbres!A657,\"\")","v":""},{"$f":"IF(Base_Arbres!A657<>\"\",VLOOKUP($A611,Base_Arbres,3,FALSE)*Crit1,\"\")","v":""},{"$f":"IF(Base_Arbres!A657<>\"\",VLOOKUP($A611,Base_Arbres,4,FALSE)*Crit2,\"\")","v":""},{"$f":"IF(Base_Arbres!A657<>\"\",VLOOKUP($A611,Base_Arbres,5,FALSE)*Crit3,\"\")","v":""},{"$f":"IF(Base_Arbres!A657<>\"\",VLOOKUP($A611,Base_Arbres,6,FALSE)*Crit4,\"\")","v":""},{"$f":"IF(Base_Arbres!B611<>\"\",VLOOKUP($A611,Base_Arbres,7,FALSE)*Crit5,\"\")","v":""},{"$f":"IF(Base_Arbres!C611<>\"\",VLOOKUP($A611,Base_Arbres,8,FALSE)*crit8,\"\")","v":""},{"$f":"IF(Base_Arbres!D611<>\"\",VLOOKUP($A611,Base_Arbres,9,FALSE)*crit9,\"\")","v":""},{"$f":"IF(ISNA(VLOOKUP(INDEX(Base_Typologie!$A$6:$P$1003,MATCH(A611,Base_Typologie!$A:$A,0)-5,MATCH(Typologie_Espace_Public,Base_Typologie!$6:$6,0)),TableauScoreTypologie2,2,FALSE)*Crit6),0,VLOOKUP(INDEX(Base_Typologie!$A$6:$P$1003,MATCH(A611,Base_Typologie!$A:$A,0)-5,MATCH(Typologie_Espace_Public,Base_Typologie!$6:$6,0)),TableauScoreTypologie2,2,FALSE)*Crit6)","v":0},0,0,0,0,0,0,0,0,0,0,0,0,null,{"$f":"IF(Base_Arbres!A714<>\"\",VLOOKUP($A611,Base_Arbres,4,FALSE)*Crit7,\"\")","v":""}]
[{"$f":"IF(Base_Arbres!A658<>\"\",Base_Arbres!A658,\"\")","v":""},{"$f":"IF(Base_Arbres!A658<>\"\",VLOOKUP($A612,Base_Arbres,3,FALSE)*Crit1,\"\")","v":""},{"$f":"IF(Base_Arbres!A658<>\"\",VLOOKUP($A612,Base_Arbres,4,FALSE)*Crit2,\"\")","v":""},{"$f":"IF(Base_Arbres!A658<>\"\",VLOOKUP($A612,Base_Arbres,5,FALSE)*Crit3,\"\")","v":""},{"$f":"IF(Base_Arbres!A658<>\"\",VLOOKUP($A612,Base_Arbres,6,FALSE)*Crit4,\"\")","v":""},{"$f":"IF(Base_Arbres!B612<>\"\",VLOOKUP($A612,Base_Arbres,7,FALSE)*Crit5,\"\")","v":""},{"$f":"IF(Base_Arbres!C612<>\"\",VLOOKUP($A612,Base_Arbres,8,FALSE)*crit8,\"\")","v":""},{"$f":"IF(Base_Arbres!D612<>\"\",VLOOKUP($A612,Base_Arbres,9,FALSE)*crit9,\"\")","v":""},{"$f":"IF(ISNA(VLOOKUP(INDEX(Base_Typologie!$A$6:$P$1003,MATCH(A612,Base_Typologie!$A:$A,0)-5,MATCH(Typologie_Espace_Public,Base_Typologie!$6:$6,0)),TableauScoreTypologie2,2,FALSE)*Crit6),0,VLOOKUP(INDEX(Base_Typologie!$A$6:$P$1003,MATCH(A612,Base_Typologie!$A:$A,0)-5,MATCH(Typologie_Espace_Public,Base_Typologie!$6:$6,0)),TableauScoreTypologie2,2,FALSE)*Crit6)","v":0},0,0,0,0,0,0,0,0,0,0,0,0,null,{"$f":"IF(Base_Arbres!A715<>\"\",VLOOKUP($A612,Base_Arbres,4,FALSE)*Crit7,\"\")","v":""}]
[{"$f":"IF(Base_Arbres!A659<>\"\",Base_Arbres!A659,\"\")","v":""},{"$f":"IF(Base_Arbres!A659<>\"\",VLOOKUP($A613,Base_Arbres,3,FALSE)*Crit1,\"\")","v":""},{"$f":"IF(Base_Arbres!A659<>\"\",VLOOKUP($A613,Base_Arbres,4,FALSE)*Crit2,\"\")","v":""},{"$f":"IF(Base_Arbres!A659<>\"\",VLOOKUP($A613,Base_Arbres,5,FALSE)*Crit3,\"\")","v":""},{"$f":"IF(Base_Arbres!A659<>\"\",VLOOKUP($A613,Base_Arbres,6,FALSE)*Crit4,\"\")","v":""},{"$f":"IF(Base_Arbres!B613<>\"\",VLOOKUP($A613,Base_Arbres,7,FALSE)*Crit5,\"\")","v":""},{"$f":"IF(Base_Arbres!C613<>\"\",VLOOKUP($A613,Base_Arbres,8,FALSE)*crit8,\"\")","v":""},{"$f":"IF(Base_Arbres!D613<>\"\",VLOOKUP($A613,Base_Arbres,9,FALSE)*crit9,\"\")","v":""},{"$f":"IF(ISNA(VLOOKUP(INDEX(Base_Typologie!$A$6:$P$1003,MATCH(A613,Base_Typologie!$A:$A,0)-5,MATCH(Typologie_Espace_Public,Base_Typologie!$6:$6,0)),TableauScoreTypologie2,2,FALSE)*Crit6),0,VLOOKUP(INDEX(Base_Typologie!$A$6:$P$1003,MATCH(A613,Base_Typologie!$A:$A,0)-5,MATCH(Typologie_Espace_Public,Base_Typologie!$6:$6,0)),TableauScoreTypologie2,2,FALSE)*Crit6)","v":0},0,0,0,0,0,0,0,0,0,0,0,0,null,{"$f":"IF(Base_Arbres!A716<>\"\",VLOOKUP($A613,Base_Arbres,4,FALSE)*Crit7,\"\")","v":""}]
[{"$f":"IF(Base_Arbres!A660<>\"\",Base_Arbres!A660,\"\")","v":""},{"$f":"IF(Base_Arbres!A660<>\"\",VLOOKUP($A614,Base_Arbres,3,FALSE)*Crit1,\"\")","v":""},{"$f":"IF(Base_Arbres!A660<>\"\",VLOOKUP($A614,Base_Arbres,4,FALSE)*Crit2,\"\")","v":""},{"$f":"IF(Base_Arbres!A660<>\"\",VLOOKUP($A614,Base_Arbres,5,FALSE)*Crit3,\"\")","v":""},{"$f":"IF(Base_Arbres!A660<>\"\",VLOOKUP($A614,Base_Arbres,6,FALSE)*Crit4,\"\")","v":""},{"$f":"IF(Base_Arbres!B614<>\"\",VLOOKUP($A614,Base_Arbres,7,FALSE)*Crit5,\"\")","v":""},{"$f":"IF(Base_Arbres!C614<>\"\",VLOOKUP($A614,Base_Arbres,8,FALSE)*crit8,\"\")","v":""},{"$f":"IF(Base_Arbres!D614<>\"\",VLOOKUP($A614,Base_Arbres,9,FALSE)*crit9,\"\")","v":""},{"$f":"IF(ISNA(VLOOKUP(INDEX(Base_Typologie!$A$6:$P$1003,MATCH(A614,Base_Typologie!$A:$A,0)-5,MATCH(Typologie_Espace_Public,Base_Typologie!$6:$6,0)),TableauScoreTypologie2,2,FALSE)*Crit6),0,VLOOKUP(INDEX(Base_Typologie!$A$6:$P$1003,MATCH(A614,Base_Typologie!$A:$A,0)-5,MATCH(Typologie_Espace_Public,Base_Typologie!$6:$6,0)),TableauScoreTypologie2,2,FALSE)*Crit6)","v":0},0,0,0,0,0,0,0,0,0,0,0,0,null,{"$f":"IF(Base_Arbres!A717<>\"\",VLOOKUP($A614,Base_Arbres,4,FALSE)*Crit7,\"\")","v":""}]
[{"$f":"IF(Base_Arbres!A661<>\"\",Base_Arbres!A661,\"\")","v":""},{"$f":"IF(Base_Arbres!A661<>\"\",VLOOKUP($A615,Base_Arbres,3,FALSE)*Crit1,\"\")","v":""},{"$f":"IF(Base_Arbres!A661<>\"\",VLOOKUP($A615,Base_Arbres,4,FALSE)*Crit2,\"\")","v":""},{"$f":"IF(Base_Arbres!A661<>\"\",VLOOKUP($A615,Base_Arbres,5,FALSE)*Crit3,\"\")","v":""},{"$f":"IF(Base_Arbres!A661<>\"\",VLOOKUP($A615,Base_Arbres,6,FALSE)*Crit4,\"\")","v":""},{"$f":"IF(Base_Arbres!B615<>\"\",VLOOKUP($A615,Base_Arbres,7,FALSE)*Crit5,\"\")","v":""},{"$f":"IF(Base_Arbres!C615<>\"\",VLOOKUP($A615,Base_Arbres,8,FALSE)*crit8,\"\")","v":""},{"$f":"IF(Base_Arbres!D615<>\"\",VLOOKUP($A615,Base_Arbres,9,FALSE)*crit9,\"\")","v":""},{"$f":"IF(ISNA(VLOOKUP(INDEX(Base_Typologie!$A$6:$P$1003,MATCH(A615,Base_Typologie!$A:$A,0)-5,MATCH(Typologie_Espace_Public,Base_Typologie!$6:$6,0)),TableauScoreTypologie2,2,FALSE)*Crit6),0,VLOOKUP(INDEX(Base_Typologie!$A$6:$P$1003,MATCH(A615,Base_Typologie!$A:$A,0)-5,MATCH(Typologie_Espace_Public,Base_Typologie!$6:$6,0)),TableauScoreTypologie2,2,FALSE)*Crit6)","v":0},0,0,0,0,0,0,0,0,0,0,0,0,null,{"$f":"IF(Base_Arbres!A718<>\"\",VLOOKUP($A615,Base_Arbres,4,FALSE)*Crit7,\"\")","v":""}]
[{"$f":"IF(Base_Arbres!A662<>\"\",Base_Arbres!A662,\"\")","v":""},{"$f":"IF(Base_Arbres!A662<>\"\",VLOOKUP($A616,Base_Arbres,3,FALSE)*Crit1,\"\")","v":""},{"$f":"IF(Base_Arbres!A662<>\"\",VLOOKUP($A616,Base_Arbres,4,FALSE)*Crit2,\"\")","v":""},{"$f":"IF(Base_Arbres!A662<>\"\",VLOOKUP($A616,Base_Arbres,5,FALSE)*Crit3,\"\")","v":""},{"$f":"IF(Base_Arbres!A662<>\"\",VLOOKUP($A616,Base_Arbres,6,FALSE)*Crit4,\"\")","v":""},{"$f":"IF(Base_Arbres!B616<>\"\",VLOOKUP($A616,Base_Arbres,7,FALSE)*Crit5,\"\")","v":""},{"$f":"IF(Base_Arbres!C616<>\"\",VLOOKUP($A616,Base_Arbres,8,FALSE)*crit8,\"\")","v":""},{"$f":"IF(Base_Arbres!D616<>\"\",VLOOKUP($A616,Base_Arbres,9,FALSE)*crit9,\"\")","v":""},{"$f":"IF(ISNA(VLOOKUP(INDEX(Base_Typologie!$A$6:$P$1003,MATCH(A616,Base_Typologie!$A:$A,0)-5,MATCH(Typologie_Espace_Public,Base_Typologie!$6:$6,0)),TableauScoreTypologie2,2,FALSE)*Crit6),0,VLOOKUP(INDEX(Base_Typologie!$A$6:$P$1003,MATCH(A616,Base_Typologie!$A:$A,0)-5,MATCH(Typologie_Espace_Public,Base_Typologie!$6:$6,0)),TableauScoreTypologie2,2,FALSE)*Crit6)","v":0},0,0,0,0,0,0,0,0,0,0,0,0,null,{"$f":"IF(Base_Arbres!A719<>\"\",VLOOKUP($A616,Base_Arbres,4,FALSE)*Crit7,\"\")","v":""}]
[{"$f":"IF(Base_Arbres!A663<>\"\",Base_Arbres!A663,\"\")","v":""},{"$f":"IF(Base_Arbres!A663<>\"\",VLOOKUP($A617,Base_Arbres,3,FALSE)*Crit1,\"\")","v":""},{"$f":"IF(Base_Arbres!A663<>\"\",VLOOKUP($A617,Base_Arbres,4,FALSE)*Crit2,\"\")","v":""},{"$f":"IF(Base_Arbres!A663<>\"\",VLOOKUP($A617,Base_Arbres,5,FALSE)*Crit3,\"\")","v":""},{"$f":"IF(Base_Arbres!A663<>\"\",VLOOKUP($A617,Base_Arbres,6,FALSE)*Crit4,\"\")","v":""},{"$f":"IF(Base_Arbres!B617<>\"\",VLOOKUP($A617,Base_Arbres,7,FALSE)*Crit5,\"\")","v":""},{"$f":"IF(Base_Arbres!C617<>\"\",VLOOKUP($A617,Base_Arbres,8,FALSE)*crit8,\"\")","v":""},{"$f":"IF(Base_Arbres!D617<>\"\",VLOOKUP($A617,Base_Arbres,9,FALSE)*crit9,\"\")","v":""},{"$f":"IF(ISNA(VLOOKUP(INDEX(Base_Typologie!$A$6:$P$1003,MATCH(A617,Base_Typologie!$A:$A,0)-5,MATCH(Typologie_Espace_Public,Base_Typologie!$6:$6,0)),TableauScoreTypologie2,2,FALSE)*Crit6),0,VLOOKUP(INDEX(Base_Typologie!$A$6:$P$1003,MATCH(A617,Base_Typologie!$A:$A,0)-5,MATCH(Typologie_Espace_Public,Base_Typologie!$6:$6,0)),TableauScoreTypologie2,2,FALSE)*Crit6)","v":0},0,0,0,0,0,0,0,0,0,0,0,0,null,{"$f":"IF(Base_Arbres!A720<>\"\",VLOOKUP($A617,Base_Arbres,4,FALSE)*Crit7,\"\")","v":""}]
[{"$f":"IF(Base_Arbres!A664<>\"\",Base_Arbres!A664,\"\")","v":""},{"$f":"IF(Base_Arbres!A664<>\"\",VLOOKUP($A618,Base_Arbres,3,FALSE)*Crit1,\"\")","v":""},{"$f":"IF(Base_Arbres!A664<>\"\",VLOOKUP($A618,Base_Arbres,4,FALSE)*Crit2,\"\")","v":""},{"$f":"IF(Base_Arbres!A664<>\"\",VLOOKUP($A618,Base_Arbres,5,FALSE)*Crit3,\"\")","v":""},{"$f":"IF(Base_Arbres!A664<>\"\",VLOOKUP($A618,Base_Arbres,6,FALSE)*Crit4,\"\")","v":""},{"$f":"IF(Base_Arbres!B618<>\"\",VLOOKUP($A618,Base_Arbres,7,FALSE)*Crit5,\"\")","v":""},{"$f":"IF(Base_Arbres!C618<>\"\",VLOOKUP($A618,Base_Arbres,8,FALSE)*crit8,\"\")","v":""},{"$f":"IF(Base_Arbres!D618<>\"\",VLOOKUP($A618,Base_Arbres,9,FALSE)*crit9,\"\")","v":""},{"$f":"IF(ISNA(VLOOKUP(INDEX(Base_Typologie!$A$6:$P$1003,MATCH(A618,Base_Typologie!$A:$A,0)-5,MATCH(Typologie_Espace_Public,Base_Typologie!$6:$6,0)),TableauScoreTypologie2,2,FALSE)*Crit6),0,VLOOKUP(INDEX(Base_Typologie!$A$6:$P$1003,MATCH(A618,Base_Typologie!$A:$A,0)-5,MATCH(Typologie_Espace_Public,Base_Typologie!$6:$6,0)),TableauScoreTypologie2,2,FALSE)*Crit6)","v":0},0,0,0,0,0,0,0,0,0,0,0,0,null,{"$f":"IF(Base_Arbres!A721<>\"\",VLOOKUP($A618,Base_Arbres,4,FALSE)*Crit7,\"\")","v":""}]
[{"$f":"IF(Base_Arbres!A665<>\"\",Base_Arbres!A665,\"\")","v":""},{"$f":"IF(Base_Arbres!A665<>\"\",VLOOKUP($A619,Base_Arbres,3,FALSE)*Crit1,\"\")","v":""},{"$f":"IF(Base_Arbres!A665<>\"\",VLOOKUP($A619,Base_Arbres,4,FALSE)*Crit2,\"\")","v":""},{"$f":"IF(Base_Arbres!A665<>\"\",VLOOKUP($A619,Base_Arbres,5,FALSE)*Crit3,\"\")","v":""},{"$f":"IF(Base_Arbres!A665<>\"\",VLOOKUP($A619,Base_Arbres,6,FALSE)*Crit4,\"\")","v":""},{"$f":"IF(Base_Arbres!B619<>\"\",VLOOKUP($A619,Base_Arbres,7,FALSE)*Crit5,\"\")","v":""},{"$f":"IF(Base_Arbres!C619<>\"\",VLOOKUP($A619,Base_Arbres,8,FALSE)*crit8,\"\")","v":""},{"$f":"IF(Base_Arbres!D619<>\"\",VLOOKUP($A619,Base_Arbres,9,FALSE)*crit9,\"\")","v":""},{"$f":"IF(ISNA(VLOOKUP(INDEX(Base_Typologie!$A$6:$P$1003,MATCH(A619,Base_Typologie!$A:$A,0)-5,MATCH(Typologie_Espace_Public,Base_Typologie!$6:$6,0)),TableauScoreTypologie2,2,FALSE)*Crit6),0,VLOOKUP(INDEX(Base_Typologie!$A$6:$P$1003,MATCH(A619,Base_Typologie!$A:$A,0)-5,MATCH(Typologie_Espace_Public,Base_Typologie!$6:$6,0)),TableauScoreTypologie2,2,FALSE)*Crit6)","v":0},0,0,0,0,0,0,0,0,0,0,0,0,null,{"$f":"IF(Base_Arbres!A722<>\"\",VLOOKUP($A619,Base_Arbres,4,FALSE)*Crit7,\"\")","v":""}]
[{"$f":"IF(Base_Arbres!A666<>\"\",Base_Arbres!A666,\"\")","v":""},{"$f":"IF(Base_Arbres!A666<>\"\",VLOOKUP($A620,Base_Arbres,3,FALSE)*Crit1,\"\")","v":""},{"$f":"IF(Base_Arbres!A666<>\"\",VLOOKUP($A620,Base_Arbres,4,FALSE)*Crit2,\"\")","v":""},{"$f":"IF(Base_Arbres!A666<>\"\",VLOOKUP($A620,Base_Arbres,5,FALSE)*Crit3,\"\")","v":""},{"$f":"IF(Base_Arbres!A666<>\"\",VLOOKUP($A620,Base_Arbres,6,FALSE)*Crit4,\"\")","v":""},{"$f":"IF(Base_Arbres!B620<>\"\",VLOOKUP($A620,Base_Arbres,7,FALSE)*Crit5,\"\")","v":""},{"$f":"IF(Base_Arbres!C620<>\"\",VLOOKUP($A620,Base_Arbres,8,FALSE)*crit8,\"\")","v":""},{"$f":"IF(Base_Arbres!D620<>\"\",VLOOKUP($A620,Base_Arbres,9,FALSE)*crit9,\"\")","v":""},{"$f":"IF(ISNA(VLOOKUP(INDEX(Base_Typologie!$A$6:$P$1003,MATCH(A620,Base_Typologie!$A:$A,0)-5,MATCH(Typologie_Espace_Public,Base_Typologie!$6:$6,0)),TableauScoreTypologie2,2,FALSE)*Crit6),0,VLOOKUP(INDEX(Base_Typologie!$A$6:$P$1003,MATCH(A620,Base_Typologie!$A:$A,0)-5,MATCH(Typologie_Espace_Public,Base_Typologie!$6:$6,0)),TableauScoreTypologie2,2,FALSE)*Crit6)","v":0},0,0,0,0,0,0,0,0,0,0,0,0,null,{"$f":"IF(Base_Arbres!A723<>\"\",VLOOKUP($A620,Base_Arbres,4,FALSE)*Crit7,\"\")","v":""}]
[{"$f":"IF(Base_Arbres!A667<>\"\",Base_Arbres!A667,\"\")","v":""},{"$f":"IF(Base_Arbres!A667<>\"\",VLOOKUP($A621,Base_Arbres,3,FALSE)*Crit1,\"\")","v":""},{"$f":"IF(Base_Arbres!A667<>\"\",VLOOKUP($A621,Base_Arbres,4,FALSE)*Crit2,\"\")","v":""},{"$f":"IF(Base_Arbres!A667<>\"\",VLOOKUP($A621,Base_Arbres,5,FALSE)*Crit3,\"\")","v":""},{"$f":"IF(Base_Arbres!A667<>\"\",VLOOKUP($A621,Base_Arbres,6,FALSE)*Crit4,\"\")","v":""},{"$f":"IF(Base_Arbres!B621<>\"\",VLOOKUP($A621,Base_Arbres,7,FALSE)*Crit5,\"\")","v":""},{"$f":"IF(Base_Arbres!C621<>\"\",VLOOKUP($A621,Base_Arbres,8,FALSE)*crit8,\"\")","v":""},{"$f":"IF(Base_Arbres!D621<>\"\",VLOOKUP($A621,Base_Arbres,9,FALSE)*crit9,\"\")","v":""},{"$f":"IF(ISNA(VLOOKUP(INDEX(Base_Typologie!$A$6:$P$1003,MATCH(A621,Base_Typologie!$A:$A,0)-5,MATCH(Typologie_Espace_Public,Base_Typologie!$6:$6,0)),TableauScoreTypologie2,2,FALSE)*Crit6),0,VLOOKUP(INDEX(Base_Typologie!$A$6:$P$1003,MATCH(A621,Base_Typologie!$A:$A,0)-5,MATCH(Typologie_Espace_Public,Base_Typologie!$6:$6,0)),TableauScoreTypologie2,2,FALSE)*Crit6)","v":0},0,0,0,0,0,0,0,0,0,0,0,0,null,{"$f":"IF(Base_Arbres!A724<>\"\",VLOOKUP($A621,Base_Arbres,4,FALSE)*Crit7,\"\")","v":""}]
[{"$f":"IF(Base_Arbres!A668<>\"\",Base_Arbres!A668,\"\")","v":""},{"$f":"IF(Base_Arbres!A668<>\"\",VLOOKUP($A622,Base_Arbres,3,FALSE)*Crit1,\"\")","v":""},{"$f":"IF(Base_Arbres!A668<>\"\",VLOOKUP($A622,Base_Arbres,4,FALSE)*Crit2,\"\")","v":""},{"$f":"IF(Base_Arbres!A668<>\"\",VLOOKUP($A622,Base_Arbres,5,FALSE)*Crit3,\"\")","v":""},{"$f":"IF(Base_Arbres!A668<>\"\",VLOOKUP($A622,Base_Arbres,6,FALSE)*Crit4,\"\")","v":""},{"$f":"IF(Base_Arbres!B622<>\"\",VLOOKUP($A622,Base_Arbres,7,FALSE)*Crit5,\"\")","v":""},{"$f":"IF(Base_Arbres!C622<>\"\",VLOOKUP($A622,Base_Arbres,8,FALSE)*crit8,\"\")","v":""},{"$f":"IF(Base_Arbres!D622<>\"\",VLOOKUP($A622,Base_Arbres,9,FALSE)*crit9,\"\")","v":""},{"$f":"IF(ISNA(VLOOKUP(INDEX(Base_Typologie!$A$6:$P$1003,MATCH(A622,Base_Typologie!$A:$A,0)-5,MATCH(Typologie_Espace_Public,Base_Typologie!$6:$6,0)),TableauScoreTypologie2,2,FALSE)*Crit6),0,VLOOKUP(INDEX(Base_Typologie!$A$6:$P$1003,MATCH(A622,Base_Typologie!$A:$A,0)-5,MATCH(Typologie_Espace_Public,Base_Typologie!$6:$6,0)),TableauScoreTypologie2,2,FALSE)*Crit6)","v":0},0,0,0,0,0,0,0,0,0,0,0,0,null,{"$f":"IF(Base_Arbres!A725<>\"\",VLOOKUP($A622,Base_Arbres,4,FALSE)*Crit7,\"\")","v":""}]
[{"$f":"IF(Base_Arbres!A669<>\"\",Base_Arbres!A669,\"\")","v":""},{"$f":"IF(Base_Arbres!A669<>\"\",VLOOKUP($A623,Base_Arbres,3,FALSE)*Crit1,\"\")","v":""},{"$f":"IF(Base_Arbres!A669<>\"\",VLOOKUP($A623,Base_Arbres,4,FALSE)*Crit2,\"\")","v":""},{"$f":"IF(Base_Arbres!A669<>\"\",VLOOKUP($A623,Base_Arbres,5,FALSE)*Crit3,\"\")","v":""},{"$f":"IF(Base_Arbres!A669<>\"\",VLOOKUP($A623,Base_Arbres,6,FALSE)*Crit4,\"\")","v":""},{"$f":"IF(Base_Arbres!B623<>\"\",VLOOKUP($A623,Base_Arbres,7,FALSE)*Crit5,\"\")","v":""},{"$f":"IF(Base_Arbres!C623<>\"\",VLOOKUP($A623,Base_Arbres,8,FALSE)*crit8,\"\")","v":""},{"$f":"IF(Base_Arbres!D623<>\"\",VLOOKUP($A623,Base_Arbres,9,FALSE)*crit9,\"\")","v":""},{"$f":"IF(ISNA(VLOOKUP(INDEX(Base_Typologie!$A$6:$P$1003,MATCH(A623,Base_Typologie!$A:$A,0)-5,MATCH(Typologie_Espace_Public,Base_Typologie!$6:$6,0)),TableauScoreTypologie2,2,FALSE)*Crit6),0,VLOOKUP(INDEX(Base_Typologie!$A$6:$P$1003,MATCH(A623,Base_Typologie!$A:$A,0)-5,MATCH(Typologie_Espace_Public,Base_Typologie!$6:$6,0)),TableauScoreTypologie2,2,FALSE)*Crit6)","v":0},0,0,0,0,0,0,0,0,0,0,0,0,null,{"$f":"IF(Base_Arbres!A726<>\"\",VLOOKUP($A623,Base_Arbres,4,FALSE)*Crit7,\"\")","v":""}]
[{"$f":"IF(Base_Arbres!A670<>\"\",Base_Arbres!A670,\"\")","v":""},{"$f":"IF(Base_Arbres!A670<>\"\",VLOOKUP($A624,Base_Arbres,3,FALSE)*Crit1,\"\")","v":""},{"$f":"IF(Base_Arbres!A670<>\"\",VLOOKUP($A624,Base_Arbres,4,FALSE)*Crit2,\"\")","v":""},{"$f":"IF(Base_Arbres!A670<>\"\",VLOOKUP($A624,Base_Arbres,5,FALSE)*Crit3,\"\")","v":""},{"$f":"IF(Base_Arbres!A670<>\"\",VLOOKUP($A624,Base_Arbres,6,FALSE)*Crit4,\"\")","v":""},{"$f":"IF(Base_Arbres!B624<>\"\",VLOOKUP($A624,Base_Arbres,7,FALSE)*Crit5,\"\")","v":""},{"$f":"IF(Base_Arbres!C624<>\"\",VLOOKUP($A624,Base_Arbres,8,FALSE)*crit8,\"\")","v":""},{"$f":"IF(Base_Arbres!D624<>\"\",VLOOKUP($A624,Base_Arbres,9,FALSE)*crit9,\"\")","v":""},{"$f":"IF(ISNA(VLOOKUP(INDEX(Base_Typologie!$A$6:$P$1003,MATCH(A624,Base_Typologie!$A:$A,0)-5,MATCH(Typologie_Espace_Public,Base_Typologie!$6:$6,0)),TableauScoreTypologie2,2,FALSE)*Crit6),0,VLOOKUP(INDEX(Base_Typologie!$A$6:$P$1003,MATCH(A624,Base_Typologie!$A:$A,0)-5,MATCH(Typologie_Espace_Public,Base_Typologie!$6:$6,0)),TableauScoreTypologie2,2,FALSE)*Crit6)","v":0},0,0,0,0,0,0,0,0,0,0,0,0,null,{"$f":"IF(Base_Arbres!A727<>\"\",VLOOKUP($A624,Base_Arbres,4,FALSE)*Crit7,\"\")","v":""}]
[{"$f":"IF(Base_Arbres!A671<>\"\",Base_Arbres!A671,\"\")","v":""},{"$f":"IF(Base_Arbres!A671<>\"\",VLOOKUP($A625,Base_Arbres,3,FALSE)*Crit1,\"\")","v":""},{"$f":"IF(Base_Arbres!A671<>\"\",VLOOKUP($A625,Base_Arbres,4,FALSE)*Crit2,\"\")","v":""},{"$f":"IF(Base_Arbres!A671<>\"\",VLOOKUP($A625,Base_Arbres,5,FALSE)*Crit3,\"\")","v":""},{"$f":"IF(Base_Arbres!A671<>\"\",VLOOKUP($A625,Base_Arbres,6,FALSE)*Crit4,\"\")","v":""},{"$f":"IF(Base_Arbres!B625<>\"\",VLOOKUP($A625,Base_Arbres,7,FALSE)*Crit5,\"\")","v":""},{"$f":"IF(Base_Arbres!C625<>\"\",VLOOKUP($A625,Base_Arbres,8,FALSE)*crit8,\"\")","v":""},{"$f":"IF(Base_Arbres!D625<>\"\",VLOOKUP($A625,Base_Arbres,9,FALSE)*crit9,\"\")","v":""},{"$f":"IF(ISNA(VLOOKUP(INDEX(Base_Typologie!$A$6:$P$1003,MATCH(A625,Base_Typologie!$A:$A,0)-5,MATCH(Typologie_Espace_Public,Base_Typologie!$6:$6,0)),TableauScoreTypologie2,2,FALSE)*Crit6),0,VLOOKUP(INDEX(Base_Typologie!$A$6:$P$1003,MATCH(A625,Base_Typologie!$A:$A,0)-5,MATCH(Typologie_Espace_Public,Base_Typologie!$6:$6,0)),TableauScoreTypologie2,2,FALSE)*Crit6)","v":0},0,0,0,0,0,0,0,0,0,0,0,0,null,{"$f":"IF(Base_Arbres!A728<>\"\",VLOOKUP($A625,Base_Arbres,4,FALSE)*Crit7,\"\")","v":""}]
[{"$f":"IF(Base_Arbres!A672<>\"\",Base_Arbres!A672,\"\")","v":""},{"$f":"IF(Base_Arbres!A672<>\"\",VLOOKUP($A626,Base_Arbres,3,FALSE)*Crit1,\"\")","v":""},{"$f":"IF(Base_Arbres!A672<>\"\",VLOOKUP($A626,Base_Arbres,4,FALSE)*Crit2,\"\")","v":""},{"$f":"IF(Base_Arbres!A672<>\"\",VLOOKUP($A626,Base_Arbres,5,FALSE)*Crit3,\"\")","v":""},{"$f":"IF(Base_Arbres!A672<>\"\",VLOOKUP($A626,Base_Arbres,6,FALSE)*Crit4,\"\")","v":""},{"$f":"IF(Base_Arbres!B626<>\"\",VLOOKUP($A626,Base_Arbres,7,FALSE)*Crit5,\"\")","v":""},{"$f":"IF(Base_Arbres!C626<>\"\",VLOOKUP($A626,Base_Arbres,8,FALSE)*crit8,\"\")","v":""},{"$f":"IF(Base_Arbres!D626<>\"\",VLOOKUP($A626,Base_Arbres,9,FALSE)*crit9,\"\")","v":""},{"$f":"IF(ISNA(VLOOKUP(INDEX(Base_Typologie!$A$6:$P$1003,MATCH(A626,Base_Typologie!$A:$A,0)-5,MATCH(Typologie_Espace_Public,Base_Typologie!$6:$6,0)),TableauScoreTypologie2,2,FALSE)*Crit6),0,VLOOKUP(INDEX(Base_Typologie!$A$6:$P$1003,MATCH(A626,Base_Typologie!$A:$A,0)-5,MATCH(Typologie_Espace_Public,Base_Typologie!$6:$6,0)),TableauScoreTypologie2,2,FALSE)*Crit6)","v":0},0,0,0,0,0,0,0,0,0,0,0,0,null,{"$f":"IF(Base_Arbres!A729<>\"\",VLOOKUP($A626,Base_Arbres,4,FALSE)*Crit7,\"\")","v":""}]
[{"$f":"IF(Base_Arbres!A673<>\"\",Base_Arbres!A673,\"\")","v":""},{"$f":"IF(Base_Arbres!A673<>\"\",VLOOKUP($A627,Base_Arbres,3,FALSE)*Crit1,\"\")","v":""},{"$f":"IF(Base_Arbres!A673<>\"\",VLOOKUP($A627,Base_Arbres,4,FALSE)*Crit2,\"\")","v":""},{"$f":"IF(Base_Arbres!A673<>\"\",VLOOKUP($A627,Base_Arbres,5,FALSE)*Crit3,\"\")","v":""},{"$f":"IF(Base_Arbres!A673<>\"\",VLOOKUP($A627,Base_Arbres,6,FALSE)*Crit4,\"\")","v":""},{"$f":"IF(Base_Arbres!B627<>\"\",VLOOKUP($A627,Base_Arbres,7,FALSE)*Crit5,\"\")","v":""},{"$f":"IF(Base_Arbres!C627<>\"\",VLOOKUP($A627,Base_Arbres,8,FALSE)*crit8,\"\")","v":""},{"$f":"IF(Base_Arbres!D627<>\"\",VLOOKUP($A627,Base_Arbres,9,FALSE)*crit9,\"\")","v":""},{"$f":"IF(ISNA(VLOOKUP(INDEX(Base_Typologie!$A$6:$P$1003,MATCH(A627,Base_Typologie!$A:$A,0)-5,MATCH(Typologie_Espace_Public,Base_Typologie!$6:$6,0)),TableauScoreTypologie2,2,FALSE)*Crit6),0,VLOOKUP(INDEX(Base_Typologie!$A$6:$P$1003,MATCH(A627,Base_Typologie!$A:$A,0)-5,MATCH(Typologie_Espace_Public,Base_Typologie!$6:$6,0)),TableauScoreTypologie2,2,FALSE)*Crit6)","v":0},0,0,0,0,0,0,0,0,0,0,0,0,null,{"$f":"IF(Base_Arbres!A730<>\"\",VLOOKUP($A627,Base_Arbres,4,FALSE)*Crit7,\"\")","v":""}]
[{"$f":"IF(Base_Arbres!A674<>\"\",Base_Arbres!A674,\"\")","v":""},{"$f":"IF(Base_Arbres!A674<>\"\",VLOOKUP($A628,Base_Arbres,3,FALSE)*Crit1,\"\")","v":""},{"$f":"IF(Base_Arbres!A674<>\"\",VLOOKUP($A628,Base_Arbres,4,FALSE)*Crit2,\"\")","v":""},{"$f":"IF(Base_Arbres!A674<>\"\",VLOOKUP($A628,Base_Arbres,5,FALSE)*Crit3,\"\")","v":""},{"$f":"IF(Base_Arbres!A674<>\"\",VLOOKUP($A628,Base_Arbres,6,FALSE)*Crit4,\"\")","v":""},{"$f":"IF(Base_Arbres!B628<>\"\",VLOOKUP($A628,Base_Arbres,7,FALSE)*Crit5,\"\")","v":""},{"$f":"IF(Base_Arbres!C628<>\"\",VLOOKUP($A628,Base_Arbres,8,FALSE)*crit8,\"\")","v":""},{"$f":"IF(Base_Arbres!D628<>\"\",VLOOKUP($A628,Base_Arbres,9,FALSE)*crit9,\"\")","v":""},{"$f":"IF(ISNA(VLOOKUP(INDEX(Base_Typologie!$A$6:$P$1003,MATCH(A628,Base_Typologie!$A:$A,0)-5,MATCH(Typologie_Espace_Public,Base_Typologie!$6:$6,0)),TableauScoreTypologie2,2,FALSE)*Crit6),0,VLOOKUP(INDEX(Base_Typologie!$A$6:$P$1003,MATCH(A628,Base_Typologie!$A:$A,0)-5,MATCH(Typologie_Espace_Public,Base_Typologie!$6:$6,0)),TableauScoreTypologie2,2,FALSE)*Crit6)","v":0},0,0,0,0,0,0,0,0,0,0,0,0,null,{"$f":"IF(Base_Arbres!A731<>\"\",VLOOKUP($A628,Base_Arbres,4,FALSE)*Crit7,\"\")","v":""}]
[{"$f":"IF(Base_Arbres!A675<>\"\",Base_Arbres!A675,\"\")","v":""},{"$f":"IF(Base_Arbres!A675<>\"\",VLOOKUP($A629,Base_Arbres,3,FALSE)*Crit1,\"\")","v":""},{"$f":"IF(Base_Arbres!A675<>\"\",VLOOKUP($A629,Base_Arbres,4,FALSE)*Crit2,\"\")","v":""},{"$f":"IF(Base_Arbres!A675<>\"\",VLOOKUP($A629,Base_Arbres,5,FALSE)*Crit3,\"\")","v":""},{"$f":"IF(Base_Arbres!A675<>\"\",VLOOKUP($A629,Base_Arbres,6,FALSE)*Crit4,\"\")","v":""},{"$f":"IF(Base_Arbres!B629<>\"\",VLOOKUP($A629,Base_Arbres,7,FALSE)*Crit5,\"\")","v":""},{"$f":"IF(Base_Arbres!C629<>\"\",VLOOKUP($A629,Base_Arbres,8,FALSE)*crit8,\"\")","v":""},{"$f":"IF(Base_Arbres!D629<>\"\",VLOOKUP($A629,Base_Arbres,9,FALSE)*crit9,\"\")","v":""},{"$f":"IF(ISNA(VLOOKUP(INDEX(Base_Typologie!$A$6:$P$1003,MATCH(A629,Base_Typologie!$A:$A,0)-5,MATCH(Typologie_Espace_Public,Base_Typologie!$6:$6,0)),TableauScoreTypologie2,2,FALSE)*Crit6),0,VLOOKUP(INDEX(Base_Typologie!$A$6:$P$1003,MATCH(A629,Base_Typologie!$A:$A,0)-5,MATCH(Typologie_Espace_Public,Base_Typologie!$6:$6,0)),TableauScoreTypologie2,2,FALSE)*Crit6)","v":0},0,0,0,0,0,0,0,0,0,0,0,0,null,{"$f":"IF(Base_Arbres!A732<>\"\",VLOOKUP($A629,Base_Arbres,4,FALSE)*Crit7,\"\")","v":""}]
[{"$f":"IF(Base_Arbres!A676<>\"\",Base_Arbres!A676,\"\")","v":""},{"$f":"IF(Base_Arbres!A676<>\"\",VLOOKUP($A630,Base_Arbres,3,FALSE)*Crit1,\"\")","v":""},{"$f":"IF(Base_Arbres!A676<>\"\",VLOOKUP($A630,Base_Arbres,4,FALSE)*Crit2,\"\")","v":""},{"$f":"IF(Base_Arbres!A676<>\"\",VLOOKUP($A630,Base_Arbres,5,FALSE)*Crit3,\"\")","v":""},{"$f":"IF(Base_Arbres!A676<>\"\",VLOOKUP($A630,Base_Arbres,6,FALSE)*Crit4,\"\")","v":""},{"$f":"IF(Base_Arbres!B630<>\"\",VLOOKUP($A630,Base_Arbres,7,FALSE)*Crit5,\"\")","v":""},{"$f":"IF(Base_Arbres!C630<>\"\",VLOOKUP($A630,Base_Arbres,8,FALSE)*crit8,\"\")","v":""},{"$f":"IF(Base_Arbres!D630<>\"\",VLOOKUP($A630,Base_Arbres,9,FALSE)*crit9,\"\")","v":""},{"$f":"IF(ISNA(VLOOKUP(INDEX(Base_Typologie!$A$6:$P$1003,MATCH(A630,Base_Typologie!$A:$A,0)-5,MATCH(Typologie_Espace_Public,Base_Typologie!$6:$6,0)),TableauScoreTypologie2,2,FALSE)*Crit6),0,VLOOKUP(INDEX(Base_Typologie!$A$6:$P$1003,MATCH(A630,Base_Typologie!$A:$A,0)-5,MATCH(Typologie_Espace_Public,Base_Typologie!$6:$6,0)),TableauScoreTypologie2,2,FALSE)*Crit6)","v":0},0,0,0,0,0,0,0,0,0,0,0,0,null,{"$f":"IF(Base_Arbres!A733<>\"\",VLOOKUP($A630,Base_Arbres,4,FALSE)*Crit7,\"\")","v":""}]
[{"$f":"IF(Base_Arbres!A677<>\"\",Base_Arbres!A677,\"\")","v":""},{"$f":"IF(Base_Arbres!A677<>\"\",VLOOKUP($A631,Base_Arbres,3,FALSE)*Crit1,\"\")","v":""},{"$f":"IF(Base_Arbres!A677<>\"\",VLOOKUP($A631,Base_Arbres,4,FALSE)*Crit2,\"\")","v":""},{"$f":"IF(Base_Arbres!A677<>\"\",VLOOKUP($A631,Base_Arbres,5,FALSE)*Crit3,\"\")","v":""},{"$f":"IF(Base_Arbres!A677<>\"\",VLOOKUP($A631,Base_Arbres,6,FALSE)*Crit4,\"\")","v":""},{"$f":"IF(Base_Arbres!B631<>\"\",VLOOKUP($A631,Base_Arbres,7,FALSE)*Crit5,\"\")","v":""},{"$f":"IF(Base_Arbres!C631<>\"\",VLOOKUP($A631,Base_Arbres,8,FALSE)*crit8,\"\")","v":""},{"$f":"IF(Base_Arbres!D631<>\"\",VLOOKUP($A631,Base_Arbres,9,FALSE)*crit9,\"\")","v":""},{"$f":"IF(ISNA(VLOOKUP(INDEX(Base_Typologie!$A$6:$P$1003,MATCH(A631,Base_Typologie!$A:$A,0)-5,MATCH(Typologie_Espace_Public,Base_Typologie!$6:$6,0)),TableauScoreTypologie2,2,FALSE)*Crit6),0,VLOOKUP(INDEX(Base_Typologie!$A$6:$P$1003,MATCH(A631,Base_Typologie!$A:$A,0)-5,MATCH(Typologie_Espace_Public,Base_Typologie!$6:$6,0)),TableauScoreTypologie2,2,FALSE)*Crit6)","v":0},0,0,0,0,0,0,0,0,0,0,0,0,null,{"$f":"IF(Base_Arbres!A734<>\"\",VLOOKUP($A631,Base_Arbres,4,FALSE)*Crit7,\"\")","v":""}]
[{"$f":"IF(Base_Arbres!A678<>\"\",Base_Arbres!A678,\"\")","v":""},{"$f":"IF(Base_Arbres!A678<>\"\",VLOOKUP($A632,Base_Arbres,3,FALSE)*Crit1,\"\")","v":""},{"$f":"IF(Base_Arbres!A678<>\"\",VLOOKUP($A632,Base_Arbres,4,FALSE)*Crit2,\"\")","v":""},{"$f":"IF(Base_Arbres!A678<>\"\",VLOOKUP($A632,Base_Arbres,5,FALSE)*Crit3,\"\")","v":""},{"$f":"IF(Base_Arbres!A678<>\"\",VLOOKUP($A632,Base_Arbres,6,FALSE)*Crit4,\"\")","v":""},{"$f":"IF(Base_Arbres!B632<>\"\",VLOOKUP($A632,Base_Arbres,7,FALSE)*Crit5,\"\")","v":""},{"$f":"IF(Base_Arbres!C632<>\"\",VLOOKUP($A632,Base_Arbres,8,FALSE)*crit8,\"\")","v":""},{"$f":"IF(Base_Arbres!D632<>\"\",VLOOKUP($A632,Base_Arbres,9,FALSE)*crit9,\"\")","v":""},{"$f":"IF(ISNA(VLOOKUP(INDEX(Base_Typologie!$A$6:$P$1003,MATCH(A632,Base_Typologie!$A:$A,0)-5,MATCH(Typologie_Espace_Public,Base_Typologie!$6:$6,0)),TableauScoreTypologie2,2,FALSE)*Crit6),0,VLOOKUP(INDEX(Base_Typologie!$A$6:$P$1003,MATCH(A632,Base_Typologie!$A:$A,0)-5,MATCH(Typologie_Espace_Public,Base_Typologie!$6:$6,0)),TableauScoreTypologie2,2,FALSE)*Crit6)","v":0},0,0,0,0,0,0,0,0,0,0,0,0,null,{"$f":"IF(Base_Arbres!A735<>\"\",VLOOKUP($A632,Base_Arbres,4,FALSE)*Crit7,\"\")","v":""}]
[{"$f":"IF(Base_Arbres!A679<>\"\",Base_Arbres!A679,\"\")","v":""},{"$f":"IF(Base_Arbres!A679<>\"\",VLOOKUP($A633,Base_Arbres,3,FALSE)*Crit1,\"\")","v":""},{"$f":"IF(Base_Arbres!A679<>\"\",VLOOKUP($A633,Base_Arbres,4,FALSE)*Crit2,\"\")","v":""},{"$f":"IF(Base_Arbres!A679<>\"\",VLOOKUP($A633,Base_Arbres,5,FALSE)*Crit3,\"\")","v":""},{"$f":"IF(Base_Arbres!A679<>\"\",VLOOKUP($A633,Base_Arbres,6,FALSE)*Crit4,\"\")","v":""},{"$f":"IF(Base_Arbres!B633<>\"\",VLOOKUP($A633,Base_Arbres,7,FALSE)*Crit5,\"\")","v":""},{"$f":"IF(Base_Arbres!C633<>\"\",VLOOKUP($A633,Base_Arbres,8,FALSE)*crit8,\"\")","v":""},{"$f":"IF(Base_Arbres!D633<>\"\",VLOOKUP($A633,Base_Arbres,9,FALSE)*crit9,\"\")","v":""},{"$f":"IF(ISNA(VLOOKUP(INDEX(Base_Typologie!$A$6:$P$1003,MATCH(A633,Base_Typologie!$A:$A,0)-5,MATCH(Typologie_Espace_Public,Base_Typologie!$6:$6,0)),TableauScoreTypologie2,2,FALSE)*Crit6),0,VLOOKUP(INDEX(Base_Typologie!$A$6:$P$1003,MATCH(A633,Base_Typologie!$A:$A,0)-5,MATCH(Typologie_Espace_Public,Base_Typologie!$6:$6,0)),TableauScoreTypologie2,2,FALSE)*Crit6)","v":0},0,0,0,0,0,0,0,0,0,0,0,0,null,{"$f":"IF(Base_Arbres!A736<>\"\",VLOOKUP($A633,Base_Arbres,4,FALSE)*Crit7,\"\")","v":""}]
[{"$f":"IF(Base_Arbres!A680<>\"\",Base_Arbres!A680,\"\")","v":""},{"$f":"IF(Base_Arbres!A680<>\"\",VLOOKUP($A634,Base_Arbres,3,FALSE)*Crit1,\"\")","v":""},{"$f":"IF(Base_Arbres!A680<>\"\",VLOOKUP($A634,Base_Arbres,4,FALSE)*Crit2,\"\")","v":""},{"$f":"IF(Base_Arbres!A680<>\"\",VLOOKUP($A634,Base_Arbres,5,FALSE)*Crit3,\"\")","v":""},{"$f":"IF(Base_Arbres!A680<>\"\",VLOOKUP($A634,Base_Arbres,6,FALSE)*Crit4,\"\")","v":""},{"$f":"IF(Base_Arbres!B634<>\"\",VLOOKUP($A634,Base_Arbres,7,FALSE)*Crit5,\"\")","v":""},{"$f":"IF(Base_Arbres!C634<>\"\",VLOOKUP($A634,Base_Arbres,8,FALSE)*crit8,\"\")","v":""},{"$f":"IF(Base_Arbres!D634<>\"\",VLOOKUP($A634,Base_Arbres,9,FALSE)*crit9,\"\")","v":""},{"$f":"IF(ISNA(VLOOKUP(INDEX(Base_Typologie!$A$6:$P$1003,MATCH(A634,Base_Typologie!$A:$A,0)-5,MATCH(Typologie_Espace_Public,Base_Typologie!$6:$6,0)),TableauScoreTypologie2,2,FALSE)*Crit6),0,VLOOKUP(INDEX(Base_Typologie!$A$6:$P$1003,MATCH(A634,Base_Typologie!$A:$A,0)-5,MATCH(Typologie_Espace_Public,Base_Typologie!$6:$6,0)),TableauScoreTypologie2,2,FALSE)*Crit6)","v":0},0,0,0,0,0,0,0,0,0,0,0,0,null,{"$f":"IF(Base_Arbres!A737<>\"\",VLOOKUP($A634,Base_Arbres,4,FALSE)*Crit7,\"\")","v":""}]
[{"$f":"IF(Base_Arbres!A681<>\"\",Base_Arbres!A681,\"\")","v":""},{"$f":"IF(Base_Arbres!A681<>\"\",VLOOKUP($A635,Base_Arbres,3,FALSE)*Crit1,\"\")","v":""},{"$f":"IF(Base_Arbres!A681<>\"\",VLOOKUP($A635,Base_Arbres,4,FALSE)*Crit2,\"\")","v":""},{"$f":"IF(Base_Arbres!A681<>\"\",VLOOKUP($A635,Base_Arbres,5,FALSE)*Crit3,\"\")","v":""},{"$f":"IF(Base_Arbres!A681<>\"\",VLOOKUP($A635,Base_Arbres,6,FALSE)*Crit4,\"\")","v":""},{"$f":"IF(Base_Arbres!B635<>\"\",VLOOKUP($A635,Base_Arbres,7,FALSE)*Crit5,\"\")","v":""},{"$f":"IF(Base_Arbres!C635<>\"\",VLOOKUP($A635,Base_Arbres,8,FALSE)*crit8,\"\")","v":""},{"$f":"IF(Base_Arbres!D635<>\"\",VLOOKUP($A635,Base_Arbres,9,FALSE)*crit9,\"\")","v":""},{"$f":"IF(ISNA(VLOOKUP(INDEX(Base_Typologie!$A$6:$P$1003,MATCH(A635,Base_Typologie!$A:$A,0)-5,MATCH(Typologie_Espace_Public,Base_Typologie!$6:$6,0)),TableauScoreTypologie2,2,FALSE)*Crit6),0,VLOOKUP(INDEX(Base_Typologie!$A$6:$P$1003,MATCH(A635,Base_Typologie!$A:$A,0)-5,MATCH(Typologie_Espace_Public,Base_Typologie!$6:$6,0)),TableauScoreTypologie2,2,FALSE)*Crit6)","v":0},0,0,0,0,0,0,0,0,0,0,0,0,null,{"$f":"IF(Base_Arbres!A738<>\"\",VLOOKUP($A635,Base_Arbres,4,FALSE)*Crit7,\"\")","v":""}]
[{"$f":"IF(Base_Arbres!A682<>\"\",Base_Arbres!A682,\"\")","v":""},{"$f":"IF(Base_Arbres!A682<>\"\",VLOOKUP($A636,Base_Arbres,3,FALSE)*Crit1,\"\")","v":""},{"$f":"IF(Base_Arbres!A682<>\"\",VLOOKUP($A636,Base_Arbres,4,FALSE)*Crit2,\"\")","v":""},{"$f":"IF(Base_Arbres!A682<>\"\",VLOOKUP($A636,Base_Arbres,5,FALSE)*Crit3,\"\")","v":""},{"$f":"IF(Base_Arbres!A682<>\"\",VLOOKUP($A636,Base_Arbres,6,FALSE)*Crit4,\"\")","v":""},{"$f":"IF(Base_Arbres!B636<>\"\",VLOOKUP($A636,Base_Arbres,7,FALSE)*Crit5,\"\")","v":""},{"$f":"IF(Base_Arbres!C636<>\"\",VLOOKUP($A636,Base_Arbres,8,FALSE)*crit8,\"\")","v":""},{"$f":"IF(Base_Arbres!D636<>\"\",VLOOKUP($A636,Base_Arbres,9,FALSE)*crit9,\"\")","v":""},{"$f":"IF(ISNA(VLOOKUP(INDEX(Base_Typologie!$A$6:$P$1003,MATCH(A636,Base_Typologie!$A:$A,0)-5,MATCH(Typologie_Espace_Public,Base_Typologie!$6:$6,0)),TableauScoreTypologie2,2,FALSE)*Crit6),0,VLOOKUP(INDEX(Base_Typologie!$A$6:$P$1003,MATCH(A636,Base_Typologie!$A:$A,0)-5,MATCH(Typologie_Espace_Public,Base_Typologie!$6:$6,0)),TableauScoreTypologie2,2,FALSE)*Crit6)","v":0},0,0,0,0,0,0,0,0,0,0,0,0,null,{"$f":"IF(Base_Arbres!A739<>\"\",VLOOKUP($A636,Base_Arbres,4,FALSE)*Crit7,\"\")","v":""}]
[{"$f":"IF(Base_Arbres!A683<>\"\",Base_Arbres!A683,\"\")","v":""},{"$f":"IF(Base_Arbres!A683<>\"\",VLOOKUP($A637,Base_Arbres,3,FALSE)*Crit1,\"\")","v":""},{"$f":"IF(Base_Arbres!A683<>\"\",VLOOKUP($A637,Base_Arbres,4,FALSE)*Crit2,\"\")","v":""},{"$f":"IF(Base_Arbres!A683<>\"\",VLOOKUP($A637,Base_Arbres,5,FALSE)*Crit3,\"\")","v":""},{"$f":"IF(Base_Arbres!A683<>\"\",VLOOKUP($A637,Base_Arbres,6,FALSE)*Crit4,\"\")","v":""},{"$f":"IF(Base_Arbres!B637<>\"\",VLOOKUP($A637,Base_Arbres,7,FALSE)*Crit5,\"\")","v":""},{"$f":"IF(Base_Arbres!C637<>\"\",VLOOKUP($A637,Base_Arbres,8,FALSE)*crit8,\"\")","v":""},{"$f":"IF(Base_Arbres!D637<>\"\",VLOOKUP($A637,Base_Arbres,9,FALSE)*crit9,\"\")","v":""},{"$f":"IF(ISNA(VLOOKUP(INDEX(Base_Typologie!$A$6:$P$1003,MATCH(A637,Base_Typologie!$A:$A,0)-5,MATCH(Typologie_Espace_Public,Base_Typologie!$6:$6,0)),TableauScoreTypologie2,2,FALSE)*Crit6),0,VLOOKUP(INDEX(Base_Typologie!$A$6:$P$1003,MATCH(A637,Base_Typologie!$A:$A,0)-5,MATCH(Typologie_Espace_Public,Base_Typologie!$6:$6,0)),TableauScoreTypologie2,2,FALSE)*Crit6)","v":0},0,0,0,0,0,0,0,0,0,0,0,0,null,{"$f":"IF(Base_Arbres!A740<>\"\",VLOOKUP($A637,Base_Arbres,4,FALSE)*Crit7,\"\")","v":""}]
[{"$f":"IF(Base_Arbres!A684<>\"\",Base_Arbres!A684,\"\")","v":""},{"$f":"IF(Base_Arbres!A684<>\"\",VLOOKUP($A638,Base_Arbres,3,FALSE)*Crit1,\"\")","v":""},{"$f":"IF(Base_Arbres!A684<>\"\",VLOOKUP($A638,Base_Arbres,4,FALSE)*Crit2,\"\")","v":""},{"$f":"IF(Base_Arbres!A684<>\"\",VLOOKUP($A638,Base_Arbres,5,FALSE)*Crit3,\"\")","v":""},{"$f":"IF(Base_Arbres!A684<>\"\",VLOOKUP($A638,Base_Arbres,6,FALSE)*Crit4,\"\")","v":""},{"$f":"IF(Base_Arbres!B638<>\"\",VLOOKUP($A638,Base_Arbres,7,FALSE)*Crit5,\"\")","v":""},{"$f":"IF(Base_Arbres!C638<>\"\",VLOOKUP($A638,Base_Arbres,8,FALSE)*crit8,\"\")","v":""},{"$f":"IF(Base_Arbres!D638<>\"\",VLOOKUP($A638,Base_Arbres,9,FALSE)*crit9,\"\")","v":""},{"$f":"IF(ISNA(VLOOKUP(INDEX(Base_Typologie!$A$6:$P$1003,MATCH(A638,Base_Typologie!$A:$A,0)-5,MATCH(Typologie_Espace_Public,Base_Typologie!$6:$6,0)),TableauScoreTypologie2,2,FALSE)*Crit6),0,VLOOKUP(INDEX(Base_Typologie!$A$6:$P$1003,MATCH(A638,Base_Typologie!$A:$A,0)-5,MATCH(Typologie_Espace_Public,Base_Typologie!$6:$6,0)),TableauScoreTypologie2,2,FALSE)*Crit6)","v":0},0,0,0,0,0,0,0,0,0,0,0,0,null,{"$f":"IF(Base_Arbres!A741<>\"\",VLOOKUP($A638,Base_Arbres,4,FALSE)*Crit7,\"\")","v":""}]
[{"$f":"IF(Base_Arbres!A685<>\"\",Base_Arbres!A685,\"\")","v":""},{"$f":"IF(Base_Arbres!A685<>\"\",VLOOKUP($A639,Base_Arbres,3,FALSE)*Crit1,\"\")","v":""},{"$f":"IF(Base_Arbres!A685<>\"\",VLOOKUP($A639,Base_Arbres,4,FALSE)*Crit2,\"\")","v":""},{"$f":"IF(Base_Arbres!A685<>\"\",VLOOKUP($A639,Base_Arbres,5,FALSE)*Crit3,\"\")","v":""},{"$f":"IF(Base_Arbres!A685<>\"\",VLOOKUP($A639,Base_Arbres,6,FALSE)*Crit4,\"\")","v":""},{"$f":"IF(Base_Arbres!B639<>\"\",VLOOKUP($A639,Base_Arbres,7,FALSE)*Crit5,\"\")","v":""},{"$f":"IF(Base_Arbres!C639<>\"\",VLOOKUP($A639,Base_Arbres,8,FALSE)*crit8,\"\")","v":""},{"$f":"IF(Base_Arbres!D639<>\"\",VLOOKUP($A639,Base_Arbres,9,FALSE)*crit9,\"\")","v":""},{"$f":"IF(ISNA(VLOOKUP(INDEX(Base_Typologie!$A$6:$P$1003,MATCH(A639,Base_Typologie!$A:$A,0)-5,MATCH(Typologie_Espace_Public,Base_Typologie!$6:$6,0)),TableauScoreTypologie2,2,FALSE)*Crit6),0,VLOOKUP(INDEX(Base_Typologie!$A$6:$P$1003,MATCH(A639,Base_Typologie!$A:$A,0)-5,MATCH(Typologie_Espace_Public,Base_Typologie!$6:$6,0)),TableauScoreTypologie2,2,FALSE)*Crit6)","v":0},0,0,0,0,0,0,0,0,0,0,0,0,null,{"$f":"IF(Base_Arbres!A742<>\"\",VLOOKUP($A639,Base_Arbres,4,FALSE)*Crit7,\"\")","v":""}]
[{"$f":"IF(Base_Arbres!A686<>\"\",Base_Arbres!A686,\"\")","v":""},{"$f":"IF(Base_Arbres!A686<>\"\",VLOOKUP($A640,Base_Arbres,3,FALSE)*Crit1,\"\")","v":""},{"$f":"IF(Base_Arbres!A686<>\"\",VLOOKUP($A640,Base_Arbres,4,FALSE)*Crit2,\"\")","v":""},{"$f":"IF(Base_Arbres!A686<>\"\",VLOOKUP($A640,Base_Arbres,5,FALSE)*Crit3,\"\")","v":""},{"$f":"IF(Base_Arbres!A686<>\"\",VLOOKUP($A640,Base_Arbres,6,FALSE)*Crit4,\"\")","v":""},{"$f":"IF(Base_Arbres!B640<>\"\",VLOOKUP($A640,Base_Arbres,7,FALSE)*Crit5,\"\")","v":""},{"$f":"IF(Base_Arbres!C640<>\"\",VLOOKUP($A640,Base_Arbres,8,FALSE)*crit8,\"\")","v":""},{"$f":"IF(Base_Arbres!D640<>\"\",VLOOKUP($A640,Base_Arbres,9,FALSE)*crit9,\"\")","v":""},{"$f":"IF(ISNA(VLOOKUP(INDEX(Base_Typologie!$A$6:$P$1003,MATCH(A640,Base_Typologie!$A:$A,0)-5,MATCH(Typologie_Espace_Public,Base_Typologie!$6:$6,0)),TableauScoreTypologie2,2,FALSE)*Crit6),0,VLOOKUP(INDEX(Base_Typologie!$A$6:$P$1003,MATCH(A640,Base_Typologie!$A:$A,0)-5,MATCH(Typologie_Espace_Public,Base_Typologie!$6:$6,0)),TableauScoreTypologie2,2,FALSE)*Crit6)","v":0},0,0,0,0,0,0,0,0,0,0,0,0,null,{"$f":"IF(Base_Arbres!A743<>\"\",VLOOKUP($A640,Base_Arbres,4,FALSE)*Crit7,\"\")","v":""}]
[{"$f":"IF(Base_Arbres!A687<>\"\",Base_Arbres!A687,\"\")","v":""},{"$f":"IF(Base_Arbres!A687<>\"\",VLOOKUP($A641,Base_Arbres,3,FALSE)*Crit1,\"\")","v":""},{"$f":"IF(Base_Arbres!A687<>\"\",VLOOKUP($A641,Base_Arbres,4,FALSE)*Crit2,\"\")","v":""},{"$f":"IF(Base_Arbres!A687<>\"\",VLOOKUP($A641,Base_Arbres,5,FALSE)*Crit3,\"\")","v":""},{"$f":"IF(Base_Arbres!A687<>\"\",VLOOKUP($A641,Base_Arbres,6,FALSE)*Crit4,\"\")","v":""},{"$f":"IF(Base_Arbres!B641<>\"\",VLOOKUP($A641,Base_Arbres,7,FALSE)*Crit5,\"\")","v":""},{"$f":"IF(Base_Arbres!C641<>\"\",VLOOKUP($A641,Base_Arbres,8,FALSE)*crit8,\"\")","v":""},{"$f":"IF(Base_Arbres!D641<>\"\",VLOOKUP($A641,Base_Arbres,9,FALSE)*crit9,\"\")","v":""},{"$f":"IF(ISNA(VLOOKUP(INDEX(Base_Typologie!$A$6:$P$1003,MATCH(A641,Base_Typologie!$A:$A,0)-5,MATCH(Typologie_Espace_Public,Base_Typologie!$6:$6,0)),TableauScoreTypologie2,2,FALSE)*Crit6),0,VLOOKUP(INDEX(Base_Typologie!$A$6:$P$1003,MATCH(A641,Base_Typologie!$A:$A,0)-5,MATCH(Typologie_Espace_Public,Base_Typologie!$6:$6,0)),TableauScoreTypologie2,2,FALSE)*Crit6)","v":0},0,0,0,0,0,0,0,0,0,0,0,0,null,{"$f":"IF(Base_Arbres!A744<>\"\",VLOOKUP($A641,Base_Arbres,4,FALSE)*Crit7,\"\")","v":""}]
[{"$f":"IF(Base_Arbres!A688<>\"\",Base_Arbres!A688,\"\")","v":""},{"$f":"IF(Base_Arbres!A688<>\"\",VLOOKUP($A642,Base_Arbres,3,FALSE)*Crit1,\"\")","v":""},{"$f":"IF(Base_Arbres!A688<>\"\",VLOOKUP($A642,Base_Arbres,4,FALSE)*Crit2,\"\")","v":""},{"$f":"IF(Base_Arbres!A688<>\"\",VLOOKUP($A642,Base_Arbres,5,FALSE)*Crit3,\"\")","v":""},{"$f":"IF(Base_Arbres!A688<>\"\",VLOOKUP($A642,Base_Arbres,6,FALSE)*Crit4,\"\")","v":""},{"$f":"IF(Base_Arbres!B642<>\"\",VLOOKUP($A642,Base_Arbres,7,FALSE)*Crit5,\"\")","v":""},{"$f":"IF(Base_Arbres!C642<>\"\",VLOOKUP($A642,Base_Arbres,8,FALSE)*crit8,\"\")","v":""},{"$f":"IF(Base_Arbres!D642<>\"\",VLOOKUP($A642,Base_Arbres,9,FALSE)*crit9,\"\")","v":""},{"$f":"IF(ISNA(VLOOKUP(INDEX(Base_Typologie!$A$6:$P$1003,MATCH(A642,Base_Typologie!$A:$A,0)-5,MATCH(Typologie_Espace_Public,Base_Typologie!$6:$6,0)),TableauScoreTypologie2,2,FALSE)*Crit6),0,VLOOKUP(INDEX(Base_Typologie!$A$6:$P$1003,MATCH(A642,Base_Typologie!$A:$A,0)-5,MATCH(Typologie_Espace_Public,Base_Typologie!$6:$6,0)),TableauScoreTypologie2,2,FALSE)*Crit6)","v":0},{"$f":"IF(A642<>\"\",IF(LEFT(VLOOKUP($A642,Base_Arbres,10,FALSE),1)>=LEFT(Cont_Racines,1),0,1),0)","v":0},{"$f":"IF(A642<>\"\",IF(LEFT(VLOOKUP($A642,Base_Arbres,11,FALSE),1)>=LEFT(Cont_Branches,1),0,1),0)","v":0},{"$f":"IF(A642<>\"\",IF(LEFT(VLOOKUP($A642,Base_Arbres,12,FALSE),1)>=LEFT(Cont_Chablis,1),0,1),0)","v":0},{"$f":"IF(A642<>\"\",IF(LEFT(VLOOKUP($A642,Base_Arbres,13,FALSE),1)>=LEFT(Cont_Fructifications,1),0,1),0)","v":0},{"$f":"IF(A642<>\"\",IF(LEFT(VLOOKUP($A642,Base_Arbres,14,FALSE),1)>=LEFT(Cont_Miellat,1),0,1),0)","v":0},{"$f":"IF(A642<>\"\",IF(LEFT(VLOOKUP($A642,Base_Arbres,15,FALSE),1)>=LEFT(Cont_Fruits_Toxiques,1),0,1),0)","v":0},{"$f":"IF(A642<>\"\",IF(LEFT(VLOOKUP($A642,Base_Arbres,16,FALSE),1)>=LEFT(Cont_Hauteur,1),0,1),0)","v":0},{"$f":"IF(A642<>\"\",IF(LEFT(VLOOKUP($A642,Base_Arbres,17,FALSE),1)>=LEFT(Cont_Envergure,1),0,1),0)","v":0},{"$f":"IF(A642<>\"\",IF(LEFT(VLOOKUP($A642,Base_Arbres,18,FALSE),1)>=LEFT(Cont_pollen,1),0,1),0)","v":0},{"$f":"IF(B642<>\"\",IF(LEFT(VLOOKUP($A642,Base_Arbres,19,FALSE),1)>=LEFT(Cont_malodo,1),0,1),0)","v":0},{"$f":"IF(A642<>\"\",IF(LEFT(VLOOKUP($A642,Base_Arbres,20,FALSE),1)>=LEFT(Cont_chenilles,1),0,1),0)","v":0},{"$f":"IF(A642<>\"\",IF(LEFT(VLOOKUP($A642,Base_Arbres,21,FALSE),1)>=LEFT(Cont_epineux,1),0,1),0)","v":0},null,{"$f":"IF(Base_Arbres!A745<>\"\",VLOOKUP($A642,Base_Arbres,4,FALSE)*Crit7,\"\")","v":""}]
[{"$f":"IF(Base_Arbres!A689<>\"\",Base_Arbres!A689,\"\")","v":""},{"$f":"IF(Base_Arbres!A689<>\"\",VLOOKUP($A643,Base_Arbres,3,FALSE)*Crit1,\"\")","v":""},{"$f":"IF(Base_Arbres!A689<>\"\",VLOOKUP($A643,Base_Arbres,4,FALSE)*Crit2,\"\")","v":""},{"$f":"IF(Base_Arbres!A689<>\"\",VLOOKUP($A643,Base_Arbres,5,FALSE)*Crit3,\"\")","v":""},{"$f":"IF(Base_Arbres!A689<>\"\",VLOOKUP($A643,Base_Arbres,6,FALSE)*Crit4,\"\")","v":""},{"$f":"IF(Base_Arbres!B643<>\"\",VLOOKUP($A643,Base_Arbres,7,FALSE)*Crit5,\"\")","v":""},{"$f":"IF(Base_Arbres!C643<>\"\",VLOOKUP($A643,Base_Arbres,8,FALSE)*crit8,\"\")","v":""},{"$f":"IF(Base_Arbres!D643<>\"\",VLOOKUP($A643,Base_Arbres,9,FALSE)*crit9,\"\")","v":""},{"$f":"IF(ISNA(VLOOKUP(INDEX(Base_Typologie!$A$6:$P$1003,MATCH(A643,Base_Typologie!$A:$A,0)-5,MATCH(Typologie_Espace_Public,Base_Typologie!$6:$6,0)),TableauScoreTypologie2,2,FALSE)*Crit6),0,VLOOKUP(INDEX(Base_Typologie!$A$6:$P$1003,MATCH(A643,Base_Typologie!$A:$A,0)-5,MATCH(Typologie_Espace_Public,Base_Typologie!$6:$6,0)),TableauScoreTypologie2,2,FALSE)*Crit6)","v":0},0,0,0,0,0,0,0,0,0,0,0,0,null,{"$f":"IF(Base_Arbres!A746<>\"\",VLOOKUP($A643,Base_Arbres,4,FALSE)*Crit7,\"\")","v":""}]
[{"$f":"IF(Base_Arbres!A690<>\"\",Base_Arbres!A690,\"\")","v":""},{"$f":"IF(Base_Arbres!A690<>\"\",VLOOKUP($A644,Base_Arbres,3,FALSE)*Crit1,\"\")","v":""},{"$f":"IF(Base_Arbres!A690<>\"\",VLOOKUP($A644,Base_Arbres,4,FALSE)*Crit2,\"\")","v":""},{"$f":"IF(Base_Arbres!A690<>\"\",VLOOKUP($A644,Base_Arbres,5,FALSE)*Crit3,\"\")","v":""},{"$f":"IF(Base_Arbres!A690<>\"\",VLOOKUP($A644,Base_Arbres,6,FALSE)*Crit4,\"\")","v":""},{"$f":"IF(Base_Arbres!B644<>\"\",VLOOKUP($A644,Base_Arbres,7,FALSE)*Crit5,\"\")","v":""},{"$f":"IF(Base_Arbres!C644<>\"\",VLOOKUP($A644,Base_Arbres,8,FALSE)*crit8,\"\")","v":""},{"$f":"IF(Base_Arbres!D644<>\"\",VLOOKUP($A644,Base_Arbres,9,FALSE)*crit9,\"\")","v":""},{"$f":"IF(ISNA(VLOOKUP(INDEX(Base_Typologie!$A$6:$P$1003,MATCH(A644,Base_Typologie!$A:$A,0)-5,MATCH(Typologie_Espace_Public,Base_Typologie!$6:$6,0)),TableauScoreTypologie2,2,FALSE)*Crit6),0,VLOOKUP(INDEX(Base_Typologie!$A$6:$P$1003,MATCH(A644,Base_Typologie!$A:$A,0)-5,MATCH(Typologie_Espace_Public,Base_Typologie!$6:$6,0)),TableauScoreTypologie2,2,FALSE)*Crit6)","v":0},0,0,0,0,0,0,0,0,0,0,0,0,null,{"$f":"IF(Base_Arbres!A747<>\"\",VLOOKUP($A644,Base_Arbres,4,FALSE)*Crit7,\"\")","v":""}]
[{"$f":"IF(Base_Arbres!A691<>\"\",Base_Arbres!A691,\"\")","v":""},{"$f":"IF(Base_Arbres!A691<>\"\",VLOOKUP($A645,Base_Arbres,3,FALSE)*Crit1,\"\")","v":""},{"$f":"IF(Base_Arbres!A691<>\"\",VLOOKUP($A645,Base_Arbres,4,FALSE)*Crit2,\"\")","v":""},{"$f":"IF(Base_Arbres!A691<>\"\",VLOOKUP($A645,Base_Arbres,5,FALSE)*Crit3,\"\")","v":""},{"$f":"IF(Base_Arbres!A691<>\"\",VLOOKUP($A645,Base_Arbres,6,FALSE)*Crit4,\"\")","v":""},{"$f":"IF(Base_Arbres!B645<>\"\",VLOOKUP($A645,Base_Arbres,7,FALSE)*Crit5,\"\")","v":""},{"$f":"IF(Base_Arbres!C645<>\"\",VLOOKUP($A645,Base_Arbres,8,FALSE)*crit8,\"\")","v":""},{"$f":"IF(Base_Arbres!D645<>\"\",VLOOKUP($A645,Base_Arbres,9,FALSE)*crit9,\"\")","v":""},{"$f":"IF(ISNA(VLOOKUP(INDEX(Base_Typologie!$A$6:$P$1003,MATCH(A645,Base_Typologie!$A:$A,0)-5,MATCH(Typologie_Espace_Public,Base_Typologie!$6:$6,0)),TableauScoreTypologie2,2,FALSE)*Crit6),0,VLOOKUP(INDEX(Base_Typologie!$A$6:$P$1003,MATCH(A645,Base_Typologie!$A:$A,0)-5,MATCH(Typologie_Espace_Public,Base_Typologie!$6:$6,0)),TableauScoreTypologie2,2,FALSE)*Crit6)","v":0},0,0,0,0,0,0,0,0,0,0,0,0,null,{"$f":"IF(Base_Arbres!A748<>\"\",VLOOKUP($A645,Base_Arbres,4,FALSE)*Crit7,\"\")","v":""}]
[{"$f":"IF(Base_Arbres!A692<>\"\",Base_Arbres!A692,\"\")","v":""},{"$f":"IF(Base_Arbres!A692<>\"\",VLOOKUP($A646,Base_Arbres,3,FALSE)*Crit1,\"\")","v":""},{"$f":"IF(Base_Arbres!A692<>\"\",VLOOKUP($A646,Base_Arbres,4,FALSE)*Crit2,\"\")","v":""},{"$f":"IF(Base_Arbres!A692<>\"\",VLOOKUP($A646,Base_Arbres,5,FALSE)*Crit3,\"\")","v":""},{"$f":"IF(Base_Arbres!A692<>\"\",VLOOKUP($A646,Base_Arbres,6,FALSE)*Crit4,\"\")","v":""},{"$f":"IF(Base_Arbres!B646<>\"\",VLOOKUP($A646,Base_Arbres,7,FALSE)*Crit5,\"\")","v":""},{"$f":"IF(Base_Arbres!C646<>\"\",VLOOKUP($A646,Base_Arbres,8,FALSE)*crit8,\"\")","v":""},{"$f":"IF(Base_Arbres!D646<>\"\",VLOOKUP($A646,Base_Arbres,9,FALSE)*crit9,\"\")","v":""},{"$f":"IF(ISNA(VLOOKUP(INDEX(Base_Typologie!$A$6:$P$1003,MATCH(A646,Base_Typologie!$A:$A,0)-5,MATCH(Typologie_Espace_Public,Base_Typologie!$6:$6,0)),TableauScoreTypologie2,2,FALSE)*Crit6),0,VLOOKUP(INDEX(Base_Typologie!$A$6:$P$1003,MATCH(A646,Base_Typologie!$A:$A,0)-5,MATCH(Typologie_Espace_Public,Base_Typologie!$6:$6,0)),TableauScoreTypologie2,2,FALSE)*Crit6)","v":0},0,0,0,0,0,0,0,0,0,0,0,0,null,{"$f":"IF(Base_Arbres!A749<>\"\",VLOOKUP($A646,Base_Arbres,4,FALSE)*Crit7,\"\")","v":""}]
[{"$f":"IF(Base_Arbres!A693<>\"\",Base_Arbres!A693,\"\")","v":""},{"$f":"IF(Base_Arbres!A693<>\"\",VLOOKUP($A647,Base_Arbres,3,FALSE)*Crit1,\"\")","v":""},{"$f":"IF(Base_Arbres!A693<>\"\",VLOOKUP($A647,Base_Arbres,4,FALSE)*Crit2,\"\")","v":""},{"$f":"IF(Base_Arbres!A693<>\"\",VLOOKUP($A647,Base_Arbres,5,FALSE)*Crit3,\"\")","v":""},{"$f":"IF(Base_Arbres!A693<>\"\",VLOOKUP($A647,Base_Arbres,6,FALSE)*Crit4,\"\")","v":""},{"$f":"IF(Base_Arbres!B647<>\"\",VLOOKUP($A647,Base_Arbres,7,FALSE)*Crit5,\"\")","v":""},{"$f":"IF(Base_Arbres!C647<>\"\",VLOOKUP($A647,Base_Arbres,8,FALSE)*crit8,\"\")","v":""},{"$f":"IF(Base_Arbres!D647<>\"\",VLOOKUP($A647,Base_Arbres,9,FALSE)*crit9,\"\")","v":""},{"$f":"IF(ISNA(VLOOKUP(INDEX(Base_Typologie!$A$6:$P$1003,MATCH(A647,Base_Typologie!$A:$A,0)-5,MATCH(Typologie_Espace_Public,Base_Typologie!$6:$6,0)),TableauScoreTypologie2,2,FALSE)*Crit6),0,VLOOKUP(INDEX(Base_Typologie!$A$6:$P$1003,MATCH(A647,Base_Typologie!$A:$A,0)-5,MATCH(Typologie_Espace_Public,Base_Typologie!$6:$6,0)),TableauScoreTypologie2,2,FALSE)*Crit6)","v":0},0,0,0,0,0,0,0,0,0,0,0,0,null,{"$f":"IF(Base_Arbres!A750<>\"\",VLOOKUP($A647,Base_Arbres,4,FALSE)*Crit7,\"\")","v":""}]
[{"$f":"IF(Base_Arbres!A694<>\"\",Base_Arbres!A694,\"\")","v":""},{"$f":"IF(Base_Arbres!A694<>\"\",VLOOKUP($A648,Base_Arbres,3,FALSE)*Crit1,\"\")","v":""},{"$f":"IF(Base_Arbres!A694<>\"\",VLOOKUP($A648,Base_Arbres,4,FALSE)*Crit2,\"\")","v":""},{"$f":"IF(Base_Arbres!A694<>\"\",VLOOKUP($A648,Base_Arbres,5,FALSE)*Crit3,\"\")","v":""},{"$f":"IF(Base_Arbres!A694<>\"\",VLOOKUP($A648,Base_Arbres,6,FALSE)*Crit4,\"\")","v":""},{"$f":"IF(Base_Arbres!B648<>\"\",VLOOKUP($A648,Base_Arbres,7,FALSE)*Crit5,\"\")","v":""},{"$f":"IF(Base_Arbres!C648<>\"\",VLOOKUP($A648,Base_Arbres,8,FALSE)*crit8,\"\")","v":""},{"$f":"IF(Base_Arbres!D648<>\"\",VLOOKUP($A648,Base_Arbres,9,FALSE)*crit9,\"\")","v":""},{"$f":"IF(ISNA(VLOOKUP(INDEX(Base_Typologie!$A$6:$P$1003,MATCH(A648,Base_Typologie!$A:$A,0)-5,MATCH(Typologie_Espace_Public,Base_Typologie!$6:$6,0)),TableauScoreTypologie2,2,FALSE)*Crit6),0,VLOOKUP(INDEX(Base_Typologie!$A$6:$P$1003,MATCH(A648,Base_Typologie!$A:$A,0)-5,MATCH(Typologie_Espace_Public,Base_Typologie!$6:$6,0)),TableauScoreTypologie2,2,FALSE)*Crit6)","v":0},0,0,0,0,0,0,0,0,0,0,0,0,null,{"$f":"IF(Base_Arbres!A751<>\"\",VLOOKUP($A648,Base_Arbres,4,FALSE)*Crit7,\"\")","v":""}]
[{"$f":"IF(Base_Arbres!A695<>\"\",Base_Arbres!A695,\"\")","v":""},{"$f":"IF(Base_Arbres!A695<>\"\",VLOOKUP($A649,Base_Arbres,3,FALSE)*Crit1,\"\")","v":""},{"$f":"IF(Base_Arbres!A695<>\"\",VLOOKUP($A649,Base_Arbres,4,FALSE)*Crit2,\"\")","v":""},{"$f":"IF(Base_Arbres!A695<>\"\",VLOOKUP($A649,Base_Arbres,5,FALSE)*Crit3,\"\")","v":""},{"$f":"IF(Base_Arbres!A695<>\"\",VLOOKUP($A649,Base_Arbres,6,FALSE)*Crit4,\"\")","v":""},{"$f":"IF(Base_Arbres!B649<>\"\",VLOOKUP($A649,Base_Arbres,7,FALSE)*Crit5,\"\")","v":""},{"$f":"IF(Base_Arbres!C649<>\"\",VLOOKUP($A649,Base_Arbres,8,FALSE)*crit8,\"\")","v":""},{"$f":"IF(Base_Arbres!D649<>\"\",VLOOKUP($A649,Base_Arbres,9,FALSE)*crit9,\"\")","v":""},{"$f":"IF(ISNA(VLOOKUP(INDEX(Base_Typologie!$A$6:$P$1003,MATCH(A649,Base_Typologie!$A:$A,0)-5,MATCH(Typologie_Espace_Public,Base_Typologie!$6:$6,0)),TableauScoreTypologie2,2,FALSE)*Crit6),0,VLOOKUP(INDEX(Base_Typologie!$A$6:$P$1003,MATCH(A649,Base_Typologie!$A:$A,0)-5,MATCH(Typologie_Espace_Public,Base_Typologie!$6:$6,0)),TableauScoreTypologie2,2,FALSE)*Crit6)","v":0},0,0,0,0,0,0,0,0,0,0,0,0,null,{"$f":"IF(Base_Arbres!A752<>\"\",VLOOKUP($A649,Base_Arbres,4,FALSE)*Crit7,\"\")","v":""}]
[{"$f":"IF(Base_Arbres!A696<>\"\",Base_Arbres!A696,\"\")","v":""},{"$f":"IF(Base_Arbres!A696<>\"\",VLOOKUP($A650,Base_Arbres,3,FALSE)*Crit1,\"\")","v":""},{"$f":"IF(Base_Arbres!A696<>\"\",VLOOKUP($A650,Base_Arbres,4,FALSE)*Crit2,\"\")","v":""},{"$f":"IF(Base_Arbres!A696<>\"\",VLOOKUP($A650,Base_Arbres,5,FALSE)*Crit3,\"\")","v":""},{"$f":"IF(Base_Arbres!A696<>\"\",VLOOKUP($A650,Base_Arbres,6,FALSE)*Crit4,\"\")","v":""},{"$f":"IF(Base_Arbres!B650<>\"\",VLOOKUP($A650,Base_Arbres,7,FALSE)*Crit5,\"\")","v":""},{"$f":"IF(Base_Arbres!C650<>\"\",VLOOKUP($A650,Base_Arbres,8,FALSE)*crit8,\"\")","v":""},{"$f":"IF(Base_Arbres!D650<>\"\",VLOOKUP($A650,Base_Arbres,9,FALSE)*crit9,\"\")","v":""},{"$f":"IF(ISNA(VLOOKUP(INDEX(Base_Typologie!$A$6:$P$1003,MATCH(A650,Base_Typologie!$A:$A,0)-5,MATCH(Typologie_Espace_Public,Base_Typologie!$6:$6,0)),TableauScoreTypologie2,2,FALSE)*Crit6),0,VLOOKUP(INDEX(Base_Typologie!$A$6:$P$1003,MATCH(A650,Base_Typologie!$A:$A,0)-5,MATCH(Typologie_Espace_Public,Base_Typologie!$6:$6,0)),TableauScoreTypologie2,2,FALSE)*Crit6)","v":0},0,0,0,0,0,0,0,0,0,0,0,0,null,{"$f":"IF(Base_Arbres!A753<>\"\",VLOOKUP($A650,Base_Arbres,4,FALSE)*Crit7,\"\")","v":""}]
[{"$f":"IF(Base_Arbres!A697<>\"\",Base_Arbres!A697,\"\")","v":""},{"$f":"IF(Base_Arbres!A697<>\"\",VLOOKUP($A651,Base_Arbres,3,FALSE)*Crit1,\"\")","v":""},{"$f":"IF(Base_Arbres!A697<>\"\",VLOOKUP($A651,Base_Arbres,4,FALSE)*Crit2,\"\")","v":""},{"$f":"IF(Base_Arbres!A697<>\"\",VLOOKUP($A651,Base_Arbres,5,FALSE)*Crit3,\"\")","v":""},{"$f":"IF(Base_Arbres!A697<>\"\",VLOOKUP($A651,Base_Arbres,6,FALSE)*Crit4,\"\")","v":""},{"$f":"IF(Base_Arbres!B651<>\"\",VLOOKUP($A651,Base_Arbres,7,FALSE)*Crit5,\"\")","v":""},{"$f":"IF(Base_Arbres!C651<>\"\",VLOOKUP($A651,Base_Arbres,8,FALSE)*crit8,\"\")","v":""},{"$f":"IF(Base_Arbres!D651<>\"\",VLOOKUP($A651,Base_Arbres,9,FALSE)*crit9,\"\")","v":""},{"$f":"IF(ISNA(VLOOKUP(INDEX(Base_Typologie!$A$6:$P$1003,MATCH(A651,Base_Typologie!$A:$A,0)-5,MATCH(Typologie_Espace_Public,Base_Typologie!$6:$6,0)),TableauScoreTypologie2,2,FALSE)*Crit6),0,VLOOKUP(INDEX(Base_Typologie!$A$6:$P$1003,MATCH(A651,Base_Typologie!$A:$A,0)-5,MATCH(Typologie_Espace_Public,Base_Typologie!$6:$6,0)),TableauScoreTypologie2,2,FALSE)*Crit6)","v":0},0,0,0,0,0,0,0,0,0,0,0,0,null,{"$f":"IF(Base_Arbres!A754<>\"\",VLOOKUP($A651,Base_Arbres,4,FALSE)*Crit7,\"\")","v":""}]
[{"$f":"IF(Base_Arbres!A698<>\"\",Base_Arbres!A698,\"\")","v":""},{"$f":"IF(Base_Arbres!A698<>\"\",VLOOKUP($A652,Base_Arbres,3,FALSE)*Crit1,\"\")","v":""},{"$f":"IF(Base_Arbres!A698<>\"\",VLOOKUP($A652,Base_Arbres,4,FALSE)*Crit2,\"\")","v":""},{"$f":"IF(Base_Arbres!A698<>\"\",VLOOKUP($A652,Base_Arbres,5,FALSE)*Crit3,\"\")","v":""},{"$f":"IF(Base_Arbres!A698<>\"\",VLOOKUP($A652,Base_Arbres,6,FALSE)*Crit4,\"\")","v":""},{"$f":"IF(Base_Arbres!B652<>\"\",VLOOKUP($A652,Base_Arbres,7,FALSE)*Crit5,\"\")","v":""},{"$f":"IF(Base_Arbres!C652<>\"\",VLOOKUP($A652,Base_Arbres,8,FALSE)*crit8,\"\")","v":""},{"$f":"IF(Base_Arbres!D652<>\"\",VLOOKUP($A652,Base_Arbres,9,FALSE)*crit9,\"\")","v":""},{"$f":"IF(ISNA(VLOOKUP(INDEX(Base_Typologie!$A$6:$P$1003,MATCH(A652,Base_Typologie!$A:$A,0)-5,MATCH(Typologie_Espace_Public,Base_Typologie!$6:$6,0)),TableauScoreTypologie2,2,FALSE)*Crit6),0,VLOOKUP(INDEX(Base_Typologie!$A$6:$P$1003,MATCH(A652,Base_Typologie!$A:$A,0)-5,MATCH(Typologie_Espace_Public,Base_Typologie!$6:$6,0)),TableauScoreTypologie2,2,FALSE)*Crit6)","v":0},0,0,0,0,0,0,0,0,0,0,0,0,null,{"$f":"IF(Base_Arbres!A755<>\"\",VLOOKUP($A652,Base_Arbres,4,FALSE)*Crit7,\"\")","v":""}]
[{"$f":"IF(Base_Arbres!A699<>\"\",Base_Arbres!A699,\"\")","v":""},{"$f":"IF(Base_Arbres!A699<>\"\",VLOOKUP($A653,Base_Arbres,3,FALSE)*Crit1,\"\")","v":""},{"$f":"IF(Base_Arbres!A699<>\"\",VLOOKUP($A653,Base_Arbres,4,FALSE)*Crit2,\"\")","v":""},{"$f":"IF(Base_Arbres!A699<>\"\",VLOOKUP($A653,Base_Arbres,5,FALSE)*Crit3,\"\")","v":""},{"$f":"IF(Base_Arbres!A699<>\"\",VLOOKUP($A653,Base_Arbres,6,FALSE)*Crit4,\"\")","v":""},{"$f":"IF(Base_Arbres!B653<>\"\",VLOOKUP($A653,Base_Arbres,7,FALSE)*Crit5,\"\")","v":""},{"$f":"IF(Base_Arbres!C653<>\"\",VLOOKUP($A653,Base_Arbres,8,FALSE)*crit8,\"\")","v":""},{"$f":"IF(Base_Arbres!D653<>\"\",VLOOKUP($A653,Base_Arbres,9,FALSE)*crit9,\"\")","v":""},{"$f":"IF(ISNA(VLOOKUP(INDEX(Base_Typologie!$A$6:$P$1003,MATCH(A653,Base_Typologie!$A:$A,0)-5,MATCH(Typologie_Espace_Public,Base_Typologie!$6:$6,0)),TableauScoreTypologie2,2,FALSE)*Crit6),0,VLOOKUP(INDEX(Base_Typologie!$A$6:$P$1003,MATCH(A653,Base_Typologie!$A:$A,0)-5,MATCH(Typologie_Espace_Public,Base_Typologie!$6:$6,0)),TableauScoreTypologie2,2,FALSE)*Crit6)","v":0},0,0,0,0,0,0,0,0,0,0,0,0,null,{"$f":"IF(Base_Arbres!A756<>\"\",VLOOKUP($A653,Base_Arbres,4,FALSE)*Crit7,\"\")","v":""}]
[{"$f":"IF(Base_Arbres!A700<>\"\",Base_Arbres!A700,\"\")","v":""},{"$f":"IF(Base_Arbres!A700<>\"\",VLOOKUP($A654,Base_Arbres,3,FALSE)*Crit1,\"\")","v":""},{"$f":"IF(Base_Arbres!A700<>\"\",VLOOKUP($A654,Base_Arbres,4,FALSE)*Crit2,\"\")","v":""},{"$f":"IF(Base_Arbres!A700<>\"\",VLOOKUP($A654,Base_Arbres,5,FALSE)*Crit3,\"\")","v":""},{"$f":"IF(Base_Arbres!A700<>\"\",VLOOKUP($A654,Base_Arbres,6,FALSE)*Crit4,\"\")","v":""},{"$f":"IF(Base_Arbres!B654<>\"\",VLOOKUP($A654,Base_Arbres,7,FALSE)*Crit5,\"\")","v":""},{"$f":"IF(Base_Arbres!C654<>\"\",VLOOKUP($A654,Base_Arbres,8,FALSE)*crit8,\"\")","v":""},{"$f":"IF(Base_Arbres!D654<>\"\",VLOOKUP($A654,Base_Arbres,9,FALSE)*crit9,\"\")","v":""},{"$f":"IF(ISNA(VLOOKUP(INDEX(Base_Typologie!$A$6:$P$1003,MATCH(A654,Base_Typologie!$A:$A,0)-5,MATCH(Typologie_Espace_Public,Base_Typologie!$6:$6,0)),TableauScoreTypologie2,2,FALSE)*Crit6),0,VLOOKUP(INDEX(Base_Typologie!$A$6:$P$1003,MATCH(A654,Base_Typologie!$A:$A,0)-5,MATCH(Typologie_Espace_Public,Base_Typologie!$6:$6,0)),TableauScoreTypologie2,2,FALSE)*Crit6)","v":0},0,0,0,0,0,0,0,0,0,0,0,0,null,{"$f":"IF(Base_Arbres!A757<>\"\",VLOOKUP($A654,Base_Arbres,4,FALSE)*Crit7,\"\")","v":""}]
[{"$f":"IF(Base_Arbres!A701<>\"\",Base_Arbres!A701,\"\")","v":""},{"$f":"IF(Base_Arbres!A701<>\"\",VLOOKUP($A655,Base_Arbres,3,FALSE)*Crit1,\"\")","v":""},{"$f":"IF(Base_Arbres!A701<>\"\",VLOOKUP($A655,Base_Arbres,4,FALSE)*Crit2,\"\")","v":""},{"$f":"IF(Base_Arbres!A701<>\"\",VLOOKUP($A655,Base_Arbres,5,FALSE)*Crit3,\"\")","v":""},{"$f":"IF(Base_Arbres!A701<>\"\",VLOOKUP($A655,Base_Arbres,6,FALSE)*Crit4,\"\")","v":""},{"$f":"IF(Base_Arbres!B655<>\"\",VLOOKUP($A655,Base_Arbres,7,FALSE)*Crit5,\"\")","v":""},{"$f":"IF(Base_Arbres!C655<>\"\",VLOOKUP($A655,Base_Arbres,8,FALSE)*crit8,\"\")","v":""},{"$f":"IF(Base_Arbres!D655<>\"\",VLOOKUP($A655,Base_Arbres,9,FALSE)*crit9,\"\")","v":""},{"$f":"IF(ISNA(VLOOKUP(INDEX(Base_Typologie!$A$6:$P$1003,MATCH(A655,Base_Typologie!$A:$A,0)-5,MATCH(Typologie_Espace_Public,Base_Typologie!$6:$6,0)),TableauScoreTypologie2,2,FALSE)*Crit6),0,VLOOKUP(INDEX(Base_Typologie!$A$6:$P$1003,MATCH(A655,Base_Typologie!$A:$A,0)-5,MATCH(Typologie_Espace_Public,Base_Typologie!$6:$6,0)),TableauScoreTypologie2,2,FALSE)*Crit6)","v":0},0,0,0,0,0,0,0,0,0,0,0,0,null,{"$f":"IF(Base_Arbres!A758<>\"\",VLOOKUP($A655,Base_Arbres,4,FALSE)*Crit7,\"\")","v":""}]
[{"$f":"IF(Base_Arbres!A702<>\"\",Base_Arbres!A702,\"\")","v":""},{"$f":"IF(Base_Arbres!A702<>\"\",VLOOKUP($A656,Base_Arbres,3,FALSE)*Crit1,\"\")","v":""},{"$f":"IF(Base_Arbres!A702<>\"\",VLOOKUP($A656,Base_Arbres,4,FALSE)*Crit2,\"\")","v":""},{"$f":"IF(Base_Arbres!A702<>\"\",VLOOKUP($A656,Base_Arbres,5,FALSE)*Crit3,\"\")","v":""},{"$f":"IF(Base_Arbres!A702<>\"\",VLOOKUP($A656,Base_Arbres,6,FALSE)*Crit4,\"\")","v":""},{"$f":"IF(Base_Arbres!B656<>\"\",VLOOKUP($A656,Base_Arbres,7,FALSE)*Crit5,\"\")","v":""},{"$f":"IF(Base_Arbres!C656<>\"\",VLOOKUP($A656,Base_Arbres,8,FALSE)*crit8,\"\")","v":""},{"$f":"IF(Base_Arbres!D656<>\"\",VLOOKUP($A656,Base_Arbres,9,FALSE)*crit9,\"\")","v":""},{"$f":"IF(ISNA(VLOOKUP(INDEX(Base_Typologie!$A$6:$P$1003,MATCH(A656,Base_Typologie!$A:$A,0)-5,MATCH(Typologie_Espace_Public,Base_Typologie!$6:$6,0)),TableauScoreTypologie2,2,FALSE)*Crit6),0,VLOOKUP(INDEX(Base_Typologie!$A$6:$P$1003,MATCH(A656,Base_Typologie!$A:$A,0)-5,MATCH(Typologie_Espace_Public,Base_Typologie!$6:$6,0)),TableauScoreTypologie2,2,FALSE)*Crit6)","v":0},0,0,0,0,0,0,0,0,0,0,0,0,null,{"$f":"IF(Base_Arbres!A759<>\"\",VLOOKUP($A656,Base_Arbres,4,FALSE)*Crit7,\"\")","v":""}]
[{"$f":"IF(Base_Arbres!A703<>\"\",Base_Arbres!A703,\"\")","v":""},{"$f":"IF(Base_Arbres!A703<>\"\",VLOOKUP($A657,Base_Arbres,3,FALSE)*Crit1,\"\")","v":""},{"$f":"IF(Base_Arbres!A703<>\"\",VLOOKUP($A657,Base_Arbres,4,FALSE)*Crit2,\"\")","v":""},{"$f":"IF(Base_Arbres!A703<>\"\",VLOOKUP($A657,Base_Arbres,5,FALSE)*Crit3,\"\")","v":""},{"$f":"IF(Base_Arbres!A703<>\"\",VLOOKUP($A657,Base_Arbres,6,FALSE)*Crit4,\"\")","v":""},{"$f":"IF(Base_Arbres!B657<>\"\",VLOOKUP($A657,Base_Arbres,7,FALSE)*Crit5,\"\")","v":""},{"$f":"IF(Base_Arbres!C657<>\"\",VLOOKUP($A657,Base_Arbres,8,FALSE)*crit8,\"\")","v":""},{"$f":"IF(Base_Arbres!D657<>\"\",VLOOKUP($A657,Base_Arbres,9,FALSE)*crit9,\"\")","v":""},{"$f":"IF(ISNA(VLOOKUP(INDEX(Base_Typologie!$A$6:$P$1003,MATCH(A657,Base_Typologie!$A:$A,0)-5,MATCH(Typologie_Espace_Public,Base_Typologie!$6:$6,0)),TableauScoreTypologie2,2,FALSE)*Crit6),0,VLOOKUP(INDEX(Base_Typologie!$A$6:$P$1003,MATCH(A657,Base_Typologie!$A:$A,0)-5,MATCH(Typologie_Espace_Public,Base_Typologie!$6:$6,0)),TableauScoreTypologie2,2,FALSE)*Crit6)","v":0},0,0,0,0,0,0,0,0,0,0,0,0,null,{"$f":"IF(Base_Arbres!A760<>\"\",VLOOKUP($A657,Base_Arbres,4,FALSE)*Crit7,\"\")","v":""}]
[{"$f":"IF(Base_Arbres!A704<>\"\",Base_Arbres!A704,\"\")","v":""},{"$f":"IF(Base_Arbres!A704<>\"\",VLOOKUP($A658,Base_Arbres,3,FALSE)*Crit1,\"\")","v":""},{"$f":"IF(Base_Arbres!A704<>\"\",VLOOKUP($A658,Base_Arbres,4,FALSE)*Crit2,\"\")","v":""},{"$f":"IF(Base_Arbres!A704<>\"\",VLOOKUP($A658,Base_Arbres,5,FALSE)*Crit3,\"\")","v":""},{"$f":"IF(Base_Arbres!A704<>\"\",VLOOKUP($A658,Base_Arbres,6,FALSE)*Crit4,\"\")","v":""},{"$f":"IF(Base_Arbres!B658<>\"\",VLOOKUP($A658,Base_Arbres,7,FALSE)*Crit5,\"\")","v":""},{"$f":"IF(Base_Arbres!C658<>\"\",VLOOKUP($A658,Base_Arbres,8,FALSE)*crit8,\"\")","v":""},{"$f":"IF(Base_Arbres!D658<>\"\",VLOOKUP($A658,Base_Arbres,9,FALSE)*crit9,\"\")","v":""},{"$f":"IF(ISNA(VLOOKUP(INDEX(Base_Typologie!$A$6:$P$1003,MATCH(A658,Base_Typologie!$A:$A,0)-5,MATCH(Typologie_Espace_Public,Base_Typologie!$6:$6,0)),TableauScoreTypologie2,2,FALSE)*Crit6),0,VLOOKUP(INDEX(Base_Typologie!$A$6:$P$1003,MATCH(A658,Base_Typologie!$A:$A,0)-5,MATCH(Typologie_Espace_Public,Base_Typologie!$6:$6,0)),TableauScoreTypologie2,2,FALSE)*Crit6)","v":0},0,0,0,0,0,0,0,0,0,0,0,0,null,{"$f":"IF(Base_Arbres!A761<>\"\",VLOOKUP($A658,Base_Arbres,4,FALSE)*Crit7,\"\")","v":""}]
[{"$f":"IF(Base_Arbres!A705<>\"\",Base_Arbres!A705,\"\")","v":""},{"$f":"IF(Base_Arbres!A705<>\"\",VLOOKUP($A659,Base_Arbres,3,FALSE)*Crit1,\"\")","v":""},{"$f":"IF(Base_Arbres!A705<>\"\",VLOOKUP($A659,Base_Arbres,4,FALSE)*Crit2,\"\")","v":""},{"$f":"IF(Base_Arbres!A705<>\"\",VLOOKUP($A659,Base_Arbres,5,FALSE)*Crit3,\"\")","v":""},{"$f":"IF(Base_Arbres!A705<>\"\",VLOOKUP($A659,Base_Arbres,6,FALSE)*Crit4,\"\")","v":""},{"$f":"IF(Base_Arbres!B659<>\"\",VLOOKUP($A659,Base_Arbres,7,FALSE)*Crit5,\"\")","v":""},{"$f":"IF(Base_Arbres!C659<>\"\",VLOOKUP($A659,Base_Arbres,8,FALSE)*crit8,\"\")","v":""},{"$f":"IF(Base_Arbres!D659<>\"\",VLOOKUP($A659,Base_Arbres,9,FALSE)*crit9,\"\")","v":""},{"$f":"IF(ISNA(VLOOKUP(INDEX(Base_Typologie!$A$6:$P$1003,MATCH(A659,Base_Typologie!$A:$A,0)-5,MATCH(Typologie_Espace_Public,Base_Typologie!$6:$6,0)),TableauScoreTypologie2,2,FALSE)*Crit6),0,VLOOKUP(INDEX(Base_Typologie!$A$6:$P$1003,MATCH(A659,Base_Typologie!$A:$A,0)-5,MATCH(Typologie_Espace_Public,Base_Typologie!$6:$6,0)),TableauScoreTypologie2,2,FALSE)*Crit6)","v":0},0,0,0,0,0,0,0,0,0,0,0,0,null,{"$f":"IF(Base_Arbres!A762<>\"\",VLOOKUP($A659,Base_Arbres,4,FALSE)*Crit7,\"\")","v":""}]
[{"$f":"IF(Base_Arbres!A706<>\"\",Base_Arbres!A706,\"\")","v":""},{"$f":"IF(Base_Arbres!A706<>\"\",VLOOKUP($A660,Base_Arbres,3,FALSE)*Crit1,\"\")","v":""},{"$f":"IF(Base_Arbres!A706<>\"\",VLOOKUP($A660,Base_Arbres,4,FALSE)*Crit2,\"\")","v":""},{"$f":"IF(Base_Arbres!A706<>\"\",VLOOKUP($A660,Base_Arbres,5,FALSE)*Crit3,\"\")","v":""},{"$f":"IF(Base_Arbres!A706<>\"\",VLOOKUP($A660,Base_Arbres,6,FALSE)*Crit4,\"\")","v":""},{"$f":"IF(Base_Arbres!B660<>\"\",VLOOKUP($A660,Base_Arbres,7,FALSE)*Crit5,\"\")","v":""},{"$f":"IF(Base_Arbres!C660<>\"\",VLOOKUP($A660,Base_Arbres,8,FALSE)*crit8,\"\")","v":""},{"$f":"IF(Base_Arbres!D660<>\"\",VLOOKUP($A660,Base_Arbres,9,FALSE)*crit9,\"\")","v":""},{"$f":"IF(ISNA(VLOOKUP(INDEX(Base_Typologie!$A$6:$P$1003,MATCH(A660,Base_Typologie!$A:$A,0)-5,MATCH(Typologie_Espace_Public,Base_Typologie!$6:$6,0)),TableauScoreTypologie2,2,FALSE)*Crit6),0,VLOOKUP(INDEX(Base_Typologie!$A$6:$P$1003,MATCH(A660,Base_Typologie!$A:$A,0)-5,MATCH(Typologie_Espace_Public,Base_Typologie!$6:$6,0)),TableauScoreTypologie2,2,FALSE)*Crit6)","v":0},0,0,0,0,0,0,0,0,0,0,0,0,null,{"$f":"IF(Base_Arbres!A763<>\"\",VLOOKUP($A660,Base_Arbres,4,FALSE)*Crit7,\"\")","v":""}]
[{"$f":"IF(Base_Arbres!A707<>\"\",Base_Arbres!A707,\"\")","v":""},{"$f":"IF(Base_Arbres!A707<>\"\",VLOOKUP($A661,Base_Arbres,3,FALSE)*Crit1,\"\")","v":""},{"$f":"IF(Base_Arbres!A707<>\"\",VLOOKUP($A661,Base_Arbres,4,FALSE)*Crit2,\"\")","v":""},{"$f":"IF(Base_Arbres!A707<>\"\",VLOOKUP($A661,Base_Arbres,5,FALSE)*Crit3,\"\")","v":""},{"$f":"IF(Base_Arbres!A707<>\"\",VLOOKUP($A661,Base_Arbres,6,FALSE)*Crit4,\"\")","v":""},{"$f":"IF(Base_Arbres!B661<>\"\",VLOOKUP($A661,Base_Arbres,7,FALSE)*Crit5,\"\")","v":""},{"$f":"IF(Base_Arbres!C661<>\"\",VLOOKUP($A661,Base_Arbres,8,FALSE)*crit8,\"\")","v":""},{"$f":"IF(Base_Arbres!D661<>\"\",VLOOKUP($A661,Base_Arbres,9,FALSE)*crit9,\"\")","v":""},{"$f":"IF(ISNA(VLOOKUP(INDEX(Base_Typologie!$A$6:$P$1003,MATCH(A661,Base_Typologie!$A:$A,0)-5,MATCH(Typologie_Espace_Public,Base_Typologie!$6:$6,0)),TableauScoreTypologie2,2,FALSE)*Crit6),0,VLOOKUP(INDEX(Base_Typologie!$A$6:$P$1003,MATCH(A661,Base_Typologie!$A:$A,0)-5,MATCH(Typologie_Espace_Public,Base_Typologie!$6:$6,0)),TableauScoreTypologie2,2,FALSE)*Crit6)","v":0},0,0,0,0,0,0,0,0,0,0,0,0,null,{"$f":"IF(Base_Arbres!A764<>\"\",VLOOKUP($A661,Base_Arbres,4,FALSE)*Crit7,\"\")","v":""}]
[{"$f":"IF(Base_Arbres!A708<>\"\",Base_Arbres!A708,\"\")","v":""},{"$f":"IF(Base_Arbres!A708<>\"\",VLOOKUP($A662,Base_Arbres,3,FALSE)*Crit1,\"\")","v":""},{"$f":"IF(Base_Arbres!A708<>\"\",VLOOKUP($A662,Base_Arbres,4,FALSE)*Crit2,\"\")","v":""},{"$f":"IF(Base_Arbres!A708<>\"\",VLOOKUP($A662,Base_Arbres,5,FALSE)*Crit3,\"\")","v":""},{"$f":"IF(Base_Arbres!A708<>\"\",VLOOKUP($A662,Base_Arbres,6,FALSE)*Crit4,\"\")","v":""},{"$f":"IF(Base_Arbres!B662<>\"\",VLOOKUP($A662,Base_Arbres,7,FALSE)*Crit5,\"\")","v":""},{"$f":"IF(Base_Arbres!C662<>\"\",VLOOKUP($A662,Base_Arbres,8,FALSE)*crit8,\"\")","v":""},{"$f":"IF(Base_Arbres!D662<>\"\",VLOOKUP($A662,Base_Arbres,9,FALSE)*crit9,\"\")","v":""},{"$f":"IF(ISNA(VLOOKUP(INDEX(Base_Typologie!$A$6:$P$1003,MATCH(A662,Base_Typologie!$A:$A,0)-5,MATCH(Typologie_Espace_Public,Base_Typologie!$6:$6,0)),TableauScoreTypologie2,2,FALSE)*Crit6),0,VLOOKUP(INDEX(Base_Typologie!$A$6:$P$1003,MATCH(A662,Base_Typologie!$A:$A,0)-5,MATCH(Typologie_Espace_Public,Base_Typologie!$6:$6,0)),TableauScoreTypologie2,2,FALSE)*Crit6)","v":0},0,0,0,0,0,0,0,0,0,0,0,0,null,{"$f":"IF(Base_Arbres!A765<>\"\",VLOOKUP($A662,Base_Arbres,4,FALSE)*Crit7,\"\")","v":""}]
[{"$f":"IF(Base_Arbres!A709<>\"\",Base_Arbres!A709,\"\")","v":""},{"$f":"IF(Base_Arbres!A709<>\"\",VLOOKUP($A663,Base_Arbres,3,FALSE)*Crit1,\"\")","v":""},{"$f":"IF(Base_Arbres!A709<>\"\",VLOOKUP($A663,Base_Arbres,4,FALSE)*Crit2,\"\")","v":""},{"$f":"IF(Base_Arbres!A709<>\"\",VLOOKUP($A663,Base_Arbres,5,FALSE)*Crit3,\"\")","v":""},{"$f":"IF(Base_Arbres!A709<>\"\",VLOOKUP($A663,Base_Arbres,6,FALSE)*Crit4,\"\")","v":""},{"$f":"IF(Base_Arbres!B663<>\"\",VLOOKUP($A663,Base_Arbres,7,FALSE)*Crit5,\"\")","v":""},{"$f":"IF(Base_Arbres!C663<>\"\",VLOOKUP($A663,Base_Arbres,8,FALSE)*crit8,\"\")","v":""},{"$f":"IF(Base_Arbres!D663<>\"\",VLOOKUP($A663,Base_Arbres,9,FALSE)*crit9,\"\")","v":""},{"$f":"IF(ISNA(VLOOKUP(INDEX(Base_Typologie!$A$6:$P$1003,MATCH(A663,Base_Typologie!$A:$A,0)-5,MATCH(Typologie_Espace_Public,Base_Typologie!$6:$6,0)),TableauScoreTypologie2,2,FALSE)*Crit6),0,VLOOKUP(INDEX(Base_Typologie!$A$6:$P$1003,MATCH(A663,Base_Typologie!$A:$A,0)-5,MATCH(Typologie_Espace_Public,Base_Typologie!$6:$6,0)),TableauScoreTypologie2,2,FALSE)*Crit6)","v":0},0,0,0,0,0,0,0,0,0,0,0,0,null,{"$f":"IF(Base_Arbres!A766<>\"\",VLOOKUP($A663,Base_Arbres,4,FALSE)*Crit7,\"\")","v":""}]
[{"$f":"IF(Base_Arbres!A710<>\"\",Base_Arbres!A710,\"\")","v":""},{"$f":"IF(Base_Arbres!A710<>\"\",VLOOKUP($A664,Base_Arbres,3,FALSE)*Crit1,\"\")","v":""},{"$f":"IF(Base_Arbres!A710<>\"\",VLOOKUP($A664,Base_Arbres,4,FALSE)*Crit2,\"\")","v":""},{"$f":"IF(Base_Arbres!A710<>\"\",VLOOKUP($A664,Base_Arbres,5,FALSE)*Crit3,\"\")","v":""},{"$f":"IF(Base_Arbres!A710<>\"\",VLOOKUP($A664,Base_Arbres,6,FALSE)*Crit4,\"\")","v":""},{"$f":"IF(Base_Arbres!B664<>\"\",VLOOKUP($A664,Base_Arbres,7,FALSE)*Crit5,\"\")","v":""},{"$f":"IF(Base_Arbres!C664<>\"\",VLOOKUP($A664,Base_Arbres,8,FALSE)*crit8,\"\")","v":""},{"$f":"IF(Base_Arbres!D664<>\"\",VLOOKUP($A664,Base_Arbres,9,FALSE)*crit9,\"\")","v":""},{"$f":"IF(ISNA(VLOOKUP(INDEX(Base_Typologie!$A$6:$P$1003,MATCH(A664,Base_Typologie!$A:$A,0)-5,MATCH(Typologie_Espace_Public,Base_Typologie!$6:$6,0)),TableauScoreTypologie2,2,FALSE)*Crit6),0,VLOOKUP(INDEX(Base_Typologie!$A$6:$P$1003,MATCH(A664,Base_Typologie!$A:$A,0)-5,MATCH(Typologie_Espace_Public,Base_Typologie!$6:$6,0)),TableauScoreTypologie2,2,FALSE)*Crit6)","v":0},0,0,0,0,0,0,0,0,0,0,0,0,null,{"$f":"IF(Base_Arbres!A767<>\"\",VLOOKUP($A664,Base_Arbres,4,FALSE)*Crit7,\"\")","v":""}]
[{"$f":"IF(Base_Arbres!A711<>\"\",Base_Arbres!A711,\"\")","v":""},{"$f":"IF(Base_Arbres!A711<>\"\",VLOOKUP($A665,Base_Arbres,3,FALSE)*Crit1,\"\")","v":""},{"$f":"IF(Base_Arbres!A711<>\"\",VLOOKUP($A665,Base_Arbres,4,FALSE)*Crit2,\"\")","v":""},{"$f":"IF(Base_Arbres!A711<>\"\",VLOOKUP($A665,Base_Arbres,5,FALSE)*Crit3,\"\")","v":""},{"$f":"IF(Base_Arbres!A711<>\"\",VLOOKUP($A665,Base_Arbres,6,FALSE)*Crit4,\"\")","v":""},{"$f":"IF(Base_Arbres!B665<>\"\",VLOOKUP($A665,Base_Arbres,7,FALSE)*Crit5,\"\")","v":""},{"$f":"IF(Base_Arbres!C665<>\"\",VLOOKUP($A665,Base_Arbres,8,FALSE)*crit8,\"\")","v":""},{"$f":"IF(Base_Arbres!D665<>\"\",VLOOKUP($A665,Base_Arbres,9,FALSE)*crit9,\"\")","v":""},{"$f":"IF(ISNA(VLOOKUP(INDEX(Base_Typologie!$A$6:$P$1003,MATCH(A665,Base_Typologie!$A:$A,0)-5,MATCH(Typologie_Espace_Public,Base_Typologie!$6:$6,0)),TableauScoreTypologie2,2,FALSE)*Crit6),0,VLOOKUP(INDEX(Base_Typologie!$A$6:$P$1003,MATCH(A665,Base_Typologie!$A:$A,0)-5,MATCH(Typologie_Espace_Public,Base_Typologie!$6:$6,0)),TableauScoreTypologie2,2,FALSE)*Crit6)","v":0},0,0,0,0,0,0,0,0,0,0,0,0,null,{"$f":"IF(Base_Arbres!A768<>\"\",VLOOKUP($A665,Base_Arbres,4,FALSE)*Crit7,\"\")","v":""}]
[{"$f":"IF(Base_Arbres!A712<>\"\",Base_Arbres!A712,\"\")","v":""},{"$f":"IF(Base_Arbres!A712<>\"\",VLOOKUP($A666,Base_Arbres,3,FALSE)*Crit1,\"\")","v":""},{"$f":"IF(Base_Arbres!A712<>\"\",VLOOKUP($A666,Base_Arbres,4,FALSE)*Crit2,\"\")","v":""},{"$f":"IF(Base_Arbres!A712<>\"\",VLOOKUP($A666,Base_Arbres,5,FALSE)*Crit3,\"\")","v":""},{"$f":"IF(Base_Arbres!A712<>\"\",VLOOKUP($A666,Base_Arbres,6,FALSE)*Crit4,\"\")","v":""},{"$f":"IF(Base_Arbres!B666<>\"\",VLOOKUP($A666,Base_Arbres,7,FALSE)*Crit5,\"\")","v":""},{"$f":"IF(Base_Arbres!C666<>\"\",VLOOKUP($A666,Base_Arbres,8,FALSE)*crit8,\"\")","v":""},{"$f":"IF(Base_Arbres!D666<>\"\",VLOOKUP($A666,Base_Arbres,9,FALSE)*crit9,\"\")","v":""},{"$f":"IF(ISNA(VLOOKUP(INDEX(Base_Typologie!$A$6:$P$1003,MATCH(A666,Base_Typologie!$A:$A,0)-5,MATCH(Typologie_Espace_Public,Base_Typologie!$6:$6,0)),TableauScoreTypologie2,2,FALSE)*Crit6),0,VLOOKUP(INDEX(Base_Typologie!$A$6:$P$1003,MATCH(A666,Base_Typologie!$A:$A,0)-5,MATCH(Typologie_Espace_Public,Base_Typologie!$6:$6,0)),TableauScoreTypologie2,2,FALSE)*Crit6)","v":0},0,0,0,0,0,0,0,0,0,0,0,0,null,{"$f":"IF(Base_Arbres!A769<>\"\",VLOOKUP($A666,Base_Arbres,4,FALSE)*Crit7,\"\")","v":""}]
[{"$f":"IF(Base_Arbres!A713<>\"\",Base_Arbres!A713,\"\")","v":""},{"$f":"IF(Base_Arbres!A713<>\"\",VLOOKUP($A667,Base_Arbres,3,FALSE)*Crit1,\"\")","v":""},{"$f":"IF(Base_Arbres!A713<>\"\",VLOOKUP($A667,Base_Arbres,4,FALSE)*Crit2,\"\")","v":""},{"$f":"IF(Base_Arbres!A713<>\"\",VLOOKUP($A667,Base_Arbres,5,FALSE)*Crit3,\"\")","v":""},{"$f":"IF(Base_Arbres!A713<>\"\",VLOOKUP($A667,Base_Arbres,6,FALSE)*Crit4,\"\")","v":""},{"$f":"IF(Base_Arbres!B667<>\"\",VLOOKUP($A667,Base_Arbres,7,FALSE)*Crit5,\"\")","v":""},{"$f":"IF(Base_Arbres!C667<>\"\",VLOOKUP($A667,Base_Arbres,8,FALSE)*crit8,\"\")","v":""},{"$f":"IF(Base_Arbres!D667<>\"\",VLOOKUP($A667,Base_Arbres,9,FALSE)*crit9,\"\")","v":""},{"$f":"IF(ISNA(VLOOKUP(INDEX(Base_Typologie!$A$6:$P$1003,MATCH(A667,Base_Typologie!$A:$A,0)-5,MATCH(Typologie_Espace_Public,Base_Typologie!$6:$6,0)),TableauScoreTypologie2,2,FALSE)*Crit6),0,VLOOKUP(INDEX(Base_Typologie!$A$6:$P$1003,MATCH(A667,Base_Typologie!$A:$A,0)-5,MATCH(Typologie_Espace_Public,Base_Typologie!$6:$6,0)),TableauScoreTypologie2,2,FALSE)*Crit6)","v":0},0,0,0,0,0,0,0,0,0,0,0,0,null,{"$f":"IF(Base_Arbres!A770<>\"\",VLOOKUP($A667,Base_Arbres,4,FALSE)*Crit7,\"\")","v":""}]
[{"$f":"IF(Base_Arbres!A714<>\"\",Base_Arbres!A714,\"\")","v":""},{"$f":"IF(Base_Arbres!A714<>\"\",VLOOKUP($A668,Base_Arbres,3,FALSE)*Crit1,\"\")","v":""},{"$f":"IF(Base_Arbres!A714<>\"\",VLOOKUP($A668,Base_Arbres,4,FALSE)*Crit2,\"\")","v":""},{"$f":"IF(Base_Arbres!A714<>\"\",VLOOKUP($A668,Base_Arbres,5,FALSE)*Crit3,\"\")","v":""},{"$f":"IF(Base_Arbres!A714<>\"\",VLOOKUP($A668,Base_Arbres,6,FALSE)*Crit4,\"\")","v":""},{"$f":"IF(Base_Arbres!B668<>\"\",VLOOKUP($A668,Base_Arbres,7,FALSE)*Crit5,\"\")","v":""},{"$f":"IF(Base_Arbres!C668<>\"\",VLOOKUP($A668,Base_Arbres,8,FALSE)*crit8,\"\")","v":""},{"$f":"IF(Base_Arbres!D668<>\"\",VLOOKUP($A668,Base_Arbres,9,FALSE)*crit9,\"\")","v":""},{"$f":"IF(ISNA(VLOOKUP(INDEX(Base_Typologie!$A$6:$P$1003,MATCH(A668,Base_Typologie!$A:$A,0)-5,MATCH(Typologie_Espace_Public,Base_Typologie!$6:$6,0)),TableauScoreTypologie2,2,FALSE)*Crit6),0,VLOOKUP(INDEX(Base_Typologie!$A$6:$P$1003,MATCH(A668,Base_Typologie!$A:$A,0)-5,MATCH(Typologie_Espace_Public,Base_Typologie!$6:$6,0)),TableauScoreTypologie2,2,FALSE)*Crit6)","v":0},0,0,0,0,0,0,0,0,0,0,0,0,null,{"$f":"IF(Base_Arbres!A771<>\"\",VLOOKUP($A668,Base_Arbres,4,FALSE)*Crit7,\"\")","v":""}]
[{"$f":"IF(Base_Arbres!A715<>\"\",Base_Arbres!A715,\"\")","v":""},{"$f":"IF(Base_Arbres!A715<>\"\",VLOOKUP($A669,Base_Arbres,3,FALSE)*Crit1,\"\")","v":""},{"$f":"IF(Base_Arbres!A715<>\"\",VLOOKUP($A669,Base_Arbres,4,FALSE)*Crit2,\"\")","v":""},{"$f":"IF(Base_Arbres!A715<>\"\",VLOOKUP($A669,Base_Arbres,5,FALSE)*Crit3,\"\")","v":""},{"$f":"IF(Base_Arbres!A715<>\"\",VLOOKUP($A669,Base_Arbres,6,FALSE)*Crit4,\"\")","v":""},{"$f":"IF(Base_Arbres!B669<>\"\",VLOOKUP($A669,Base_Arbres,7,FALSE)*Crit5,\"\")","v":""},{"$f":"IF(Base_Arbres!C669<>\"\",VLOOKUP($A669,Base_Arbres,8,FALSE)*crit8,\"\")","v":""},{"$f":"IF(Base_Arbres!D669<>\"\",VLOOKUP($A669,Base_Arbres,9,FALSE)*crit9,\"\")","v":""},{"$f":"IF(ISNA(VLOOKUP(INDEX(Base_Typologie!$A$6:$P$1003,MATCH(A669,Base_Typologie!$A:$A,0)-5,MATCH(Typologie_Espace_Public,Base_Typologie!$6:$6,0)),TableauScoreTypologie2,2,FALSE)*Crit6),0,VLOOKUP(INDEX(Base_Typologie!$A$6:$P$1003,MATCH(A669,Base_Typologie!$A:$A,0)-5,MATCH(Typologie_Espace_Public,Base_Typologie!$6:$6,0)),TableauScoreTypologie2,2,FALSE)*Crit6)","v":0},0,0,0,0,0,0,0,0,0,0,0,0,null,{"$f":"IF(Base_Arbres!A772<>\"\",VLOOKUP($A669,Base_Arbres,4,FALSE)*Crit7,\"\")","v":""}]
[{"$f":"IF(Base_Arbres!A716<>\"\",Base_Arbres!A716,\"\")","v":""},{"$f":"IF(Base_Arbres!A716<>\"\",VLOOKUP($A670,Base_Arbres,3,FALSE)*Crit1,\"\")","v":""},{"$f":"IF(Base_Arbres!A716<>\"\",VLOOKUP($A670,Base_Arbres,4,FALSE)*Crit2,\"\")","v":""},{"$f":"IF(Base_Arbres!A716<>\"\",VLOOKUP($A670,Base_Arbres,5,FALSE)*Crit3,\"\")","v":""},{"$f":"IF(Base_Arbres!A716<>\"\",VLOOKUP($A670,Base_Arbres,6,FALSE)*Crit4,\"\")","v":""},{"$f":"IF(Base_Arbres!B670<>\"\",VLOOKUP($A670,Base_Arbres,7,FALSE)*Crit5,\"\")","v":""},{"$f":"IF(Base_Arbres!C670<>\"\",VLOOKUP($A670,Base_Arbres,8,FALSE)*crit8,\"\")","v":""},{"$f":"IF(Base_Arbres!D670<>\"\",VLOOKUP($A670,Base_Arbres,9,FALSE)*crit9,\"\")","v":""},{"$f":"IF(ISNA(VLOOKUP(INDEX(Base_Typologie!$A$6:$P$1003,MATCH(A670,Base_Typologie!$A:$A,0)-5,MATCH(Typologie_Espace_Public,Base_Typologie!$6:$6,0)),TableauScoreTypologie2,2,FALSE)*Crit6),0,VLOOKUP(INDEX(Base_Typologie!$A$6:$P$1003,MATCH(A670,Base_Typologie!$A:$A,0)-5,MATCH(Typologie_Espace_Public,Base_Typologie!$6:$6,0)),TableauScoreTypologie2,2,FALSE)*Crit6)","v":0},0,0,0,0,0,0,0,0,0,0,0,0,null,{"$f":"IF(Base_Arbres!A773<>\"\",VLOOKUP($A670,Base_Arbres,4,FALSE)*Crit7,\"\")","v":""}]
[{"$f":"IF(Base_Arbres!A717<>\"\",Base_Arbres!A717,\"\")","v":""},{"$f":"IF(Base_Arbres!A717<>\"\",VLOOKUP($A671,Base_Arbres,3,FALSE)*Crit1,\"\")","v":""},{"$f":"IF(Base_Arbres!A717<>\"\",VLOOKUP($A671,Base_Arbres,4,FALSE)*Crit2,\"\")","v":""},{"$f":"IF(Base_Arbres!A717<>\"\",VLOOKUP($A671,Base_Arbres,5,FALSE)*Crit3,\"\")","v":""},{"$f":"IF(Base_Arbres!A717<>\"\",VLOOKUP($A671,Base_Arbres,6,FALSE)*Crit4,\"\")","v":""},{"$f":"IF(Base_Arbres!B671<>\"\",VLOOKUP($A671,Base_Arbres,7,FALSE)*Crit5,\"\")","v":""},{"$f":"IF(Base_Arbres!C671<>\"\",VLOOKUP($A671,Base_Arbres,8,FALSE)*crit8,\"\")","v":""},{"$f":"IF(Base_Arbres!D671<>\"\",VLOOKUP($A671,Base_Arbres,9,FALSE)*crit9,\"\")","v":""},{"$f":"IF(ISNA(VLOOKUP(INDEX(Base_Typologie!$A$6:$P$1003,MATCH(A671,Base_Typologie!$A:$A,0)-5,MATCH(Typologie_Espace_Public,Base_Typologie!$6:$6,0)),TableauScoreTypologie2,2,FALSE)*Crit6),0,VLOOKUP(INDEX(Base_Typologie!$A$6:$P$1003,MATCH(A671,Base_Typologie!$A:$A,0)-5,MATCH(Typologie_Espace_Public,Base_Typologie!$6:$6,0)),TableauScoreTypologie2,2,FALSE)*Crit6)","v":0},0,0,0,0,0,0,0,0,0,0,0,0,null,{"$f":"IF(Base_Arbres!A774<>\"\",VLOOKUP($A671,Base_Arbres,4,FALSE)*Crit7,\"\")","v":""}]
[{"$f":"IF(Base_Arbres!A718<>\"\",Base_Arbres!A718,\"\")","v":""},{"$f":"IF(Base_Arbres!A718<>\"\",VLOOKUP($A672,Base_Arbres,3,FALSE)*Crit1,\"\")","v":""},{"$f":"IF(Base_Arbres!A718<>\"\",VLOOKUP($A672,Base_Arbres,4,FALSE)*Crit2,\"\")","v":""},{"$f":"IF(Base_Arbres!A718<>\"\",VLOOKUP($A672,Base_Arbres,5,FALSE)*Crit3,\"\")","v":""},{"$f":"IF(Base_Arbres!A718<>\"\",VLOOKUP($A672,Base_Arbres,6,FALSE)*Crit4,\"\")","v":""},{"$f":"IF(Base_Arbres!B672<>\"\",VLOOKUP($A672,Base_Arbres,7,FALSE)*Crit5,\"\")","v":""},{"$f":"IF(Base_Arbres!C672<>\"\",VLOOKUP($A672,Base_Arbres,8,FALSE)*crit8,\"\")","v":""},{"$f":"IF(Base_Arbres!D672<>\"\",VLOOKUP($A672,Base_Arbres,9,FALSE)*crit9,\"\")","v":""},{"$f":"IF(ISNA(VLOOKUP(INDEX(Base_Typologie!$A$6:$P$1003,MATCH(A672,Base_Typologie!$A:$A,0)-5,MATCH(Typologie_Espace_Public,Base_Typologie!$6:$6,0)),TableauScoreTypologie2,2,FALSE)*Crit6),0,VLOOKUP(INDEX(Base_Typologie!$A$6:$P$1003,MATCH(A672,Base_Typologie!$A:$A,0)-5,MATCH(Typologie_Espace_Public,Base_Typologie!$6:$6,0)),TableauScoreTypologie2,2,FALSE)*Crit6)","v":0},0,0,0,0,0,0,0,0,0,0,0,0,null,{"$f":"IF(Base_Arbres!A775<>\"\",VLOOKUP($A672,Base_Arbres,4,FALSE)*Crit7,\"\")","v":""}]
[{"$f":"IF(Base_Arbres!A719<>\"\",Base_Arbres!A719,\"\")","v":""},{"$f":"IF(Base_Arbres!A719<>\"\",VLOOKUP($A673,Base_Arbres,3,FALSE)*Crit1,\"\")","v":""},{"$f":"IF(Base_Arbres!A719<>\"\",VLOOKUP($A673,Base_Arbres,4,FALSE)*Crit2,\"\")","v":""},{"$f":"IF(Base_Arbres!A719<>\"\",VLOOKUP($A673,Base_Arbres,5,FALSE)*Crit3,\"\")","v":""},{"$f":"IF(Base_Arbres!A719<>\"\",VLOOKUP($A673,Base_Arbres,6,FALSE)*Crit4,\"\")","v":""},{"$f":"IF(Base_Arbres!B673<>\"\",VLOOKUP($A673,Base_Arbres,7,FALSE)*Crit5,\"\")","v":""},{"$f":"IF(Base_Arbres!C673<>\"\",VLOOKUP($A673,Base_Arbres,8,FALSE)*crit8,\"\")","v":""},{"$f":"IF(Base_Arbres!D673<>\"\",VLOOKUP($A673,Base_Arbres,9,FALSE)*crit9,\"\")","v":""},{"$f":"IF(ISNA(VLOOKUP(INDEX(Base_Typologie!$A$6:$P$1003,MATCH(A673,Base_Typologie!$A:$A,0)-5,MATCH(Typologie_Espace_Public,Base_Typologie!$6:$6,0)),TableauScoreTypologie2,2,FALSE)*Crit6),0,VLOOKUP(INDEX(Base_Typologie!$A$6:$P$1003,MATCH(A673,Base_Typologie!$A:$A,0)-5,MATCH(Typologie_Espace_Public,Base_Typologie!$6:$6,0)),TableauScoreTypologie2,2,FALSE)*Crit6)","v":0},0,0,0,0,0,0,0,0,0,0,0,0,null,{"$f":"IF(Base_Arbres!A776<>\"\",VLOOKUP($A673,Base_Arbres,4,FALSE)*Crit7,\"\")","v":""}]
[{"$f":"IF(Base_Arbres!A720<>\"\",Base_Arbres!A720,\"\")","v":""},{"$f":"IF(Base_Arbres!A720<>\"\",VLOOKUP($A674,Base_Arbres,3,FALSE)*Crit1,\"\")","v":""},{"$f":"IF(Base_Arbres!A720<>\"\",VLOOKUP($A674,Base_Arbres,4,FALSE)*Crit2,\"\")","v":""},{"$f":"IF(Base_Arbres!A720<>\"\",VLOOKUP($A674,Base_Arbres,5,FALSE)*Crit3,\"\")","v":""},{"$f":"IF(Base_Arbres!A720<>\"\",VLOOKUP($A674,Base_Arbres,6,FALSE)*Crit4,\"\")","v":""},{"$f":"IF(Base_Arbres!B674<>\"\",VLOOKUP($A674,Base_Arbres,7,FALSE)*Crit5,\"\")","v":""},{"$f":"IF(Base_Arbres!C674<>\"\",VLOOKUP($A674,Base_Arbres,8,FALSE)*crit8,\"\")","v":""},{"$f":"IF(Base_Arbres!D674<>\"\",VLOOKUP($A674,Base_Arbres,9,FALSE)*crit9,\"\")","v":""},{"$f":"IF(ISNA(VLOOKUP(INDEX(Base_Typologie!$A$6:$P$1003,MATCH(A674,Base_Typologie!$A:$A,0)-5,MATCH(Typologie_Espace_Public,Base_Typologie!$6:$6,0)),TableauScoreTypologie2,2,FALSE)*Crit6),0,VLOOKUP(INDEX(Base_Typologie!$A$6:$P$1003,MATCH(A674,Base_Typologie!$A:$A,0)-5,MATCH(Typologie_Espace_Public,Base_Typologie!$6:$6,0)),TableauScoreTypologie2,2,FALSE)*Crit6)","v":0},0,0,0,0,0,0,0,0,0,0,0,0,null,{"$f":"IF(Base_Arbres!A777<>\"\",VLOOKUP($A674,Base_Arbres,4,FALSE)*Crit7,\"\")","v":""}]
[{"$f":"IF(Base_Arbres!A721<>\"\",Base_Arbres!A721,\"\")","v":""},{"$f":"IF(Base_Arbres!A721<>\"\",VLOOKUP($A675,Base_Arbres,3,FALSE)*Crit1,\"\")","v":""},{"$f":"IF(Base_Arbres!A721<>\"\",VLOOKUP($A675,Base_Arbres,4,FALSE)*Crit2,\"\")","v":""},{"$f":"IF(Base_Arbres!A721<>\"\",VLOOKUP($A675,Base_Arbres,5,FALSE)*Crit3,\"\")","v":""},{"$f":"IF(Base_Arbres!A721<>\"\",VLOOKUP($A675,Base_Arbres,6,FALSE)*Crit4,\"\")","v":""},{"$f":"IF(Base_Arbres!B675<>\"\",VLOOKUP($A675,Base_Arbres,7,FALSE)*Crit5,\"\")","v":""},{"$f":"IF(Base_Arbres!C675<>\"\",VLOOKUP($A675,Base_Arbres,8,FALSE)*crit8,\"\")","v":""},{"$f":"IF(Base_Arbres!D675<>\"\",VLOOKUP($A675,Base_Arbres,9,FALSE)*crit9,\"\")","v":""},{"$f":"IF(ISNA(VLOOKUP(INDEX(Base_Typologie!$A$6:$P$1003,MATCH(A675,Base_Typologie!$A:$A,0)-5,MATCH(Typologie_Espace_Public,Base_Typologie!$6:$6,0)),TableauScoreTypologie2,2,FALSE)*Crit6),0,VLOOKUP(INDEX(Base_Typologie!$A$6:$P$1003,MATCH(A675,Base_Typologie!$A:$A,0)-5,MATCH(Typologie_Espace_Public,Base_Typologie!$6:$6,0)),TableauScoreTypologie2,2,FALSE)*Crit6)","v":0},0,0,0,0,0,0,0,0,0,0,0,0,null,{"$f":"IF(Base_Arbres!A778<>\"\",VLOOKUP($A675,Base_Arbres,4,FALSE)*Crit7,\"\")","v":""}]
[{"$f":"IF(Base_Arbres!A722<>\"\",Base_Arbres!A722,\"\")","v":""},{"$f":"IF(Base_Arbres!A722<>\"\",VLOOKUP($A676,Base_Arbres,3,FALSE)*Crit1,\"\")","v":""},{"$f":"IF(Base_Arbres!A722<>\"\",VLOOKUP($A676,Base_Arbres,4,FALSE)*Crit2,\"\")","v":""},{"$f":"IF(Base_Arbres!A722<>\"\",VLOOKUP($A676,Base_Arbres,5,FALSE)*Crit3,\"\")","v":""},{"$f":"IF(Base_Arbres!A722<>\"\",VLOOKUP($A676,Base_Arbres,6,FALSE)*Crit4,\"\")","v":""},{"$f":"IF(Base_Arbres!B676<>\"\",VLOOKUP($A676,Base_Arbres,7,FALSE)*Crit5,\"\")","v":""},{"$f":"IF(Base_Arbres!C676<>\"\",VLOOKUP($A676,Base_Arbres,8,FALSE)*crit8,\"\")","v":""},{"$f":"IF(Base_Arbres!D676<>\"\",VLOOKUP($A676,Base_Arbres,9,FALSE)*crit9,\"\")","v":""},{"$f":"IF(ISNA(VLOOKUP(INDEX(Base_Typologie!$A$6:$P$1003,MATCH(A676,Base_Typologie!$A:$A,0)-5,MATCH(Typologie_Espace_Public,Base_Typologie!$6:$6,0)),TableauScoreTypologie2,2,FALSE)*Crit6),0,VLOOKUP(INDEX(Base_Typologie!$A$6:$P$1003,MATCH(A676,Base_Typologie!$A:$A,0)-5,MATCH(Typologie_Espace_Public,Base_Typologie!$6:$6,0)),TableauScoreTypologie2,2,FALSE)*Crit6)","v":0},0,0,0,0,0,0,0,0,0,0,0,0,null,{"$f":"IF(Base_Arbres!A779<>\"\",VLOOKUP($A676,Base_Arbres,4,FALSE)*Crit7,\"\")","v":""}]
[{"$f":"IF(Base_Arbres!A723<>\"\",Base_Arbres!A723,\"\")","v":""},{"$f":"IF(Base_Arbres!A723<>\"\",VLOOKUP($A677,Base_Arbres,3,FALSE)*Crit1,\"\")","v":""},{"$f":"IF(Base_Arbres!A723<>\"\",VLOOKUP($A677,Base_Arbres,4,FALSE)*Crit2,\"\")","v":""},{"$f":"IF(Base_Arbres!A723<>\"\",VLOOKUP($A677,Base_Arbres,5,FALSE)*Crit3,\"\")","v":""},{"$f":"IF(Base_Arbres!A723<>\"\",VLOOKUP($A677,Base_Arbres,6,FALSE)*Crit4,\"\")","v":""},{"$f":"IF(Base_Arbres!B677<>\"\",VLOOKUP($A677,Base_Arbres,7,FALSE)*Crit5,\"\")","v":""},{"$f":"IF(Base_Arbres!C677<>\"\",VLOOKUP($A677,Base_Arbres,8,FALSE)*crit8,\"\")","v":""},{"$f":"IF(Base_Arbres!D677<>\"\",VLOOKUP($A677,Base_Arbres,9,FALSE)*crit9,\"\")","v":""},{"$f":"IF(ISNA(VLOOKUP(INDEX(Base_Typologie!$A$6:$P$1003,MATCH(A677,Base_Typologie!$A:$A,0)-5,MATCH(Typologie_Espace_Public,Base_Typologie!$6:$6,0)),TableauScoreTypologie2,2,FALSE)*Crit6),0,VLOOKUP(INDEX(Base_Typologie!$A$6:$P$1003,MATCH(A677,Base_Typologie!$A:$A,0)-5,MATCH(Typologie_Espace_Public,Base_Typologie!$6:$6,0)),TableauScoreTypologie2,2,FALSE)*Crit6)","v":0},0,0,0,0,0,0,0,0,0,0,0,0,null,{"$f":"IF(Base_Arbres!A780<>\"\",VLOOKUP($A677,Base_Arbres,4,FALSE)*Crit7,\"\")","v":""}]
[{"$f":"IF(Base_Arbres!A724<>\"\",Base_Arbres!A724,\"\")","v":""},{"$f":"IF(Base_Arbres!A724<>\"\",VLOOKUP($A678,Base_Arbres,3,FALSE)*Crit1,\"\")","v":""},{"$f":"IF(Base_Arbres!A724<>\"\",VLOOKUP($A678,Base_Arbres,4,FALSE)*Crit2,\"\")","v":""},{"$f":"IF(Base_Arbres!A724<>\"\",VLOOKUP($A678,Base_Arbres,5,FALSE)*Crit3,\"\")","v":""},{"$f":"IF(Base_Arbres!A724<>\"\",VLOOKUP($A678,Base_Arbres,6,FALSE)*Crit4,\"\")","v":""},{"$f":"IF(Base_Arbres!B678<>\"\",VLOOKUP($A678,Base_Arbres,7,FALSE)*Crit5,\"\")","v":""},{"$f":"IF(Base_Arbres!C678<>\"\",VLOOKUP($A678,Base_Arbres,8,FALSE)*crit8,\"\")","v":""},{"$f":"IF(Base_Arbres!D678<>\"\",VLOOKUP($A678,Base_Arbres,9,FALSE)*crit9,\"\")","v":""},{"$f":"IF(ISNA(VLOOKUP(INDEX(Base_Typologie!$A$6:$P$1003,MATCH(A678,Base_Typologie!$A:$A,0)-5,MATCH(Typologie_Espace_Public,Base_Typologie!$6:$6,0)),TableauScoreTypologie2,2,FALSE)*Crit6),0,VLOOKUP(INDEX(Base_Typologie!$A$6:$P$1003,MATCH(A678,Base_Typologie!$A:$A,0)-5,MATCH(Typologie_Espace_Public,Base_Typologie!$6:$6,0)),TableauScoreTypologie2,2,FALSE)*Crit6)","v":0},0,0,0,0,0,0,0,0,0,0,0,0,null,{"$f":"IF(Base_Arbres!A781<>\"\",VLOOKUP($A678,Base_Arbres,4,FALSE)*Crit7,\"\")","v":""}]
[{"$f":"IF(Base_Arbres!A725<>\"\",Base_Arbres!A725,\"\")","v":""},{"$f":"IF(Base_Arbres!A725<>\"\",VLOOKUP($A679,Base_Arbres,3,FALSE)*Crit1,\"\")","v":""},{"$f":"IF(Base_Arbres!A725<>\"\",VLOOKUP($A679,Base_Arbres,4,FALSE)*Crit2,\"\")","v":""},{"$f":"IF(Base_Arbres!A725<>\"\",VLOOKUP($A679,Base_Arbres,5,FALSE)*Crit3,\"\")","v":""},{"$f":"IF(Base_Arbres!A725<>\"\",VLOOKUP($A679,Base_Arbres,6,FALSE)*Crit4,\"\")","v":""},{"$f":"IF(Base_Arbres!B679<>\"\",VLOOKUP($A679,Base_Arbres,7,FALSE)*Crit5,\"\")","v":""},{"$f":"IF(Base_Arbres!C679<>\"\",VLOOKUP($A679,Base_Arbres,8,FALSE)*crit8,\"\")","v":""},{"$f":"IF(Base_Arbres!D679<>\"\",VLOOKUP($A679,Base_Arbres,9,FALSE)*crit9,\"\")","v":""},{"$f":"IF(ISNA(VLOOKUP(INDEX(Base_Typologie!$A$6:$P$1003,MATCH(A679,Base_Typologie!$A:$A,0)-5,MATCH(Typologie_Espace_Public,Base_Typologie!$6:$6,0)),TableauScoreTypologie2,2,FALSE)*Crit6),0,VLOOKUP(INDEX(Base_Typologie!$A$6:$P$1003,MATCH(A679,Base_Typologie!$A:$A,0)-5,MATCH(Typologie_Espace_Public,Base_Typologie!$6:$6,0)),TableauScoreTypologie2,2,FALSE)*Crit6)","v":0},0,0,0,0,0,0,0,0,0,0,0,0,null,{"$f":"IF(Base_Arbres!A782<>\"\",VLOOKUP($A679,Base_Arbres,4,FALSE)*Crit7,\"\")","v":""}]
[{"$f":"IF(Base_Arbres!A726<>\"\",Base_Arbres!A726,\"\")","v":""},{"$f":"IF(Base_Arbres!A726<>\"\",VLOOKUP($A680,Base_Arbres,3,FALSE)*Crit1,\"\")","v":""},{"$f":"IF(Base_Arbres!A726<>\"\",VLOOKUP($A680,Base_Arbres,4,FALSE)*Crit2,\"\")","v":""},{"$f":"IF(Base_Arbres!A726<>\"\",VLOOKUP($A680,Base_Arbres,5,FALSE)*Crit3,\"\")","v":""},{"$f":"IF(Base_Arbres!A726<>\"\",VLOOKUP($A680,Base_Arbres,6,FALSE)*Crit4,\"\")","v":""},{"$f":"IF(Base_Arbres!B680<>\"\",VLOOKUP($A680,Base_Arbres,7,FALSE)*Crit5,\"\")","v":""},{"$f":"IF(Base_Arbres!C680<>\"\",VLOOKUP($A680,Base_Arbres,8,FALSE)*crit8,\"\")","v":""},{"$f":"IF(Base_Arbres!D680<>\"\",VLOOKUP($A680,Base_Arbres,9,FALSE)*crit9,\"\")","v":""},{"$f":"IF(ISNA(VLOOKUP(INDEX(Base_Typologie!$A$6:$P$1003,MATCH(A680,Base_Typologie!$A:$A,0)-5,MATCH(Typologie_Espace_Public,Base_Typologie!$6:$6,0)),TableauScoreTypologie2,2,FALSE)*Crit6),0,VLOOKUP(INDEX(Base_Typologie!$A$6:$P$1003,MATCH(A680,Base_Typologie!$A:$A,0)-5,MATCH(Typologie_Espace_Public,Base_Typologie!$6:$6,0)),TableauScoreTypologie2,2,FALSE)*Crit6)","v":0},0,0,0,0,0,0,0,0,0,0,0,0,null,{"$f":"IF(Base_Arbres!A783<>\"\",VLOOKUP($A680,Base_Arbres,4,FALSE)*Crit7,\"\")","v":""}]
[{"$f":"IF(Base_Arbres!A727<>\"\",Base_Arbres!A727,\"\")","v":""},{"$f":"IF(Base_Arbres!A727<>\"\",VLOOKUP($A681,Base_Arbres,3,FALSE)*Crit1,\"\")","v":""},{"$f":"IF(Base_Arbres!A727<>\"\",VLOOKUP($A681,Base_Arbres,4,FALSE)*Crit2,\"\")","v":""},{"$f":"IF(Base_Arbres!A727<>\"\",VLOOKUP($A681,Base_Arbres,5,FALSE)*Crit3,\"\")","v":""},{"$f":"IF(Base_Arbres!A727<>\"\",VLOOKUP($A681,Base_Arbres,6,FALSE)*Crit4,\"\")","v":""},{"$f":"IF(Base_Arbres!B681<>\"\",VLOOKUP($A681,Base_Arbres,7,FALSE)*Crit5,\"\")","v":""},{"$f":"IF(Base_Arbres!C681<>\"\",VLOOKUP($A681,Base_Arbres,8,FALSE)*crit8,\"\")","v":""},{"$f":"IF(Base_Arbres!D681<>\"\",VLOOKUP($A681,Base_Arbres,9,FALSE)*crit9,\"\")","v":""},{"$f":"IF(ISNA(VLOOKUP(INDEX(Base_Typologie!$A$6:$P$1003,MATCH(A681,Base_Typologie!$A:$A,0)-5,MATCH(Typologie_Espace_Public,Base_Typologie!$6:$6,0)),TableauScoreTypologie2,2,FALSE)*Crit6),0,VLOOKUP(INDEX(Base_Typologie!$A$6:$P$1003,MATCH(A681,Base_Typologie!$A:$A,0)-5,MATCH(Typologie_Espace_Public,Base_Typologie!$6:$6,0)),TableauScoreTypologie2,2,FALSE)*Crit6)","v":0},0,0,0,0,0,0,0,0,0,0,0,0,null,{"$f":"IF(Base_Arbres!A784<>\"\",VLOOKUP($A681,Base_Arbres,4,FALSE)*Crit7,\"\")","v":""}]
[{"$f":"IF(Base_Arbres!A728<>\"\",Base_Arbres!A728,\"\")","v":""},{"$f":"IF(Base_Arbres!A728<>\"\",VLOOKUP($A682,Base_Arbres,3,FALSE)*Crit1,\"\")","v":""},{"$f":"IF(Base_Arbres!A728<>\"\",VLOOKUP($A682,Base_Arbres,4,FALSE)*Crit2,\"\")","v":""},{"$f":"IF(Base_Arbres!A728<>\"\",VLOOKUP($A682,Base_Arbres,5,FALSE)*Crit3,\"\")","v":""},{"$f":"IF(Base_Arbres!A728<>\"\",VLOOKUP($A682,Base_Arbres,6,FALSE)*Crit4,\"\")","v":""},{"$f":"IF(Base_Arbres!B682<>\"\",VLOOKUP($A682,Base_Arbres,7,FALSE)*Crit5,\"\")","v":""},{"$f":"IF(Base_Arbres!C682<>\"\",VLOOKUP($A682,Base_Arbres,8,FALSE)*crit8,\"\")","v":""},{"$f":"IF(Base_Arbres!D682<>\"\",VLOOKUP($A682,Base_Arbres,9,FALSE)*crit9,\"\")","v":""},{"$f":"IF(ISNA(VLOOKUP(INDEX(Base_Typologie!$A$6:$P$1003,MATCH(A682,Base_Typologie!$A:$A,0)-5,MATCH(Typologie_Espace_Public,Base_Typologie!$6:$6,0)),TableauScoreTypologie2,2,FALSE)*Crit6),0,VLOOKUP(INDEX(Base_Typologie!$A$6:$P$1003,MATCH(A682,Base_Typologie!$A:$A,0)-5,MATCH(Typologie_Espace_Public,Base_Typologie!$6:$6,0)),TableauScoreTypologie2,2,FALSE)*Crit6)","v":0},0,0,0,0,0,0,0,0,0,0,0,0,null,{"$f":"IF(Base_Arbres!A785<>\"\",VLOOKUP($A682,Base_Arbres,4,FALSE)*Crit7,\"\")","v":""}]
[{"$f":"IF(Base_Arbres!A729<>\"\",Base_Arbres!A729,\"\")","v":""},{"$f":"IF(Base_Arbres!A729<>\"\",VLOOKUP($A683,Base_Arbres,3,FALSE)*Crit1,\"\")","v":""},{"$f":"IF(Base_Arbres!A729<>\"\",VLOOKUP($A683,Base_Arbres,4,FALSE)*Crit2,\"\")","v":""},{"$f":"IF(Base_Arbres!A729<>\"\",VLOOKUP($A683,Base_Arbres,5,FALSE)*Crit3,\"\")","v":""},{"$f":"IF(Base_Arbres!A729<>\"\",VLOOKUP($A683,Base_Arbres,6,FALSE)*Crit4,\"\")","v":""},{"$f":"IF(Base_Arbres!B683<>\"\",VLOOKUP($A683,Base_Arbres,7,FALSE)*Crit5,\"\")","v":""},{"$f":"IF(Base_Arbres!C683<>\"\",VLOOKUP($A683,Base_Arbres,8,FALSE)*crit8,\"\")","v":""},{"$f":"IF(Base_Arbres!D683<>\"\",VLOOKUP($A683,Base_Arbres,9,FALSE)*crit9,\"\")","v":""},{"$f":"IF(ISNA(VLOOKUP(INDEX(Base_Typologie!$A$6:$P$1003,MATCH(A683,Base_Typologie!$A:$A,0)-5,MATCH(Typologie_Espace_Public,Base_Typologie!$6:$6,0)),TableauScoreTypologie2,2,FALSE)*Crit6),0,VLOOKUP(INDEX(Base_Typologie!$A$6:$P$1003,MATCH(A683,Base_Typologie!$A:$A,0)-5,MATCH(Typologie_Espace_Public,Base_Typologie!$6:$6,0)),TableauScoreTypologie2,2,FALSE)*Crit6)","v":0},0,0,0,0,0,0,0,0,0,0,0,0,null,{"$f":"IF(Base_Arbres!A786<>\"\",VLOOKUP($A683,Base_Arbres,4,FALSE)*Crit7,\"\")","v":""}]
[{"$f":"IF(Base_Arbres!A730<>\"\",Base_Arbres!A730,\"\")","v":""},{"$f":"IF(Base_Arbres!A730<>\"\",VLOOKUP($A684,Base_Arbres,3,FALSE)*Crit1,\"\")","v":""},{"$f":"IF(Base_Arbres!A730<>\"\",VLOOKUP($A684,Base_Arbres,4,FALSE)*Crit2,\"\")","v":""},{"$f":"IF(Base_Arbres!A730<>\"\",VLOOKUP($A684,Base_Arbres,5,FALSE)*Crit3,\"\")","v":""},{"$f":"IF(Base_Arbres!A730<>\"\",VLOOKUP($A684,Base_Arbres,6,FALSE)*Crit4,\"\")","v":""},{"$f":"IF(Base_Arbres!B684<>\"\",VLOOKUP($A684,Base_Arbres,7,FALSE)*Crit5,\"\")","v":""},{"$f":"IF(Base_Arbres!C684<>\"\",VLOOKUP($A684,Base_Arbres,8,FALSE)*crit8,\"\")","v":""},{"$f":"IF(Base_Arbres!D684<>\"\",VLOOKUP($A684,Base_Arbres,9,FALSE)*crit9,\"\")","v":""},{"$f":"IF(ISNA(VLOOKUP(INDEX(Base_Typologie!$A$6:$P$1003,MATCH(A684,Base_Typologie!$A:$A,0)-5,MATCH(Typologie_Espace_Public,Base_Typologie!$6:$6,0)),TableauScoreTypologie2,2,FALSE)*Crit6),0,VLOOKUP(INDEX(Base_Typologie!$A$6:$P$1003,MATCH(A684,Base_Typologie!$A:$A,0)-5,MATCH(Typologie_Espace_Public,Base_Typologie!$6:$6,0)),TableauScoreTypologie2,2,FALSE)*Crit6)","v":0},0,0,0,0,0,0,0,0,0,0,0,0,null,{"$f":"IF(Base_Arbres!A787<>\"\",VLOOKUP($A684,Base_Arbres,4,FALSE)*Crit7,\"\")","v":""}]
[{"$f":"IF(Base_Arbres!A731<>\"\",Base_Arbres!A731,\"\")","v":""},{"$f":"IF(Base_Arbres!A731<>\"\",VLOOKUP($A685,Base_Arbres,3,FALSE)*Crit1,\"\")","v":""},{"$f":"IF(Base_Arbres!A731<>\"\",VLOOKUP($A685,Base_Arbres,4,FALSE)*Crit2,\"\")","v":""},{"$f":"IF(Base_Arbres!A731<>\"\",VLOOKUP($A685,Base_Arbres,5,FALSE)*Crit3,\"\")","v":""},{"$f":"IF(Base_Arbres!A731<>\"\",VLOOKUP($A685,Base_Arbres,6,FALSE)*Crit4,\"\")","v":""},{"$f":"IF(Base_Arbres!B685<>\"\",VLOOKUP($A685,Base_Arbres,7,FALSE)*Crit5,\"\")","v":""},{"$f":"IF(Base_Arbres!C685<>\"\",VLOOKUP($A685,Base_Arbres,8,FALSE)*crit8,\"\")","v":""},{"$f":"IF(Base_Arbres!D685<>\"\",VLOOKUP($A685,Base_Arbres,9,FALSE)*crit9,\"\")","v":""},{"$f":"IF(ISNA(VLOOKUP(INDEX(Base_Typologie!$A$6:$P$1003,MATCH(A685,Base_Typologie!$A:$A,0)-5,MATCH(Typologie_Espace_Public,Base_Typologie!$6:$6,0)),TableauScoreTypologie2,2,FALSE)*Crit6),0,VLOOKUP(INDEX(Base_Typologie!$A$6:$P$1003,MATCH(A685,Base_Typologie!$A:$A,0)-5,MATCH(Typologie_Espace_Public,Base_Typologie!$6:$6,0)),TableauScoreTypologie2,2,FALSE)*Crit6)","v":0},0,0,0,0,0,0,0,0,0,0,0,0,null,{"$f":"IF(Base_Arbres!A788<>\"\",VLOOKUP($A685,Base_Arbres,4,FALSE)*Crit7,\"\")","v":""}]
[{"$f":"IF(Base_Arbres!A732<>\"\",Base_Arbres!A732,\"\")","v":""},{"$f":"IF(Base_Arbres!A732<>\"\",VLOOKUP($A686,Base_Arbres,3,FALSE)*Crit1,\"\")","v":""},{"$f":"IF(Base_Arbres!A732<>\"\",VLOOKUP($A686,Base_Arbres,4,FALSE)*Crit2,\"\")","v":""},{"$f":"IF(Base_Arbres!A732<>\"\",VLOOKUP($A686,Base_Arbres,5,FALSE)*Crit3,\"\")","v":""},{"$f":"IF(Base_Arbres!A732<>\"\",VLOOKUP($A686,Base_Arbres,6,FALSE)*Crit4,\"\")","v":""},{"$f":"IF(Base_Arbres!B686<>\"\",VLOOKUP($A686,Base_Arbres,7,FALSE)*Crit5,\"\")","v":""},{"$f":"IF(Base_Arbres!C686<>\"\",VLOOKUP($A686,Base_Arbres,8,FALSE)*crit8,\"\")","v":""},{"$f":"IF(Base_Arbres!D686<>\"\",VLOOKUP($A686,Base_Arbres,9,FALSE)*crit9,\"\")","v":""},{"$f":"IF(ISNA(VLOOKUP(INDEX(Base_Typologie!$A$6:$P$1003,MATCH(A686,Base_Typologie!$A:$A,0)-5,MATCH(Typologie_Espace_Public,Base_Typologie!$6:$6,0)),TableauScoreTypologie2,2,FALSE)*Crit6),0,VLOOKUP(INDEX(Base_Typologie!$A$6:$P$1003,MATCH(A686,Base_Typologie!$A:$A,0)-5,MATCH(Typologie_Espace_Public,Base_Typologie!$6:$6,0)),TableauScoreTypologie2,2,FALSE)*Crit6)","v":0},0,0,0,0,0,0,0,0,0,0,0,0,null,{"$f":"IF(Base_Arbres!A789<>\"\",VLOOKUP($A686,Base_Arbres,4,FALSE)*Crit7,\"\")","v":""}]
[{"$f":"IF(Base_Arbres!A733<>\"\",Base_Arbres!A733,\"\")","v":""},{"$f":"IF(Base_Arbres!A733<>\"\",VLOOKUP($A687,Base_Arbres,3,FALSE)*Crit1,\"\")","v":""},{"$f":"IF(Base_Arbres!A733<>\"\",VLOOKUP($A687,Base_Arbres,4,FALSE)*Crit2,\"\")","v":""},{"$f":"IF(Base_Arbres!A733<>\"\",VLOOKUP($A687,Base_Arbres,5,FALSE)*Crit3,\"\")","v":""},{"$f":"IF(Base_Arbres!A733<>\"\",VLOOKUP($A687,Base_Arbres,6,FALSE)*Crit4,\"\")","v":""},{"$f":"IF(Base_Arbres!B687<>\"\",VLOOKUP($A687,Base_Arbres,7,FALSE)*Crit5,\"\")","v":""},{"$f":"IF(Base_Arbres!C687<>\"\",VLOOKUP($A687,Base_Arbres,8,FALSE)*crit8,\"\")","v":""},{"$f":"IF(Base_Arbres!D687<>\"\",VLOOKUP($A687,Base_Arbres,9,FALSE)*crit9,\"\")","v":""},{"$f":"IF(ISNA(VLOOKUP(INDEX(Base_Typologie!$A$6:$P$1003,MATCH(A687,Base_Typologie!$A:$A,0)-5,MATCH(Typologie_Espace_Public,Base_Typologie!$6:$6,0)),TableauScoreTypologie2,2,FALSE)*Crit6),0,VLOOKUP(INDEX(Base_Typologie!$A$6:$P$1003,MATCH(A687,Base_Typologie!$A:$A,0)-5,MATCH(Typologie_Espace_Public,Base_Typologie!$6:$6,0)),TableauScoreTypologie2,2,FALSE)*Crit6)","v":0},0,0,0,0,0,0,0,0,0,0,0,0,null,{"$f":"IF(Base_Arbres!A790<>\"\",VLOOKUP($A687,Base_Arbres,4,FALSE)*Crit7,\"\")","v":""}]
[{"$f":"IF(Base_Arbres!A734<>\"\",Base_Arbres!A734,\"\")","v":""},{"$f":"IF(Base_Arbres!A734<>\"\",VLOOKUP($A688,Base_Arbres,3,FALSE)*Crit1,\"\")","v":""},{"$f":"IF(Base_Arbres!A734<>\"\",VLOOKUP($A688,Base_Arbres,4,FALSE)*Crit2,\"\")","v":""},{"$f":"IF(Base_Arbres!A734<>\"\",VLOOKUP($A688,Base_Arbres,5,FALSE)*Crit3,\"\")","v":""},{"$f":"IF(Base_Arbres!A734<>\"\",VLOOKUP($A688,Base_Arbres,6,FALSE)*Crit4,\"\")","v":""},{"$f":"IF(Base_Arbres!B688<>\"\",VLOOKUP($A688,Base_Arbres,7,FALSE)*Crit5,\"\")","v":""},{"$f":"IF(Base_Arbres!C688<>\"\",VLOOKUP($A688,Base_Arbres,8,FALSE)*crit8,\"\")","v":""},{"$f":"IF(Base_Arbres!D688<>\"\",VLOOKUP($A688,Base_Arbres,9,FALSE)*crit9,\"\")","v":""},{"$f":"IF(ISNA(VLOOKUP(INDEX(Base_Typologie!$A$6:$P$1003,MATCH(A688,Base_Typologie!$A:$A,0)-5,MATCH(Typologie_Espace_Public,Base_Typologie!$6:$6,0)),TableauScoreTypologie2,2,FALSE)*Crit6),0,VLOOKUP(INDEX(Base_Typologie!$A$6:$P$1003,MATCH(A688,Base_Typologie!$A:$A,0)-5,MATCH(Typologie_Espace_Public,Base_Typologie!$6:$6,0)),TableauScoreTypologie2,2,FALSE)*Crit6)","v":0},0,0,0,0,0,0,0,0,0,0,0,0,null,{"$f":"IF(Base_Arbres!A791<>\"\",VLOOKUP($A688,Base_Arbres,4,FALSE)*Crit7,\"\")","v":""}]
[{"$f":"IF(Base_Arbres!A735<>\"\",Base_Arbres!A735,\"\")","v":""},{"$f":"IF(Base_Arbres!A735<>\"\",VLOOKUP($A689,Base_Arbres,3,FALSE)*Crit1,\"\")","v":""},{"$f":"IF(Base_Arbres!A735<>\"\",VLOOKUP($A689,Base_Arbres,4,FALSE)*Crit2,\"\")","v":""},{"$f":"IF(Base_Arbres!A735<>\"\",VLOOKUP($A689,Base_Arbres,5,FALSE)*Crit3,\"\")","v":""},{"$f":"IF(Base_Arbres!A735<>\"\",VLOOKUP($A689,Base_Arbres,6,FALSE)*Crit4,\"\")","v":""},{"$f":"IF(Base_Arbres!B689<>\"\",VLOOKUP($A689,Base_Arbres,7,FALSE)*Crit5,\"\")","v":""},{"$f":"IF(Base_Arbres!C689<>\"\",VLOOKUP($A689,Base_Arbres,8,FALSE)*crit8,\"\")","v":""},{"$f":"IF(Base_Arbres!D689<>\"\",VLOOKUP($A689,Base_Arbres,9,FALSE)*crit9,\"\")","v":""},{"$f":"IF(ISNA(VLOOKUP(INDEX(Base_Typologie!$A$6:$P$1003,MATCH(A689,Base_Typologie!$A:$A,0)-5,MATCH(Typologie_Espace_Public,Base_Typologie!$6:$6,0)),TableauScoreTypologie2,2,FALSE)*Crit6),0,VLOOKUP(INDEX(Base_Typologie!$A$6:$P$1003,MATCH(A689,Base_Typologie!$A:$A,0)-5,MATCH(Typologie_Espace_Public,Base_Typologie!$6:$6,0)),TableauScoreTypologie2,2,FALSE)*Crit6)","v":0},0,0,0,0,0,0,0,0,0,0,0,0,null,{"$f":"IF(Base_Arbres!A792<>\"\",VLOOKUP($A689,Base_Arbres,4,FALSE)*Crit7,\"\")","v":""}]
[{"$f":"IF(Base_Arbres!A736<>\"\",Base_Arbres!A736,\"\")","v":""},{"$f":"IF(Base_Arbres!A736<>\"\",VLOOKUP($A690,Base_Arbres,3,FALSE)*Crit1,\"\")","v":""},{"$f":"IF(Base_Arbres!A736<>\"\",VLOOKUP($A690,Base_Arbres,4,FALSE)*Crit2,\"\")","v":""},{"$f":"IF(Base_Arbres!A736<>\"\",VLOOKUP($A690,Base_Arbres,5,FALSE)*Crit3,\"\")","v":""},{"$f":"IF(Base_Arbres!A736<>\"\",VLOOKUP($A690,Base_Arbres,6,FALSE)*Crit4,\"\")","v":""},{"$f":"IF(Base_Arbres!B690<>\"\",VLOOKUP($A690,Base_Arbres,7,FALSE)*Crit5,\"\")","v":""},{"$f":"IF(Base_Arbres!C690<>\"\",VLOOKUP($A690,Base_Arbres,8,FALSE)*crit8,\"\")","v":""},{"$f":"IF(Base_Arbres!D690<>\"\",VLOOKUP($A690,Base_Arbres,9,FALSE)*crit9,\"\")","v":""},{"$f":"IF(ISNA(VLOOKUP(INDEX(Base_Typologie!$A$6:$P$1003,MATCH(A690,Base_Typologie!$A:$A,0)-5,MATCH(Typologie_Espace_Public,Base_Typologie!$6:$6,0)),TableauScoreTypologie2,2,FALSE)*Crit6),0,VLOOKUP(INDEX(Base_Typologie!$A$6:$P$1003,MATCH(A690,Base_Typologie!$A:$A,0)-5,MATCH(Typologie_Espace_Public,Base_Typologie!$6:$6,0)),TableauScoreTypologie2,2,FALSE)*Crit6)","v":0},0,0,0,0,0,0,0,0,0,0,0,0,null,{"$f":"IF(Base_Arbres!A793<>\"\",VLOOKUP($A690,Base_Arbres,4,FALSE)*Crit7,\"\")","v":""}]
[{"$f":"IF(Base_Arbres!A737<>\"\",Base_Arbres!A737,\"\")","v":""},{"$f":"IF(Base_Arbres!A737<>\"\",VLOOKUP($A691,Base_Arbres,3,FALSE)*Crit1,\"\")","v":""},{"$f":"IF(Base_Arbres!A737<>\"\",VLOOKUP($A691,Base_Arbres,4,FALSE)*Crit2,\"\")","v":""},{"$f":"IF(Base_Arbres!A737<>\"\",VLOOKUP($A691,Base_Arbres,5,FALSE)*Crit3,\"\")","v":""},{"$f":"IF(Base_Arbres!A737<>\"\",VLOOKUP($A691,Base_Arbres,6,FALSE)*Crit4,\"\")","v":""},{"$f":"IF(Base_Arbres!B691<>\"\",VLOOKUP($A691,Base_Arbres,7,FALSE)*Crit5,\"\")","v":""},{"$f":"IF(Base_Arbres!C691<>\"\",VLOOKUP($A691,Base_Arbres,8,FALSE)*crit8,\"\")","v":""},{"$f":"IF(Base_Arbres!D691<>\"\",VLOOKUP($A691,Base_Arbres,9,FALSE)*crit9,\"\")","v":""},{"$f":"IF(ISNA(VLOOKUP(INDEX(Base_Typologie!$A$6:$P$1003,MATCH(A691,Base_Typologie!$A:$A,0)-5,MATCH(Typologie_Espace_Public,Base_Typologie!$6:$6,0)),TableauScoreTypologie2,2,FALSE)*Crit6),0,VLOOKUP(INDEX(Base_Typologie!$A$6:$P$1003,MATCH(A691,Base_Typologie!$A:$A,0)-5,MATCH(Typologie_Espace_Public,Base_Typologie!$6:$6,0)),TableauScoreTypologie2,2,FALSE)*Crit6)","v":0},0,0,0,0,0,0,0,0,0,0,0,0,null,{"$f":"IF(Base_Arbres!A794<>\"\",VLOOKUP($A691,Base_Arbres,4,FALSE)*Crit7,\"\")","v":""}]
[{"$f":"IF(Base_Arbres!A738<>\"\",Base_Arbres!A738,\"\")","v":""},{"$f":"IF(Base_Arbres!A738<>\"\",VLOOKUP($A692,Base_Arbres,3,FALSE)*Crit1,\"\")","v":""},{"$f":"IF(Base_Arbres!A738<>\"\",VLOOKUP($A692,Base_Arbres,4,FALSE)*Crit2,\"\")","v":""},{"$f":"IF(Base_Arbres!A738<>\"\",VLOOKUP($A692,Base_Arbres,5,FALSE)*Crit3,\"\")","v":""},{"$f":"IF(Base_Arbres!A738<>\"\",VLOOKUP($A692,Base_Arbres,6,FALSE)*Crit4,\"\")","v":""},{"$f":"IF(Base_Arbres!B692<>\"\",VLOOKUP($A692,Base_Arbres,7,FALSE)*Crit5,\"\")","v":""},{"$f":"IF(Base_Arbres!C692<>\"\",VLOOKUP($A692,Base_Arbres,8,FALSE)*crit8,\"\")","v":""},{"$f":"IF(Base_Arbres!D692<>\"\",VLOOKUP($A692,Base_Arbres,9,FALSE)*crit9,\"\")","v":""},{"$f":"IF(ISNA(VLOOKUP(INDEX(Base_Typologie!$A$6:$P$1003,MATCH(A692,Base_Typologie!$A:$A,0)-5,MATCH(Typologie_Espace_Public,Base_Typologie!$6:$6,0)),TableauScoreTypologie2,2,FALSE)*Crit6),0,VLOOKUP(INDEX(Base_Typologie!$A$6:$P$1003,MATCH(A692,Base_Typologie!$A:$A,0)-5,MATCH(Typologie_Espace_Public,Base_Typologie!$6:$6,0)),TableauScoreTypologie2,2,FALSE)*Crit6)","v":0},0,0,0,0,0,0,0,0,0,0,0,0,null,{"$f":"IF(Base_Arbres!A795<>\"\",VLOOKUP($A692,Base_Arbres,4,FALSE)*Crit7,\"\")","v":""}]
[{"$f":"IF(Base_Arbres!A739<>\"\",Base_Arbres!A739,\"\")","v":""},{"$f":"IF(Base_Arbres!A739<>\"\",VLOOKUP($A693,Base_Arbres,3,FALSE)*Crit1,\"\")","v":""},{"$f":"IF(Base_Arbres!A739<>\"\",VLOOKUP($A693,Base_Arbres,4,FALSE)*Crit2,\"\")","v":""},{"$f":"IF(Base_Arbres!A739<>\"\",VLOOKUP($A693,Base_Arbres,5,FALSE)*Crit3,\"\")","v":""},{"$f":"IF(Base_Arbres!A739<>\"\",VLOOKUP($A693,Base_Arbres,6,FALSE)*Crit4,\"\")","v":""},{"$f":"IF(Base_Arbres!B693<>\"\",VLOOKUP($A693,Base_Arbres,7,FALSE)*Crit5,\"\")","v":""},{"$f":"IF(Base_Arbres!C693<>\"\",VLOOKUP($A693,Base_Arbres,8,FALSE)*crit8,\"\")","v":""},{"$f":"IF(Base_Arbres!D693<>\"\",VLOOKUP($A693,Base_Arbres,9,FALSE)*crit9,\"\")","v":""},{"$f":"IF(ISNA(VLOOKUP(INDEX(Base_Typologie!$A$6:$P$1003,MATCH(A693,Base_Typologie!$A:$A,0)-5,MATCH(Typologie_Espace_Public,Base_Typologie!$6:$6,0)),TableauScoreTypologie2,2,FALSE)*Crit6),0,VLOOKUP(INDEX(Base_Typologie!$A$6:$P$1003,MATCH(A693,Base_Typologie!$A:$A,0)-5,MATCH(Typologie_Espace_Public,Base_Typologie!$6:$6,0)),TableauScoreTypologie2,2,FALSE)*Crit6)","v":0},0,0,0,0,0,0,0,0,0,0,0,0,null,{"$f":"IF(Base_Arbres!A796<>\"\",VLOOKUP($A693,Base_Arbres,4,FALSE)*Crit7,\"\")","v":""}]
[{"$f":"IF(Base_Arbres!A740<>\"\",Base_Arbres!A740,\"\")","v":""},{"$f":"IF(Base_Arbres!A740<>\"\",VLOOKUP($A694,Base_Arbres,3,FALSE)*Crit1,\"\")","v":""},{"$f":"IF(Base_Arbres!A740<>\"\",VLOOKUP($A694,Base_Arbres,4,FALSE)*Crit2,\"\")","v":""},{"$f":"IF(Base_Arbres!A740<>\"\",VLOOKUP($A694,Base_Arbres,5,FALSE)*Crit3,\"\")","v":""},{"$f":"IF(Base_Arbres!A740<>\"\",VLOOKUP($A694,Base_Arbres,6,FALSE)*Crit4,\"\")","v":""},{"$f":"IF(Base_Arbres!B694<>\"\",VLOOKUP($A694,Base_Arbres,7,FALSE)*Crit5,\"\")","v":""},{"$f":"IF(Base_Arbres!C694<>\"\",VLOOKUP($A694,Base_Arbres,8,FALSE)*crit8,\"\")","v":""},{"$f":"IF(Base_Arbres!D694<>\"\",VLOOKUP($A694,Base_Arbres,9,FALSE)*crit9,\"\")","v":""},{"$f":"IF(ISNA(VLOOKUP(INDEX(Base_Typologie!$A$6:$P$1003,MATCH(A694,Base_Typologie!$A:$A,0)-5,MATCH(Typologie_Espace_Public,Base_Typologie!$6:$6,0)),TableauScoreTypologie2,2,FALSE)*Crit6),0,VLOOKUP(INDEX(Base_Typologie!$A$6:$P$1003,MATCH(A694,Base_Typologie!$A:$A,0)-5,MATCH(Typologie_Espace_Public,Base_Typologie!$6:$6,0)),TableauScoreTypologie2,2,FALSE)*Crit6)","v":0},0,0,0,0,0,0,0,0,0,0,0,0,null,{"$f":"IF(Base_Arbres!A797<>\"\",VLOOKUP($A694,Base_Arbres,4,FALSE)*Crit7,\"\")","v":""}]
[{"$f":"IF(Base_Arbres!A741<>\"\",Base_Arbres!A741,\"\")","v":""},{"$f":"IF(Base_Arbres!A741<>\"\",VLOOKUP($A695,Base_Arbres,3,FALSE)*Crit1,\"\")","v":""},{"$f":"IF(Base_Arbres!A741<>\"\",VLOOKUP($A695,Base_Arbres,4,FALSE)*Crit2,\"\")","v":""},{"$f":"IF(Base_Arbres!A741<>\"\",VLOOKUP($A695,Base_Arbres,5,FALSE)*Crit3,\"\")","v":""},{"$f":"IF(Base_Arbres!A741<>\"\",VLOOKUP($A695,Base_Arbres,6,FALSE)*Crit4,\"\")","v":""},{"$f":"IF(Base_Arbres!B695<>\"\",VLOOKUP($A695,Base_Arbres,7,FALSE)*Crit5,\"\")","v":""},{"$f":"IF(Base_Arbres!C695<>\"\",VLOOKUP($A695,Base_Arbres,8,FALSE)*crit8,\"\")","v":""},{"$f":"IF(Base_Arbres!D695<>\"\",VLOOKUP($A695,Base_Arbres,9,FALSE)*crit9,\"\")","v":""},{"$f":"IF(ISNA(VLOOKUP(INDEX(Base_Typologie!$A$6:$P$1003,MATCH(A695,Base_Typologie!$A:$A,0)-5,MATCH(Typologie_Espace_Public,Base_Typologie!$6:$6,0)),TableauScoreTypologie2,2,FALSE)*Crit6),0,VLOOKUP(INDEX(Base_Typologie!$A$6:$P$1003,MATCH(A695,Base_Typologie!$A:$A,0)-5,MATCH(Typologie_Espace_Public,Base_Typologie!$6:$6,0)),TableauScoreTypologie2,2,FALSE)*Crit6)","v":0},0,0,0,0,0,0,0,0,0,0,0,0,null,{"$f":"IF(Base_Arbres!A798<>\"\",VLOOKUP($A695,Base_Arbres,4,FALSE)*Crit7,\"\")","v":""}]
[{"$f":"IF(Base_Arbres!A742<>\"\",Base_Arbres!A742,\"\")","v":""},{"$f":"IF(Base_Arbres!A742<>\"\",VLOOKUP($A696,Base_Arbres,3,FALSE)*Crit1,\"\")","v":""},{"$f":"IF(Base_Arbres!A742<>\"\",VLOOKUP($A696,Base_Arbres,4,FALSE)*Crit2,\"\")","v":""},{"$f":"IF(Base_Arbres!A742<>\"\",VLOOKUP($A696,Base_Arbres,5,FALSE)*Crit3,\"\")","v":""},{"$f":"IF(Base_Arbres!A742<>\"\",VLOOKUP($A696,Base_Arbres,6,FALSE)*Crit4,\"\")","v":""},{"$f":"IF(Base_Arbres!B696<>\"\",VLOOKUP($A696,Base_Arbres,7,FALSE)*Crit5,\"\")","v":""},{"$f":"IF(Base_Arbres!C696<>\"\",VLOOKUP($A696,Base_Arbres,8,FALSE)*crit8,\"\")","v":""},{"$f":"IF(Base_Arbres!D696<>\"\",VLOOKUP($A696,Base_Arbres,9,FALSE)*crit9,\"\")","v":""},{"$f":"IF(ISNA(VLOOKUP(INDEX(Base_Typologie!$A$6:$P$1003,MATCH(A696,Base_Typologie!$A:$A,0)-5,MATCH(Typologie_Espace_Public,Base_Typologie!$6:$6,0)),TableauScoreTypologie2,2,FALSE)*Crit6),0,VLOOKUP(INDEX(Base_Typologie!$A$6:$P$1003,MATCH(A696,Base_Typologie!$A:$A,0)-5,MATCH(Typologie_Espace_Public,Base_Typologie!$6:$6,0)),TableauScoreTypologie2,2,FALSE)*Crit6)","v":0},0,0,0,0,0,0,0,0,0,0,0,0,null,{"$f":"IF(Base_Arbres!A799<>\"\",VLOOKUP($A696,Base_Arbres,4,FALSE)*Crit7,\"\")","v":""}]
[{"$f":"IF(Base_Arbres!A743<>\"\",Base_Arbres!A743,\"\")","v":""},{"$f":"IF(Base_Arbres!A743<>\"\",VLOOKUP($A697,Base_Arbres,3,FALSE)*Crit1,\"\")","v":""},{"$f":"IF(Base_Arbres!A743<>\"\",VLOOKUP($A697,Base_Arbres,4,FALSE)*Crit2,\"\")","v":""},{"$f":"IF(Base_Arbres!A743<>\"\",VLOOKUP($A697,Base_Arbres,5,FALSE)*Crit3,\"\")","v":""},{"$f":"IF(Base_Arbres!A743<>\"\",VLOOKUP($A697,Base_Arbres,6,FALSE)*Crit4,\"\")","v":""},{"$f":"IF(Base_Arbres!B697<>\"\",VLOOKUP($A697,Base_Arbres,7,FALSE)*Crit5,\"\")","v":""},{"$f":"IF(Base_Arbres!C697<>\"\",VLOOKUP($A697,Base_Arbres,8,FALSE)*crit8,\"\")","v":""},{"$f":"IF(Base_Arbres!D697<>\"\",VLOOKUP($A697,Base_Arbres,9,FALSE)*crit9,\"\")","v":""},{"$f":"IF(ISNA(VLOOKUP(INDEX(Base_Typologie!$A$6:$P$1003,MATCH(A697,Base_Typologie!$A:$A,0)-5,MATCH(Typologie_Espace_Public,Base_Typologie!$6:$6,0)),TableauScoreTypologie2,2,FALSE)*Crit6),0,VLOOKUP(INDEX(Base_Typologie!$A$6:$P$1003,MATCH(A697,Base_Typologie!$A:$A,0)-5,MATCH(Typologie_Espace_Public,Base_Typologie!$6:$6,0)),TableauScoreTypologie2,2,FALSE)*Crit6)","v":0},0,0,0,0,0,0,0,0,0,0,0,0,null,{"$f":"IF(Base_Arbres!A800<>\"\",VLOOKUP($A697,Base_Arbres,4,FALSE)*Crit7,\"\")","v":""}]
[{"$f":"IF(Base_Arbres!A744<>\"\",Base_Arbres!A744,\"\")","v":""},{"$f":"IF(Base_Arbres!A744<>\"\",VLOOKUP($A698,Base_Arbres,3,FALSE)*Crit1,\"\")","v":""},{"$f":"IF(Base_Arbres!A744<>\"\",VLOOKUP($A698,Base_Arbres,4,FALSE)*Crit2,\"\")","v":""},{"$f":"IF(Base_Arbres!A744<>\"\",VLOOKUP($A698,Base_Arbres,5,FALSE)*Crit3,\"\")","v":""},{"$f":"IF(Base_Arbres!A744<>\"\",VLOOKUP($A698,Base_Arbres,6,FALSE)*Crit4,\"\")","v":""},{"$f":"IF(Base_Arbres!B698<>\"\",VLOOKUP($A698,Base_Arbres,7,FALSE)*Crit5,\"\")","v":""},{"$f":"IF(Base_Arbres!C698<>\"\",VLOOKUP($A698,Base_Arbres,8,FALSE)*crit8,\"\")","v":""},{"$f":"IF(Base_Arbres!D698<>\"\",VLOOKUP($A698,Base_Arbres,9,FALSE)*crit9,\"\")","v":""},{"$f":"IF(ISNA(VLOOKUP(INDEX(Base_Typologie!$A$6:$P$1003,MATCH(A698,Base_Typologie!$A:$A,0)-5,MATCH(Typologie_Espace_Public,Base_Typologie!$6:$6,0)),TableauScoreTypologie2,2,FALSE)*Crit6),0,VLOOKUP(INDEX(Base_Typologie!$A$6:$P$1003,MATCH(A698,Base_Typologie!$A:$A,0)-5,MATCH(Typologie_Espace_Public,Base_Typologie!$6:$6,0)),TableauScoreTypologie2,2,FALSE)*Crit6)","v":0},0,0,0,0,0,0,0,0,0,0,0,0,null,{"$f":"IF(Base_Arbres!A801<>\"\",VLOOKUP($A698,Base_Arbres,4,FALSE)*Crit7,\"\")","v":""}]
[{"$f":"IF(Base_Arbres!A745<>\"\",Base_Arbres!A745,\"\")","v":""},{"$f":"IF(Base_Arbres!A745<>\"\",VLOOKUP($A699,Base_Arbres,3,FALSE)*Crit1,\"\")","v":""},{"$f":"IF(Base_Arbres!A745<>\"\",VLOOKUP($A699,Base_Arbres,4,FALSE)*Crit2,\"\")","v":""},{"$f":"IF(Base_Arbres!A745<>\"\",VLOOKUP($A699,Base_Arbres,5,FALSE)*Crit3,\"\")","v":""},{"$f":"IF(Base_Arbres!A745<>\"\",VLOOKUP($A699,Base_Arbres,6,FALSE)*Crit4,\"\")","v":""},{"$f":"IF(Base_Arbres!B699<>\"\",VLOOKUP($A699,Base_Arbres,7,FALSE)*Crit5,\"\")","v":""},{"$f":"IF(Base_Arbres!C699<>\"\",VLOOKUP($A699,Base_Arbres,8,FALSE)*crit8,\"\")","v":""},{"$f":"IF(Base_Arbres!D699<>\"\",VLOOKUP($A699,Base_Arbres,9,FALSE)*crit9,\"\")","v":""},{"$f":"IF(ISNA(VLOOKUP(INDEX(Base_Typologie!$A$6:$P$1003,MATCH(A699,Base_Typologie!$A:$A,0)-5,MATCH(Typologie_Espace_Public,Base_Typologie!$6:$6,0)),TableauScoreTypologie2,2,FALSE)*Crit6),0,VLOOKUP(INDEX(Base_Typologie!$A$6:$P$1003,MATCH(A699,Base_Typologie!$A:$A,0)-5,MATCH(Typologie_Espace_Public,Base_Typologie!$6:$6,0)),TableauScoreTypologie2,2,FALSE)*Crit6)","v":0},0,0,0,0,0,0,0,0,0,0,0,0,null,{"$f":"IF(Base_Arbres!A802<>\"\",VLOOKUP($A699,Base_Arbres,4,FALSE)*Crit7,\"\")","v":""}]
[{"$f":"IF(Base_Arbres!A746<>\"\",Base_Arbres!A746,\"\")","v":""},{"$f":"IF(Base_Arbres!A746<>\"\",VLOOKUP($A700,Base_Arbres,3,FALSE)*Crit1,\"\")","v":""},{"$f":"IF(Base_Arbres!A746<>\"\",VLOOKUP($A700,Base_Arbres,4,FALSE)*Crit2,\"\")","v":""},{"$f":"IF(Base_Arbres!A746<>\"\",VLOOKUP($A700,Base_Arbres,5,FALSE)*Crit3,\"\")","v":""},{"$f":"IF(Base_Arbres!A746<>\"\",VLOOKUP($A700,Base_Arbres,6,FALSE)*Crit4,\"\")","v":""},{"$f":"IF(Base_Arbres!B700<>\"\",VLOOKUP($A700,Base_Arbres,7,FALSE)*Crit5,\"\")","v":""},{"$f":"IF(Base_Arbres!C700<>\"\",VLOOKUP($A700,Base_Arbres,8,FALSE)*crit8,\"\")","v":""},{"$f":"IF(Base_Arbres!D700<>\"\",VLOOKUP($A700,Base_Arbres,9,FALSE)*crit9,\"\")","v":""},{"$f":"IF(ISNA(VLOOKUP(INDEX(Base_Typologie!$A$6:$P$1003,MATCH(A700,Base_Typologie!$A:$A,0)-5,MATCH(Typologie_Espace_Public,Base_Typologie!$6:$6,0)),TableauScoreTypologie2,2,FALSE)*Crit6),0,VLOOKUP(INDEX(Base_Typologie!$A$6:$P$1003,MATCH(A700,Base_Typologie!$A:$A,0)-5,MATCH(Typologie_Espace_Public,Base_Typologie!$6:$6,0)),TableauScoreTypologie2,2,FALSE)*Crit6)","v":0},0,0,0,0,0,0,0,0,0,0,0,0,null,{"$f":"IF(Base_Arbres!A803<>\"\",VLOOKUP($A700,Base_Arbres,4,FALSE)*Crit7,\"\")","v":""}]
[{"$f":"IF(Base_Arbres!A747<>\"\",Base_Arbres!A747,\"\")","v":""},{"$f":"IF(Base_Arbres!A747<>\"\",VLOOKUP($A701,Base_Arbres,3,FALSE)*Crit1,\"\")","v":""},{"$f":"IF(Base_Arbres!A747<>\"\",VLOOKUP($A701,Base_Arbres,4,FALSE)*Crit2,\"\")","v":""},{"$f":"IF(Base_Arbres!A747<>\"\",VLOOKUP($A701,Base_Arbres,5,FALSE)*Crit3,\"\")","v":""},{"$f":"IF(Base_Arbres!A747<>\"\",VLOOKUP($A701,Base_Arbres,6,FALSE)*Crit4,\"\")","v":""},{"$f":"IF(Base_Arbres!B701<>\"\",VLOOKUP($A701,Base_Arbres,7,FALSE)*Crit5,\"\")","v":""},{"$f":"IF(Base_Arbres!C701<>\"\",VLOOKUP($A701,Base_Arbres,8,FALSE)*crit8,\"\")","v":""},{"$f":"IF(Base_Arbres!D701<>\"\",VLOOKUP($A701,Base_Arbres,9,FALSE)*crit9,\"\")","v":""},{"$f":"IF(ISNA(VLOOKUP(INDEX(Base_Typologie!$A$6:$P$1003,MATCH(A701,Base_Typologie!$A:$A,0)-5,MATCH(Typologie_Espace_Public,Base_Typologie!$6:$6,0)),TableauScoreTypologie2,2,FALSE)*Crit6),0,VLOOKUP(INDEX(Base_Typologie!$A$6:$P$1003,MATCH(A701,Base_Typologie!$A:$A,0)-5,MATCH(Typologie_Espace_Public,Base_Typologie!$6:$6,0)),TableauScoreTypologie2,2,FALSE)*Crit6)","v":0},0,0,0,0,0,0,0,0,0,0,0,0,null,{"$f":"IF(Base_Arbres!A804<>\"\",VLOOKUP($A701,Base_Arbres,4,FALSE)*Crit7,\"\")","v":""}]
[{"$f":"IF(Base_Arbres!A748<>\"\",Base_Arbres!A748,\"\")","v":""},{"$f":"IF(Base_Arbres!A748<>\"\",VLOOKUP($A702,Base_Arbres,3,FALSE)*Crit1,\"\")","v":""},{"$f":"IF(Base_Arbres!A748<>\"\",VLOOKUP($A702,Base_Arbres,4,FALSE)*Crit2,\"\")","v":""},{"$f":"IF(Base_Arbres!A748<>\"\",VLOOKUP($A702,Base_Arbres,5,FALSE)*Crit3,\"\")","v":""},{"$f":"IF(Base_Arbres!A748<>\"\",VLOOKUP($A702,Base_Arbres,6,FALSE)*Crit4,\"\")","v":""},{"$f":"IF(Base_Arbres!B702<>\"\",VLOOKUP($A702,Base_Arbres,7,FALSE)*Crit5,\"\")","v":""},{"$f":"IF(Base_Arbres!C702<>\"\",VLOOKUP($A702,Base_Arbres,8,FALSE)*crit8,\"\")","v":""},{"$f":"IF(Base_Arbres!D702<>\"\",VLOOKUP($A702,Base_Arbres,9,FALSE)*crit9,\"\")","v":""},{"$f":"IF(ISNA(VLOOKUP(INDEX(Base_Typologie!$A$6:$P$1003,MATCH(A702,Base_Typologie!$A:$A,0)-5,MATCH(Typologie_Espace_Public,Base_Typologie!$6:$6,0)),TableauScoreTypologie2,2,FALSE)*Crit6),0,VLOOKUP(INDEX(Base_Typologie!$A$6:$P$1003,MATCH(A702,Base_Typologie!$A:$A,0)-5,MATCH(Typologie_Espace_Public,Base_Typologie!$6:$6,0)),TableauScoreTypologie2,2,FALSE)*Crit6)","v":0},0,0,0,0,0,0,0,0,0,0,0,0,null,{"$f":"IF(Base_Arbres!A805<>\"\",VLOOKUP($A702,Base_Arbres,4,FALSE)*Crit7,\"\")","v":""}]
[{"$f":"IF(Base_Arbres!A749<>\"\",Base_Arbres!A749,\"\")","v":""},{"$f":"IF(Base_Arbres!A749<>\"\",VLOOKUP($A703,Base_Arbres,3,FALSE)*Crit1,\"\")","v":""},{"$f":"IF(Base_Arbres!A749<>\"\",VLOOKUP($A703,Base_Arbres,4,FALSE)*Crit2,\"\")","v":""},{"$f":"IF(Base_Arbres!A749<>\"\",VLOOKUP($A703,Base_Arbres,5,FALSE)*Crit3,\"\")","v":""},{"$f":"IF(Base_Arbres!A749<>\"\",VLOOKUP($A703,Base_Arbres,6,FALSE)*Crit4,\"\")","v":""},{"$f":"IF(Base_Arbres!B703<>\"\",VLOOKUP($A703,Base_Arbres,7,FALSE)*Crit5,\"\")","v":""},{"$f":"IF(Base_Arbres!C703<>\"\",VLOOKUP($A703,Base_Arbres,8,FALSE)*crit8,\"\")","v":""},{"$f":"IF(Base_Arbres!D703<>\"\",VLOOKUP($A703,Base_Arbres,9,FALSE)*crit9,\"\")","v":""},{"$f":"IF(ISNA(VLOOKUP(INDEX(Base_Typologie!$A$6:$P$1003,MATCH(A703,Base_Typologie!$A:$A,0)-5,MATCH(Typologie_Espace_Public,Base_Typologie!$6:$6,0)),TableauScoreTypologie2,2,FALSE)*Crit6),0,VLOOKUP(INDEX(Base_Typologie!$A$6:$P$1003,MATCH(A703,Base_Typologie!$A:$A,0)-5,MATCH(Typologie_Espace_Public,Base_Typologie!$6:$6,0)),TableauScoreTypologie2,2,FALSE)*Crit6)","v":0},0,0,0,0,0,0,0,0,0,0,0,0,null,{"$f":"IF(Base_Arbres!A806<>\"\",VLOOKUP($A703,Base_Arbres,4,FALSE)*Crit7,\"\")","v":""}]
[{"$f":"IF(Base_Arbres!A750<>\"\",Base_Arbres!A750,\"\")","v":""},{"$f":"IF(Base_Arbres!A750<>\"\",VLOOKUP($A704,Base_Arbres,3,FALSE)*Crit1,\"\")","v":""},{"$f":"IF(Base_Arbres!A750<>\"\",VLOOKUP($A704,Base_Arbres,4,FALSE)*Crit2,\"\")","v":""},{"$f":"IF(Base_Arbres!A750<>\"\",VLOOKUP($A704,Base_Arbres,5,FALSE)*Crit3,\"\")","v":""},{"$f":"IF(Base_Arbres!A750<>\"\",VLOOKUP($A704,Base_Arbres,6,FALSE)*Crit4,\"\")","v":""},{"$f":"IF(Base_Arbres!B704<>\"\",VLOOKUP($A704,Base_Arbres,7,FALSE)*Crit5,\"\")","v":""},{"$f":"IF(Base_Arbres!C704<>\"\",VLOOKUP($A704,Base_Arbres,8,FALSE)*crit8,\"\")","v":""},{"$f":"IF(Base_Arbres!D704<>\"\",VLOOKUP($A704,Base_Arbres,9,FALSE)*crit9,\"\")","v":""},{"$f":"IF(ISNA(VLOOKUP(INDEX(Base_Typologie!$A$6:$P$1003,MATCH(A704,Base_Typologie!$A:$A,0)-5,MATCH(Typologie_Espace_Public,Base_Typologie!$6:$6,0)),TableauScoreTypologie2,2,FALSE)*Crit6),0,VLOOKUP(INDEX(Base_Typologie!$A$6:$P$1003,MATCH(A704,Base_Typologie!$A:$A,0)-5,MATCH(Typologie_Espace_Public,Base_Typologie!$6:$6,0)),TableauScoreTypologie2,2,FALSE)*Crit6)","v":0},0,0,0,0,0,0,0,0,0,0,0,0,null,{"$f":"IF(Base_Arbres!A807<>\"\",VLOOKUP($A704,Base_Arbres,4,FALSE)*Crit7,\"\")","v":""}]
[{"$f":"IF(Base_Arbres!A751<>\"\",Base_Arbres!A751,\"\")","v":""},{"$f":"IF(Base_Arbres!A751<>\"\",VLOOKUP($A705,Base_Arbres,3,FALSE)*Crit1,\"\")","v":""},{"$f":"IF(Base_Arbres!A751<>\"\",VLOOKUP($A705,Base_Arbres,4,FALSE)*Crit2,\"\")","v":""},{"$f":"IF(Base_Arbres!A751<>\"\",VLOOKUP($A705,Base_Arbres,5,FALSE)*Crit3,\"\")","v":""},{"$f":"IF(Base_Arbres!A751<>\"\",VLOOKUP($A705,Base_Arbres,6,FALSE)*Crit4,\"\")","v":""},{"$f":"IF(Base_Arbres!B705<>\"\",VLOOKUP($A705,Base_Arbres,7,FALSE)*Crit5,\"\")","v":""},{"$f":"IF(Base_Arbres!C705<>\"\",VLOOKUP($A705,Base_Arbres,8,FALSE)*crit8,\"\")","v":""},{"$f":"IF(Base_Arbres!D705<>\"\",VLOOKUP($A705,Base_Arbres,9,FALSE)*crit9,\"\")","v":""},{"$f":"IF(ISNA(VLOOKUP(INDEX(Base_Typologie!$A$6:$P$1003,MATCH(A705,Base_Typologie!$A:$A,0)-5,MATCH(Typologie_Espace_Public,Base_Typologie!$6:$6,0)),TableauScoreTypologie2,2,FALSE)*Crit6),0,VLOOKUP(INDEX(Base_Typologie!$A$6:$P$1003,MATCH(A705,Base_Typologie!$A:$A,0)-5,MATCH(Typologie_Espace_Public,Base_Typologie!$6:$6,0)),TableauScoreTypologie2,2,FALSE)*Crit6)","v":0},0,0,0,0,0,0,0,0,0,0,0,0,null,{"$f":"IF(Base_Arbres!A808<>\"\",VLOOKUP($A705,Base_Arbres,4,FALSE)*Crit7,\"\")","v":""}]
[{"$f":"IF(Base_Arbres!A752<>\"\",Base_Arbres!A752,\"\")","v":""},{"$f":"IF(Base_Arbres!A752<>\"\",VLOOKUP($A706,Base_Arbres,3,FALSE)*Crit1,\"\")","v":""},{"$f":"IF(Base_Arbres!A752<>\"\",VLOOKUP($A706,Base_Arbres,4,FALSE)*Crit2,\"\")","v":""},{"$f":"IF(Base_Arbres!A752<>\"\",VLOOKUP($A706,Base_Arbres,5,FALSE)*Crit3,\"\")","v":""},{"$f":"IF(Base_Arbres!A752<>\"\",VLOOKUP($A706,Base_Arbres,6,FALSE)*Crit4,\"\")","v":""},{"$f":"IF(Base_Arbres!B706<>\"\",VLOOKUP($A706,Base_Arbres,7,FALSE)*Crit5,\"\")","v":""},{"$f":"IF(Base_Arbres!C706<>\"\",VLOOKUP($A706,Base_Arbres,8,FALSE)*crit8,\"\")","v":""},{"$f":"IF(Base_Arbres!D706<>\"\",VLOOKUP($A706,Base_Arbres,9,FALSE)*crit9,\"\")","v":""},{"$f":"IF(ISNA(VLOOKUP(INDEX(Base_Typologie!$A$6:$P$1003,MATCH(A706,Base_Typologie!$A:$A,0)-5,MATCH(Typologie_Espace_Public,Base_Typologie!$6:$6,0)),TableauScoreTypologie2,2,FALSE)*Crit6),0,VLOOKUP(INDEX(Base_Typologie!$A$6:$P$1003,MATCH(A706,Base_Typologie!$A:$A,0)-5,MATCH(Typologie_Espace_Public,Base_Typologie!$6:$6,0)),TableauScoreTypologie2,2,FALSE)*Crit6)","v":0},{"$f":"IF(A706<>\"\",IF(LEFT(VLOOKUP($A706,Base_Arbres,10,FALSE),1)>=LEFT(Cont_Racines,1),0,1),0)","v":0},{"$f":"IF(A706<>\"\",IF(LEFT(VLOOKUP($A706,Base_Arbres,11,FALSE),1)>=LEFT(Cont_Branches,1),0,1),0)","v":0},{"$f":"IF(A706<>\"\",IF(LEFT(VLOOKUP($A706,Base_Arbres,12,FALSE),1)>=LEFT(Cont_Chablis,1),0,1),0)","v":0},{"$f":"IF(A706<>\"\",IF(LEFT(VLOOKUP($A706,Base_Arbres,13,FALSE),1)>=LEFT(Cont_Fructifications,1),0,1),0)","v":0},{"$f":"IF(A706<>\"\",IF(LEFT(VLOOKUP($A706,Base_Arbres,14,FALSE),1)>=LEFT(Cont_Miellat,1),0,1),0)","v":0},{"$f":"IF(A706<>\"\",IF(LEFT(VLOOKUP($A706,Base_Arbres,15,FALSE),1)>=LEFT(Cont_Fruits_Toxiques,1),0,1),0)","v":0},{"$f":"IF(A706<>\"\",IF(LEFT(VLOOKUP($A706,Base_Arbres,16,FALSE),1)>=LEFT(Cont_Hauteur,1),0,1),0)","v":0},{"$f":"IF(A706<>\"\",IF(LEFT(VLOOKUP($A706,Base_Arbres,17,FALSE),1)>=LEFT(Cont_Envergure,1),0,1),0)","v":0},{"$f":"IF(A706<>\"\",IF(LEFT(VLOOKUP($A706,Base_Arbres,18,FALSE),1)>=LEFT(Cont_pollen,1),0,1),0)","v":0},{"$f":"IF(B706<>\"\",IF(LEFT(VLOOKUP($A706,Base_Arbres,19,FALSE),1)>=LEFT(Cont_malodo,1),0,1),0)","v":0},{"$f":"IF(A706<>\"\",IF(LEFT(VLOOKUP($A706,Base_Arbres,20,FALSE),1)>=LEFT(Cont_chenilles,1),0,1),0)","v":0},{"$f":"IF(A706<>\"\",IF(LEFT(VLOOKUP($A706,Base_Arbres,21,FALSE),1)>=LEFT(Cont_epineux,1),0,1),0)","v":0},null,{"$f":"IF(Base_Arbres!A809<>\"\",VLOOKUP($A706,Base_Arbres,4,FALSE)*Crit7,\"\")","v":""}]
[{"$f":"IF(Base_Arbres!A753<>\"\",Base_Arbres!A753,\"\")","v":""},{"$f":"IF(Base_Arbres!A753<>\"\",VLOOKUP($A707,Base_Arbres,3,FALSE)*Crit1,\"\")","v":""},{"$f":"IF(Base_Arbres!A753<>\"\",VLOOKUP($A707,Base_Arbres,4,FALSE)*Crit2,\"\")","v":""},{"$f":"IF(Base_Arbres!A753<>\"\",VLOOKUP($A707,Base_Arbres,5,FALSE)*Crit3,\"\")","v":""},{"$f":"IF(Base_Arbres!A753<>\"\",VLOOKUP($A707,Base_Arbres,6,FALSE)*Crit4,\"\")","v":""},{"$f":"IF(Base_Arbres!B707<>\"\",VLOOKUP($A707,Base_Arbres,7,FALSE)*Crit5,\"\")","v":""},{"$f":"IF(Base_Arbres!C707<>\"\",VLOOKUP($A707,Base_Arbres,8,FALSE)*crit8,\"\")","v":""},{"$f":"IF(Base_Arbres!D707<>\"\",VLOOKUP($A707,Base_Arbres,9,FALSE)*crit9,\"\")","v":""},{"$f":"IF(ISNA(VLOOKUP(INDEX(Base_Typologie!$A$6:$P$1003,MATCH(A707,Base_Typologie!$A:$A,0)-5,MATCH(Typologie_Espace_Public,Base_Typologie!$6:$6,0)),TableauScoreTypologie2,2,FALSE)*Crit6),0,VLOOKUP(INDEX(Base_Typologie!$A$6:$P$1003,MATCH(A707,Base_Typologie!$A:$A,0)-5,MATCH(Typologie_Espace_Public,Base_Typologie!$6:$6,0)),TableauScoreTypologie2,2,FALSE)*Crit6)","v":0},0,0,0,0,0,0,0,0,0,0,0,0,null,{"$f":"IF(Base_Arbres!A810<>\"\",VLOOKUP($A707,Base_Arbres,4,FALSE)*Crit7,\"\")","v":""}]
[{"$f":"IF(Base_Arbres!A754<>\"\",Base_Arbres!A754,\"\")","v":""},{"$f":"IF(Base_Arbres!A754<>\"\",VLOOKUP($A708,Base_Arbres,3,FALSE)*Crit1,\"\")","v":""},{"$f":"IF(Base_Arbres!A754<>\"\",VLOOKUP($A708,Base_Arbres,4,FALSE)*Crit2,\"\")","v":""},{"$f":"IF(Base_Arbres!A754<>\"\",VLOOKUP($A708,Base_Arbres,5,FALSE)*Crit3,\"\")","v":""},{"$f":"IF(Base_Arbres!A754<>\"\",VLOOKUP($A708,Base_Arbres,6,FALSE)*Crit4,\"\")","v":""},{"$f":"IF(Base_Arbres!B708<>\"\",VLOOKUP($A708,Base_Arbres,7,FALSE)*Crit5,\"\")","v":""},{"$f":"IF(Base_Arbres!C708<>\"\",VLOOKUP($A708,Base_Arbres,8,FALSE)*crit8,\"\")","v":""},{"$f":"IF(Base_Arbres!D708<>\"\",VLOOKUP($A708,Base_Arbres,9,FALSE)*crit9,\"\")","v":""},{"$f":"IF(ISNA(VLOOKUP(INDEX(Base_Typologie!$A$6:$P$1003,MATCH(A708,Base_Typologie!$A:$A,0)-5,MATCH(Typologie_Espace_Public,Base_Typologie!$6:$6,0)),TableauScoreTypologie2,2,FALSE)*Crit6),0,VLOOKUP(INDEX(Base_Typologie!$A$6:$P$1003,MATCH(A708,Base_Typologie!$A:$A,0)-5,MATCH(Typologie_Espace_Public,Base_Typologie!$6:$6,0)),TableauScoreTypologie2,2,FALSE)*Crit6)","v":0},0,0,0,0,0,0,0,0,0,0,0,0,null,{"$f":"IF(Base_Arbres!A811<>\"\",VLOOKUP($A708,Base_Arbres,4,FALSE)*Crit7,\"\")","v":""}]
[{"$f":"IF(Base_Arbres!A755<>\"\",Base_Arbres!A755,\"\")","v":""},{"$f":"IF(Base_Arbres!A755<>\"\",VLOOKUP($A709,Base_Arbres,3,FALSE)*Crit1,\"\")","v":""},{"$f":"IF(Base_Arbres!A755<>\"\",VLOOKUP($A709,Base_Arbres,4,FALSE)*Crit2,\"\")","v":""},{"$f":"IF(Base_Arbres!A755<>\"\",VLOOKUP($A709,Base_Arbres,5,FALSE)*Crit3,\"\")","v":""},{"$f":"IF(Base_Arbres!A755<>\"\",VLOOKUP($A709,Base_Arbres,6,FALSE)*Crit4,\"\")","v":""},{"$f":"IF(Base_Arbres!B709<>\"\",VLOOKUP($A709,Base_Arbres,7,FALSE)*Crit5,\"\")","v":""},{"$f":"IF(Base_Arbres!C709<>\"\",VLOOKUP($A709,Base_Arbres,8,FALSE)*crit8,\"\")","v":""},{"$f":"IF(Base_Arbres!D709<>\"\",VLOOKUP($A709,Base_Arbres,9,FALSE)*crit9,\"\")","v":""},{"$f":"IF(ISNA(VLOOKUP(INDEX(Base_Typologie!$A$6:$P$1003,MATCH(A709,Base_Typologie!$A:$A,0)-5,MATCH(Typologie_Espace_Public,Base_Typologie!$6:$6,0)),TableauScoreTypologie2,2,FALSE)*Crit6),0,VLOOKUP(INDEX(Base_Typologie!$A$6:$P$1003,MATCH(A709,Base_Typologie!$A:$A,0)-5,MATCH(Typologie_Espace_Public,Base_Typologie!$6:$6,0)),TableauScoreTypologie2,2,FALSE)*Crit6)","v":0},0,0,0,0,0,0,0,0,0,0,0,0,null,{"$f":"IF(Base_Arbres!A812<>\"\",VLOOKUP($A709,Base_Arbres,4,FALSE)*Crit7,\"\")","v":""}]
[{"$f":"IF(Base_Arbres!A756<>\"\",Base_Arbres!A756,\"\")","v":""},{"$f":"IF(Base_Arbres!A756<>\"\",VLOOKUP($A710,Base_Arbres,3,FALSE)*Crit1,\"\")","v":""},{"$f":"IF(Base_Arbres!A756<>\"\",VLOOKUP($A710,Base_Arbres,4,FALSE)*Crit2,\"\")","v":""},{"$f":"IF(Base_Arbres!A756<>\"\",VLOOKUP($A710,Base_Arbres,5,FALSE)*Crit3,\"\")","v":""},{"$f":"IF(Base_Arbres!A756<>\"\",VLOOKUP($A710,Base_Arbres,6,FALSE)*Crit4,\"\")","v":""},{"$f":"IF(Base_Arbres!B710<>\"\",VLOOKUP($A710,Base_Arbres,7,FALSE)*Crit5,\"\")","v":""},{"$f":"IF(Base_Arbres!C710<>\"\",VLOOKUP($A710,Base_Arbres,8,FALSE)*crit8,\"\")","v":""},{"$f":"IF(Base_Arbres!D710<>\"\",VLOOKUP($A710,Base_Arbres,9,FALSE)*crit9,\"\")","v":""},{"$f":"IF(ISNA(VLOOKUP(INDEX(Base_Typologie!$A$6:$P$1003,MATCH(A710,Base_Typologie!$A:$A,0)-5,MATCH(Typologie_Espace_Public,Base_Typologie!$6:$6,0)),TableauScoreTypologie2,2,FALSE)*Crit6),0,VLOOKUP(INDEX(Base_Typologie!$A$6:$P$1003,MATCH(A710,Base_Typologie!$A:$A,0)-5,MATCH(Typologie_Espace_Public,Base_Typologie!$6:$6,0)),TableauScoreTypologie2,2,FALSE)*Crit6)","v":0},0,0,0,0,0,0,0,0,0,0,0,0,null,{"$f":"IF(Base_Arbres!A813<>\"\",VLOOKUP($A710,Base_Arbres,4,FALSE)*Crit7,\"\")","v":""}]
[{"$f":"IF(Base_Arbres!A757<>\"\",Base_Arbres!A757,\"\")","v":""},{"$f":"IF(Base_Arbres!A757<>\"\",VLOOKUP($A711,Base_Arbres,3,FALSE)*Crit1,\"\")","v":""},{"$f":"IF(Base_Arbres!A757<>\"\",VLOOKUP($A711,Base_Arbres,4,FALSE)*Crit2,\"\")","v":""},{"$f":"IF(Base_Arbres!A757<>\"\",VLOOKUP($A711,Base_Arbres,5,FALSE)*Crit3,\"\")","v":""},{"$f":"IF(Base_Arbres!A757<>\"\",VLOOKUP($A711,Base_Arbres,6,FALSE)*Crit4,\"\")","v":""},{"$f":"IF(Base_Arbres!B711<>\"\",VLOOKUP($A711,Base_Arbres,7,FALSE)*Crit5,\"\")","v":""},{"$f":"IF(Base_Arbres!C711<>\"\",VLOOKUP($A711,Base_Arbres,8,FALSE)*crit8,\"\")","v":""},{"$f":"IF(Base_Arbres!D711<>\"\",VLOOKUP($A711,Base_Arbres,9,FALSE)*crit9,\"\")","v":""},{"$f":"IF(ISNA(VLOOKUP(INDEX(Base_Typologie!$A$6:$P$1003,MATCH(A711,Base_Typologie!$A:$A,0)-5,MATCH(Typologie_Espace_Public,Base_Typologie!$6:$6,0)),TableauScoreTypologie2,2,FALSE)*Crit6),0,VLOOKUP(INDEX(Base_Typologie!$A$6:$P$1003,MATCH(A711,Base_Typologie!$A:$A,0)-5,MATCH(Typologie_Espace_Public,Base_Typologie!$6:$6,0)),TableauScoreTypologie2,2,FALSE)*Crit6)","v":0},0,0,0,0,0,0,0,0,0,0,0,0,null,{"$f":"IF(Base_Arbres!A814<>\"\",VLOOKUP($A711,Base_Arbres,4,FALSE)*Crit7,\"\")","v":""}]
[{"$f":"IF(Base_Arbres!A758<>\"\",Base_Arbres!A758,\"\")","v":""},{"$f":"IF(Base_Arbres!A758<>\"\",VLOOKUP($A712,Base_Arbres,3,FALSE)*Crit1,\"\")","v":""},{"$f":"IF(Base_Arbres!A758<>\"\",VLOOKUP($A712,Base_Arbres,4,FALSE)*Crit2,\"\")","v":""},{"$f":"IF(Base_Arbres!A758<>\"\",VLOOKUP($A712,Base_Arbres,5,FALSE)*Crit3,\"\")","v":""},{"$f":"IF(Base_Arbres!A758<>\"\",VLOOKUP($A712,Base_Arbres,6,FALSE)*Crit4,\"\")","v":""},{"$f":"IF(Base_Arbres!B712<>\"\",VLOOKUP($A712,Base_Arbres,7,FALSE)*Crit5,\"\")","v":""},{"$f":"IF(Base_Arbres!C712<>\"\",VLOOKUP($A712,Base_Arbres,8,FALSE)*crit8,\"\")","v":""},{"$f":"IF(Base_Arbres!D712<>\"\",VLOOKUP($A712,Base_Arbres,9,FALSE)*crit9,\"\")","v":""},{"$f":"IF(ISNA(VLOOKUP(INDEX(Base_Typologie!$A$6:$P$1003,MATCH(A712,Base_Typologie!$A:$A,0)-5,MATCH(Typologie_Espace_Public,Base_Typologie!$6:$6,0)),TableauScoreTypologie2,2,FALSE)*Crit6),0,VLOOKUP(INDEX(Base_Typologie!$A$6:$P$1003,MATCH(A712,Base_Typologie!$A:$A,0)-5,MATCH(Typologie_Espace_Public,Base_Typologie!$6:$6,0)),TableauScoreTypologie2,2,FALSE)*Crit6)","v":0},0,0,0,0,0,0,0,0,0,0,0,0,null,{"$f":"IF(Base_Arbres!A815<>\"\",VLOOKUP($A712,Base_Arbres,4,FALSE)*Crit7,\"\")","v":""}]
[{"$f":"IF(Base_Arbres!A759<>\"\",Base_Arbres!A759,\"\")","v":""},{"$f":"IF(Base_Arbres!A759<>\"\",VLOOKUP($A713,Base_Arbres,3,FALSE)*Crit1,\"\")","v":""},{"$f":"IF(Base_Arbres!A759<>\"\",VLOOKUP($A713,Base_Arbres,4,FALSE)*Crit2,\"\")","v":""},{"$f":"IF(Base_Arbres!A759<>\"\",VLOOKUP($A713,Base_Arbres,5,FALSE)*Crit3,\"\")","v":""},{"$f":"IF(Base_Arbres!A759<>\"\",VLOOKUP($A713,Base_Arbres,6,FALSE)*Crit4,\"\")","v":""},{"$f":"IF(Base_Arbres!B713<>\"\",VLOOKUP($A713,Base_Arbres,7,FALSE)*Crit5,\"\")","v":""},{"$f":"IF(Base_Arbres!C713<>\"\",VLOOKUP($A713,Base_Arbres,8,FALSE)*crit8,\"\")","v":""},{"$f":"IF(Base_Arbres!D713<>\"\",VLOOKUP($A713,Base_Arbres,9,FALSE)*crit9,\"\")","v":""},{"$f":"IF(ISNA(VLOOKUP(INDEX(Base_Typologie!$A$6:$P$1003,MATCH(A713,Base_Typologie!$A:$A,0)-5,MATCH(Typologie_Espace_Public,Base_Typologie!$6:$6,0)),TableauScoreTypologie2,2,FALSE)*Crit6),0,VLOOKUP(INDEX(Base_Typologie!$A$6:$P$1003,MATCH(A713,Base_Typologie!$A:$A,0)-5,MATCH(Typologie_Espace_Public,Base_Typologie!$6:$6,0)),TableauScoreTypologie2,2,FALSE)*Crit6)","v":0},0,0,0,0,0,0,0,0,0,0,0,0,null,{"$f":"IF(Base_Arbres!A816<>\"\",VLOOKUP($A713,Base_Arbres,4,FALSE)*Crit7,\"\")","v":""}]
[{"$f":"IF(Base_Arbres!A760<>\"\",Base_Arbres!A760,\"\")","v":""},{"$f":"IF(Base_Arbres!A760<>\"\",VLOOKUP($A714,Base_Arbres,3,FALSE)*Crit1,\"\")","v":""},{"$f":"IF(Base_Arbres!A760<>\"\",VLOOKUP($A714,Base_Arbres,4,FALSE)*Crit2,\"\")","v":""},{"$f":"IF(Base_Arbres!A760<>\"\",VLOOKUP($A714,Base_Arbres,5,FALSE)*Crit3,\"\")","v":""},{"$f":"IF(Base_Arbres!A760<>\"\",VLOOKUP($A714,Base_Arbres,6,FALSE)*Crit4,\"\")","v":""},{"$f":"IF(Base_Arbres!B714<>\"\",VLOOKUP($A714,Base_Arbres,7,FALSE)*Crit5,\"\")","v":""},{"$f":"IF(Base_Arbres!C714<>\"\",VLOOKUP($A714,Base_Arbres,8,FALSE)*crit8,\"\")","v":""},{"$f":"IF(Base_Arbres!D714<>\"\",VLOOKUP($A714,Base_Arbres,9,FALSE)*crit9,\"\")","v":""},{"$f":"IF(ISNA(VLOOKUP(INDEX(Base_Typologie!$A$6:$P$1003,MATCH(A714,Base_Typologie!$A:$A,0)-5,MATCH(Typologie_Espace_Public,Base_Typologie!$6:$6,0)),TableauScoreTypologie2,2,FALSE)*Crit6),0,VLOOKUP(INDEX(Base_Typologie!$A$6:$P$1003,MATCH(A714,Base_Typologie!$A:$A,0)-5,MATCH(Typologie_Espace_Public,Base_Typologie!$6:$6,0)),TableauScoreTypologie2,2,FALSE)*Crit6)","v":0},0,0,0,0,0,0,0,0,0,0,0,0,null,{"$f":"IF(Base_Arbres!A817<>\"\",VLOOKUP($A714,Base_Arbres,4,FALSE)*Crit7,\"\")","v":""}]
[{"$f":"IF(Base_Arbres!A761<>\"\",Base_Arbres!A761,\"\")","v":""},{"$f":"IF(Base_Arbres!A761<>\"\",VLOOKUP($A715,Base_Arbres,3,FALSE)*Crit1,\"\")","v":""},{"$f":"IF(Base_Arbres!A761<>\"\",VLOOKUP($A715,Base_Arbres,4,FALSE)*Crit2,\"\")","v":""},{"$f":"IF(Base_Arbres!A761<>\"\",VLOOKUP($A715,Base_Arbres,5,FALSE)*Crit3,\"\")","v":""},{"$f":"IF(Base_Arbres!A761<>\"\",VLOOKUP($A715,Base_Arbres,6,FALSE)*Crit4,\"\")","v":""},{"$f":"IF(Base_Arbres!B715<>\"\",VLOOKUP($A715,Base_Arbres,7,FALSE)*Crit5,\"\")","v":""},{"$f":"IF(Base_Arbres!C715<>\"\",VLOOKUP($A715,Base_Arbres,8,FALSE)*crit8,\"\")","v":""},{"$f":"IF(Base_Arbres!D715<>\"\",VLOOKUP($A715,Base_Arbres,9,FALSE)*crit9,\"\")","v":""},{"$f":"IF(ISNA(VLOOKUP(INDEX(Base_Typologie!$A$6:$P$1003,MATCH(A715,Base_Typologie!$A:$A,0)-5,MATCH(Typologie_Espace_Public,Base_Typologie!$6:$6,0)),TableauScoreTypologie2,2,FALSE)*Crit6),0,VLOOKUP(INDEX(Base_Typologie!$A$6:$P$1003,MATCH(A715,Base_Typologie!$A:$A,0)-5,MATCH(Typologie_Espace_Public,Base_Typologie!$6:$6,0)),TableauScoreTypologie2,2,FALSE)*Crit6)","v":0},0,0,0,0,0,0,0,0,0,0,0,0,null,{"$f":"IF(Base_Arbres!A818<>\"\",VLOOKUP($A715,Base_Arbres,4,FALSE)*Crit7,\"\")","v":""}]
[{"$f":"IF(Base_Arbres!A762<>\"\",Base_Arbres!A762,\"\")","v":""},{"$f":"IF(Base_Arbres!A762<>\"\",VLOOKUP($A716,Base_Arbres,3,FALSE)*Crit1,\"\")","v":""},{"$f":"IF(Base_Arbres!A762<>\"\",VLOOKUP($A716,Base_Arbres,4,FALSE)*Crit2,\"\")","v":""},{"$f":"IF(Base_Arbres!A762<>\"\",VLOOKUP($A716,Base_Arbres,5,FALSE)*Crit3,\"\")","v":""},{"$f":"IF(Base_Arbres!A762<>\"\",VLOOKUP($A716,Base_Arbres,6,FALSE)*Crit4,\"\")","v":""},{"$f":"IF(Base_Arbres!B716<>\"\",VLOOKUP($A716,Base_Arbres,7,FALSE)*Crit5,\"\")","v":""},{"$f":"IF(Base_Arbres!C716<>\"\",VLOOKUP($A716,Base_Arbres,8,FALSE)*crit8,\"\")","v":""},{"$f":"IF(Base_Arbres!D716<>\"\",VLOOKUP($A716,Base_Arbres,9,FALSE)*crit9,\"\")","v":""},{"$f":"IF(ISNA(VLOOKUP(INDEX(Base_Typologie!$A$6:$P$1003,MATCH(A716,Base_Typologie!$A:$A,0)-5,MATCH(Typologie_Espace_Public,Base_Typologie!$6:$6,0)),TableauScoreTypologie2,2,FALSE)*Crit6),0,VLOOKUP(INDEX(Base_Typologie!$A$6:$P$1003,MATCH(A716,Base_Typologie!$A:$A,0)-5,MATCH(Typologie_Espace_Public,Base_Typologie!$6:$6,0)),TableauScoreTypologie2,2,FALSE)*Crit6)","v":0},0,0,0,0,0,0,0,0,0,0,0,0,null,{"$f":"IF(Base_Arbres!A819<>\"\",VLOOKUP($A716,Base_Arbres,4,FALSE)*Crit7,\"\")","v":""}]
[{"$f":"IF(Base_Arbres!A763<>\"\",Base_Arbres!A763,\"\")","v":""},{"$f":"IF(Base_Arbres!A763<>\"\",VLOOKUP($A717,Base_Arbres,3,FALSE)*Crit1,\"\")","v":""},{"$f":"IF(Base_Arbres!A763<>\"\",VLOOKUP($A717,Base_Arbres,4,FALSE)*Crit2,\"\")","v":""},{"$f":"IF(Base_Arbres!A763<>\"\",VLOOKUP($A717,Base_Arbres,5,FALSE)*Crit3,\"\")","v":""},{"$f":"IF(Base_Arbres!A763<>\"\",VLOOKUP($A717,Base_Arbres,6,FALSE)*Crit4,\"\")","v":""},{"$f":"IF(Base_Arbres!B717<>\"\",VLOOKUP($A717,Base_Arbres,7,FALSE)*Crit5,\"\")","v":""},{"$f":"IF(Base_Arbres!C717<>\"\",VLOOKUP($A717,Base_Arbres,8,FALSE)*crit8,\"\")","v":""},{"$f":"IF(Base_Arbres!D717<>\"\",VLOOKUP($A717,Base_Arbres,9,FALSE)*crit9,\"\")","v":""},{"$f":"IF(ISNA(VLOOKUP(INDEX(Base_Typologie!$A$6:$P$1003,MATCH(A717,Base_Typologie!$A:$A,0)-5,MATCH(Typologie_Espace_Public,Base_Typologie!$6:$6,0)),TableauScoreTypologie2,2,FALSE)*Crit6),0,VLOOKUP(INDEX(Base_Typologie!$A$6:$P$1003,MATCH(A717,Base_Typologie!$A:$A,0)-5,MATCH(Typologie_Espace_Public,Base_Typologie!$6:$6,0)),TableauScoreTypologie2,2,FALSE)*Crit6)","v":0},0,0,0,0,0,0,0,0,0,0,0,0,null,{"$f":"IF(Base_Arbres!A820<>\"\",VLOOKUP($A717,Base_Arbres,4,FALSE)*Crit7,\"\")","v":""}]
[{"$f":"IF(Base_Arbres!A764<>\"\",Base_Arbres!A764,\"\")","v":""},{"$f":"IF(Base_Arbres!A764<>\"\",VLOOKUP($A718,Base_Arbres,3,FALSE)*Crit1,\"\")","v":""},{"$f":"IF(Base_Arbres!A764<>\"\",VLOOKUP($A718,Base_Arbres,4,FALSE)*Crit2,\"\")","v":""},{"$f":"IF(Base_Arbres!A764<>\"\",VLOOKUP($A718,Base_Arbres,5,FALSE)*Crit3,\"\")","v":""},{"$f":"IF(Base_Arbres!A764<>\"\",VLOOKUP($A718,Base_Arbres,6,FALSE)*Crit4,\"\")","v":""},{"$f":"IF(Base_Arbres!B718<>\"\",VLOOKUP($A718,Base_Arbres,7,FALSE)*Crit5,\"\")","v":""},{"$f":"IF(Base_Arbres!C718<>\"\",VLOOKUP($A718,Base_Arbres,8,FALSE)*crit8,\"\")","v":""},{"$f":"IF(Base_Arbres!D718<>\"\",VLOOKUP($A718,Base_Arbres,9,FALSE)*crit9,\"\")","v":""},{"$f":"IF(ISNA(VLOOKUP(INDEX(Base_Typologie!$A$6:$P$1003,MATCH(A718,Base_Typologie!$A:$A,0)-5,MATCH(Typologie_Espace_Public,Base_Typologie!$6:$6,0)),TableauScoreTypologie2,2,FALSE)*Crit6),0,VLOOKUP(INDEX(Base_Typologie!$A$6:$P$1003,MATCH(A718,Base_Typologie!$A:$A,0)-5,MATCH(Typologie_Espace_Public,Base_Typologie!$6:$6,0)),TableauScoreTypologie2,2,FALSE)*Crit6)","v":0},0,0,0,0,0,0,0,0,0,0,0,0,null,{"$f":"IF(Base_Arbres!A821<>\"\",VLOOKUP($A718,Base_Arbres,4,FALSE)*Crit7,\"\")","v":""}]
[{"$f":"IF(Base_Arbres!A765<>\"\",Base_Arbres!A765,\"\")","v":""},{"$f":"IF(Base_Arbres!A765<>\"\",VLOOKUP($A719,Base_Arbres,3,FALSE)*Crit1,\"\")","v":""},{"$f":"IF(Base_Arbres!A765<>\"\",VLOOKUP($A719,Base_Arbres,4,FALSE)*Crit2,\"\")","v":""},{"$f":"IF(Base_Arbres!A765<>\"\",VLOOKUP($A719,Base_Arbres,5,FALSE)*Crit3,\"\")","v":""},{"$f":"IF(Base_Arbres!A765<>\"\",VLOOKUP($A719,Base_Arbres,6,FALSE)*Crit4,\"\")","v":""},{"$f":"IF(Base_Arbres!B719<>\"\",VLOOKUP($A719,Base_Arbres,7,FALSE)*Crit5,\"\")","v":""},{"$f":"IF(Base_Arbres!C719<>\"\",VLOOKUP($A719,Base_Arbres,8,FALSE)*crit8,\"\")","v":""},{"$f":"IF(Base_Arbres!D719<>\"\",VLOOKUP($A719,Base_Arbres,9,FALSE)*crit9,\"\")","v":""},{"$f":"IF(ISNA(VLOOKUP(INDEX(Base_Typologie!$A$6:$P$1003,MATCH(A719,Base_Typologie!$A:$A,0)-5,MATCH(Typologie_Espace_Public,Base_Typologie!$6:$6,0)),TableauScoreTypologie2,2,FALSE)*Crit6),0,VLOOKUP(INDEX(Base_Typologie!$A$6:$P$1003,MATCH(A719,Base_Typologie!$A:$A,0)-5,MATCH(Typologie_Espace_Public,Base_Typologie!$6:$6,0)),TableauScoreTypologie2,2,FALSE)*Crit6)","v":0},0,0,0,0,0,0,0,0,0,0,0,0,null,{"$f":"IF(Base_Arbres!A822<>\"\",VLOOKUP($A719,Base_Arbres,4,FALSE)*Crit7,\"\")","v":""}]
[{"$f":"IF(Base_Arbres!A766<>\"\",Base_Arbres!A766,\"\")","v":""},{"$f":"IF(Base_Arbres!A766<>\"\",VLOOKUP($A720,Base_Arbres,3,FALSE)*Crit1,\"\")","v":""},{"$f":"IF(Base_Arbres!A766<>\"\",VLOOKUP($A720,Base_Arbres,4,FALSE)*Crit2,\"\")","v":""},{"$f":"IF(Base_Arbres!A766<>\"\",VLOOKUP($A720,Base_Arbres,5,FALSE)*Crit3,\"\")","v":""},{"$f":"IF(Base_Arbres!A766<>\"\",VLOOKUP($A720,Base_Arbres,6,FALSE)*Crit4,\"\")","v":""},{"$f":"IF(Base_Arbres!B720<>\"\",VLOOKUP($A720,Base_Arbres,7,FALSE)*Crit5,\"\")","v":""},{"$f":"IF(Base_Arbres!C720<>\"\",VLOOKUP($A720,Base_Arbres,8,FALSE)*crit8,\"\")","v":""},{"$f":"IF(Base_Arbres!D720<>\"\",VLOOKUP($A720,Base_Arbres,9,FALSE)*crit9,\"\")","v":""},{"$f":"IF(ISNA(VLOOKUP(INDEX(Base_Typologie!$A$6:$P$1003,MATCH(A720,Base_Typologie!$A:$A,0)-5,MATCH(Typologie_Espace_Public,Base_Typologie!$6:$6,0)),TableauScoreTypologie2,2,FALSE)*Crit6),0,VLOOKUP(INDEX(Base_Typologie!$A$6:$P$1003,MATCH(A720,Base_Typologie!$A:$A,0)-5,MATCH(Typologie_Espace_Public,Base_Typologie!$6:$6,0)),TableauScoreTypologie2,2,FALSE)*Crit6)","v":0},0,0,0,0,0,0,0,0,0,0,0,0,null,{"$f":"IF(Base_Arbres!A823<>\"\",VLOOKUP($A720,Base_Arbres,4,FALSE)*Crit7,\"\")","v":""}]
[{"$f":"IF(Base_Arbres!A767<>\"\",Base_Arbres!A767,\"\")","v":""},{"$f":"IF(Base_Arbres!A767<>\"\",VLOOKUP($A721,Base_Arbres,3,FALSE)*Crit1,\"\")","v":""},{"$f":"IF(Base_Arbres!A767<>\"\",VLOOKUP($A721,Base_Arbres,4,FALSE)*Crit2,\"\")","v":""},{"$f":"IF(Base_Arbres!A767<>\"\",VLOOKUP($A721,Base_Arbres,5,FALSE)*Crit3,\"\")","v":""},{"$f":"IF(Base_Arbres!A767<>\"\",VLOOKUP($A721,Base_Arbres,6,FALSE)*Crit4,\"\")","v":""},{"$f":"IF(Base_Arbres!B721<>\"\",VLOOKUP($A721,Base_Arbres,7,FALSE)*Crit5,\"\")","v":""},{"$f":"IF(Base_Arbres!C721<>\"\",VLOOKUP($A721,Base_Arbres,8,FALSE)*crit8,\"\")","v":""},{"$f":"IF(Base_Arbres!D721<>\"\",VLOOKUP($A721,Base_Arbres,9,FALSE)*crit9,\"\")","v":""},{"$f":"IF(ISNA(VLOOKUP(INDEX(Base_Typologie!$A$6:$P$1003,MATCH(A721,Base_Typologie!$A:$A,0)-5,MATCH(Typologie_Espace_Public,Base_Typologie!$6:$6,0)),TableauScoreTypologie2,2,FALSE)*Crit6),0,VLOOKUP(INDEX(Base_Typologie!$A$6:$P$1003,MATCH(A721,Base_Typologie!$A:$A,0)-5,MATCH(Typologie_Espace_Public,Base_Typologie!$6:$6,0)),TableauScoreTypologie2,2,FALSE)*Crit6)","v":0},0,0,0,0,0,0,0,0,0,0,0,0,null,{"$f":"IF(Base_Arbres!A824<>\"\",VLOOKUP($A721,Base_Arbres,4,FALSE)*Crit7,\"\")","v":""}]
[{"$f":"IF(Base_Arbres!A768<>\"\",Base_Arbres!A768,\"\")","v":""},{"$f":"IF(Base_Arbres!A768<>\"\",VLOOKUP($A722,Base_Arbres,3,FALSE)*Crit1,\"\")","v":""},{"$f":"IF(Base_Arbres!A768<>\"\",VLOOKUP($A722,Base_Arbres,4,FALSE)*Crit2,\"\")","v":""},{"$f":"IF(Base_Arbres!A768<>\"\",VLOOKUP($A722,Base_Arbres,5,FALSE)*Crit3,\"\")","v":""},{"$f":"IF(Base_Arbres!A768<>\"\",VLOOKUP($A722,Base_Arbres,6,FALSE)*Crit4,\"\")","v":""},{"$f":"IF(Base_Arbres!B722<>\"\",VLOOKUP($A722,Base_Arbres,7,FALSE)*Crit5,\"\")","v":""},{"$f":"IF(Base_Arbres!C722<>\"\",VLOOKUP($A722,Base_Arbres,8,FALSE)*crit8,\"\")","v":""},{"$f":"IF(Base_Arbres!D722<>\"\",VLOOKUP($A722,Base_Arbres,9,FALSE)*crit9,\"\")","v":""},{"$f":"IF(ISNA(VLOOKUP(INDEX(Base_Typologie!$A$6:$P$1003,MATCH(A722,Base_Typologie!$A:$A,0)-5,MATCH(Typologie_Espace_Public,Base_Typologie!$6:$6,0)),TableauScoreTypologie2,2,FALSE)*Crit6),0,VLOOKUP(INDEX(Base_Typologie!$A$6:$P$1003,MATCH(A722,Base_Typologie!$A:$A,0)-5,MATCH(Typologie_Espace_Public,Base_Typologie!$6:$6,0)),TableauScoreTypologie2,2,FALSE)*Crit6)","v":0},0,0,0,0,0,0,0,0,0,0,0,0,null,{"$f":"IF(Base_Arbres!A825<>\"\",VLOOKUP($A722,Base_Arbres,4,FALSE)*Crit7,\"\")","v":""}]
[{"$f":"IF(Base_Arbres!A769<>\"\",Base_Arbres!A769,\"\")","v":""},{"$f":"IF(Base_Arbres!A769<>\"\",VLOOKUP($A723,Base_Arbres,3,FALSE)*Crit1,\"\")","v":""},{"$f":"IF(Base_Arbres!A769<>\"\",VLOOKUP($A723,Base_Arbres,4,FALSE)*Crit2,\"\")","v":""},{"$f":"IF(Base_Arbres!A769<>\"\",VLOOKUP($A723,Base_Arbres,5,FALSE)*Crit3,\"\")","v":""},{"$f":"IF(Base_Arbres!A769<>\"\",VLOOKUP($A723,Base_Arbres,6,FALSE)*Crit4,\"\")","v":""},{"$f":"IF(Base_Arbres!B723<>\"\",VLOOKUP($A723,Base_Arbres,7,FALSE)*Crit5,\"\")","v":""},{"$f":"IF(Base_Arbres!C723<>\"\",VLOOKUP($A723,Base_Arbres,8,FALSE)*crit8,\"\")","v":""},{"$f":"IF(Base_Arbres!D723<>\"\",VLOOKUP($A723,Base_Arbres,9,FALSE)*crit9,\"\")","v":""},{"$f":"IF(ISNA(VLOOKUP(INDEX(Base_Typologie!$A$6:$P$1003,MATCH(A723,Base_Typologie!$A:$A,0)-5,MATCH(Typologie_Espace_Public,Base_Typologie!$6:$6,0)),TableauScoreTypologie2,2,FALSE)*Crit6),0,VLOOKUP(INDEX(Base_Typologie!$A$6:$P$1003,MATCH(A723,Base_Typologie!$A:$A,0)-5,MATCH(Typologie_Espace_Public,Base_Typologie!$6:$6,0)),TableauScoreTypologie2,2,FALSE)*Crit6)","v":0},0,0,0,0,0,0,0,0,0,0,0,0,null,{"$f":"IF(Base_Arbres!A826<>\"\",VLOOKUP($A723,Base_Arbres,4,FALSE)*Crit7,\"\")","v":""}]
[{"$f":"IF(Base_Arbres!A770<>\"\",Base_Arbres!A770,\"\")","v":""},{"$f":"IF(Base_Arbres!A770<>\"\",VLOOKUP($A724,Base_Arbres,3,FALSE)*Crit1,\"\")","v":""},{"$f":"IF(Base_Arbres!A770<>\"\",VLOOKUP($A724,Base_Arbres,4,FALSE)*Crit2,\"\")","v":""},{"$f":"IF(Base_Arbres!A770<>\"\",VLOOKUP($A724,Base_Arbres,5,FALSE)*Crit3,\"\")","v":""},{"$f":"IF(Base_Arbres!A770<>\"\",VLOOKUP($A724,Base_Arbres,6,FALSE)*Crit4,\"\")","v":""},{"$f":"IF(Base_Arbres!B724<>\"\",VLOOKUP($A724,Base_Arbres,7,FALSE)*Crit5,\"\")","v":""},{"$f":"IF(Base_Arbres!C724<>\"\",VLOOKUP($A724,Base_Arbres,8,FALSE)*crit8,\"\")","v":""},{"$f":"IF(Base_Arbres!D724<>\"\",VLOOKUP($A724,Base_Arbres,9,FALSE)*crit9,\"\")","v":""},{"$f":"IF(ISNA(VLOOKUP(INDEX(Base_Typologie!$A$6:$P$1003,MATCH(A724,Base_Typologie!$A:$A,0)-5,MATCH(Typologie_Espace_Public,Base_Typologie!$6:$6,0)),TableauScoreTypologie2,2,FALSE)*Crit6),0,VLOOKUP(INDEX(Base_Typologie!$A$6:$P$1003,MATCH(A724,Base_Typologie!$A:$A,0)-5,MATCH(Typologie_Espace_Public,Base_Typologie!$6:$6,0)),TableauScoreTypologie2,2,FALSE)*Crit6)","v":0},0,0,0,0,0,0,0,0,0,0,0,0,null,{"$f":"IF(Base_Arbres!A827<>\"\",VLOOKUP($A724,Base_Arbres,4,FALSE)*Crit7,\"\")","v":""}]
[{"$f":"IF(Base_Arbres!A771<>\"\",Base_Arbres!A771,\"\")","v":""},{"$f":"IF(Base_Arbres!A771<>\"\",VLOOKUP($A725,Base_Arbres,3,FALSE)*Crit1,\"\")","v":""},{"$f":"IF(Base_Arbres!A771<>\"\",VLOOKUP($A725,Base_Arbres,4,FALSE)*Crit2,\"\")","v":""},{"$f":"IF(Base_Arbres!A771<>\"\",VLOOKUP($A725,Base_Arbres,5,FALSE)*Crit3,\"\")","v":""},{"$f":"IF(Base_Arbres!A771<>\"\",VLOOKUP($A725,Base_Arbres,6,FALSE)*Crit4,\"\")","v":""},{"$f":"IF(Base_Arbres!B725<>\"\",VLOOKUP($A725,Base_Arbres,7,FALSE)*Crit5,\"\")","v":""},{"$f":"IF(Base_Arbres!C725<>\"\",VLOOKUP($A725,Base_Arbres,8,FALSE)*crit8,\"\")","v":""},{"$f":"IF(Base_Arbres!D725<>\"\",VLOOKUP($A725,Base_Arbres,9,FALSE)*crit9,\"\")","v":""},{"$f":"IF(ISNA(VLOOKUP(INDEX(Base_Typologie!$A$6:$P$1003,MATCH(A725,Base_Typologie!$A:$A,0)-5,MATCH(Typologie_Espace_Public,Base_Typologie!$6:$6,0)),TableauScoreTypologie2,2,FALSE)*Crit6),0,VLOOKUP(INDEX(Base_Typologie!$A$6:$P$1003,MATCH(A725,Base_Typologie!$A:$A,0)-5,MATCH(Typologie_Espace_Public,Base_Typologie!$6:$6,0)),TableauScoreTypologie2,2,FALSE)*Crit6)","v":0},0,0,0,0,0,0,0,0,0,0,0,0,null,{"$f":"IF(Base_Arbres!A828<>\"\",VLOOKUP($A725,Base_Arbres,4,FALSE)*Crit7,\"\")","v":""}]
[{"$f":"IF(Base_Arbres!A772<>\"\",Base_Arbres!A772,\"\")","v":""},{"$f":"IF(Base_Arbres!A772<>\"\",VLOOKUP($A726,Base_Arbres,3,FALSE)*Crit1,\"\")","v":""},{"$f":"IF(Base_Arbres!A772<>\"\",VLOOKUP($A726,Base_Arbres,4,FALSE)*Crit2,\"\")","v":""},{"$f":"IF(Base_Arbres!A772<>\"\",VLOOKUP($A726,Base_Arbres,5,FALSE)*Crit3,\"\")","v":""},{"$f":"IF(Base_Arbres!A772<>\"\",VLOOKUP($A726,Base_Arbres,6,FALSE)*Crit4,\"\")","v":""},{"$f":"IF(Base_Arbres!B726<>\"\",VLOOKUP($A726,Base_Arbres,7,FALSE)*Crit5,\"\")","v":""},{"$f":"IF(Base_Arbres!C726<>\"\",VLOOKUP($A726,Base_Arbres,8,FALSE)*crit8,\"\")","v":""},{"$f":"IF(Base_Arbres!D726<>\"\",VLOOKUP($A726,Base_Arbres,9,FALSE)*crit9,\"\")","v":""},{"$f":"IF(ISNA(VLOOKUP(INDEX(Base_Typologie!$A$6:$P$1003,MATCH(A726,Base_Typologie!$A:$A,0)-5,MATCH(Typologie_Espace_Public,Base_Typologie!$6:$6,0)),TableauScoreTypologie2,2,FALSE)*Crit6),0,VLOOKUP(INDEX(Base_Typologie!$A$6:$P$1003,MATCH(A726,Base_Typologie!$A:$A,0)-5,MATCH(Typologie_Espace_Public,Base_Typologie!$6:$6,0)),TableauScoreTypologie2,2,FALSE)*Crit6)","v":0},0,0,0,0,0,0,0,0,0,0,0,0,null,{"$f":"IF(Base_Arbres!A829<>\"\",VLOOKUP($A726,Base_Arbres,4,FALSE)*Crit7,\"\")","v":""}]
[{"$f":"IF(Base_Arbres!A773<>\"\",Base_Arbres!A773,\"\")","v":""},{"$f":"IF(Base_Arbres!A773<>\"\",VLOOKUP($A727,Base_Arbres,3,FALSE)*Crit1,\"\")","v":""},{"$f":"IF(Base_Arbres!A773<>\"\",VLOOKUP($A727,Base_Arbres,4,FALSE)*Crit2,\"\")","v":""},{"$f":"IF(Base_Arbres!A773<>\"\",VLOOKUP($A727,Base_Arbres,5,FALSE)*Crit3,\"\")","v":""},{"$f":"IF(Base_Arbres!A773<>\"\",VLOOKUP($A727,Base_Arbres,6,FALSE)*Crit4,\"\")","v":""},{"$f":"IF(Base_Arbres!B727<>\"\",VLOOKUP($A727,Base_Arbres,7,FALSE)*Crit5,\"\")","v":""},{"$f":"IF(Base_Arbres!C727<>\"\",VLOOKUP($A727,Base_Arbres,8,FALSE)*crit8,\"\")","v":""},{"$f":"IF(Base_Arbres!D727<>\"\",VLOOKUP($A727,Base_Arbres,9,FALSE)*crit9,\"\")","v":""},{"$f":"IF(ISNA(VLOOKUP(INDEX(Base_Typologie!$A$6:$P$1003,MATCH(A727,Base_Typologie!$A:$A,0)-5,MATCH(Typologie_Espace_Public,Base_Typologie!$6:$6,0)),TableauScoreTypologie2,2,FALSE)*Crit6),0,VLOOKUP(INDEX(Base_Typologie!$A$6:$P$1003,MATCH(A727,Base_Typologie!$A:$A,0)-5,MATCH(Typologie_Espace_Public,Base_Typologie!$6:$6,0)),TableauScoreTypologie2,2,FALSE)*Crit6)","v":0},0,0,0,0,0,0,0,0,0,0,0,0,null,{"$f":"IF(Base_Arbres!A830<>\"\",VLOOKUP($A727,Base_Arbres,4,FALSE)*Crit7,\"\")","v":""}]
[{"$f":"IF(Base_Arbres!A774<>\"\",Base_Arbres!A774,\"\")","v":""},{"$f":"IF(Base_Arbres!A774<>\"\",VLOOKUP($A728,Base_Arbres,3,FALSE)*Crit1,\"\")","v":""},{"$f":"IF(Base_Arbres!A774<>\"\",VLOOKUP($A728,Base_Arbres,4,FALSE)*Crit2,\"\")","v":""},{"$f":"IF(Base_Arbres!A774<>\"\",VLOOKUP($A728,Base_Arbres,5,FALSE)*Crit3,\"\")","v":""},{"$f":"IF(Base_Arbres!A774<>\"\",VLOOKUP($A728,Base_Arbres,6,FALSE)*Crit4,\"\")","v":""},{"$f":"IF(Base_Arbres!B728<>\"\",VLOOKUP($A728,Base_Arbres,7,FALSE)*Crit5,\"\")","v":""},{"$f":"IF(Base_Arbres!C728<>\"\",VLOOKUP($A728,Base_Arbres,8,FALSE)*crit8,\"\")","v":""},{"$f":"IF(Base_Arbres!D728<>\"\",VLOOKUP($A728,Base_Arbres,9,FALSE)*crit9,\"\")","v":""},{"$f":"IF(ISNA(VLOOKUP(INDEX(Base_Typologie!$A$6:$P$1003,MATCH(A728,Base_Typologie!$A:$A,0)-5,MATCH(Typologie_Espace_Public,Base_Typologie!$6:$6,0)),TableauScoreTypologie2,2,FALSE)*Crit6),0,VLOOKUP(INDEX(Base_Typologie!$A$6:$P$1003,MATCH(A728,Base_Typologie!$A:$A,0)-5,MATCH(Typologie_Espace_Public,Base_Typologie!$6:$6,0)),TableauScoreTypologie2,2,FALSE)*Crit6)","v":0},0,0,0,0,0,0,0,0,0,0,0,0,null,{"$f":"IF(Base_Arbres!A831<>\"\",VLOOKUP($A728,Base_Arbres,4,FALSE)*Crit7,\"\")","v":""}]
[{"$f":"IF(Base_Arbres!A775<>\"\",Base_Arbres!A775,\"\")","v":""},{"$f":"IF(Base_Arbres!A775<>\"\",VLOOKUP($A729,Base_Arbres,3,FALSE)*Crit1,\"\")","v":""},{"$f":"IF(Base_Arbres!A775<>\"\",VLOOKUP($A729,Base_Arbres,4,FALSE)*Crit2,\"\")","v":""},{"$f":"IF(Base_Arbres!A775<>\"\",VLOOKUP($A729,Base_Arbres,5,FALSE)*Crit3,\"\")","v":""},{"$f":"IF(Base_Arbres!A775<>\"\",VLOOKUP($A729,Base_Arbres,6,FALSE)*Crit4,\"\")","v":""},{"$f":"IF(Base_Arbres!B729<>\"\",VLOOKUP($A729,Base_Arbres,7,FALSE)*Crit5,\"\")","v":""},{"$f":"IF(Base_Arbres!C729<>\"\",VLOOKUP($A729,Base_Arbres,8,FALSE)*crit8,\"\")","v":""},{"$f":"IF(Base_Arbres!D729<>\"\",VLOOKUP($A729,Base_Arbres,9,FALSE)*crit9,\"\")","v":""},{"$f":"IF(ISNA(VLOOKUP(INDEX(Base_Typologie!$A$6:$P$1003,MATCH(A729,Base_Typologie!$A:$A,0)-5,MATCH(Typologie_Espace_Public,Base_Typologie!$6:$6,0)),TableauScoreTypologie2,2,FALSE)*Crit6),0,VLOOKUP(INDEX(Base_Typologie!$A$6:$P$1003,MATCH(A729,Base_Typologie!$A:$A,0)-5,MATCH(Typologie_Espace_Public,Base_Typologie!$6:$6,0)),TableauScoreTypologie2,2,FALSE)*Crit6)","v":0},0,0,0,0,0,0,0,0,0,0,0,0,null,{"$f":"IF(Base_Arbres!A832<>\"\",VLOOKUP($A729,Base_Arbres,4,FALSE)*Crit7,\"\")","v":""}]
[{"$f":"IF(Base_Arbres!A776<>\"\",Base_Arbres!A776,\"\")","v":""},{"$f":"IF(Base_Arbres!A776<>\"\",VLOOKUP($A730,Base_Arbres,3,FALSE)*Crit1,\"\")","v":""},{"$f":"IF(Base_Arbres!A776<>\"\",VLOOKUP($A730,Base_Arbres,4,FALSE)*Crit2,\"\")","v":""},{"$f":"IF(Base_Arbres!A776<>\"\",VLOOKUP($A730,Base_Arbres,5,FALSE)*Crit3,\"\")","v":""},{"$f":"IF(Base_Arbres!A776<>\"\",VLOOKUP($A730,Base_Arbres,6,FALSE)*Crit4,\"\")","v":""},{"$f":"IF(Base_Arbres!B730<>\"\",VLOOKUP($A730,Base_Arbres,7,FALSE)*Crit5,\"\")","v":""},{"$f":"IF(Base_Arbres!C730<>\"\",VLOOKUP($A730,Base_Arbres,8,FALSE)*crit8,\"\")","v":""},{"$f":"IF(Base_Arbres!D730<>\"\",VLOOKUP($A730,Base_Arbres,9,FALSE)*crit9,\"\")","v":""},{"$f":"IF(ISNA(VLOOKUP(INDEX(Base_Typologie!$A$6:$P$1003,MATCH(A730,Base_Typologie!$A:$A,0)-5,MATCH(Typologie_Espace_Public,Base_Typologie!$6:$6,0)),TableauScoreTypologie2,2,FALSE)*Crit6),0,VLOOKUP(INDEX(Base_Typologie!$A$6:$P$1003,MATCH(A730,Base_Typologie!$A:$A,0)-5,MATCH(Typologie_Espace_Public,Base_Typologie!$6:$6,0)),TableauScoreTypologie2,2,FALSE)*Crit6)","v":0},0,0,0,0,0,0,0,0,0,0,0,0,null,{"$f":"IF(Base_Arbres!A833<>\"\",VLOOKUP($A730,Base_Arbres,4,FALSE)*Crit7,\"\")","v":""}]
[{"$f":"IF(Base_Arbres!A777<>\"\",Base_Arbres!A777,\"\")","v":""},{"$f":"IF(Base_Arbres!A777<>\"\",VLOOKUP($A731,Base_Arbres,3,FALSE)*Crit1,\"\")","v":""},{"$f":"IF(Base_Arbres!A777<>\"\",VLOOKUP($A731,Base_Arbres,4,FALSE)*Crit2,\"\")","v":""},{"$f":"IF(Base_Arbres!A777<>\"\",VLOOKUP($A731,Base_Arbres,5,FALSE)*Crit3,\"\")","v":""},{"$f":"IF(Base_Arbres!A777<>\"\",VLOOKUP($A731,Base_Arbres,6,FALSE)*Crit4,\"\")","v":""},{"$f":"IF(Base_Arbres!B731<>\"\",VLOOKUP($A731,Base_Arbres,7,FALSE)*Crit5,\"\")","v":""},{"$f":"IF(Base_Arbres!C731<>\"\",VLOOKUP($A731,Base_Arbres,8,FALSE)*crit8,\"\")","v":""},{"$f":"IF(Base_Arbres!D731<>\"\",VLOOKUP($A731,Base_Arbres,9,FALSE)*crit9,\"\")","v":""},{"$f":"IF(ISNA(VLOOKUP(INDEX(Base_Typologie!$A$6:$P$1003,MATCH(A731,Base_Typologie!$A:$A,0)-5,MATCH(Typologie_Espace_Public,Base_Typologie!$6:$6,0)),TableauScoreTypologie2,2,FALSE)*Crit6),0,VLOOKUP(INDEX(Base_Typologie!$A$6:$P$1003,MATCH(A731,Base_Typologie!$A:$A,0)-5,MATCH(Typologie_Espace_Public,Base_Typologie!$6:$6,0)),TableauScoreTypologie2,2,FALSE)*Crit6)","v":0},0,0,0,0,0,0,0,0,0,0,0,0,null,{"$f":"IF(Base_Arbres!A834<>\"\",VLOOKUP($A731,Base_Arbres,4,FALSE)*Crit7,\"\")","v":""}]
[{"$f":"IF(Base_Arbres!A778<>\"\",Base_Arbres!A778,\"\")","v":""},{"$f":"IF(Base_Arbres!A778<>\"\",VLOOKUP($A732,Base_Arbres,3,FALSE)*Crit1,\"\")","v":""},{"$f":"IF(Base_Arbres!A778<>\"\",VLOOKUP($A732,Base_Arbres,4,FALSE)*Crit2,\"\")","v":""},{"$f":"IF(Base_Arbres!A778<>\"\",VLOOKUP($A732,Base_Arbres,5,FALSE)*Crit3,\"\")","v":""},{"$f":"IF(Base_Arbres!A778<>\"\",VLOOKUP($A732,Base_Arbres,6,FALSE)*Crit4,\"\")","v":""},{"$f":"IF(Base_Arbres!B732<>\"\",VLOOKUP($A732,Base_Arbres,7,FALSE)*Crit5,\"\")","v":""},{"$f":"IF(Base_Arbres!C732<>\"\",VLOOKUP($A732,Base_Arbres,8,FALSE)*crit8,\"\")","v":""},{"$f":"IF(Base_Arbres!D732<>\"\",VLOOKUP($A732,Base_Arbres,9,FALSE)*crit9,\"\")","v":""},{"$f":"IF(ISNA(VLOOKUP(INDEX(Base_Typologie!$A$6:$P$1003,MATCH(A732,Base_Typologie!$A:$A,0)-5,MATCH(Typologie_Espace_Public,Base_Typologie!$6:$6,0)),TableauScoreTypologie2,2,FALSE)*Crit6),0,VLOOKUP(INDEX(Base_Typologie!$A$6:$P$1003,MATCH(A732,Base_Typologie!$A:$A,0)-5,MATCH(Typologie_Espace_Public,Base_Typologie!$6:$6,0)),TableauScoreTypologie2,2,FALSE)*Crit6)","v":0},0,0,0,0,0,0,0,0,0,0,0,0,null,{"$f":"IF(Base_Arbres!A835<>\"\",VLOOKUP($A732,Base_Arbres,4,FALSE)*Crit7,\"\")","v":""}]
[{"$f":"IF(Base_Arbres!A779<>\"\",Base_Arbres!A779,\"\")","v":""},{"$f":"IF(Base_Arbres!A779<>\"\",VLOOKUP($A733,Base_Arbres,3,FALSE)*Crit1,\"\")","v":""},{"$f":"IF(Base_Arbres!A779<>\"\",VLOOKUP($A733,Base_Arbres,4,FALSE)*Crit2,\"\")","v":""},{"$f":"IF(Base_Arbres!A779<>\"\",VLOOKUP($A733,Base_Arbres,5,FALSE)*Crit3,\"\")","v":""},{"$f":"IF(Base_Arbres!A779<>\"\",VLOOKUP($A733,Base_Arbres,6,FALSE)*Crit4,\"\")","v":""},{"$f":"IF(Base_Arbres!B733<>\"\",VLOOKUP($A733,Base_Arbres,7,FALSE)*Crit5,\"\")","v":""},{"$f":"IF(Base_Arbres!C733<>\"\",VLOOKUP($A733,Base_Arbres,8,FALSE)*crit8,\"\")","v":""},{"$f":"IF(Base_Arbres!D733<>\"\",VLOOKUP($A733,Base_Arbres,9,FALSE)*crit9,\"\")","v":""},{"$f":"IF(ISNA(VLOOKUP(INDEX(Base_Typologie!$A$6:$P$1003,MATCH(A733,Base_Typologie!$A:$A,0)-5,MATCH(Typologie_Espace_Public,Base_Typologie!$6:$6,0)),TableauScoreTypologie2,2,FALSE)*Crit6),0,VLOOKUP(INDEX(Base_Typologie!$A$6:$P$1003,MATCH(A733,Base_Typologie!$A:$A,0)-5,MATCH(Typologie_Espace_Public,Base_Typologie!$6:$6,0)),TableauScoreTypologie2,2,FALSE)*Crit6)","v":0},0,0,0,0,0,0,0,0,0,0,0,0,null,{"$f":"IF(Base_Arbres!A836<>\"\",VLOOKUP($A733,Base_Arbres,4,FALSE)*Crit7,\"\")","v":""}]
[{"$f":"IF(Base_Arbres!A780<>\"\",Base_Arbres!A780,\"\")","v":""},{"$f":"IF(Base_Arbres!A780<>\"\",VLOOKUP($A734,Base_Arbres,3,FALSE)*Crit1,\"\")","v":""},{"$f":"IF(Base_Arbres!A780<>\"\",VLOOKUP($A734,Base_Arbres,4,FALSE)*Crit2,\"\")","v":""},{"$f":"IF(Base_Arbres!A780<>\"\",VLOOKUP($A734,Base_Arbres,5,FALSE)*Crit3,\"\")","v":""},{"$f":"IF(Base_Arbres!A780<>\"\",VLOOKUP($A734,Base_Arbres,6,FALSE)*Crit4,\"\")","v":""},{"$f":"IF(Base_Arbres!B734<>\"\",VLOOKUP($A734,Base_Arbres,7,FALSE)*Crit5,\"\")","v":""},{"$f":"IF(Base_Arbres!C734<>\"\",VLOOKUP($A734,Base_Arbres,8,FALSE)*crit8,\"\")","v":""},{"$f":"IF(Base_Arbres!D734<>\"\",VLOOKUP($A734,Base_Arbres,9,FALSE)*crit9,\"\")","v":""},{"$f":"IF(ISNA(VLOOKUP(INDEX(Base_Typologie!$A$6:$P$1003,MATCH(A734,Base_Typologie!$A:$A,0)-5,MATCH(Typologie_Espace_Public,Base_Typologie!$6:$6,0)),TableauScoreTypologie2,2,FALSE)*Crit6),0,VLOOKUP(INDEX(Base_Typologie!$A$6:$P$1003,MATCH(A734,Base_Typologie!$A:$A,0)-5,MATCH(Typologie_Espace_Public,Base_Typologie!$6:$6,0)),TableauScoreTypologie2,2,FALSE)*Crit6)","v":0},0,0,0,0,0,0,0,0,0,0,0,0,null,{"$f":"IF(Base_Arbres!A837<>\"\",VLOOKUP($A734,Base_Arbres,4,FALSE)*Crit7,\"\")","v":""}]
[{"$f":"IF(Base_Arbres!A781<>\"\",Base_Arbres!A781,\"\")","v":""},{"$f":"IF(Base_Arbres!A781<>\"\",VLOOKUP($A735,Base_Arbres,3,FALSE)*Crit1,\"\")","v":""},{"$f":"IF(Base_Arbres!A781<>\"\",VLOOKUP($A735,Base_Arbres,4,FALSE)*Crit2,\"\")","v":""},{"$f":"IF(Base_Arbres!A781<>\"\",VLOOKUP($A735,Base_Arbres,5,FALSE)*Crit3,\"\")","v":""},{"$f":"IF(Base_Arbres!A781<>\"\",VLOOKUP($A735,Base_Arbres,6,FALSE)*Crit4,\"\")","v":""},{"$f":"IF(Base_Arbres!B735<>\"\",VLOOKUP($A735,Base_Arbres,7,FALSE)*Crit5,\"\")","v":""},{"$f":"IF(Base_Arbres!C735<>\"\",VLOOKUP($A735,Base_Arbres,8,FALSE)*crit8,\"\")","v":""},{"$f":"IF(Base_Arbres!D735<>\"\",VLOOKUP($A735,Base_Arbres,9,FALSE)*crit9,\"\")","v":""},{"$f":"IF(ISNA(VLOOKUP(INDEX(Base_Typologie!$A$6:$P$1003,MATCH(A735,Base_Typologie!$A:$A,0)-5,MATCH(Typologie_Espace_Public,Base_Typologie!$6:$6,0)),TableauScoreTypologie2,2,FALSE)*Crit6),0,VLOOKUP(INDEX(Base_Typologie!$A$6:$P$1003,MATCH(A735,Base_Typologie!$A:$A,0)-5,MATCH(Typologie_Espace_Public,Base_Typologie!$6:$6,0)),TableauScoreTypologie2,2,FALSE)*Crit6)","v":0},0,0,0,0,0,0,0,0,0,0,0,0,null,{"$f":"IF(Base_Arbres!A838<>\"\",VLOOKUP($A735,Base_Arbres,4,FALSE)*Crit7,\"\")","v":""}]
[{"$f":"IF(Base_Arbres!A782<>\"\",Base_Arbres!A782,\"\")","v":""},{"$f":"IF(Base_Arbres!A782<>\"\",VLOOKUP($A736,Base_Arbres,3,FALSE)*Crit1,\"\")","v":""},{"$f":"IF(Base_Arbres!A782<>\"\",VLOOKUP($A736,Base_Arbres,4,FALSE)*Crit2,\"\")","v":""},{"$f":"IF(Base_Arbres!A782<>\"\",VLOOKUP($A736,Base_Arbres,5,FALSE)*Crit3,\"\")","v":""},{"$f":"IF(Base_Arbres!A782<>\"\",VLOOKUP($A736,Base_Arbres,6,FALSE)*Crit4,\"\")","v":""},{"$f":"IF(Base_Arbres!B736<>\"\",VLOOKUP($A736,Base_Arbres,7,FALSE)*Crit5,\"\")","v":""},{"$f":"IF(Base_Arbres!C736<>\"\",VLOOKUP($A736,Base_Arbres,8,FALSE)*crit8,\"\")","v":""},{"$f":"IF(Base_Arbres!D736<>\"\",VLOOKUP($A736,Base_Arbres,9,FALSE)*crit9,\"\")","v":""},{"$f":"IF(ISNA(VLOOKUP(INDEX(Base_Typologie!$A$6:$P$1003,MATCH(A736,Base_Typologie!$A:$A,0)-5,MATCH(Typologie_Espace_Public,Base_Typologie!$6:$6,0)),TableauScoreTypologie2,2,FALSE)*Crit6),0,VLOOKUP(INDEX(Base_Typologie!$A$6:$P$1003,MATCH(A736,Base_Typologie!$A:$A,0)-5,MATCH(Typologie_Espace_Public,Base_Typologie!$6:$6,0)),TableauScoreTypologie2,2,FALSE)*Crit6)","v":0},0,0,0,0,0,0,0,0,0,0,0,0,null,{"$f":"IF(Base_Arbres!A839<>\"\",VLOOKUP($A736,Base_Arbres,4,FALSE)*Crit7,\"\")","v":""}]
[{"$f":"IF(Base_Arbres!A783<>\"\",Base_Arbres!A783,\"\")","v":""},{"$f":"IF(Base_Arbres!A783<>\"\",VLOOKUP($A737,Base_Arbres,3,FALSE)*Crit1,\"\")","v":""},{"$f":"IF(Base_Arbres!A783<>\"\",VLOOKUP($A737,Base_Arbres,4,FALSE)*Crit2,\"\")","v":""},{"$f":"IF(Base_Arbres!A783<>\"\",VLOOKUP($A737,Base_Arbres,5,FALSE)*Crit3,\"\")","v":""},{"$f":"IF(Base_Arbres!A783<>\"\",VLOOKUP($A737,Base_Arbres,6,FALSE)*Crit4,\"\")","v":""},{"$f":"IF(Base_Arbres!B737<>\"\",VLOOKUP($A737,Base_Arbres,7,FALSE)*Crit5,\"\")","v":""},{"$f":"IF(Base_Arbres!C737<>\"\",VLOOKUP($A737,Base_Arbres,8,FALSE)*crit8,\"\")","v":""},{"$f":"IF(Base_Arbres!D737<>\"\",VLOOKUP($A737,Base_Arbres,9,FALSE)*crit9,\"\")","v":""},{"$f":"IF(ISNA(VLOOKUP(INDEX(Base_Typologie!$A$6:$P$1003,MATCH(A737,Base_Typologie!$A:$A,0)-5,MATCH(Typologie_Espace_Public,Base_Typologie!$6:$6,0)),TableauScoreTypologie2,2,FALSE)*Crit6),0,VLOOKUP(INDEX(Base_Typologie!$A$6:$P$1003,MATCH(A737,Base_Typologie!$A:$A,0)-5,MATCH(Typologie_Espace_Public,Base_Typologie!$6:$6,0)),TableauScoreTypologie2,2,FALSE)*Crit6)","v":0},0,0,0,0,0,0,0,0,0,0,0,0,null,{"$f":"IF(Base_Arbres!A840<>\"\",VLOOKUP($A737,Base_Arbres,4,FALSE)*Crit7,\"\")","v":""}]
[{"$f":"IF(Base_Arbres!A784<>\"\",Base_Arbres!A784,\"\")","v":""},{"$f":"IF(Base_Arbres!A784<>\"\",VLOOKUP($A738,Base_Arbres,3,FALSE)*Crit1,\"\")","v":""},{"$f":"IF(Base_Arbres!A784<>\"\",VLOOKUP($A738,Base_Arbres,4,FALSE)*Crit2,\"\")","v":""},{"$f":"IF(Base_Arbres!A784<>\"\",VLOOKUP($A738,Base_Arbres,5,FALSE)*Crit3,\"\")","v":""},{"$f":"IF(Base_Arbres!A784<>\"\",VLOOKUP($A738,Base_Arbres,6,FALSE)*Crit4,\"\")","v":""},{"$f":"IF(Base_Arbres!B738<>\"\",VLOOKUP($A738,Base_Arbres,7,FALSE)*Crit5,\"\")","v":""},{"$f":"IF(Base_Arbres!C738<>\"\",VLOOKUP($A738,Base_Arbres,8,FALSE)*crit8,\"\")","v":""},{"$f":"IF(Base_Arbres!D738<>\"\",VLOOKUP($A738,Base_Arbres,9,FALSE)*crit9,\"\")","v":""},{"$f":"IF(ISNA(VLOOKUP(INDEX(Base_Typologie!$A$6:$P$1003,MATCH(A738,Base_Typologie!$A:$A,0)-5,MATCH(Typologie_Espace_Public,Base_Typologie!$6:$6,0)),TableauScoreTypologie2,2,FALSE)*Crit6),0,VLOOKUP(INDEX(Base_Typologie!$A$6:$P$1003,MATCH(A738,Base_Typologie!$A:$A,0)-5,MATCH(Typologie_Espace_Public,Base_Typologie!$6:$6,0)),TableauScoreTypologie2,2,FALSE)*Crit6)","v":0},0,0,0,0,0,0,0,0,0,0,0,0,null,{"$f":"IF(Base_Arbres!A841<>\"\",VLOOKUP($A738,Base_Arbres,4,FALSE)*Crit7,\"\")","v":""}]
[{"$f":"IF(Base_Arbres!A785<>\"\",Base_Arbres!A785,\"\")","v":""},{"$f":"IF(Base_Arbres!A785<>\"\",VLOOKUP($A739,Base_Arbres,3,FALSE)*Crit1,\"\")","v":""},{"$f":"IF(Base_Arbres!A785<>\"\",VLOOKUP($A739,Base_Arbres,4,FALSE)*Crit2,\"\")","v":""},{"$f":"IF(Base_Arbres!A785<>\"\",VLOOKUP($A739,Base_Arbres,5,FALSE)*Crit3,\"\")","v":""},{"$f":"IF(Base_Arbres!A785<>\"\",VLOOKUP($A739,Base_Arbres,6,FALSE)*Crit4,\"\")","v":""},{"$f":"IF(Base_Arbres!B739<>\"\",VLOOKUP($A739,Base_Arbres,7,FALSE)*Crit5,\"\")","v":""},{"$f":"IF(Base_Arbres!C739<>\"\",VLOOKUP($A739,Base_Arbres,8,FALSE)*crit8,\"\")","v":""},{"$f":"IF(Base_Arbres!D739<>\"\",VLOOKUP($A739,Base_Arbres,9,FALSE)*crit9,\"\")","v":""},{"$f":"IF(ISNA(VLOOKUP(INDEX(Base_Typologie!$A$6:$P$1003,MATCH(A739,Base_Typologie!$A:$A,0)-5,MATCH(Typologie_Espace_Public,Base_Typologie!$6:$6,0)),TableauScoreTypologie2,2,FALSE)*Crit6),0,VLOOKUP(INDEX(Base_Typologie!$A$6:$P$1003,MATCH(A739,Base_Typologie!$A:$A,0)-5,MATCH(Typologie_Espace_Public,Base_Typologie!$6:$6,0)),TableauScoreTypologie2,2,FALSE)*Crit6)","v":0},0,0,0,0,0,0,0,0,0,0,0,0,null,{"$f":"IF(Base_Arbres!A842<>\"\",VLOOKUP($A739,Base_Arbres,4,FALSE)*Crit7,\"\")","v":""}]
[{"$f":"IF(Base_Arbres!A786<>\"\",Base_Arbres!A786,\"\")","v":""},{"$f":"IF(Base_Arbres!A786<>\"\",VLOOKUP($A740,Base_Arbres,3,FALSE)*Crit1,\"\")","v":""},{"$f":"IF(Base_Arbres!A786<>\"\",VLOOKUP($A740,Base_Arbres,4,FALSE)*Crit2,\"\")","v":""},{"$f":"IF(Base_Arbres!A786<>\"\",VLOOKUP($A740,Base_Arbres,5,FALSE)*Crit3,\"\")","v":""},{"$f":"IF(Base_Arbres!A786<>\"\",VLOOKUP($A740,Base_Arbres,6,FALSE)*Crit4,\"\")","v":""},{"$f":"IF(Base_Arbres!B740<>\"\",VLOOKUP($A740,Base_Arbres,7,FALSE)*Crit5,\"\")","v":""},{"$f":"IF(Base_Arbres!C740<>\"\",VLOOKUP($A740,Base_Arbres,8,FALSE)*crit8,\"\")","v":""},{"$f":"IF(Base_Arbres!D740<>\"\",VLOOKUP($A740,Base_Arbres,9,FALSE)*crit9,\"\")","v":""},{"$f":"IF(ISNA(VLOOKUP(INDEX(Base_Typologie!$A$6:$P$1003,MATCH(A740,Base_Typologie!$A:$A,0)-5,MATCH(Typologie_Espace_Public,Base_Typologie!$6:$6,0)),TableauScoreTypologie2,2,FALSE)*Crit6),0,VLOOKUP(INDEX(Base_Typologie!$A$6:$P$1003,MATCH(A740,Base_Typologie!$A:$A,0)-5,MATCH(Typologie_Espace_Public,Base_Typologie!$6:$6,0)),TableauScoreTypologie2,2,FALSE)*Crit6)","v":0},0,0,0,0,0,0,0,0,0,0,0,0,null,{"$f":"IF(Base_Arbres!A843<>\"\",VLOOKUP($A740,Base_Arbres,4,FALSE)*Crit7,\"\")","v":""}]
[{"$f":"IF(Base_Arbres!A787<>\"\",Base_Arbres!A787,\"\")","v":""},{"$f":"IF(Base_Arbres!A787<>\"\",VLOOKUP($A741,Base_Arbres,3,FALSE)*Crit1,\"\")","v":""},{"$f":"IF(Base_Arbres!A787<>\"\",VLOOKUP($A741,Base_Arbres,4,FALSE)*Crit2,\"\")","v":""},{"$f":"IF(Base_Arbres!A787<>\"\",VLOOKUP($A741,Base_Arbres,5,FALSE)*Crit3,\"\")","v":""},{"$f":"IF(Base_Arbres!A787<>\"\",VLOOKUP($A741,Base_Arbres,6,FALSE)*Crit4,\"\")","v":""},{"$f":"IF(Base_Arbres!B741<>\"\",VLOOKUP($A741,Base_Arbres,7,FALSE)*Crit5,\"\")","v":""},{"$f":"IF(Base_Arbres!C741<>\"\",VLOOKUP($A741,Base_Arbres,8,FALSE)*crit8,\"\")","v":""},{"$f":"IF(Base_Arbres!D741<>\"\",VLOOKUP($A741,Base_Arbres,9,FALSE)*crit9,\"\")","v":""},{"$f":"IF(ISNA(VLOOKUP(INDEX(Base_Typologie!$A$6:$P$1003,MATCH(A741,Base_Typologie!$A:$A,0)-5,MATCH(Typologie_Espace_Public,Base_Typologie!$6:$6,0)),TableauScoreTypologie2,2,FALSE)*Crit6),0,VLOOKUP(INDEX(Base_Typologie!$A$6:$P$1003,MATCH(A741,Base_Typologie!$A:$A,0)-5,MATCH(Typologie_Espace_Public,Base_Typologie!$6:$6,0)),TableauScoreTypologie2,2,FALSE)*Crit6)","v":0},0,0,0,0,0,0,0,0,0,0,0,0,null,{"$f":"IF(Base_Arbres!A844<>\"\",VLOOKUP($A741,Base_Arbres,4,FALSE)*Crit7,\"\")","v":""}]
[{"$f":"IF(Base_Arbres!A788<>\"\",Base_Arbres!A788,\"\")","v":""},{"$f":"IF(Base_Arbres!A788<>\"\",VLOOKUP($A742,Base_Arbres,3,FALSE)*Crit1,\"\")","v":""},{"$f":"IF(Base_Arbres!A788<>\"\",VLOOKUP($A742,Base_Arbres,4,FALSE)*Crit2,\"\")","v":""},{"$f":"IF(Base_Arbres!A788<>\"\",VLOOKUP($A742,Base_Arbres,5,FALSE)*Crit3,\"\")","v":""},{"$f":"IF(Base_Arbres!A788<>\"\",VLOOKUP($A742,Base_Arbres,6,FALSE)*Crit4,\"\")","v":""},{"$f":"IF(Base_Arbres!B742<>\"\",VLOOKUP($A742,Base_Arbres,7,FALSE)*Crit5,\"\")","v":""},{"$f":"IF(Base_Arbres!C742<>\"\",VLOOKUP($A742,Base_Arbres,8,FALSE)*crit8,\"\")","v":""},{"$f":"IF(Base_Arbres!D742<>\"\",VLOOKUP($A742,Base_Arbres,9,FALSE)*crit9,\"\")","v":""},{"$f":"IF(ISNA(VLOOKUP(INDEX(Base_Typologie!$A$6:$P$1003,MATCH(A742,Base_Typologie!$A:$A,0)-5,MATCH(Typologie_Espace_Public,Base_Typologie!$6:$6,0)),TableauScoreTypologie2,2,FALSE)*Crit6),0,VLOOKUP(INDEX(Base_Typologie!$A$6:$P$1003,MATCH(A742,Base_Typologie!$A:$A,0)-5,MATCH(Typologie_Espace_Public,Base_Typologie!$6:$6,0)),TableauScoreTypologie2,2,FALSE)*Crit6)","v":0},0,0,0,0,0,0,0,0,0,0,0,0,null,{"$f":"IF(Base_Arbres!A845<>\"\",VLOOKUP($A742,Base_Arbres,4,FALSE)*Crit7,\"\")","v":""}]
[{"$f":"IF(Base_Arbres!A789<>\"\",Base_Arbres!A789,\"\")","v":""},{"$f":"IF(Base_Arbres!A789<>\"\",VLOOKUP($A743,Base_Arbres,3,FALSE)*Crit1,\"\")","v":""},{"$f":"IF(Base_Arbres!A789<>\"\",VLOOKUP($A743,Base_Arbres,4,FALSE)*Crit2,\"\")","v":""},{"$f":"IF(Base_Arbres!A789<>\"\",VLOOKUP($A743,Base_Arbres,5,FALSE)*Crit3,\"\")","v":""},{"$f":"IF(Base_Arbres!A789<>\"\",VLOOKUP($A743,Base_Arbres,6,FALSE)*Crit4,\"\")","v":""},{"$f":"IF(Base_Arbres!B743<>\"\",VLOOKUP($A743,Base_Arbres,7,FALSE)*Crit5,\"\")","v":""},{"$f":"IF(Base_Arbres!C743<>\"\",VLOOKUP($A743,Base_Arbres,8,FALSE)*crit8,\"\")","v":""},{"$f":"IF(Base_Arbres!D743<>\"\",VLOOKUP($A743,Base_Arbres,9,FALSE)*crit9,\"\")","v":""},{"$f":"IF(ISNA(VLOOKUP(INDEX(Base_Typologie!$A$6:$P$1003,MATCH(A743,Base_Typologie!$A:$A,0)-5,MATCH(Typologie_Espace_Public,Base_Typologie!$6:$6,0)),TableauScoreTypologie2,2,FALSE)*Crit6),0,VLOOKUP(INDEX(Base_Typologie!$A$6:$P$1003,MATCH(A743,Base_Typologie!$A:$A,0)-5,MATCH(Typologie_Espace_Public,Base_Typologie!$6:$6,0)),TableauScoreTypologie2,2,FALSE)*Crit6)","v":0},0,0,0,0,0,0,0,0,0,0,0,0,null,{"$f":"IF(Base_Arbres!A846<>\"\",VLOOKUP($A743,Base_Arbres,4,FALSE)*Crit7,\"\")","v":""}]
[{"$f":"IF(Base_Arbres!A790<>\"\",Base_Arbres!A790,\"\")","v":""},{"$f":"IF(Base_Arbres!A790<>\"\",VLOOKUP($A744,Base_Arbres,3,FALSE)*Crit1,\"\")","v":""},{"$f":"IF(Base_Arbres!A790<>\"\",VLOOKUP($A744,Base_Arbres,4,FALSE)*Crit2,\"\")","v":""},{"$f":"IF(Base_Arbres!A790<>\"\",VLOOKUP($A744,Base_Arbres,5,FALSE)*Crit3,\"\")","v":""},{"$f":"IF(Base_Arbres!A790<>\"\",VLOOKUP($A744,Base_Arbres,6,FALSE)*Crit4,\"\")","v":""},{"$f":"IF(Base_Arbres!B744<>\"\",VLOOKUP($A744,Base_Arbres,7,FALSE)*Crit5,\"\")","v":""},{"$f":"IF(Base_Arbres!C744<>\"\",VLOOKUP($A744,Base_Arbres,8,FALSE)*crit8,\"\")","v":""},{"$f":"IF(Base_Arbres!D744<>\"\",VLOOKUP($A744,Base_Arbres,9,FALSE)*crit9,\"\")","v":""},{"$f":"IF(ISNA(VLOOKUP(INDEX(Base_Typologie!$A$6:$P$1003,MATCH(A744,Base_Typologie!$A:$A,0)-5,MATCH(Typologie_Espace_Public,Base_Typologie!$6:$6,0)),TableauScoreTypologie2,2,FALSE)*Crit6),0,VLOOKUP(INDEX(Base_Typologie!$A$6:$P$1003,MATCH(A744,Base_Typologie!$A:$A,0)-5,MATCH(Typologie_Espace_Public,Base_Typologie!$6:$6,0)),TableauScoreTypologie2,2,FALSE)*Crit6)","v":0},0,0,0,0,0,0,0,0,0,0,0,0,null,{"$f":"IF(Base_Arbres!A847<>\"\",VLOOKUP($A744,Base_Arbres,4,FALSE)*Crit7,\"\")","v":""}]
[{"$f":"IF(Base_Arbres!A791<>\"\",Base_Arbres!A791,\"\")","v":""},{"$f":"IF(Base_Arbres!A791<>\"\",VLOOKUP($A745,Base_Arbres,3,FALSE)*Crit1,\"\")","v":""},{"$f":"IF(Base_Arbres!A791<>\"\",VLOOKUP($A745,Base_Arbres,4,FALSE)*Crit2,\"\")","v":""},{"$f":"IF(Base_Arbres!A791<>\"\",VLOOKUP($A745,Base_Arbres,5,FALSE)*Crit3,\"\")","v":""},{"$f":"IF(Base_Arbres!A791<>\"\",VLOOKUP($A745,Base_Arbres,6,FALSE)*Crit4,\"\")","v":""},{"$f":"IF(Base_Arbres!B745<>\"\",VLOOKUP($A745,Base_Arbres,7,FALSE)*Crit5,\"\")","v":""},{"$f":"IF(Base_Arbres!C745<>\"\",VLOOKUP($A745,Base_Arbres,8,FALSE)*crit8,\"\")","v":""},{"$f":"IF(Base_Arbres!D745<>\"\",VLOOKUP($A745,Base_Arbres,9,FALSE)*crit9,\"\")","v":""},{"$f":"IF(ISNA(VLOOKUP(INDEX(Base_Typologie!$A$6:$P$1003,MATCH(A745,Base_Typologie!$A:$A,0)-5,MATCH(Typologie_Espace_Public,Base_Typologie!$6:$6,0)),TableauScoreTypologie2,2,FALSE)*Crit6),0,VLOOKUP(INDEX(Base_Typologie!$A$6:$P$1003,MATCH(A745,Base_Typologie!$A:$A,0)-5,MATCH(Typologie_Espace_Public,Base_Typologie!$6:$6,0)),TableauScoreTypologie2,2,FALSE)*Crit6)","v":0},0,0,0,0,0,0,0,0,0,0,0,0,null,{"$f":"IF(Base_Arbres!A848<>\"\",VLOOKUP($A745,Base_Arbres,4,FALSE)*Crit7,\"\")","v":""}]
[{"$f":"IF(Base_Arbres!A792<>\"\",Base_Arbres!A792,\"\")","v":""},{"$f":"IF(Base_Arbres!A792<>\"\",VLOOKUP($A746,Base_Arbres,3,FALSE)*Crit1,\"\")","v":""},{"$f":"IF(Base_Arbres!A792<>\"\",VLOOKUP($A746,Base_Arbres,4,FALSE)*Crit2,\"\")","v":""},{"$f":"IF(Base_Arbres!A792<>\"\",VLOOKUP($A746,Base_Arbres,5,FALSE)*Crit3,\"\")","v":""},{"$f":"IF(Base_Arbres!A792<>\"\",VLOOKUP($A746,Base_Arbres,6,FALSE)*Crit4,\"\")","v":""},{"$f":"IF(Base_Arbres!B746<>\"\",VLOOKUP($A746,Base_Arbres,7,FALSE)*Crit5,\"\")","v":""},{"$f":"IF(Base_Arbres!C746<>\"\",VLOOKUP($A746,Base_Arbres,8,FALSE)*crit8,\"\")","v":""},{"$f":"IF(Base_Arbres!D746<>\"\",VLOOKUP($A746,Base_Arbres,9,FALSE)*crit9,\"\")","v":""},{"$f":"IF(ISNA(VLOOKUP(INDEX(Base_Typologie!$A$6:$P$1003,MATCH(A746,Base_Typologie!$A:$A,0)-5,MATCH(Typologie_Espace_Public,Base_Typologie!$6:$6,0)),TableauScoreTypologie2,2,FALSE)*Crit6),0,VLOOKUP(INDEX(Base_Typologie!$A$6:$P$1003,MATCH(A746,Base_Typologie!$A:$A,0)-5,MATCH(Typologie_Espace_Public,Base_Typologie!$6:$6,0)),TableauScoreTypologie2,2,FALSE)*Crit6)","v":0},0,0,0,0,0,0,0,0,0,0,0,0,null,{"$f":"IF(Base_Arbres!A849<>\"\",VLOOKUP($A746,Base_Arbres,4,FALSE)*Crit7,\"\")","v":""}]
[{"$f":"IF(Base_Arbres!A793<>\"\",Base_Arbres!A793,\"\")","v":""},{"$f":"IF(Base_Arbres!A793<>\"\",VLOOKUP($A747,Base_Arbres,3,FALSE)*Crit1,\"\")","v":""},{"$f":"IF(Base_Arbres!A793<>\"\",VLOOKUP($A747,Base_Arbres,4,FALSE)*Crit2,\"\")","v":""},{"$f":"IF(Base_Arbres!A793<>\"\",VLOOKUP($A747,Base_Arbres,5,FALSE)*Crit3,\"\")","v":""},{"$f":"IF(Base_Arbres!A793<>\"\",VLOOKUP($A747,Base_Arbres,6,FALSE)*Crit4,\"\")","v":""},{"$f":"IF(Base_Arbres!B747<>\"\",VLOOKUP($A747,Base_Arbres,7,FALSE)*Crit5,\"\")","v":""},{"$f":"IF(Base_Arbres!C747<>\"\",VLOOKUP($A747,Base_Arbres,8,FALSE)*crit8,\"\")","v":""},{"$f":"IF(Base_Arbres!D747<>\"\",VLOOKUP($A747,Base_Arbres,9,FALSE)*crit9,\"\")","v":""},{"$f":"IF(ISNA(VLOOKUP(INDEX(Base_Typologie!$A$6:$P$1003,MATCH(A747,Base_Typologie!$A:$A,0)-5,MATCH(Typologie_Espace_Public,Base_Typologie!$6:$6,0)),TableauScoreTypologie2,2,FALSE)*Crit6),0,VLOOKUP(INDEX(Base_Typologie!$A$6:$P$1003,MATCH(A747,Base_Typologie!$A:$A,0)-5,MATCH(Typologie_Espace_Public,Base_Typologie!$6:$6,0)),TableauScoreTypologie2,2,FALSE)*Crit6)","v":0},0,0,0,0,0,0,0,0,0,0,0,0,null,{"$f":"IF(Base_Arbres!A850<>\"\",VLOOKUP($A747,Base_Arbres,4,FALSE)*Crit7,\"\")","v":""}]
[{"$f":"IF(Base_Arbres!A794<>\"\",Base_Arbres!A794,\"\")","v":""},{"$f":"IF(Base_Arbres!A794<>\"\",VLOOKUP($A748,Base_Arbres,3,FALSE)*Crit1,\"\")","v":""},{"$f":"IF(Base_Arbres!A794<>\"\",VLOOKUP($A748,Base_Arbres,4,FALSE)*Crit2,\"\")","v":""},{"$f":"IF(Base_Arbres!A794<>\"\",VLOOKUP($A748,Base_Arbres,5,FALSE)*Crit3,\"\")","v":""},{"$f":"IF(Base_Arbres!A794<>\"\",VLOOKUP($A748,Base_Arbres,6,FALSE)*Crit4,\"\")","v":""},{"$f":"IF(Base_Arbres!B748<>\"\",VLOOKUP($A748,Base_Arbres,7,FALSE)*Crit5,\"\")","v":""},{"$f":"IF(Base_Arbres!C748<>\"\",VLOOKUP($A748,Base_Arbres,8,FALSE)*crit8,\"\")","v":""},{"$f":"IF(Base_Arbres!D748<>\"\",VLOOKUP($A748,Base_Arbres,9,FALSE)*crit9,\"\")","v":""},{"$f":"IF(ISNA(VLOOKUP(INDEX(Base_Typologie!$A$6:$P$1003,MATCH(A748,Base_Typologie!$A:$A,0)-5,MATCH(Typologie_Espace_Public,Base_Typologie!$6:$6,0)),TableauScoreTypologie2,2,FALSE)*Crit6),0,VLOOKUP(INDEX(Base_Typologie!$A$6:$P$1003,MATCH(A748,Base_Typologie!$A:$A,0)-5,MATCH(Typologie_Espace_Public,Base_Typologie!$6:$6,0)),TableauScoreTypologie2,2,FALSE)*Crit6)","v":0},0,0,0,0,0,0,0,0,0,0,0,0,null,{"$f":"IF(Base_Arbres!A851<>\"\",VLOOKUP($A748,Base_Arbres,4,FALSE)*Crit7,\"\")","v":""}]
[{"$f":"IF(Base_Arbres!A795<>\"\",Base_Arbres!A795,\"\")","v":""},{"$f":"IF(Base_Arbres!A795<>\"\",VLOOKUP($A749,Base_Arbres,3,FALSE)*Crit1,\"\")","v":""},{"$f":"IF(Base_Arbres!A795<>\"\",VLOOKUP($A749,Base_Arbres,4,FALSE)*Crit2,\"\")","v":""},{"$f":"IF(Base_Arbres!A795<>\"\",VLOOKUP($A749,Base_Arbres,5,FALSE)*Crit3,\"\")","v":""},{"$f":"IF(Base_Arbres!A795<>\"\",VLOOKUP($A749,Base_Arbres,6,FALSE)*Crit4,\"\")","v":""},{"$f":"IF(Base_Arbres!B749<>\"\",VLOOKUP($A749,Base_Arbres,7,FALSE)*Crit5,\"\")","v":""},{"$f":"IF(Base_Arbres!C749<>\"\",VLOOKUP($A749,Base_Arbres,8,FALSE)*crit8,\"\")","v":""},{"$f":"IF(Base_Arbres!D749<>\"\",VLOOKUP($A749,Base_Arbres,9,FALSE)*crit9,\"\")","v":""},{"$f":"IF(ISNA(VLOOKUP(INDEX(Base_Typologie!$A$6:$P$1003,MATCH(A749,Base_Typologie!$A:$A,0)-5,MATCH(Typologie_Espace_Public,Base_Typologie!$6:$6,0)),TableauScoreTypologie2,2,FALSE)*Crit6),0,VLOOKUP(INDEX(Base_Typologie!$A$6:$P$1003,MATCH(A749,Base_Typologie!$A:$A,0)-5,MATCH(Typologie_Espace_Public,Base_Typologie!$6:$6,0)),TableauScoreTypologie2,2,FALSE)*Crit6)","v":0},0,0,0,0,0,0,0,0,0,0,0,0,null,{"$f":"IF(Base_Arbres!A852<>\"\",VLOOKUP($A749,Base_Arbres,4,FALSE)*Crit7,\"\")","v":""}]
[{"$f":"IF(Base_Arbres!A796<>\"\",Base_Arbres!A796,\"\")","v":""},{"$f":"IF(Base_Arbres!A796<>\"\",VLOOKUP($A750,Base_Arbres,3,FALSE)*Crit1,\"\")","v":""},{"$f":"IF(Base_Arbres!A796<>\"\",VLOOKUP($A750,Base_Arbres,4,FALSE)*Crit2,\"\")","v":""},{"$f":"IF(Base_Arbres!A796<>\"\",VLOOKUP($A750,Base_Arbres,5,FALSE)*Crit3,\"\")","v":""},{"$f":"IF(Base_Arbres!A796<>\"\",VLOOKUP($A750,Base_Arbres,6,FALSE)*Crit4,\"\")","v":""},{"$f":"IF(Base_Arbres!B750<>\"\",VLOOKUP($A750,Base_Arbres,7,FALSE)*Crit5,\"\")","v":""},{"$f":"IF(Base_Arbres!C750<>\"\",VLOOKUP($A750,Base_Arbres,8,FALSE)*crit8,\"\")","v":""},{"$f":"IF(Base_Arbres!D750<>\"\",VLOOKUP($A750,Base_Arbres,9,FALSE)*crit9,\"\")","v":""},{"$f":"IF(ISNA(VLOOKUP(INDEX(Base_Typologie!$A$6:$P$1003,MATCH(A750,Base_Typologie!$A:$A,0)-5,MATCH(Typologie_Espace_Public,Base_Typologie!$6:$6,0)),TableauScoreTypologie2,2,FALSE)*Crit6),0,VLOOKUP(INDEX(Base_Typologie!$A$6:$P$1003,MATCH(A750,Base_Typologie!$A:$A,0)-5,MATCH(Typologie_Espace_Public,Base_Typologie!$6:$6,0)),TableauScoreTypologie2,2,FALSE)*Crit6)","v":0},0,0,0,0,0,0,0,0,0,0,0,0,null,{"$f":"IF(Base_Arbres!A853<>\"\",VLOOKUP($A750,Base_Arbres,4,FALSE)*Crit7,\"\")","v":""}]
[{"$f":"IF(Base_Arbres!A797<>\"\",Base_Arbres!A797,\"\")","v":""},{"$f":"IF(Base_Arbres!A797<>\"\",VLOOKUP($A751,Base_Arbres,3,FALSE)*Crit1,\"\")","v":""},{"$f":"IF(Base_Arbres!A797<>\"\",VLOOKUP($A751,Base_Arbres,4,FALSE)*Crit2,\"\")","v":""},{"$f":"IF(Base_Arbres!A797<>\"\",VLOOKUP($A751,Base_Arbres,5,FALSE)*Crit3,\"\")","v":""},{"$f":"IF(Base_Arbres!A797<>\"\",VLOOKUP($A751,Base_Arbres,6,FALSE)*Crit4,\"\")","v":""},{"$f":"IF(Base_Arbres!B751<>\"\",VLOOKUP($A751,Base_Arbres,7,FALSE)*Crit5,\"\")","v":""},{"$f":"IF(Base_Arbres!C751<>\"\",VLOOKUP($A751,Base_Arbres,8,FALSE)*crit8,\"\")","v":""},{"$f":"IF(Base_Arbres!D751<>\"\",VLOOKUP($A751,Base_Arbres,9,FALSE)*crit9,\"\")","v":""},{"$f":"IF(ISNA(VLOOKUP(INDEX(Base_Typologie!$A$6:$P$1003,MATCH(A751,Base_Typologie!$A:$A,0)-5,MATCH(Typologie_Espace_Public,Base_Typologie!$6:$6,0)),TableauScoreTypologie2,2,FALSE)*Crit6),0,VLOOKUP(INDEX(Base_Typologie!$A$6:$P$1003,MATCH(A751,Base_Typologie!$A:$A,0)-5,MATCH(Typologie_Espace_Public,Base_Typologie!$6:$6,0)),TableauScoreTypologie2,2,FALSE)*Crit6)","v":0},0,0,0,0,0,0,0,0,0,0,0,0,null,{"$f":"IF(Base_Arbres!A854<>\"\",VLOOKUP($A751,Base_Arbres,4,FALSE)*Crit7,\"\")","v":""}]
[{"$f":"IF(Base_Arbres!A798<>\"\",Base_Arbres!A798,\"\")","v":""},{"$f":"IF(Base_Arbres!A798<>\"\",VLOOKUP($A752,Base_Arbres,3,FALSE)*Crit1,\"\")","v":""},{"$f":"IF(Base_Arbres!A798<>\"\",VLOOKUP($A752,Base_Arbres,4,FALSE)*Crit2,\"\")","v":""},{"$f":"IF(Base_Arbres!A798<>\"\",VLOOKUP($A752,Base_Arbres,5,FALSE)*Crit3,\"\")","v":""},{"$f":"IF(Base_Arbres!A798<>\"\",VLOOKUP($A752,Base_Arbres,6,FALSE)*Crit4,\"\")","v":""},{"$f":"IF(Base_Arbres!B752<>\"\",VLOOKUP($A752,Base_Arbres,7,FALSE)*Crit5,\"\")","v":""},{"$f":"IF(Base_Arbres!C752<>\"\",VLOOKUP($A752,Base_Arbres,8,FALSE)*crit8,\"\")","v":""},{"$f":"IF(Base_Arbres!D752<>\"\",VLOOKUP($A752,Base_Arbres,9,FALSE)*crit9,\"\")","v":""},{"$f":"IF(ISNA(VLOOKUP(INDEX(Base_Typologie!$A$6:$P$1003,MATCH(A752,Base_Typologie!$A:$A,0)-5,MATCH(Typologie_Espace_Public,Base_Typologie!$6:$6,0)),TableauScoreTypologie2,2,FALSE)*Crit6),0,VLOOKUP(INDEX(Base_Typologie!$A$6:$P$1003,MATCH(A752,Base_Typologie!$A:$A,0)-5,MATCH(Typologie_Espace_Public,Base_Typologie!$6:$6,0)),TableauScoreTypologie2,2,FALSE)*Crit6)","v":0},0,0,0,0,0,0,0,0,0,0,0,0,null,{"$f":"IF(Base_Arbres!A855<>\"\",VLOOKUP($A752,Base_Arbres,4,FALSE)*Crit7,\"\")","v":""}]
[{"$f":"IF(Base_Arbres!A799<>\"\",Base_Arbres!A799,\"\")","v":""},{"$f":"IF(Base_Arbres!A799<>\"\",VLOOKUP($A753,Base_Arbres,3,FALSE)*Crit1,\"\")","v":""},{"$f":"IF(Base_Arbres!A799<>\"\",VLOOKUP($A753,Base_Arbres,4,FALSE)*Crit2,\"\")","v":""},{"$f":"IF(Base_Arbres!A799<>\"\",VLOOKUP($A753,Base_Arbres,5,FALSE)*Crit3,\"\")","v":""},{"$f":"IF(Base_Arbres!A799<>\"\",VLOOKUP($A753,Base_Arbres,6,FALSE)*Crit4,\"\")","v":""},{"$f":"IF(Base_Arbres!B753<>\"\",VLOOKUP($A753,Base_Arbres,7,FALSE)*Crit5,\"\")","v":""},{"$f":"IF(Base_Arbres!C753<>\"\",VLOOKUP($A753,Base_Arbres,8,FALSE)*crit8,\"\")","v":""},{"$f":"IF(Base_Arbres!D753<>\"\",VLOOKUP($A753,Base_Arbres,9,FALSE)*crit9,\"\")","v":""},{"$f":"IF(ISNA(VLOOKUP(INDEX(Base_Typologie!$A$6:$P$1003,MATCH(A753,Base_Typologie!$A:$A,0)-5,MATCH(Typologie_Espace_Public,Base_Typologie!$6:$6,0)),TableauScoreTypologie2,2,FALSE)*Crit6),0,VLOOKUP(INDEX(Base_Typologie!$A$6:$P$1003,MATCH(A753,Base_Typologie!$A:$A,0)-5,MATCH(Typologie_Espace_Public,Base_Typologie!$6:$6,0)),TableauScoreTypologie2,2,FALSE)*Crit6)","v":0},0,0,0,0,0,0,0,0,0,0,0,0,null,{"$f":"IF(Base_Arbres!A856<>\"\",VLOOKUP($A753,Base_Arbres,4,FALSE)*Crit7,\"\")","v":""}]
[{"$f":"IF(Base_Arbres!A800<>\"\",Base_Arbres!A800,\"\")","v":""},{"$f":"IF(Base_Arbres!A800<>\"\",VLOOKUP($A754,Base_Arbres,3,FALSE)*Crit1,\"\")","v":""},{"$f":"IF(Base_Arbres!A800<>\"\",VLOOKUP($A754,Base_Arbres,4,FALSE)*Crit2,\"\")","v":""},{"$f":"IF(Base_Arbres!A800<>\"\",VLOOKUP($A754,Base_Arbres,5,FALSE)*Crit3,\"\")","v":""},{"$f":"IF(Base_Arbres!A800<>\"\",VLOOKUP($A754,Base_Arbres,6,FALSE)*Crit4,\"\")","v":""},{"$f":"IF(Base_Arbres!B754<>\"\",VLOOKUP($A754,Base_Arbres,7,FALSE)*Crit5,\"\")","v":""},{"$f":"IF(Base_Arbres!C754<>\"\",VLOOKUP($A754,Base_Arbres,8,FALSE)*crit8,\"\")","v":""},{"$f":"IF(Base_Arbres!D754<>\"\",VLOOKUP($A754,Base_Arbres,9,FALSE)*crit9,\"\")","v":""},{"$f":"IF(ISNA(VLOOKUP(INDEX(Base_Typologie!$A$6:$P$1003,MATCH(A754,Base_Typologie!$A:$A,0)-5,MATCH(Typologie_Espace_Public,Base_Typologie!$6:$6,0)),TableauScoreTypologie2,2,FALSE)*Crit6),0,VLOOKUP(INDEX(Base_Typologie!$A$6:$P$1003,MATCH(A754,Base_Typologie!$A:$A,0)-5,MATCH(Typologie_Espace_Public,Base_Typologie!$6:$6,0)),TableauScoreTypologie2,2,FALSE)*Crit6)","v":0},0,0,0,0,0,0,0,0,0,0,0,0,null,{"$f":"IF(Base_Arbres!A857<>\"\",VLOOKUP($A754,Base_Arbres,4,FALSE)*Crit7,\"\")","v":""}]
[{"$f":"IF(Base_Arbres!A801<>\"\",Base_Arbres!A801,\"\")","v":""},{"$f":"IF(Base_Arbres!A801<>\"\",VLOOKUP($A755,Base_Arbres,3,FALSE)*Crit1,\"\")","v":""},{"$f":"IF(Base_Arbres!A801<>\"\",VLOOKUP($A755,Base_Arbres,4,FALSE)*Crit2,\"\")","v":""},{"$f":"IF(Base_Arbres!A801<>\"\",VLOOKUP($A755,Base_Arbres,5,FALSE)*Crit3,\"\")","v":""},{"$f":"IF(Base_Arbres!A801<>\"\",VLOOKUP($A755,Base_Arbres,6,FALSE)*Crit4,\"\")","v":""},{"$f":"IF(Base_Arbres!B755<>\"\",VLOOKUP($A755,Base_Arbres,7,FALSE)*Crit5,\"\")","v":""},{"$f":"IF(Base_Arbres!C755<>\"\",VLOOKUP($A755,Base_Arbres,8,FALSE)*crit8,\"\")","v":""},{"$f":"IF(Base_Arbres!D755<>\"\",VLOOKUP($A755,Base_Arbres,9,FALSE)*crit9,\"\")","v":""},{"$f":"IF(ISNA(VLOOKUP(INDEX(Base_Typologie!$A$6:$P$1003,MATCH(A755,Base_Typologie!$A:$A,0)-5,MATCH(Typologie_Espace_Public,Base_Typologie!$6:$6,0)),TableauScoreTypologie2,2,FALSE)*Crit6),0,VLOOKUP(INDEX(Base_Typologie!$A$6:$P$1003,MATCH(A755,Base_Typologie!$A:$A,0)-5,MATCH(Typologie_Espace_Public,Base_Typologie!$6:$6,0)),TableauScoreTypologie2,2,FALSE)*Crit6)","v":0},0,0,0,0,0,0,0,0,0,0,0,0,null,{"$f":"IF(Base_Arbres!A858<>\"\",VLOOKUP($A755,Base_Arbres,4,FALSE)*Crit7,\"\")","v":""}]
[{"$f":"IF(Base_Arbres!A802<>\"\",Base_Arbres!A802,\"\")","v":""},{"$f":"IF(Base_Arbres!A802<>\"\",VLOOKUP($A756,Base_Arbres,3,FALSE)*Crit1,\"\")","v":""},{"$f":"IF(Base_Arbres!A802<>\"\",VLOOKUP($A756,Base_Arbres,4,FALSE)*Crit2,\"\")","v":""},{"$f":"IF(Base_Arbres!A802<>\"\",VLOOKUP($A756,Base_Arbres,5,FALSE)*Crit3,\"\")","v":""},{"$f":"IF(Base_Arbres!A802<>\"\",VLOOKUP($A756,Base_Arbres,6,FALSE)*Crit4,\"\")","v":""},{"$f":"IF(Base_Arbres!B756<>\"\",VLOOKUP($A756,Base_Arbres,7,FALSE)*Crit5,\"\")","v":""},{"$f":"IF(Base_Arbres!C756<>\"\",VLOOKUP($A756,Base_Arbres,8,FALSE)*crit8,\"\")","v":""},{"$f":"IF(Base_Arbres!D756<>\"\",VLOOKUP($A756,Base_Arbres,9,FALSE)*crit9,\"\")","v":""},{"$f":"IF(ISNA(VLOOKUP(INDEX(Base_Typologie!$A$6:$P$1003,MATCH(A756,Base_Typologie!$A:$A,0)-5,MATCH(Typologie_Espace_Public,Base_Typologie!$6:$6,0)),TableauScoreTypologie2,2,FALSE)*Crit6),0,VLOOKUP(INDEX(Base_Typologie!$A$6:$P$1003,MATCH(A756,Base_Typologie!$A:$A,0)-5,MATCH(Typologie_Espace_Public,Base_Typologie!$6:$6,0)),TableauScoreTypologie2,2,FALSE)*Crit6)","v":0},0,0,0,0,0,0,0,0,0,0,0,0,null,{"$f":"IF(Base_Arbres!A859<>\"\",VLOOKUP($A756,Base_Arbres,4,FALSE)*Crit7,\"\")","v":""}]
[{"$f":"IF(Base_Arbres!A803<>\"\",Base_Arbres!A803,\"\")","v":""},{"$f":"IF(Base_Arbres!A803<>\"\",VLOOKUP($A757,Base_Arbres,3,FALSE)*Crit1,\"\")","v":""},{"$f":"IF(Base_Arbres!A803<>\"\",VLOOKUP($A757,Base_Arbres,4,FALSE)*Crit2,\"\")","v":""},{"$f":"IF(Base_Arbres!A803<>\"\",VLOOKUP($A757,Base_Arbres,5,FALSE)*Crit3,\"\")","v":""},{"$f":"IF(Base_Arbres!A803<>\"\",VLOOKUP($A757,Base_Arbres,6,FALSE)*Crit4,\"\")","v":""},{"$f":"IF(Base_Arbres!B757<>\"\",VLOOKUP($A757,Base_Arbres,7,FALSE)*Crit5,\"\")","v":""},{"$f":"IF(Base_Arbres!C757<>\"\",VLOOKUP($A757,Base_Arbres,8,FALSE)*crit8,\"\")","v":""},{"$f":"IF(Base_Arbres!D757<>\"\",VLOOKUP($A757,Base_Arbres,9,FALSE)*crit9,\"\")","v":""},{"$f":"IF(ISNA(VLOOKUP(INDEX(Base_Typologie!$A$6:$P$1003,MATCH(A757,Base_Typologie!$A:$A,0)-5,MATCH(Typologie_Espace_Public,Base_Typologie!$6:$6,0)),TableauScoreTypologie2,2,FALSE)*Crit6),0,VLOOKUP(INDEX(Base_Typologie!$A$6:$P$1003,MATCH(A757,Base_Typologie!$A:$A,0)-5,MATCH(Typologie_Espace_Public,Base_Typologie!$6:$6,0)),TableauScoreTypologie2,2,FALSE)*Crit6)","v":0},0,0,0,0,0,0,0,0,0,0,0,0,null,{"$f":"IF(Base_Arbres!A860<>\"\",VLOOKUP($A757,Base_Arbres,4,FALSE)*Crit7,\"\")","v":""}]
[{"$f":"IF(Base_Arbres!A804<>\"\",Base_Arbres!A804,\"\")","v":""},{"$f":"IF(Base_Arbres!A804<>\"\",VLOOKUP($A758,Base_Arbres,3,FALSE)*Crit1,\"\")","v":""},{"$f":"IF(Base_Arbres!A804<>\"\",VLOOKUP($A758,Base_Arbres,4,FALSE)*Crit2,\"\")","v":""},{"$f":"IF(Base_Arbres!A804<>\"\",VLOOKUP($A758,Base_Arbres,5,FALSE)*Crit3,\"\")","v":""},{"$f":"IF(Base_Arbres!A804<>\"\",VLOOKUP($A758,Base_Arbres,6,FALSE)*Crit4,\"\")","v":""},{"$f":"IF(Base_Arbres!B758<>\"\",VLOOKUP($A758,Base_Arbres,7,FALSE)*Crit5,\"\")","v":""},{"$f":"IF(Base_Arbres!C758<>\"\",VLOOKUP($A758,Base_Arbres,8,FALSE)*crit8,\"\")","v":""},{"$f":"IF(Base_Arbres!D758<>\"\",VLOOKUP($A758,Base_Arbres,9,FALSE)*crit9,\"\")","v":""},{"$f":"IF(ISNA(VLOOKUP(INDEX(Base_Typologie!$A$6:$P$1003,MATCH(A758,Base_Typologie!$A:$A,0)-5,MATCH(Typologie_Espace_Public,Base_Typologie!$6:$6,0)),TableauScoreTypologie2,2,FALSE)*Crit6),0,VLOOKUP(INDEX(Base_Typologie!$A$6:$P$1003,MATCH(A758,Base_Typologie!$A:$A,0)-5,MATCH(Typologie_Espace_Public,Base_Typologie!$6:$6,0)),TableauScoreTypologie2,2,FALSE)*Crit6)","v":0},0,0,0,0,0,0,0,0,0,0,0,0,null,{"$f":"IF(Base_Arbres!A861<>\"\",VLOOKUP($A758,Base_Arbres,4,FALSE)*Crit7,\"\")","v":""}]
[{"$f":"IF(Base_Arbres!A805<>\"\",Base_Arbres!A805,\"\")","v":""},{"$f":"IF(Base_Arbres!A805<>\"\",VLOOKUP($A759,Base_Arbres,3,FALSE)*Crit1,\"\")","v":""},{"$f":"IF(Base_Arbres!A805<>\"\",VLOOKUP($A759,Base_Arbres,4,FALSE)*Crit2,\"\")","v":""},{"$f":"IF(Base_Arbres!A805<>\"\",VLOOKUP($A759,Base_Arbres,5,FALSE)*Crit3,\"\")","v":""},{"$f":"IF(Base_Arbres!A805<>\"\",VLOOKUP($A759,Base_Arbres,6,FALSE)*Crit4,\"\")","v":""},{"$f":"IF(Base_Arbres!B759<>\"\",VLOOKUP($A759,Base_Arbres,7,FALSE)*Crit5,\"\")","v":""},{"$f":"IF(Base_Arbres!C759<>\"\",VLOOKUP($A759,Base_Arbres,8,FALSE)*crit8,\"\")","v":""},{"$f":"IF(Base_Arbres!D759<>\"\",VLOOKUP($A759,Base_Arbres,9,FALSE)*crit9,\"\")","v":""},{"$f":"IF(ISNA(VLOOKUP(INDEX(Base_Typologie!$A$6:$P$1003,MATCH(A759,Base_Typologie!$A:$A,0)-5,MATCH(Typologie_Espace_Public,Base_Typologie!$6:$6,0)),TableauScoreTypologie2,2,FALSE)*Crit6),0,VLOOKUP(INDEX(Base_Typologie!$A$6:$P$1003,MATCH(A759,Base_Typologie!$A:$A,0)-5,MATCH(Typologie_Espace_Public,Base_Typologie!$6:$6,0)),TableauScoreTypologie2,2,FALSE)*Crit6)","v":0},0,0,0,0,0,0,0,0,0,0,0,0,null,{"$f":"IF(Base_Arbres!A862<>\"\",VLOOKUP($A759,Base_Arbres,4,FALSE)*Crit7,\"\")","v":""}]
[{"$f":"IF(Base_Arbres!A806<>\"\",Base_Arbres!A806,\"\")","v":""},{"$f":"IF(Base_Arbres!A806<>\"\",VLOOKUP($A760,Base_Arbres,3,FALSE)*Crit1,\"\")","v":""},{"$f":"IF(Base_Arbres!A806<>\"\",VLOOKUP($A760,Base_Arbres,4,FALSE)*Crit2,\"\")","v":""},{"$f":"IF(Base_Arbres!A806<>\"\",VLOOKUP($A760,Base_Arbres,5,FALSE)*Crit3,\"\")","v":""},{"$f":"IF(Base_Arbres!A806<>\"\",VLOOKUP($A760,Base_Arbres,6,FALSE)*Crit4,\"\")","v":""},{"$f":"IF(Base_Arbres!B760<>\"\",VLOOKUP($A760,Base_Arbres,7,FALSE)*Crit5,\"\")","v":""},{"$f":"IF(Base_Arbres!C760<>\"\",VLOOKUP($A760,Base_Arbres,8,FALSE)*crit8,\"\")","v":""},{"$f":"IF(Base_Arbres!D760<>\"\",VLOOKUP($A760,Base_Arbres,9,FALSE)*crit9,\"\")","v":""},{"$f":"IF(ISNA(VLOOKUP(INDEX(Base_Typologie!$A$6:$P$1003,MATCH(A760,Base_Typologie!$A:$A,0)-5,MATCH(Typologie_Espace_Public,Base_Typologie!$6:$6,0)),TableauScoreTypologie2,2,FALSE)*Crit6),0,VLOOKUP(INDEX(Base_Typologie!$A$6:$P$1003,MATCH(A760,Base_Typologie!$A:$A,0)-5,MATCH(Typologie_Espace_Public,Base_Typologie!$6:$6,0)),TableauScoreTypologie2,2,FALSE)*Crit6)","v":0},0,0,0,0,0,0,0,0,0,0,0,0,null,{"$f":"IF(Base_Arbres!A863<>\"\",VLOOKUP($A760,Base_Arbres,4,FALSE)*Crit7,\"\")","v":""}]
[{"$f":"IF(Base_Arbres!A807<>\"\",Base_Arbres!A807,\"\")","v":""},{"$f":"IF(Base_Arbres!A807<>\"\",VLOOKUP($A761,Base_Arbres,3,FALSE)*Crit1,\"\")","v":""},{"$f":"IF(Base_Arbres!A807<>\"\",VLOOKUP($A761,Base_Arbres,4,FALSE)*Crit2,\"\")","v":""},{"$f":"IF(Base_Arbres!A807<>\"\",VLOOKUP($A761,Base_Arbres,5,FALSE)*Crit3,\"\")","v":""},{"$f":"IF(Base_Arbres!A807<>\"\",VLOOKUP($A761,Base_Arbres,6,FALSE)*Crit4,\"\")","v":""},{"$f":"IF(Base_Arbres!B761<>\"\",VLOOKUP($A761,Base_Arbres,7,FALSE)*Crit5,\"\")","v":""},{"$f":"IF(Base_Arbres!C761<>\"\",VLOOKUP($A761,Base_Arbres,8,FALSE)*crit8,\"\")","v":""},{"$f":"IF(Base_Arbres!D761<>\"\",VLOOKUP($A761,Base_Arbres,9,FALSE)*crit9,\"\")","v":""},{"$f":"IF(ISNA(VLOOKUP(INDEX(Base_Typologie!$A$6:$P$1003,MATCH(A761,Base_Typologie!$A:$A,0)-5,MATCH(Typologie_Espace_Public,Base_Typologie!$6:$6,0)),TableauScoreTypologie2,2,FALSE)*Crit6),0,VLOOKUP(INDEX(Base_Typologie!$A$6:$P$1003,MATCH(A761,Base_Typologie!$A:$A,0)-5,MATCH(Typologie_Espace_Public,Base_Typologie!$6:$6,0)),TableauScoreTypologie2,2,FALSE)*Crit6)","v":0},0,0,0,0,0,0,0,0,0,0,0,0,null,{"$f":"IF(Base_Arbres!A864<>\"\",VLOOKUP($A761,Base_Arbres,4,FALSE)*Crit7,\"\")","v":""}]
[{"$f":"IF(Base_Arbres!A808<>\"\",Base_Arbres!A808,\"\")","v":""},{"$f":"IF(Base_Arbres!A808<>\"\",VLOOKUP($A762,Base_Arbres,3,FALSE)*Crit1,\"\")","v":""},{"$f":"IF(Base_Arbres!A808<>\"\",VLOOKUP($A762,Base_Arbres,4,FALSE)*Crit2,\"\")","v":""},{"$f":"IF(Base_Arbres!A808<>\"\",VLOOKUP($A762,Base_Arbres,5,FALSE)*Crit3,\"\")","v":""},{"$f":"IF(Base_Arbres!A808<>\"\",VLOOKUP($A762,Base_Arbres,6,FALSE)*Crit4,\"\")","v":""},{"$f":"IF(Base_Arbres!B762<>\"\",VLOOKUP($A762,Base_Arbres,7,FALSE)*Crit5,\"\")","v":""},{"$f":"IF(Base_Arbres!C762<>\"\",VLOOKUP($A762,Base_Arbres,8,FALSE)*crit8,\"\")","v":""},{"$f":"IF(Base_Arbres!D762<>\"\",VLOOKUP($A762,Base_Arbres,9,FALSE)*crit9,\"\")","v":""},{"$f":"IF(ISNA(VLOOKUP(INDEX(Base_Typologie!$A$6:$P$1003,MATCH(A762,Base_Typologie!$A:$A,0)-5,MATCH(Typologie_Espace_Public,Base_Typologie!$6:$6,0)),TableauScoreTypologie2,2,FALSE)*Crit6),0,VLOOKUP(INDEX(Base_Typologie!$A$6:$P$1003,MATCH(A762,Base_Typologie!$A:$A,0)-5,MATCH(Typologie_Espace_Public,Base_Typologie!$6:$6,0)),TableauScoreTypologie2,2,FALSE)*Crit6)","v":0},0,0,0,0,0,0,0,0,0,0,0,0,null,{"$f":"IF(Base_Arbres!A865<>\"\",VLOOKUP($A762,Base_Arbres,4,FALSE)*Crit7,\"\")","v":""}]
[{"$f":"IF(Base_Arbres!A809<>\"\",Base_Arbres!A809,\"\")","v":""},{"$f":"IF(Base_Arbres!A809<>\"\",VLOOKUP($A763,Base_Arbres,3,FALSE)*Crit1,\"\")","v":""},{"$f":"IF(Base_Arbres!A809<>\"\",VLOOKUP($A763,Base_Arbres,4,FALSE)*Crit2,\"\")","v":""},{"$f":"IF(Base_Arbres!A809<>\"\",VLOOKUP($A763,Base_Arbres,5,FALSE)*Crit3,\"\")","v":""},{"$f":"IF(Base_Arbres!A809<>\"\",VLOOKUP($A763,Base_Arbres,6,FALSE)*Crit4,\"\")","v":""},{"$f":"IF(Base_Arbres!B763<>\"\",VLOOKUP($A763,Base_Arbres,7,FALSE)*Crit5,\"\")","v":""},{"$f":"IF(Base_Arbres!C763<>\"\",VLOOKUP($A763,Base_Arbres,8,FALSE)*crit8,\"\")","v":""},{"$f":"IF(Base_Arbres!D763<>\"\",VLOOKUP($A763,Base_Arbres,9,FALSE)*crit9,\"\")","v":""},{"$f":"IF(ISNA(VLOOKUP(INDEX(Base_Typologie!$A$6:$P$1003,MATCH(A763,Base_Typologie!$A:$A,0)-5,MATCH(Typologie_Espace_Public,Base_Typologie!$6:$6,0)),TableauScoreTypologie2,2,FALSE)*Crit6),0,VLOOKUP(INDEX(Base_Typologie!$A$6:$P$1003,MATCH(A763,Base_Typologie!$A:$A,0)-5,MATCH(Typologie_Espace_Public,Base_Typologie!$6:$6,0)),TableauScoreTypologie2,2,FALSE)*Crit6)","v":0},0,0,0,0,0,0,0,0,0,0,0,0,null,{"$f":"IF(Base_Arbres!A866<>\"\",VLOOKUP($A763,Base_Arbres,4,FALSE)*Crit7,\"\")","v":""}]
[{"$f":"IF(Base_Arbres!A810<>\"\",Base_Arbres!A810,\"\")","v":""},{"$f":"IF(Base_Arbres!A810<>\"\",VLOOKUP($A764,Base_Arbres,3,FALSE)*Crit1,\"\")","v":""},{"$f":"IF(Base_Arbres!A810<>\"\",VLOOKUP($A764,Base_Arbres,4,FALSE)*Crit2,\"\")","v":""},{"$f":"IF(Base_Arbres!A810<>\"\",VLOOKUP($A764,Base_Arbres,5,FALSE)*Crit3,\"\")","v":""},{"$f":"IF(Base_Arbres!A810<>\"\",VLOOKUP($A764,Base_Arbres,6,FALSE)*Crit4,\"\")","v":""},{"$f":"IF(Base_Arbres!B764<>\"\",VLOOKUP($A764,Base_Arbres,7,FALSE)*Crit5,\"\")","v":""},{"$f":"IF(Base_Arbres!C764<>\"\",VLOOKUP($A764,Base_Arbres,8,FALSE)*crit8,\"\")","v":""},{"$f":"IF(Base_Arbres!D764<>\"\",VLOOKUP($A764,Base_Arbres,9,FALSE)*crit9,\"\")","v":""},{"$f":"IF(ISNA(VLOOKUP(INDEX(Base_Typologie!$A$6:$P$1003,MATCH(A764,Base_Typologie!$A:$A,0)-5,MATCH(Typologie_Espace_Public,Base_Typologie!$6:$6,0)),TableauScoreTypologie2,2,FALSE)*Crit6),0,VLOOKUP(INDEX(Base_Typologie!$A$6:$P$1003,MATCH(A764,Base_Typologie!$A:$A,0)-5,MATCH(Typologie_Espace_Public,Base_Typologie!$6:$6,0)),TableauScoreTypologie2,2,FALSE)*Crit6)","v":0},0,0,0,0,0,0,0,0,0,0,0,0,null,{"$f":"IF(Base_Arbres!A867<>\"\",VLOOKUP($A764,Base_Arbres,4,FALSE)*Crit7,\"\")","v":""}]
[{"$f":"IF(Base_Arbres!A811<>\"\",Base_Arbres!A811,\"\")","v":""},{"$f":"IF(Base_Arbres!A811<>\"\",VLOOKUP($A765,Base_Arbres,3,FALSE)*Crit1,\"\")","v":""},{"$f":"IF(Base_Arbres!A811<>\"\",VLOOKUP($A765,Base_Arbres,4,FALSE)*Crit2,\"\")","v":""},{"$f":"IF(Base_Arbres!A811<>\"\",VLOOKUP($A765,Base_Arbres,5,FALSE)*Crit3,\"\")","v":""},{"$f":"IF(Base_Arbres!A811<>\"\",VLOOKUP($A765,Base_Arbres,6,FALSE)*Crit4,\"\")","v":""},{"$f":"IF(Base_Arbres!B765<>\"\",VLOOKUP($A765,Base_Arbres,7,FALSE)*Crit5,\"\")","v":""},{"$f":"IF(Base_Arbres!C765<>\"\",VLOOKUP($A765,Base_Arbres,8,FALSE)*crit8,\"\")","v":""},{"$f":"IF(Base_Arbres!D765<>\"\",VLOOKUP($A765,Base_Arbres,9,FALSE)*crit9,\"\")","v":""},{"$f":"IF(ISNA(VLOOKUP(INDEX(Base_Typologie!$A$6:$P$1003,MATCH(A765,Base_Typologie!$A:$A,0)-5,MATCH(Typologie_Espace_Public,Base_Typologie!$6:$6,0)),TableauScoreTypologie2,2,FALSE)*Crit6),0,VLOOKUP(INDEX(Base_Typologie!$A$6:$P$1003,MATCH(A765,Base_Typologie!$A:$A,0)-5,MATCH(Typologie_Espace_Public,Base_Typologie!$6:$6,0)),TableauScoreTypologie2,2,FALSE)*Crit6)","v":0},0,0,0,0,0,0,0,0,0,0,0,0,null,{"$f":"IF(Base_Arbres!A868<>\"\",VLOOKUP($A765,Base_Arbres,4,FALSE)*Crit7,\"\")","v":""}]
[{"$f":"IF(Base_Arbres!A812<>\"\",Base_Arbres!A812,\"\")","v":""},{"$f":"IF(Base_Arbres!A812<>\"\",VLOOKUP($A766,Base_Arbres,3,FALSE)*Crit1,\"\")","v":""},{"$f":"IF(Base_Arbres!A812<>\"\",VLOOKUP($A766,Base_Arbres,4,FALSE)*Crit2,\"\")","v":""},{"$f":"IF(Base_Arbres!A812<>\"\",VLOOKUP($A766,Base_Arbres,5,FALSE)*Crit3,\"\")","v":""},{"$f":"IF(Base_Arbres!A812<>\"\",VLOOKUP($A766,Base_Arbres,6,FALSE)*Crit4,\"\")","v":""},{"$f":"IF(Base_Arbres!B766<>\"\",VLOOKUP($A766,Base_Arbres,7,FALSE)*Crit5,\"\")","v":""},{"$f":"IF(Base_Arbres!C766<>\"\",VLOOKUP($A766,Base_Arbres,8,FALSE)*crit8,\"\")","v":""},{"$f":"IF(Base_Arbres!D766<>\"\",VLOOKUP($A766,Base_Arbres,9,FALSE)*crit9,\"\")","v":""},{"$f":"IF(ISNA(VLOOKUP(INDEX(Base_Typologie!$A$6:$P$1003,MATCH(A766,Base_Typologie!$A:$A,0)-5,MATCH(Typologie_Espace_Public,Base_Typologie!$6:$6,0)),TableauScoreTypologie2,2,FALSE)*Crit6),0,VLOOKUP(INDEX(Base_Typologie!$A$6:$P$1003,MATCH(A766,Base_Typologie!$A:$A,0)-5,MATCH(Typologie_Espace_Public,Base_Typologie!$6:$6,0)),TableauScoreTypologie2,2,FALSE)*Crit6)","v":0},0,0,0,0,0,0,0,0,0,0,0,0,null,{"$f":"IF(Base_Arbres!A869<>\"\",VLOOKUP($A766,Base_Arbres,4,FALSE)*Crit7,\"\")","v":""}]
[{"$f":"IF(Base_Arbres!A813<>\"\",Base_Arbres!A813,\"\")","v":""},{"$f":"IF(Base_Arbres!A813<>\"\",VLOOKUP($A767,Base_Arbres,3,FALSE)*Crit1,\"\")","v":""},{"$f":"IF(Base_Arbres!A813<>\"\",VLOOKUP($A767,Base_Arbres,4,FALSE)*Crit2,\"\")","v":""},{"$f":"IF(Base_Arbres!A813<>\"\",VLOOKUP($A767,Base_Arbres,5,FALSE)*Crit3,\"\")","v":""},{"$f":"IF(Base_Arbres!A813<>\"\",VLOOKUP($A767,Base_Arbres,6,FALSE)*Crit4,\"\")","v":""},{"$f":"IF(Base_Arbres!B767<>\"\",VLOOKUP($A767,Base_Arbres,7,FALSE)*Crit5,\"\")","v":""},{"$f":"IF(Base_Arbres!C767<>\"\",VLOOKUP($A767,Base_Arbres,8,FALSE)*crit8,\"\")","v":""},{"$f":"IF(Base_Arbres!D767<>\"\",VLOOKUP($A767,Base_Arbres,9,FALSE)*crit9,\"\")","v":""},{"$f":"IF(ISNA(VLOOKUP(INDEX(Base_Typologie!$A$6:$P$1003,MATCH(A767,Base_Typologie!$A:$A,0)-5,MATCH(Typologie_Espace_Public,Base_Typologie!$6:$6,0)),TableauScoreTypologie2,2,FALSE)*Crit6),0,VLOOKUP(INDEX(Base_Typologie!$A$6:$P$1003,MATCH(A767,Base_Typologie!$A:$A,0)-5,MATCH(Typologie_Espace_Public,Base_Typologie!$6:$6,0)),TableauScoreTypologie2,2,FALSE)*Crit6)","v":0},0,0,0,0,0,0,0,0,0,0,0,0,null,{"$f":"IF(Base_Arbres!A870<>\"\",VLOOKUP($A767,Base_Arbres,4,FALSE)*Crit7,\"\")","v":""}]
[{"$f":"IF(Base_Arbres!A814<>\"\",Base_Arbres!A814,\"\")","v":""},{"$f":"IF(Base_Arbres!A814<>\"\",VLOOKUP($A768,Base_Arbres,3,FALSE)*Crit1,\"\")","v":""},{"$f":"IF(Base_Arbres!A814<>\"\",VLOOKUP($A768,Base_Arbres,4,FALSE)*Crit2,\"\")","v":""},{"$f":"IF(Base_Arbres!A814<>\"\",VLOOKUP($A768,Base_Arbres,5,FALSE)*Crit3,\"\")","v":""},{"$f":"IF(Base_Arbres!A814<>\"\",VLOOKUP($A768,Base_Arbres,6,FALSE)*Crit4,\"\")","v":""},{"$f":"IF(Base_Arbres!B768<>\"\",VLOOKUP($A768,Base_Arbres,7,FALSE)*Crit5,\"\")","v":""},{"$f":"IF(Base_Arbres!C768<>\"\",VLOOKUP($A768,Base_Arbres,8,FALSE)*crit8,\"\")","v":""},{"$f":"IF(Base_Arbres!D768<>\"\",VLOOKUP($A768,Base_Arbres,9,FALSE)*crit9,\"\")","v":""},{"$f":"IF(ISNA(VLOOKUP(INDEX(Base_Typologie!$A$6:$P$1003,MATCH(A768,Base_Typologie!$A:$A,0)-5,MATCH(Typologie_Espace_Public,Base_Typologie!$6:$6,0)),TableauScoreTypologie2,2,FALSE)*Crit6),0,VLOOKUP(INDEX(Base_Typologie!$A$6:$P$1003,MATCH(A768,Base_Typologie!$A:$A,0)-5,MATCH(Typologie_Espace_Public,Base_Typologie!$6:$6,0)),TableauScoreTypologie2,2,FALSE)*Crit6)","v":0},0,0,0,0,0,0,0,0,0,0,0,0,null,{"$f":"IF(Base_Arbres!A871<>\"\",VLOOKUP($A768,Base_Arbres,4,FALSE)*Crit7,\"\")","v":""}]
[{"$f":"IF(Base_Arbres!A815<>\"\",Base_Arbres!A815,\"\")","v":""},{"$f":"IF(Base_Arbres!A815<>\"\",VLOOKUP($A769,Base_Arbres,3,FALSE)*Crit1,\"\")","v":""},{"$f":"IF(Base_Arbres!A815<>\"\",VLOOKUP($A769,Base_Arbres,4,FALSE)*Crit2,\"\")","v":""},{"$f":"IF(Base_Arbres!A815<>\"\",VLOOKUP($A769,Base_Arbres,5,FALSE)*Crit3,\"\")","v":""},{"$f":"IF(Base_Arbres!A815<>\"\",VLOOKUP($A769,Base_Arbres,6,FALSE)*Crit4,\"\")","v":""},{"$f":"IF(Base_Arbres!B769<>\"\",VLOOKUP($A769,Base_Arbres,7,FALSE)*Crit5,\"\")","v":""},{"$f":"IF(Base_Arbres!C769<>\"\",VLOOKUP($A769,Base_Arbres,8,FALSE)*crit8,\"\")","v":""},{"$f":"IF(Base_Arbres!D769<>\"\",VLOOKUP($A769,Base_Arbres,9,FALSE)*crit9,\"\")","v":""},{"$f":"IF(ISNA(VLOOKUP(INDEX(Base_Typologie!$A$6:$P$1003,MATCH(A769,Base_Typologie!$A:$A,0)-5,MATCH(Typologie_Espace_Public,Base_Typologie!$6:$6,0)),TableauScoreTypologie2,2,FALSE)*Crit6),0,VLOOKUP(INDEX(Base_Typologie!$A$6:$P$1003,MATCH(A769,Base_Typologie!$A:$A,0)-5,MATCH(Typologie_Espace_Public,Base_Typologie!$6:$6,0)),TableauScoreTypologie2,2,FALSE)*Crit6)","v":0},0,0,0,0,0,0,0,0,0,0,0,0,null,{"$f":"IF(Base_Arbres!A872<>\"\",VLOOKUP($A769,Base_Arbres,4,FALSE)*Crit7,\"\")","v":""}]
[{"$f":"IF(Base_Arbres!A816<>\"\",Base_Arbres!A816,\"\")","v":""},{"$f":"IF(Base_Arbres!A816<>\"\",VLOOKUP($A770,Base_Arbres,3,FALSE)*Crit1,\"\")","v":""},{"$f":"IF(Base_Arbres!A816<>\"\",VLOOKUP($A770,Base_Arbres,4,FALSE)*Crit2,\"\")","v":""},{"$f":"IF(Base_Arbres!A816<>\"\",VLOOKUP($A770,Base_Arbres,5,FALSE)*Crit3,\"\")","v":""},{"$f":"IF(Base_Arbres!A816<>\"\",VLOOKUP($A770,Base_Arbres,6,FALSE)*Crit4,\"\")","v":""},{"$f":"IF(Base_Arbres!B770<>\"\",VLOOKUP($A770,Base_Arbres,7,FALSE)*Crit5,\"\")","v":""},{"$f":"IF(Base_Arbres!C770<>\"\",VLOOKUP($A770,Base_Arbres,8,FALSE)*crit8,\"\")","v":""},{"$f":"IF(Base_Arbres!D770<>\"\",VLOOKUP($A770,Base_Arbres,9,FALSE)*crit9,\"\")","v":""},{"$f":"IF(ISNA(VLOOKUP(INDEX(Base_Typologie!$A$6:$P$1003,MATCH(A770,Base_Typologie!$A:$A,0)-5,MATCH(Typologie_Espace_Public,Base_Typologie!$6:$6,0)),TableauScoreTypologie2,2,FALSE)*Crit6),0,VLOOKUP(INDEX(Base_Typologie!$A$6:$P$1003,MATCH(A770,Base_Typologie!$A:$A,0)-5,MATCH(Typologie_Espace_Public,Base_Typologie!$6:$6,0)),TableauScoreTypologie2,2,FALSE)*Crit6)","v":0},{"$f":"IF(A770<>\"\",IF(LEFT(VLOOKUP($A770,Base_Arbres,10,FALSE),1)>=LEFT(Cont_Racines,1),0,1),0)","v":0},{"$f":"IF(A770<>\"\",IF(LEFT(VLOOKUP($A770,Base_Arbres,11,FALSE),1)>=LEFT(Cont_Branches,1),0,1),0)","v":0},{"$f":"IF(A770<>\"\",IF(LEFT(VLOOKUP($A770,Base_Arbres,12,FALSE),1)>=LEFT(Cont_Chablis,1),0,1),0)","v":0},{"$f":"IF(A770<>\"\",IF(LEFT(VLOOKUP($A770,Base_Arbres,13,FALSE),1)>=LEFT(Cont_Fructifications,1),0,1),0)","v":0},{"$f":"IF(A770<>\"\",IF(LEFT(VLOOKUP($A770,Base_Arbres,14,FALSE),1)>=LEFT(Cont_Miellat,1),0,1),0)","v":0},{"$f":"IF(A770<>\"\",IF(LEFT(VLOOKUP($A770,Base_Arbres,15,FALSE),1)>=LEFT(Cont_Fruits_Toxiques,1),0,1),0)","v":0},{"$f":"IF(A770<>\"\",IF(LEFT(VLOOKUP($A770,Base_Arbres,16,FALSE),1)>=LEFT(Cont_Hauteur,1),0,1),0)","v":0},{"$f":"IF(A770<>\"\",IF(LEFT(VLOOKUP($A770,Base_Arbres,17,FALSE),1)>=LEFT(Cont_Envergure,1),0,1),0)","v":0},{"$f":"IF(A770<>\"\",IF(LEFT(VLOOKUP($A770,Base_Arbres,18,FALSE),1)>=LEFT(Cont_pollen,1),0,1),0)","v":0},{"$f":"IF(B770<>\"\",IF(LEFT(VLOOKUP($A770,Base_Arbres,19,FALSE),1)>=LEFT(Cont_malodo,1),0,1),0)","v":0},{"$f":"IF(A770<>\"\",IF(LEFT(VLOOKUP($A770,Base_Arbres,20,FALSE),1)>=LEFT(Cont_chenilles,1),0,1),0)","v":0},{"$f":"IF(A770<>\"\",IF(LEFT(VLOOKUP($A770,Base_Arbres,21,FALSE),1)>=LEFT(Cont_epineux,1),0,1),0)","v":0},null,{"$f":"IF(Base_Arbres!A873<>\"\",VLOOKUP($A770,Base_Arbres,4,FALSE)*Crit7,\"\")","v":""}]
[{"$f":"IF(Base_Arbres!A817<>\"\",Base_Arbres!A817,\"\")","v":""},{"$f":"IF(Base_Arbres!A817<>\"\",VLOOKUP($A771,Base_Arbres,3,FALSE)*Crit1,\"\")","v":""},{"$f":"IF(Base_Arbres!A817<>\"\",VLOOKUP($A771,Base_Arbres,4,FALSE)*Crit2,\"\")","v":""},{"$f":"IF(Base_Arbres!A817<>\"\",VLOOKUP($A771,Base_Arbres,5,FALSE)*Crit3,\"\")","v":""},{"$f":"IF(Base_Arbres!A817<>\"\",VLOOKUP($A771,Base_Arbres,6,FALSE)*Crit4,\"\")","v":""},{"$f":"IF(Base_Arbres!B771<>\"\",VLOOKUP($A771,Base_Arbres,7,FALSE)*Crit5,\"\")","v":""},{"$f":"IF(Base_Arbres!C771<>\"\",VLOOKUP($A771,Base_Arbres,8,FALSE)*crit8,\"\")","v":""},{"$f":"IF(Base_Arbres!D771<>\"\",VLOOKUP($A771,Base_Arbres,9,FALSE)*crit9,\"\")","v":""},{"$f":"IF(ISNA(VLOOKUP(INDEX(Base_Typologie!$A$6:$P$1003,MATCH(A771,Base_Typologie!$A:$A,0)-5,MATCH(Typologie_Espace_Public,Base_Typologie!$6:$6,0)),TableauScoreTypologie2,2,FALSE)*Crit6),0,VLOOKUP(INDEX(Base_Typologie!$A$6:$P$1003,MATCH(A771,Base_Typologie!$A:$A,0)-5,MATCH(Typologie_Espace_Public,Base_Typologie!$6:$6,0)),TableauScoreTypologie2,2,FALSE)*Crit6)","v":0},0,0,0,0,0,0,0,0,0,0,0,0,null,{"$f":"IF(Base_Arbres!A874<>\"\",VLOOKUP($A771,Base_Arbres,4,FALSE)*Crit7,\"\")","v":""}]
[{"$f":"IF(Base_Arbres!A818<>\"\",Base_Arbres!A818,\"\")","v":""},{"$f":"IF(Base_Arbres!A818<>\"\",VLOOKUP($A772,Base_Arbres,3,FALSE)*Crit1,\"\")","v":""},{"$f":"IF(Base_Arbres!A818<>\"\",VLOOKUP($A772,Base_Arbres,4,FALSE)*Crit2,\"\")","v":""},{"$f":"IF(Base_Arbres!A818<>\"\",VLOOKUP($A772,Base_Arbres,5,FALSE)*Crit3,\"\")","v":""},{"$f":"IF(Base_Arbres!A818<>\"\",VLOOKUP($A772,Base_Arbres,6,FALSE)*Crit4,\"\")","v":""},{"$f":"IF(Base_Arbres!B772<>\"\",VLOOKUP($A772,Base_Arbres,7,FALSE)*Crit5,\"\")","v":""},{"$f":"IF(Base_Arbres!C772<>\"\",VLOOKUP($A772,Base_Arbres,8,FALSE)*crit8,\"\")","v":""},{"$f":"IF(Base_Arbres!D772<>\"\",VLOOKUP($A772,Base_Arbres,9,FALSE)*crit9,\"\")","v":""},{"$f":"IF(ISNA(VLOOKUP(INDEX(Base_Typologie!$A$6:$P$1003,MATCH(A772,Base_Typologie!$A:$A,0)-5,MATCH(Typologie_Espace_Public,Base_Typologie!$6:$6,0)),TableauScoreTypologie2,2,FALSE)*Crit6),0,VLOOKUP(INDEX(Base_Typologie!$A$6:$P$1003,MATCH(A772,Base_Typologie!$A:$A,0)-5,MATCH(Typologie_Espace_Public,Base_Typologie!$6:$6,0)),TableauScoreTypologie2,2,FALSE)*Crit6)","v":0},0,0,0,0,0,0,0,0,0,0,0,0,null,{"$f":"IF(Base_Arbres!A875<>\"\",VLOOKUP($A772,Base_Arbres,4,FALSE)*Crit7,\"\")","v":""}]
[{"$f":"IF(Base_Arbres!A819<>\"\",Base_Arbres!A819,\"\")","v":""},{"$f":"IF(Base_Arbres!A819<>\"\",VLOOKUP($A773,Base_Arbres,3,FALSE)*Crit1,\"\")","v":""},{"$f":"IF(Base_Arbres!A819<>\"\",VLOOKUP($A773,Base_Arbres,4,FALSE)*Crit2,\"\")","v":""},{"$f":"IF(Base_Arbres!A819<>\"\",VLOOKUP($A773,Base_Arbres,5,FALSE)*Crit3,\"\")","v":""},{"$f":"IF(Base_Arbres!A819<>\"\",VLOOKUP($A773,Base_Arbres,6,FALSE)*Crit4,\"\")","v":""},{"$f":"IF(Base_Arbres!B773<>\"\",VLOOKUP($A773,Base_Arbres,7,FALSE)*Crit5,\"\")","v":""},{"$f":"IF(Base_Arbres!C773<>\"\",VLOOKUP($A773,Base_Arbres,8,FALSE)*crit8,\"\")","v":""},{"$f":"IF(Base_Arbres!D773<>\"\",VLOOKUP($A773,Base_Arbres,9,FALSE)*crit9,\"\")","v":""},{"$f":"IF(ISNA(VLOOKUP(INDEX(Base_Typologie!$A$6:$P$1003,MATCH(A773,Base_Typologie!$A:$A,0)-5,MATCH(Typologie_Espace_Public,Base_Typologie!$6:$6,0)),TableauScoreTypologie2,2,FALSE)*Crit6),0,VLOOKUP(INDEX(Base_Typologie!$A$6:$P$1003,MATCH(A773,Base_Typologie!$A:$A,0)-5,MATCH(Typologie_Espace_Public,Base_Typologie!$6:$6,0)),TableauScoreTypologie2,2,FALSE)*Crit6)","v":0},0,0,0,0,0,0,0,0,0,0,0,0,null,{"$f":"IF(Base_Arbres!A876<>\"\",VLOOKUP($A773,Base_Arbres,4,FALSE)*Crit7,\"\")","v":""}]
[{"$f":"IF(Base_Arbres!A820<>\"\",Base_Arbres!A820,\"\")","v":""},{"$f":"IF(Base_Arbres!A820<>\"\",VLOOKUP($A774,Base_Arbres,3,FALSE)*Crit1,\"\")","v":""},{"$f":"IF(Base_Arbres!A820<>\"\",VLOOKUP($A774,Base_Arbres,4,FALSE)*Crit2,\"\")","v":""},{"$f":"IF(Base_Arbres!A820<>\"\",VLOOKUP($A774,Base_Arbres,5,FALSE)*Crit3,\"\")","v":""},{"$f":"IF(Base_Arbres!A820<>\"\",VLOOKUP($A774,Base_Arbres,6,FALSE)*Crit4,\"\")","v":""},{"$f":"IF(Base_Arbres!B774<>\"\",VLOOKUP($A774,Base_Arbres,7,FALSE)*Crit5,\"\")","v":""},{"$f":"IF(Base_Arbres!C774<>\"\",VLOOKUP($A774,Base_Arbres,8,FALSE)*crit8,\"\")","v":""},{"$f":"IF(Base_Arbres!D774<>\"\",VLOOKUP($A774,Base_Arbres,9,FALSE)*crit9,\"\")","v":""},{"$f":"IF(ISNA(VLOOKUP(INDEX(Base_Typologie!$A$6:$P$1003,MATCH(A774,Base_Typologie!$A:$A,0)-5,MATCH(Typologie_Espace_Public,Base_Typologie!$6:$6,0)),TableauScoreTypologie2,2,FALSE)*Crit6),0,VLOOKUP(INDEX(Base_Typologie!$A$6:$P$1003,MATCH(A774,Base_Typologie!$A:$A,0)-5,MATCH(Typologie_Espace_Public,Base_Typologie!$6:$6,0)),TableauScoreTypologie2,2,FALSE)*Crit6)","v":0},0,0,0,0,0,0,0,0,0,0,0,0,null,{"$f":"IF(Base_Arbres!A877<>\"\",VLOOKUP($A774,Base_Arbres,4,FALSE)*Crit7,\"\")","v":""}]
[{"$f":"IF(Base_Arbres!A821<>\"\",Base_Arbres!A821,\"\")","v":""},{"$f":"IF(Base_Arbres!A821<>\"\",VLOOKUP($A775,Base_Arbres,3,FALSE)*Crit1,\"\")","v":""},{"$f":"IF(Base_Arbres!A821<>\"\",VLOOKUP($A775,Base_Arbres,4,FALSE)*Crit2,\"\")","v":""},{"$f":"IF(Base_Arbres!A821<>\"\",VLOOKUP($A775,Base_Arbres,5,FALSE)*Crit3,\"\")","v":""},{"$f":"IF(Base_Arbres!A821<>\"\",VLOOKUP($A775,Base_Arbres,6,FALSE)*Crit4,\"\")","v":""},{"$f":"IF(Base_Arbres!B775<>\"\",VLOOKUP($A775,Base_Arbres,7,FALSE)*Crit5,\"\")","v":""},{"$f":"IF(Base_Arbres!C775<>\"\",VLOOKUP($A775,Base_Arbres,8,FALSE)*crit8,\"\")","v":""},{"$f":"IF(Base_Arbres!D775<>\"\",VLOOKUP($A775,Base_Arbres,9,FALSE)*crit9,\"\")","v":""},{"$f":"IF(ISNA(VLOOKUP(INDEX(Base_Typologie!$A$6:$P$1003,MATCH(A775,Base_Typologie!$A:$A,0)-5,MATCH(Typologie_Espace_Public,Base_Typologie!$6:$6,0)),TableauScoreTypologie2,2,FALSE)*Crit6),0,VLOOKUP(INDEX(Base_Typologie!$A$6:$P$1003,MATCH(A775,Base_Typologie!$A:$A,0)-5,MATCH(Typologie_Espace_Public,Base_Typologie!$6:$6,0)),TableauScoreTypologie2,2,FALSE)*Crit6)","v":0},0,0,0,0,0,0,0,0,0,0,0,0,null,{"$f":"IF(Base_Arbres!A878<>\"\",VLOOKUP($A775,Base_Arbres,4,FALSE)*Crit7,\"\")","v":""}]
[{"$f":"IF(Base_Arbres!A822<>\"\",Base_Arbres!A822,\"\")","v":""},{"$f":"IF(Base_Arbres!A822<>\"\",VLOOKUP($A776,Base_Arbres,3,FALSE)*Crit1,\"\")","v":""},{"$f":"IF(Base_Arbres!A822<>\"\",VLOOKUP($A776,Base_Arbres,4,FALSE)*Crit2,\"\")","v":""},{"$f":"IF(Base_Arbres!A822<>\"\",VLOOKUP($A776,Base_Arbres,5,FALSE)*Crit3,\"\")","v":""},{"$f":"IF(Base_Arbres!A822<>\"\",VLOOKUP($A776,Base_Arbres,6,FALSE)*Crit4,\"\")","v":""},{"$f":"IF(Base_Arbres!B776<>\"\",VLOOKUP($A776,Base_Arbres,7,FALSE)*Crit5,\"\")","v":""},{"$f":"IF(Base_Arbres!C776<>\"\",VLOOKUP($A776,Base_Arbres,8,FALSE)*crit8,\"\")","v":""},{"$f":"IF(Base_Arbres!D776<>\"\",VLOOKUP($A776,Base_Arbres,9,FALSE)*crit9,\"\")","v":""},{"$f":"IF(ISNA(VLOOKUP(INDEX(Base_Typologie!$A$6:$P$1003,MATCH(A776,Base_Typologie!$A:$A,0)-5,MATCH(Typologie_Espace_Public,Base_Typologie!$6:$6,0)),TableauScoreTypologie2,2,FALSE)*Crit6),0,VLOOKUP(INDEX(Base_Typologie!$A$6:$P$1003,MATCH(A776,Base_Typologie!$A:$A,0)-5,MATCH(Typologie_Espace_Public,Base_Typologie!$6:$6,0)),TableauScoreTypologie2,2,FALSE)*Crit6)","v":0},0,0,0,0,0,0,0,0,0,0,0,0,null,{"$f":"IF(Base_Arbres!A879<>\"\",VLOOKUP($A776,Base_Arbres,4,FALSE)*Crit7,\"\")","v":""}]
[{"$f":"IF(Base_Arbres!A823<>\"\",Base_Arbres!A823,\"\")","v":""},{"$f":"IF(Base_Arbres!A823<>\"\",VLOOKUP($A777,Base_Arbres,3,FALSE)*Crit1,\"\")","v":""},{"$f":"IF(Base_Arbres!A823<>\"\",VLOOKUP($A777,Base_Arbres,4,FALSE)*Crit2,\"\")","v":""},{"$f":"IF(Base_Arbres!A823<>\"\",VLOOKUP($A777,Base_Arbres,5,FALSE)*Crit3,\"\")","v":""},{"$f":"IF(Base_Arbres!A823<>\"\",VLOOKUP($A777,Base_Arbres,6,FALSE)*Crit4,\"\")","v":""},{"$f":"IF(Base_Arbres!B777<>\"\",VLOOKUP($A777,Base_Arbres,7,FALSE)*Crit5,\"\")","v":""},{"$f":"IF(Base_Arbres!C777<>\"\",VLOOKUP($A777,Base_Arbres,8,FALSE)*crit8,\"\")","v":""},{"$f":"IF(Base_Arbres!D777<>\"\",VLOOKUP($A777,Base_Arbres,9,FALSE)*crit9,\"\")","v":""},{"$f":"IF(ISNA(VLOOKUP(INDEX(Base_Typologie!$A$6:$P$1003,MATCH(A777,Base_Typologie!$A:$A,0)-5,MATCH(Typologie_Espace_Public,Base_Typologie!$6:$6,0)),TableauScoreTypologie2,2,FALSE)*Crit6),0,VLOOKUP(INDEX(Base_Typologie!$A$6:$P$1003,MATCH(A777,Base_Typologie!$A:$A,0)-5,MATCH(Typologie_Espace_Public,Base_Typologie!$6:$6,0)),TableauScoreTypologie2,2,FALSE)*Crit6)","v":0},0,0,0,0,0,0,0,0,0,0,0,0,null,{"$f":"IF(Base_Arbres!A880<>\"\",VLOOKUP($A777,Base_Arbres,4,FALSE)*Crit7,\"\")","v":""}]
[{"$f":"IF(Base_Arbres!A824<>\"\",Base_Arbres!A824,\"\")","v":""},{"$f":"IF(Base_Arbres!A824<>\"\",VLOOKUP($A778,Base_Arbres,3,FALSE)*Crit1,\"\")","v":""},{"$f":"IF(Base_Arbres!A824<>\"\",VLOOKUP($A778,Base_Arbres,4,FALSE)*Crit2,\"\")","v":""},{"$f":"IF(Base_Arbres!A824<>\"\",VLOOKUP($A778,Base_Arbres,5,FALSE)*Crit3,\"\")","v":""},{"$f":"IF(Base_Arbres!A824<>\"\",VLOOKUP($A778,Base_Arbres,6,FALSE)*Crit4,\"\")","v":""},{"$f":"IF(Base_Arbres!B778<>\"\",VLOOKUP($A778,Base_Arbres,7,FALSE)*Crit5,\"\")","v":""},{"$f":"IF(Base_Arbres!C778<>\"\",VLOOKUP($A778,Base_Arbres,8,FALSE)*crit8,\"\")","v":""},{"$f":"IF(Base_Arbres!D778<>\"\",VLOOKUP($A778,Base_Arbres,9,FALSE)*crit9,\"\")","v":""},{"$f":"IF(ISNA(VLOOKUP(INDEX(Base_Typologie!$A$6:$P$1003,MATCH(A778,Base_Typologie!$A:$A,0)-5,MATCH(Typologie_Espace_Public,Base_Typologie!$6:$6,0)),TableauScoreTypologie2,2,FALSE)*Crit6),0,VLOOKUP(INDEX(Base_Typologie!$A$6:$P$1003,MATCH(A778,Base_Typologie!$A:$A,0)-5,MATCH(Typologie_Espace_Public,Base_Typologie!$6:$6,0)),TableauScoreTypologie2,2,FALSE)*Crit6)","v":0},0,0,0,0,0,0,0,0,0,0,0,0,null,{"$f":"IF(Base_Arbres!A881<>\"\",VLOOKUP($A778,Base_Arbres,4,FALSE)*Crit7,\"\")","v":""}]
[{"$f":"IF(Base_Arbres!A825<>\"\",Base_Arbres!A825,\"\")","v":""},{"$f":"IF(Base_Arbres!A825<>\"\",VLOOKUP($A779,Base_Arbres,3,FALSE)*Crit1,\"\")","v":""},{"$f":"IF(Base_Arbres!A825<>\"\",VLOOKUP($A779,Base_Arbres,4,FALSE)*Crit2,\"\")","v":""},{"$f":"IF(Base_Arbres!A825<>\"\",VLOOKUP($A779,Base_Arbres,5,FALSE)*Crit3,\"\")","v":""},{"$f":"IF(Base_Arbres!A825<>\"\",VLOOKUP($A779,Base_Arbres,6,FALSE)*Crit4,\"\")","v":""},{"$f":"IF(Base_Arbres!B779<>\"\",VLOOKUP($A779,Base_Arbres,7,FALSE)*Crit5,\"\")","v":""},{"$f":"IF(Base_Arbres!C779<>\"\",VLOOKUP($A779,Base_Arbres,8,FALSE)*crit8,\"\")","v":""},{"$f":"IF(Base_Arbres!D779<>\"\",VLOOKUP($A779,Base_Arbres,9,FALSE)*crit9,\"\")","v":""},{"$f":"IF(ISNA(VLOOKUP(INDEX(Base_Typologie!$A$6:$P$1003,MATCH(A779,Base_Typologie!$A:$A,0)-5,MATCH(Typologie_Espace_Public,Base_Typologie!$6:$6,0)),TableauScoreTypologie2,2,FALSE)*Crit6),0,VLOOKUP(INDEX(Base_Typologie!$A$6:$P$1003,MATCH(A779,Base_Typologie!$A:$A,0)-5,MATCH(Typologie_Espace_Public,Base_Typologie!$6:$6,0)),TableauScoreTypologie2,2,FALSE)*Crit6)","v":0},0,0,0,0,0,0,0,0,0,0,0,0,null,{"$f":"IF(Base_Arbres!A882<>\"\",VLOOKUP($A779,Base_Arbres,4,FALSE)*Crit7,\"\")","v":""}]
[{"$f":"IF(Base_Arbres!A826<>\"\",Base_Arbres!A826,\"\")","v":""},{"$f":"IF(Base_Arbres!A826<>\"\",VLOOKUP($A780,Base_Arbres,3,FALSE)*Crit1,\"\")","v":""},{"$f":"IF(Base_Arbres!A826<>\"\",VLOOKUP($A780,Base_Arbres,4,FALSE)*Crit2,\"\")","v":""},{"$f":"IF(Base_Arbres!A826<>\"\",VLOOKUP($A780,Base_Arbres,5,FALSE)*Crit3,\"\")","v":""},{"$f":"IF(Base_Arbres!A826<>\"\",VLOOKUP($A780,Base_Arbres,6,FALSE)*Crit4,\"\")","v":""},{"$f":"IF(Base_Arbres!B780<>\"\",VLOOKUP($A780,Base_Arbres,7,FALSE)*Crit5,\"\")","v":""},{"$f":"IF(Base_Arbres!C780<>\"\",VLOOKUP($A780,Base_Arbres,8,FALSE)*crit8,\"\")","v":""},{"$f":"IF(Base_Arbres!D780<>\"\",VLOOKUP($A780,Base_Arbres,9,FALSE)*crit9,\"\")","v":""},{"$f":"IF(ISNA(VLOOKUP(INDEX(Base_Typologie!$A$6:$P$1003,MATCH(A780,Base_Typologie!$A:$A,0)-5,MATCH(Typologie_Espace_Public,Base_Typologie!$6:$6,0)),TableauScoreTypologie2,2,FALSE)*Crit6),0,VLOOKUP(INDEX(Base_Typologie!$A$6:$P$1003,MATCH(A780,Base_Typologie!$A:$A,0)-5,MATCH(Typologie_Espace_Public,Base_Typologie!$6:$6,0)),TableauScoreTypologie2,2,FALSE)*Crit6)","v":0},0,0,0,0,0,0,0,0,0,0,0,0,null,{"$f":"IF(Base_Arbres!A883<>\"\",VLOOKUP($A780,Base_Arbres,4,FALSE)*Crit7,\"\")","v":""}]
[{"$f":"IF(Base_Arbres!A827<>\"\",Base_Arbres!A827,\"\")","v":""},{"$f":"IF(Base_Arbres!A827<>\"\",VLOOKUP($A781,Base_Arbres,3,FALSE)*Crit1,\"\")","v":""},{"$f":"IF(Base_Arbres!A827<>\"\",VLOOKUP($A781,Base_Arbres,4,FALSE)*Crit2,\"\")","v":""},{"$f":"IF(Base_Arbres!A827<>\"\",VLOOKUP($A781,Base_Arbres,5,FALSE)*Crit3,\"\")","v":""},{"$f":"IF(Base_Arbres!A827<>\"\",VLOOKUP($A781,Base_Arbres,6,FALSE)*Crit4,\"\")","v":""},{"$f":"IF(Base_Arbres!B781<>\"\",VLOOKUP($A781,Base_Arbres,7,FALSE)*Crit5,\"\")","v":""},{"$f":"IF(Base_Arbres!C781<>\"\",VLOOKUP($A781,Base_Arbres,8,FALSE)*crit8,\"\")","v":""},{"$f":"IF(Base_Arbres!D781<>\"\",VLOOKUP($A781,Base_Arbres,9,FALSE)*crit9,\"\")","v":""},{"$f":"IF(ISNA(VLOOKUP(INDEX(Base_Typologie!$A$6:$P$1003,MATCH(A781,Base_Typologie!$A:$A,0)-5,MATCH(Typologie_Espace_Public,Base_Typologie!$6:$6,0)),TableauScoreTypologie2,2,FALSE)*Crit6),0,VLOOKUP(INDEX(Base_Typologie!$A$6:$P$1003,MATCH(A781,Base_Typologie!$A:$A,0)-5,MATCH(Typologie_Espace_Public,Base_Typologie!$6:$6,0)),TableauScoreTypologie2,2,FALSE)*Crit6)","v":0},0,0,0,0,0,0,0,0,0,0,0,0,null,{"$f":"IF(Base_Arbres!A884<>\"\",VLOOKUP($A781,Base_Arbres,4,FALSE)*Crit7,\"\")","v":""}]
[{"$f":"IF(Base_Arbres!A828<>\"\",Base_Arbres!A828,\"\")","v":""},{"$f":"IF(Base_Arbres!A828<>\"\",VLOOKUP($A782,Base_Arbres,3,FALSE)*Crit1,\"\")","v":""},{"$f":"IF(Base_Arbres!A828<>\"\",VLOOKUP($A782,Base_Arbres,4,FALSE)*Crit2,\"\")","v":""},{"$f":"IF(Base_Arbres!A828<>\"\",VLOOKUP($A782,Base_Arbres,5,FALSE)*Crit3,\"\")","v":""},{"$f":"IF(Base_Arbres!A828<>\"\",VLOOKUP($A782,Base_Arbres,6,FALSE)*Crit4,\"\")","v":""},{"$f":"IF(Base_Arbres!B782<>\"\",VLOOKUP($A782,Base_Arbres,7,FALSE)*Crit5,\"\")","v":""},{"$f":"IF(Base_Arbres!C782<>\"\",VLOOKUP($A782,Base_Arbres,8,FALSE)*crit8,\"\")","v":""},{"$f":"IF(Base_Arbres!D782<>\"\",VLOOKUP($A782,Base_Arbres,9,FALSE)*crit9,\"\")","v":""},{"$f":"IF(ISNA(VLOOKUP(INDEX(Base_Typologie!$A$6:$P$1003,MATCH(A782,Base_Typologie!$A:$A,0)-5,MATCH(Typologie_Espace_Public,Base_Typologie!$6:$6,0)),TableauScoreTypologie2,2,FALSE)*Crit6),0,VLOOKUP(INDEX(Base_Typologie!$A$6:$P$1003,MATCH(A782,Base_Typologie!$A:$A,0)-5,MATCH(Typologie_Espace_Public,Base_Typologie!$6:$6,0)),TableauScoreTypologie2,2,FALSE)*Crit6)","v":0},0,0,0,0,0,0,0,0,0,0,0,0,null,{"$f":"IF(Base_Arbres!A885<>\"\",VLOOKUP($A782,Base_Arbres,4,FALSE)*Crit7,\"\")","v":""}]
[{"$f":"IF(Base_Arbres!A829<>\"\",Base_Arbres!A829,\"\")","v":""},{"$f":"IF(Base_Arbres!A829<>\"\",VLOOKUP($A783,Base_Arbres,3,FALSE)*Crit1,\"\")","v":""},{"$f":"IF(Base_Arbres!A829<>\"\",VLOOKUP($A783,Base_Arbres,4,FALSE)*Crit2,\"\")","v":""},{"$f":"IF(Base_Arbres!A829<>\"\",VLOOKUP($A783,Base_Arbres,5,FALSE)*Crit3,\"\")","v":""},{"$f":"IF(Base_Arbres!A829<>\"\",VLOOKUP($A783,Base_Arbres,6,FALSE)*Crit4,\"\")","v":""},{"$f":"IF(Base_Arbres!B783<>\"\",VLOOKUP($A783,Base_Arbres,7,FALSE)*Crit5,\"\")","v":""},{"$f":"IF(Base_Arbres!C783<>\"\",VLOOKUP($A783,Base_Arbres,8,FALSE)*crit8,\"\")","v":""},{"$f":"IF(Base_Arbres!D783<>\"\",VLOOKUP($A783,Base_Arbres,9,FALSE)*crit9,\"\")","v":""},{"$f":"IF(ISNA(VLOOKUP(INDEX(Base_Typologie!$A$6:$P$1003,MATCH(A783,Base_Typologie!$A:$A,0)-5,MATCH(Typologie_Espace_Public,Base_Typologie!$6:$6,0)),TableauScoreTypologie2,2,FALSE)*Crit6),0,VLOOKUP(INDEX(Base_Typologie!$A$6:$P$1003,MATCH(A783,Base_Typologie!$A:$A,0)-5,MATCH(Typologie_Espace_Public,Base_Typologie!$6:$6,0)),TableauScoreTypologie2,2,FALSE)*Crit6)","v":0},0,0,0,0,0,0,0,0,0,0,0,0,null,{"$f":"IF(Base_Arbres!A886<>\"\",VLOOKUP($A783,Base_Arbres,4,FALSE)*Crit7,\"\")","v":""}]
[{"$f":"IF(Base_Arbres!A830<>\"\",Base_Arbres!A830,\"\")","v":""},{"$f":"IF(Base_Arbres!A830<>\"\",VLOOKUP($A784,Base_Arbres,3,FALSE)*Crit1,\"\")","v":""},{"$f":"IF(Base_Arbres!A830<>\"\",VLOOKUP($A784,Base_Arbres,4,FALSE)*Crit2,\"\")","v":""},{"$f":"IF(Base_Arbres!A830<>\"\",VLOOKUP($A784,Base_Arbres,5,FALSE)*Crit3,\"\")","v":""},{"$f":"IF(Base_Arbres!A830<>\"\",VLOOKUP($A784,Base_Arbres,6,FALSE)*Crit4,\"\")","v":""},{"$f":"IF(Base_Arbres!B784<>\"\",VLOOKUP($A784,Base_Arbres,7,FALSE)*Crit5,\"\")","v":""},{"$f":"IF(Base_Arbres!C784<>\"\",VLOOKUP($A784,Base_Arbres,8,FALSE)*crit8,\"\")","v":""},{"$f":"IF(Base_Arbres!D784<>\"\",VLOOKUP($A784,Base_Arbres,9,FALSE)*crit9,\"\")","v":""},{"$f":"IF(ISNA(VLOOKUP(INDEX(Base_Typologie!$A$6:$P$1003,MATCH(A784,Base_Typologie!$A:$A,0)-5,MATCH(Typologie_Espace_Public,Base_Typologie!$6:$6,0)),TableauScoreTypologie2,2,FALSE)*Crit6),0,VLOOKUP(INDEX(Base_Typologie!$A$6:$P$1003,MATCH(A784,Base_Typologie!$A:$A,0)-5,MATCH(Typologie_Espace_Public,Base_Typologie!$6:$6,0)),TableauScoreTypologie2,2,FALSE)*Crit6)","v":0},0,0,0,0,0,0,0,0,0,0,0,0,null,{"$f":"IF(Base_Arbres!A887<>\"\",VLOOKUP($A784,Base_Arbres,4,FALSE)*Crit7,\"\")","v":""}]
[{"$f":"IF(Base_Arbres!A831<>\"\",Base_Arbres!A831,\"\")","v":""},{"$f":"IF(Base_Arbres!A831<>\"\",VLOOKUP($A785,Base_Arbres,3,FALSE)*Crit1,\"\")","v":""},{"$f":"IF(Base_Arbres!A831<>\"\",VLOOKUP($A785,Base_Arbres,4,FALSE)*Crit2,\"\")","v":""},{"$f":"IF(Base_Arbres!A831<>\"\",VLOOKUP($A785,Base_Arbres,5,FALSE)*Crit3,\"\")","v":""},{"$f":"IF(Base_Arbres!A831<>\"\",VLOOKUP($A785,Base_Arbres,6,FALSE)*Crit4,\"\")","v":""},{"$f":"IF(Base_Arbres!B785<>\"\",VLOOKUP($A785,Base_Arbres,7,FALSE)*Crit5,\"\")","v":""},{"$f":"IF(Base_Arbres!C785<>\"\",VLOOKUP($A785,Base_Arbres,8,FALSE)*crit8,\"\")","v":""},{"$f":"IF(Base_Arbres!D785<>\"\",VLOOKUP($A785,Base_Arbres,9,FALSE)*crit9,\"\")","v":""},{"$f":"IF(ISNA(VLOOKUP(INDEX(Base_Typologie!$A$6:$P$1003,MATCH(A785,Base_Typologie!$A:$A,0)-5,MATCH(Typologie_Espace_Public,Base_Typologie!$6:$6,0)),TableauScoreTypologie2,2,FALSE)*Crit6),0,VLOOKUP(INDEX(Base_Typologie!$A$6:$P$1003,MATCH(A785,Base_Typologie!$A:$A,0)-5,MATCH(Typologie_Espace_Public,Base_Typologie!$6:$6,0)),TableauScoreTypologie2,2,FALSE)*Crit6)","v":0},0,0,0,0,0,0,0,0,0,0,0,0,null,{"$f":"IF(Base_Arbres!A888<>\"\",VLOOKUP($A785,Base_Arbres,4,FALSE)*Crit7,\"\")","v":""}]
[{"$f":"IF(Base_Arbres!A832<>\"\",Base_Arbres!A832,\"\")","v":""},{"$f":"IF(Base_Arbres!A832<>\"\",VLOOKUP($A786,Base_Arbres,3,FALSE)*Crit1,\"\")","v":""},{"$f":"IF(Base_Arbres!A832<>\"\",VLOOKUP($A786,Base_Arbres,4,FALSE)*Crit2,\"\")","v":""},{"$f":"IF(Base_Arbres!A832<>\"\",VLOOKUP($A786,Base_Arbres,5,FALSE)*Crit3,\"\")","v":""},{"$f":"IF(Base_Arbres!A832<>\"\",VLOOKUP($A786,Base_Arbres,6,FALSE)*Crit4,\"\")","v":""},{"$f":"IF(Base_Arbres!B786<>\"\",VLOOKUP($A786,Base_Arbres,7,FALSE)*Crit5,\"\")","v":""},{"$f":"IF(Base_Arbres!C786<>\"\",VLOOKUP($A786,Base_Arbres,8,FALSE)*crit8,\"\")","v":""},{"$f":"IF(Base_Arbres!D786<>\"\",VLOOKUP($A786,Base_Arbres,9,FALSE)*crit9,\"\")","v":""},{"$f":"IF(ISNA(VLOOKUP(INDEX(Base_Typologie!$A$6:$P$1003,MATCH(A786,Base_Typologie!$A:$A,0)-5,MATCH(Typologie_Espace_Public,Base_Typologie!$6:$6,0)),TableauScoreTypologie2,2,FALSE)*Crit6),0,VLOOKUP(INDEX(Base_Typologie!$A$6:$P$1003,MATCH(A786,Base_Typologie!$A:$A,0)-5,MATCH(Typologie_Espace_Public,Base_Typologie!$6:$6,0)),TableauScoreTypologie2,2,FALSE)*Crit6)","v":0},0,0,0,0,0,0,0,0,0,0,0,0,null,{"$f":"IF(Base_Arbres!A889<>\"\",VLOOKUP($A786,Base_Arbres,4,FALSE)*Crit7,\"\")","v":""}]
[{"$f":"IF(Base_Arbres!A833<>\"\",Base_Arbres!A833,\"\")","v":""},{"$f":"IF(Base_Arbres!A833<>\"\",VLOOKUP($A787,Base_Arbres,3,FALSE)*Crit1,\"\")","v":""},{"$f":"IF(Base_Arbres!A833<>\"\",VLOOKUP($A787,Base_Arbres,4,FALSE)*Crit2,\"\")","v":""},{"$f":"IF(Base_Arbres!A833<>\"\",VLOOKUP($A787,Base_Arbres,5,FALSE)*Crit3,\"\")","v":""},{"$f":"IF(Base_Arbres!A833<>\"\",VLOOKUP($A787,Base_Arbres,6,FALSE)*Crit4,\"\")","v":""},{"$f":"IF(Base_Arbres!B787<>\"\",VLOOKUP($A787,Base_Arbres,7,FALSE)*Crit5,\"\")","v":""},{"$f":"IF(Base_Arbres!C787<>\"\",VLOOKUP($A787,Base_Arbres,8,FALSE)*crit8,\"\")","v":""},{"$f":"IF(Base_Arbres!D787<>\"\",VLOOKUP($A787,Base_Arbres,9,FALSE)*crit9,\"\")","v":""},{"$f":"IF(ISNA(VLOOKUP(INDEX(Base_Typologie!$A$6:$P$1003,MATCH(A787,Base_Typologie!$A:$A,0)-5,MATCH(Typologie_Espace_Public,Base_Typologie!$6:$6,0)),TableauScoreTypologie2,2,FALSE)*Crit6),0,VLOOKUP(INDEX(Base_Typologie!$A$6:$P$1003,MATCH(A787,Base_Typologie!$A:$A,0)-5,MATCH(Typologie_Espace_Public,Base_Typologie!$6:$6,0)),TableauScoreTypologie2,2,FALSE)*Crit6)","v":0},0,0,0,0,0,0,0,0,0,0,0,0,null,{"$f":"IF(Base_Arbres!A890<>\"\",VLOOKUP($A787,Base_Arbres,4,FALSE)*Crit7,\"\")","v":""}]
[{"$f":"IF(Base_Arbres!A834<>\"\",Base_Arbres!A834,\"\")","v":""},{"$f":"IF(Base_Arbres!A834<>\"\",VLOOKUP($A788,Base_Arbres,3,FALSE)*Crit1,\"\")","v":""},{"$f":"IF(Base_Arbres!A834<>\"\",VLOOKUP($A788,Base_Arbres,4,FALSE)*Crit2,\"\")","v":""},{"$f":"IF(Base_Arbres!A834<>\"\",VLOOKUP($A788,Base_Arbres,5,FALSE)*Crit3,\"\")","v":""},{"$f":"IF(Base_Arbres!A834<>\"\",VLOOKUP($A788,Base_Arbres,6,FALSE)*Crit4,\"\")","v":""},{"$f":"IF(Base_Arbres!B788<>\"\",VLOOKUP($A788,Base_Arbres,7,FALSE)*Crit5,\"\")","v":""},{"$f":"IF(Base_Arbres!C788<>\"\",VLOOKUP($A788,Base_Arbres,8,FALSE)*crit8,\"\")","v":""},{"$f":"IF(Base_Arbres!D788<>\"\",VLOOKUP($A788,Base_Arbres,9,FALSE)*crit9,\"\")","v":""},{"$f":"IF(ISNA(VLOOKUP(INDEX(Base_Typologie!$A$6:$P$1003,MATCH(A788,Base_Typologie!$A:$A,0)-5,MATCH(Typologie_Espace_Public,Base_Typologie!$6:$6,0)),TableauScoreTypologie2,2,FALSE)*Crit6),0,VLOOKUP(INDEX(Base_Typologie!$A$6:$P$1003,MATCH(A788,Base_Typologie!$A:$A,0)-5,MATCH(Typologie_Espace_Public,Base_Typologie!$6:$6,0)),TableauScoreTypologie2,2,FALSE)*Crit6)","v":0},0,0,0,0,0,0,0,0,0,0,0,0,null,{"$f":"IF(Base_Arbres!A891<>\"\",VLOOKUP($A788,Base_Arbres,4,FALSE)*Crit7,\"\")","v":""}]
[{"$f":"IF(Base_Arbres!A835<>\"\",Base_Arbres!A835,\"\")","v":""},{"$f":"IF(Base_Arbres!A835<>\"\",VLOOKUP($A789,Base_Arbres,3,FALSE)*Crit1,\"\")","v":""},{"$f":"IF(Base_Arbres!A835<>\"\",VLOOKUP($A789,Base_Arbres,4,FALSE)*Crit2,\"\")","v":""},{"$f":"IF(Base_Arbres!A835<>\"\",VLOOKUP($A789,Base_Arbres,5,FALSE)*Crit3,\"\")","v":""},{"$f":"IF(Base_Arbres!A835<>\"\",VLOOKUP($A789,Base_Arbres,6,FALSE)*Crit4,\"\")","v":""},{"$f":"IF(Base_Arbres!B789<>\"\",VLOOKUP($A789,Base_Arbres,7,FALSE)*Crit5,\"\")","v":""},{"$f":"IF(Base_Arbres!C789<>\"\",VLOOKUP($A789,Base_Arbres,8,FALSE)*crit8,\"\")","v":""},{"$f":"IF(Base_Arbres!D789<>\"\",VLOOKUP($A789,Base_Arbres,9,FALSE)*crit9,\"\")","v":""},{"$f":"IF(ISNA(VLOOKUP(INDEX(Base_Typologie!$A$6:$P$1003,MATCH(A789,Base_Typologie!$A:$A,0)-5,MATCH(Typologie_Espace_Public,Base_Typologie!$6:$6,0)),TableauScoreTypologie2,2,FALSE)*Crit6),0,VLOOKUP(INDEX(Base_Typologie!$A$6:$P$1003,MATCH(A789,Base_Typologie!$A:$A,0)-5,MATCH(Typologie_Espace_Public,Base_Typologie!$6:$6,0)),TableauScoreTypologie2,2,FALSE)*Crit6)","v":0},0,0,0,0,0,0,0,0,0,0,0,0,null,{"$f":"IF(Base_Arbres!A892<>\"\",VLOOKUP($A789,Base_Arbres,4,FALSE)*Crit7,\"\")","v":""}]
[{"$f":"IF(Base_Arbres!A836<>\"\",Base_Arbres!A836,\"\")","v":""},{"$f":"IF(Base_Arbres!A836<>\"\",VLOOKUP($A790,Base_Arbres,3,FALSE)*Crit1,\"\")","v":""},{"$f":"IF(Base_Arbres!A836<>\"\",VLOOKUP($A790,Base_Arbres,4,FALSE)*Crit2,\"\")","v":""},{"$f":"IF(Base_Arbres!A836<>\"\",VLOOKUP($A790,Base_Arbres,5,FALSE)*Crit3,\"\")","v":""},{"$f":"IF(Base_Arbres!A836<>\"\",VLOOKUP($A790,Base_Arbres,6,FALSE)*Crit4,\"\")","v":""},{"$f":"IF(Base_Arbres!B790<>\"\",VLOOKUP($A790,Base_Arbres,7,FALSE)*Crit5,\"\")","v":""},{"$f":"IF(Base_Arbres!C790<>\"\",VLOOKUP($A790,Base_Arbres,8,FALSE)*crit8,\"\")","v":""},{"$f":"IF(Base_Arbres!D790<>\"\",VLOOKUP($A790,Base_Arbres,9,FALSE)*crit9,\"\")","v":""},{"$f":"IF(ISNA(VLOOKUP(INDEX(Base_Typologie!$A$6:$P$1003,MATCH(A790,Base_Typologie!$A:$A,0)-5,MATCH(Typologie_Espace_Public,Base_Typologie!$6:$6,0)),TableauScoreTypologie2,2,FALSE)*Crit6),0,VLOOKUP(INDEX(Base_Typologie!$A$6:$P$1003,MATCH(A790,Base_Typologie!$A:$A,0)-5,MATCH(Typologie_Espace_Public,Base_Typologie!$6:$6,0)),TableauScoreTypologie2,2,FALSE)*Crit6)","v":0},0,0,0,0,0,0,0,0,0,0,0,0,null,{"$f":"IF(Base_Arbres!A893<>\"\",VLOOKUP($A790,Base_Arbres,4,FALSE)*Crit7,\"\")","v":""}]
[{"$f":"IF(Base_Arbres!A837<>\"\",Base_Arbres!A837,\"\")","v":""},{"$f":"IF(Base_Arbres!A837<>\"\",VLOOKUP($A791,Base_Arbres,3,FALSE)*Crit1,\"\")","v":""},{"$f":"IF(Base_Arbres!A837<>\"\",VLOOKUP($A791,Base_Arbres,4,FALSE)*Crit2,\"\")","v":""},{"$f":"IF(Base_Arbres!A837<>\"\",VLOOKUP($A791,Base_Arbres,5,FALSE)*Crit3,\"\")","v":""},{"$f":"IF(Base_Arbres!A837<>\"\",VLOOKUP($A791,Base_Arbres,6,FALSE)*Crit4,\"\")","v":""},{"$f":"IF(Base_Arbres!B791<>\"\",VLOOKUP($A791,Base_Arbres,7,FALSE)*Crit5,\"\")","v":""},{"$f":"IF(Base_Arbres!C791<>\"\",VLOOKUP($A791,Base_Arbres,8,FALSE)*crit8,\"\")","v":""},{"$f":"IF(Base_Arbres!D791<>\"\",VLOOKUP($A791,Base_Arbres,9,FALSE)*crit9,\"\")","v":""},{"$f":"IF(ISNA(VLOOKUP(INDEX(Base_Typologie!$A$6:$P$1003,MATCH(A791,Base_Typologie!$A:$A,0)-5,MATCH(Typologie_Espace_Public,Base_Typologie!$6:$6,0)),TableauScoreTypologie2,2,FALSE)*Crit6),0,VLOOKUP(INDEX(Base_Typologie!$A$6:$P$1003,MATCH(A791,Base_Typologie!$A:$A,0)-5,MATCH(Typologie_Espace_Public,Base_Typologie!$6:$6,0)),TableauScoreTypologie2,2,FALSE)*Crit6)","v":0},0,0,0,0,0,0,0,0,0,0,0,0,null,{"$f":"IF(Base_Arbres!A894<>\"\",VLOOKUP($A791,Base_Arbres,4,FALSE)*Crit7,\"\")","v":""}]
[{"$f":"IF(Base_Arbres!A838<>\"\",Base_Arbres!A838,\"\")","v":""},{"$f":"IF(Base_Arbres!A838<>\"\",VLOOKUP($A792,Base_Arbres,3,FALSE)*Crit1,\"\")","v":""},{"$f":"IF(Base_Arbres!A838<>\"\",VLOOKUP($A792,Base_Arbres,4,FALSE)*Crit2,\"\")","v":""},{"$f":"IF(Base_Arbres!A838<>\"\",VLOOKUP($A792,Base_Arbres,5,FALSE)*Crit3,\"\")","v":""},{"$f":"IF(Base_Arbres!A838<>\"\",VLOOKUP($A792,Base_Arbres,6,FALSE)*Crit4,\"\")","v":""},{"$f":"IF(Base_Arbres!B792<>\"\",VLOOKUP($A792,Base_Arbres,7,FALSE)*Crit5,\"\")","v":""},{"$f":"IF(Base_Arbres!C792<>\"\",VLOOKUP($A792,Base_Arbres,8,FALSE)*crit8,\"\")","v":""},{"$f":"IF(Base_Arbres!D792<>\"\",VLOOKUP($A792,Base_Arbres,9,FALSE)*crit9,\"\")","v":""},{"$f":"IF(ISNA(VLOOKUP(INDEX(Base_Typologie!$A$6:$P$1003,MATCH(A792,Base_Typologie!$A:$A,0)-5,MATCH(Typologie_Espace_Public,Base_Typologie!$6:$6,0)),TableauScoreTypologie2,2,FALSE)*Crit6),0,VLOOKUP(INDEX(Base_Typologie!$A$6:$P$1003,MATCH(A792,Base_Typologie!$A:$A,0)-5,MATCH(Typologie_Espace_Public,Base_Typologie!$6:$6,0)),TableauScoreTypologie2,2,FALSE)*Crit6)","v":0},0,0,0,0,0,0,0,0,0,0,0,0,null,{"$f":"IF(Base_Arbres!A895<>\"\",VLOOKUP($A792,Base_Arbres,4,FALSE)*Crit7,\"\")","v":""}]
[{"$f":"IF(Base_Arbres!A839<>\"\",Base_Arbres!A839,\"\")","v":""},{"$f":"IF(Base_Arbres!A839<>\"\",VLOOKUP($A793,Base_Arbres,3,FALSE)*Crit1,\"\")","v":""},{"$f":"IF(Base_Arbres!A839<>\"\",VLOOKUP($A793,Base_Arbres,4,FALSE)*Crit2,\"\")","v":""},{"$f":"IF(Base_Arbres!A839<>\"\",VLOOKUP($A793,Base_Arbres,5,FALSE)*Crit3,\"\")","v":""},{"$f":"IF(Base_Arbres!A839<>\"\",VLOOKUP($A793,Base_Arbres,6,FALSE)*Crit4,\"\")","v":""},{"$f":"IF(Base_Arbres!B793<>\"\",VLOOKUP($A793,Base_Arbres,7,FALSE)*Crit5,\"\")","v":""},{"$f":"IF(Base_Arbres!C793<>\"\",VLOOKUP($A793,Base_Arbres,8,FALSE)*crit8,\"\")","v":""},{"$f":"IF(Base_Arbres!D793<>\"\",VLOOKUP($A793,Base_Arbres,9,FALSE)*crit9,\"\")","v":""},{"$f":"IF(ISNA(VLOOKUP(INDEX(Base_Typologie!$A$6:$P$1003,MATCH(A793,Base_Typologie!$A:$A,0)-5,MATCH(Typologie_Espace_Public,Base_Typologie!$6:$6,0)),TableauScoreTypologie2,2,FALSE)*Crit6),0,VLOOKUP(INDEX(Base_Typologie!$A$6:$P$1003,MATCH(A793,Base_Typologie!$A:$A,0)-5,MATCH(Typologie_Espace_Public,Base_Typologie!$6:$6,0)),TableauScoreTypologie2,2,FALSE)*Crit6)","v":0},0,0,0,0,0,0,0,0,0,0,0,0,null,{"$f":"IF(Base_Arbres!A896<>\"\",VLOOKUP($A793,Base_Arbres,4,FALSE)*Crit7,\"\")","v":""}]
[{"$f":"IF(Base_Arbres!A840<>\"\",Base_Arbres!A840,\"\")","v":""},{"$f":"IF(Base_Arbres!A840<>\"\",VLOOKUP($A794,Base_Arbres,3,FALSE)*Crit1,\"\")","v":""},{"$f":"IF(Base_Arbres!A840<>\"\",VLOOKUP($A794,Base_Arbres,4,FALSE)*Crit2,\"\")","v":""},{"$f":"IF(Base_Arbres!A840<>\"\",VLOOKUP($A794,Base_Arbres,5,FALSE)*Crit3,\"\")","v":""},{"$f":"IF(Base_Arbres!A840<>\"\",VLOOKUP($A794,Base_Arbres,6,FALSE)*Crit4,\"\")","v":""},{"$f":"IF(Base_Arbres!B794<>\"\",VLOOKUP($A794,Base_Arbres,7,FALSE)*Crit5,\"\")","v":""},{"$f":"IF(Base_Arbres!C794<>\"\",VLOOKUP($A794,Base_Arbres,8,FALSE)*crit8,\"\")","v":""},{"$f":"IF(Base_Arbres!D794<>\"\",VLOOKUP($A794,Base_Arbres,9,FALSE)*crit9,\"\")","v":""},{"$f":"IF(ISNA(VLOOKUP(INDEX(Base_Typologie!$A$6:$P$1003,MATCH(A794,Base_Typologie!$A:$A,0)-5,MATCH(Typologie_Espace_Public,Base_Typologie!$6:$6,0)),TableauScoreTypologie2,2,FALSE)*Crit6),0,VLOOKUP(INDEX(Base_Typologie!$A$6:$P$1003,MATCH(A794,Base_Typologie!$A:$A,0)-5,MATCH(Typologie_Espace_Public,Base_Typologie!$6:$6,0)),TableauScoreTypologie2,2,FALSE)*Crit6)","v":0},0,0,0,0,0,0,0,0,0,0,0,0,null,{"$f":"IF(Base_Arbres!A897<>\"\",VLOOKUP($A794,Base_Arbres,4,FALSE)*Crit7,\"\")","v":""}]
[{"$f":"IF(Base_Arbres!A841<>\"\",Base_Arbres!A841,\"\")","v":""},{"$f":"IF(Base_Arbres!A841<>\"\",VLOOKUP($A795,Base_Arbres,3,FALSE)*Crit1,\"\")","v":""},{"$f":"IF(Base_Arbres!A841<>\"\",VLOOKUP($A795,Base_Arbres,4,FALSE)*Crit2,\"\")","v":""},{"$f":"IF(Base_Arbres!A841<>\"\",VLOOKUP($A795,Base_Arbres,5,FALSE)*Crit3,\"\")","v":""},{"$f":"IF(Base_Arbres!A841<>\"\",VLOOKUP($A795,Base_Arbres,6,FALSE)*Crit4,\"\")","v":""},{"$f":"IF(Base_Arbres!B795<>\"\",VLOOKUP($A795,Base_Arbres,7,FALSE)*Crit5,\"\")","v":""},{"$f":"IF(Base_Arbres!C795<>\"\",VLOOKUP($A795,Base_Arbres,8,FALSE)*crit8,\"\")","v":""},{"$f":"IF(Base_Arbres!D795<>\"\",VLOOKUP($A795,Base_Arbres,9,FALSE)*crit9,\"\")","v":""},{"$f":"IF(ISNA(VLOOKUP(INDEX(Base_Typologie!$A$6:$P$1003,MATCH(A795,Base_Typologie!$A:$A,0)-5,MATCH(Typologie_Espace_Public,Base_Typologie!$6:$6,0)),TableauScoreTypologie2,2,FALSE)*Crit6),0,VLOOKUP(INDEX(Base_Typologie!$A$6:$P$1003,MATCH(A795,Base_Typologie!$A:$A,0)-5,MATCH(Typologie_Espace_Public,Base_Typologie!$6:$6,0)),TableauScoreTypologie2,2,FALSE)*Crit6)","v":0},0,0,0,0,0,0,0,0,0,0,0,0,null,{"$f":"IF(Base_Arbres!A898<>\"\",VLOOKUP($A795,Base_Arbres,4,FALSE)*Crit7,\"\")","v":""}]
[{"$f":"IF(Base_Arbres!A842<>\"\",Base_Arbres!A842,\"\")","v":""},{"$f":"IF(Base_Arbres!A842<>\"\",VLOOKUP($A796,Base_Arbres,3,FALSE)*Crit1,\"\")","v":""},{"$f":"IF(Base_Arbres!A842<>\"\",VLOOKUP($A796,Base_Arbres,4,FALSE)*Crit2,\"\")","v":""},{"$f":"IF(Base_Arbres!A842<>\"\",VLOOKUP($A796,Base_Arbres,5,FALSE)*Crit3,\"\")","v":""},{"$f":"IF(Base_Arbres!A842<>\"\",VLOOKUP($A796,Base_Arbres,6,FALSE)*Crit4,\"\")","v":""},{"$f":"IF(Base_Arbres!B796<>\"\",VLOOKUP($A796,Base_Arbres,7,FALSE)*Crit5,\"\")","v":""},{"$f":"IF(Base_Arbres!C796<>\"\",VLOOKUP($A796,Base_Arbres,8,FALSE)*crit8,\"\")","v":""},{"$f":"IF(Base_Arbres!D796<>\"\",VLOOKUP($A796,Base_Arbres,9,FALSE)*crit9,\"\")","v":""},{"$f":"IF(ISNA(VLOOKUP(INDEX(Base_Typologie!$A$6:$P$1003,MATCH(A796,Base_Typologie!$A:$A,0)-5,MATCH(Typologie_Espace_Public,Base_Typologie!$6:$6,0)),TableauScoreTypologie2,2,FALSE)*Crit6),0,VLOOKUP(INDEX(Base_Typologie!$A$6:$P$1003,MATCH(A796,Base_Typologie!$A:$A,0)-5,MATCH(Typologie_Espace_Public,Base_Typologie!$6:$6,0)),TableauScoreTypologie2,2,FALSE)*Crit6)","v":0},0,0,0,0,0,0,0,0,0,0,0,0,null,{"$f":"IF(Base_Arbres!A899<>\"\",VLOOKUP($A796,Base_Arbres,4,FALSE)*Crit7,\"\")","v":""}]
[{"$f":"IF(Base_Arbres!A843<>\"\",Base_Arbres!A843,\"\")","v":""},{"$f":"IF(Base_Arbres!A843<>\"\",VLOOKUP($A797,Base_Arbres,3,FALSE)*Crit1,\"\")","v":""},{"$f":"IF(Base_Arbres!A843<>\"\",VLOOKUP($A797,Base_Arbres,4,FALSE)*Crit2,\"\")","v":""},{"$f":"IF(Base_Arbres!A843<>\"\",VLOOKUP($A797,Base_Arbres,5,FALSE)*Crit3,\"\")","v":""},{"$f":"IF(Base_Arbres!A843<>\"\",VLOOKUP($A797,Base_Arbres,6,FALSE)*Crit4,\"\")","v":""},{"$f":"IF(Base_Arbres!B797<>\"\",VLOOKUP($A797,Base_Arbres,7,FALSE)*Crit5,\"\")","v":""},{"$f":"IF(Base_Arbres!C797<>\"\",VLOOKUP($A797,Base_Arbres,8,FALSE)*crit8,\"\")","v":""},{"$f":"IF(Base_Arbres!D797<>\"\",VLOOKUP($A797,Base_Arbres,9,FALSE)*crit9,\"\")","v":""},{"$f":"IF(ISNA(VLOOKUP(INDEX(Base_Typologie!$A$6:$P$1003,MATCH(A797,Base_Typologie!$A:$A,0)-5,MATCH(Typologie_Espace_Public,Base_Typologie!$6:$6,0)),TableauScoreTypologie2,2,FALSE)*Crit6),0,VLOOKUP(INDEX(Base_Typologie!$A$6:$P$1003,MATCH(A797,Base_Typologie!$A:$A,0)-5,MATCH(Typologie_Espace_Public,Base_Typologie!$6:$6,0)),TableauScoreTypologie2,2,FALSE)*Crit6)","v":0},0,0,0,0,0,0,0,0,0,0,0,0,null,{"$f":"IF(Base_Arbres!A900<>\"\",VLOOKUP($A797,Base_Arbres,4,FALSE)*Crit7,\"\")","v":""}]
[{"$f":"IF(Base_Arbres!A844<>\"\",Base_Arbres!A844,\"\")","v":""},{"$f":"IF(Base_Arbres!A844<>\"\",VLOOKUP($A798,Base_Arbres,3,FALSE)*Crit1,\"\")","v":""},{"$f":"IF(Base_Arbres!A844<>\"\",VLOOKUP($A798,Base_Arbres,4,FALSE)*Crit2,\"\")","v":""},{"$f":"IF(Base_Arbres!A844<>\"\",VLOOKUP($A798,Base_Arbres,5,FALSE)*Crit3,\"\")","v":""},{"$f":"IF(Base_Arbres!A844<>\"\",VLOOKUP($A798,Base_Arbres,6,FALSE)*Crit4,\"\")","v":""},{"$f":"IF(Base_Arbres!B798<>\"\",VLOOKUP($A798,Base_Arbres,7,FALSE)*Crit5,\"\")","v":""},{"$f":"IF(Base_Arbres!C798<>\"\",VLOOKUP($A798,Base_Arbres,8,FALSE)*crit8,\"\")","v":""},{"$f":"IF(Base_Arbres!D798<>\"\",VLOOKUP($A798,Base_Arbres,9,FALSE)*crit9,\"\")","v":""},{"$f":"IF(ISNA(VLOOKUP(INDEX(Base_Typologie!$A$6:$P$1003,MATCH(A798,Base_Typologie!$A:$A,0)-5,MATCH(Typologie_Espace_Public,Base_Typologie!$6:$6,0)),TableauScoreTypologie2,2,FALSE)*Crit6),0,VLOOKUP(INDEX(Base_Typologie!$A$6:$P$1003,MATCH(A798,Base_Typologie!$A:$A,0)-5,MATCH(Typologie_Espace_Public,Base_Typologie!$6:$6,0)),TableauScoreTypologie2,2,FALSE)*Crit6)","v":0},0,0,0,0,0,0,0,0,0,0,0,0,null,{"$f":"IF(Base_Arbres!A901<>\"\",VLOOKUP($A798,Base_Arbres,4,FALSE)*Crit7,\"\")","v":""}]
[{"$f":"IF(Base_Arbres!A845<>\"\",Base_Arbres!A845,\"\")","v":""},{"$f":"IF(Base_Arbres!A845<>\"\",VLOOKUP($A799,Base_Arbres,3,FALSE)*Crit1,\"\")","v":""},{"$f":"IF(Base_Arbres!A845<>\"\",VLOOKUP($A799,Base_Arbres,4,FALSE)*Crit2,\"\")","v":""},{"$f":"IF(Base_Arbres!A845<>\"\",VLOOKUP($A799,Base_Arbres,5,FALSE)*Crit3,\"\")","v":""},{"$f":"IF(Base_Arbres!A845<>\"\",VLOOKUP($A799,Base_Arbres,6,FALSE)*Crit4,\"\")","v":""},{"$f":"IF(Base_Arbres!B799<>\"\",VLOOKUP($A799,Base_Arbres,7,FALSE)*Crit5,\"\")","v":""},{"$f":"IF(Base_Arbres!C799<>\"\",VLOOKUP($A799,Base_Arbres,8,FALSE)*crit8,\"\")","v":""},{"$f":"IF(Base_Arbres!D799<>\"\",VLOOKUP($A799,Base_Arbres,9,FALSE)*crit9,\"\")","v":""},{"$f":"IF(ISNA(VLOOKUP(INDEX(Base_Typologie!$A$6:$P$1003,MATCH(A799,Base_Typologie!$A:$A,0)-5,MATCH(Typologie_Espace_Public,Base_Typologie!$6:$6,0)),TableauScoreTypologie2,2,FALSE)*Crit6),0,VLOOKUP(INDEX(Base_Typologie!$A$6:$P$1003,MATCH(A799,Base_Typologie!$A:$A,0)-5,MATCH(Typologie_Espace_Public,Base_Typologie!$6:$6,0)),TableauScoreTypologie2,2,FALSE)*Crit6)","v":0},0,0,0,0,0,0,0,0,0,0,0,0,null,{"$f":"IF(Base_Arbres!A902<>\"\",VLOOKUP($A799,Base_Arbres,4,FALSE)*Crit7,\"\")","v":""}]
[{"$f":"IF(Base_Arbres!A846<>\"\",Base_Arbres!A846,\"\")","v":""},{"$f":"IF(Base_Arbres!A846<>\"\",VLOOKUP($A800,Base_Arbres,3,FALSE)*Crit1,\"\")","v":""},{"$f":"IF(Base_Arbres!A846<>\"\",VLOOKUP($A800,Base_Arbres,4,FALSE)*Crit2,\"\")","v":""},{"$f":"IF(Base_Arbres!A846<>\"\",VLOOKUP($A800,Base_Arbres,5,FALSE)*Crit3,\"\")","v":""},{"$f":"IF(Base_Arbres!A846<>\"\",VLOOKUP($A800,Base_Arbres,6,FALSE)*Crit4,\"\")","v":""},{"$f":"IF(Base_Arbres!B800<>\"\",VLOOKUP($A800,Base_Arbres,7,FALSE)*Crit5,\"\")","v":""},{"$f":"IF(Base_Arbres!C800<>\"\",VLOOKUP($A800,Base_Arbres,8,FALSE)*crit8,\"\")","v":""},{"$f":"IF(Base_Arbres!D800<>\"\",VLOOKUP($A800,Base_Arbres,9,FALSE)*crit9,\"\")","v":""},{"$f":"IF(ISNA(VLOOKUP(INDEX(Base_Typologie!$A$6:$P$1003,MATCH(A800,Base_Typologie!$A:$A,0)-5,MATCH(Typologie_Espace_Public,Base_Typologie!$6:$6,0)),TableauScoreTypologie2,2,FALSE)*Crit6),0,VLOOKUP(INDEX(Base_Typologie!$A$6:$P$1003,MATCH(A800,Base_Typologie!$A:$A,0)-5,MATCH(Typologie_Espace_Public,Base_Typologie!$6:$6,0)),TableauScoreTypologie2,2,FALSE)*Crit6)","v":0},0,0,0,0,0,0,0,0,0,0,0,0,null,{"$f":"IF(Base_Arbres!A903<>\"\",VLOOKUP($A800,Base_Arbres,4,FALSE)*Crit7,\"\")","v":""}]
[{"$f":"IF(Base_Arbres!A847<>\"\",Base_Arbres!A847,\"\")","v":""},{"$f":"IF(Base_Arbres!A847<>\"\",VLOOKUP($A801,Base_Arbres,3,FALSE)*Crit1,\"\")","v":""},{"$f":"IF(Base_Arbres!A847<>\"\",VLOOKUP($A801,Base_Arbres,4,FALSE)*Crit2,\"\")","v":""},{"$f":"IF(Base_Arbres!A847<>\"\",VLOOKUP($A801,Base_Arbres,5,FALSE)*Crit3,\"\")","v":""},{"$f":"IF(Base_Arbres!A847<>\"\",VLOOKUP($A801,Base_Arbres,6,FALSE)*Crit4,\"\")","v":""},{"$f":"IF(Base_Arbres!B801<>\"\",VLOOKUP($A801,Base_Arbres,7,FALSE)*Crit5,\"\")","v":""},{"$f":"IF(Base_Arbres!C801<>\"\",VLOOKUP($A801,Base_Arbres,8,FALSE)*crit8,\"\")","v":""},{"$f":"IF(Base_Arbres!D801<>\"\",VLOOKUP($A801,Base_Arbres,9,FALSE)*crit9,\"\")","v":""},{"$f":"IF(ISNA(VLOOKUP(INDEX(Base_Typologie!$A$6:$P$1003,MATCH(A801,Base_Typologie!$A:$A,0)-5,MATCH(Typologie_Espace_Public,Base_Typologie!$6:$6,0)),TableauScoreTypologie2,2,FALSE)*Crit6),0,VLOOKUP(INDEX(Base_Typologie!$A$6:$P$1003,MATCH(A801,Base_Typologie!$A:$A,0)-5,MATCH(Typologie_Espace_Public,Base_Typologie!$6:$6,0)),TableauScoreTypologie2,2,FALSE)*Crit6)","v":0},0,0,0,0,0,0,0,0,0,0,0,0,null,{"$f":"IF(Base_Arbres!A904<>\"\",VLOOKUP($A801,Base_Arbres,4,FALSE)*Crit7,\"\")","v":""}]
[{"$f":"IF(Base_Arbres!A848<>\"\",Base_Arbres!A848,\"\")","v":""},{"$f":"IF(Base_Arbres!A848<>\"\",VLOOKUP($A802,Base_Arbres,3,FALSE)*Crit1,\"\")","v":""},{"$f":"IF(Base_Arbres!A848<>\"\",VLOOKUP($A802,Base_Arbres,4,FALSE)*Crit2,\"\")","v":""},{"$f":"IF(Base_Arbres!A848<>\"\",VLOOKUP($A802,Base_Arbres,5,FALSE)*Crit3,\"\")","v":""},{"$f":"IF(Base_Arbres!A848<>\"\",VLOOKUP($A802,Base_Arbres,6,FALSE)*Crit4,\"\")","v":""},{"$f":"IF(Base_Arbres!B802<>\"\",VLOOKUP($A802,Base_Arbres,7,FALSE)*Crit5,\"\")","v":""},{"$f":"IF(Base_Arbres!C802<>\"\",VLOOKUP($A802,Base_Arbres,8,FALSE)*crit8,\"\")","v":""},{"$f":"IF(Base_Arbres!D802<>\"\",VLOOKUP($A802,Base_Arbres,9,FALSE)*crit9,\"\")","v":""},{"$f":"IF(ISNA(VLOOKUP(INDEX(Base_Typologie!$A$6:$P$1003,MATCH(A802,Base_Typologie!$A:$A,0)-5,MATCH(Typologie_Espace_Public,Base_Typologie!$6:$6,0)),TableauScoreTypologie2,2,FALSE)*Crit6),0,VLOOKUP(INDEX(Base_Typologie!$A$6:$P$1003,MATCH(A802,Base_Typologie!$A:$A,0)-5,MATCH(Typologie_Espace_Public,Base_Typologie!$6:$6,0)),TableauScoreTypologie2,2,FALSE)*Crit6)","v":0},0,0,0,0,0,0,0,0,0,0,0,0,null,{"$f":"IF(Base_Arbres!A905<>\"\",VLOOKUP($A802,Base_Arbres,4,FALSE)*Crit7,\"\")","v":""}]
[{"$f":"IF(Base_Arbres!A849<>\"\",Base_Arbres!A849,\"\")","v":""},{"$f":"IF(Base_Arbres!A849<>\"\",VLOOKUP($A803,Base_Arbres,3,FALSE)*Crit1,\"\")","v":""},{"$f":"IF(Base_Arbres!A849<>\"\",VLOOKUP($A803,Base_Arbres,4,FALSE)*Crit2,\"\")","v":""},{"$f":"IF(Base_Arbres!A849<>\"\",VLOOKUP($A803,Base_Arbres,5,FALSE)*Crit3,\"\")","v":""},{"$f":"IF(Base_Arbres!A849<>\"\",VLOOKUP($A803,Base_Arbres,6,FALSE)*Crit4,\"\")","v":""},{"$f":"IF(Base_Arbres!B803<>\"\",VLOOKUP($A803,Base_Arbres,7,FALSE)*Crit5,\"\")","v":""},{"$f":"IF(Base_Arbres!C803<>\"\",VLOOKUP($A803,Base_Arbres,8,FALSE)*crit8,\"\")","v":""},{"$f":"IF(Base_Arbres!D803<>\"\",VLOOKUP($A803,Base_Arbres,9,FALSE)*crit9,\"\")","v":""},{"$f":"IF(ISNA(VLOOKUP(INDEX(Base_Typologie!$A$6:$P$1003,MATCH(A803,Base_Typologie!$A:$A,0)-5,MATCH(Typologie_Espace_Public,Base_Typologie!$6:$6,0)),TableauScoreTypologie2,2,FALSE)*Crit6),0,VLOOKUP(INDEX(Base_Typologie!$A$6:$P$1003,MATCH(A803,Base_Typologie!$A:$A,0)-5,MATCH(Typologie_Espace_Public,Base_Typologie!$6:$6,0)),TableauScoreTypologie2,2,FALSE)*Crit6)","v":0},0,0,0,0,0,0,0,0,0,0,0,0,null,{"$f":"IF(Base_Arbres!A906<>\"\",VLOOKUP($A803,Base_Arbres,4,FALSE)*Crit7,\"\")","v":""}]
[{"$f":"IF(Base_Arbres!A850<>\"\",Base_Arbres!A850,\"\")","v":""},{"$f":"IF(Base_Arbres!A850<>\"\",VLOOKUP($A804,Base_Arbres,3,FALSE)*Crit1,\"\")","v":""},{"$f":"IF(Base_Arbres!A850<>\"\",VLOOKUP($A804,Base_Arbres,4,FALSE)*Crit2,\"\")","v":""},{"$f":"IF(Base_Arbres!A850<>\"\",VLOOKUP($A804,Base_Arbres,5,FALSE)*Crit3,\"\")","v":""},{"$f":"IF(Base_Arbres!A850<>\"\",VLOOKUP($A804,Base_Arbres,6,FALSE)*Crit4,\"\")","v":""},{"$f":"IF(Base_Arbres!B804<>\"\",VLOOKUP($A804,Base_Arbres,7,FALSE)*Crit5,\"\")","v":""},{"$f":"IF(Base_Arbres!C804<>\"\",VLOOKUP($A804,Base_Arbres,8,FALSE)*crit8,\"\")","v":""},{"$f":"IF(Base_Arbres!D804<>\"\",VLOOKUP($A804,Base_Arbres,9,FALSE)*crit9,\"\")","v":""},{"$f":"IF(ISNA(VLOOKUP(INDEX(Base_Typologie!$A$6:$P$1003,MATCH(A804,Base_Typologie!$A:$A,0)-5,MATCH(Typologie_Espace_Public,Base_Typologie!$6:$6,0)),TableauScoreTypologie2,2,FALSE)*Crit6),0,VLOOKUP(INDEX(Base_Typologie!$A$6:$P$1003,MATCH(A804,Base_Typologie!$A:$A,0)-5,MATCH(Typologie_Espace_Public,Base_Typologie!$6:$6,0)),TableauScoreTypologie2,2,FALSE)*Crit6)","v":0},0,0,0,0,0,0,0,0,0,0,0,0,null,{"$f":"IF(Base_Arbres!A907<>\"\",VLOOKUP($A804,Base_Arbres,4,FALSE)*Crit7,\"\")","v":""}]
[{"$f":"IF(Base_Arbres!A851<>\"\",Base_Arbres!A851,\"\")","v":""},{"$f":"IF(Base_Arbres!A851<>\"\",VLOOKUP($A805,Base_Arbres,3,FALSE)*Crit1,\"\")","v":""},{"$f":"IF(Base_Arbres!A851<>\"\",VLOOKUP($A805,Base_Arbres,4,FALSE)*Crit2,\"\")","v":""},{"$f":"IF(Base_Arbres!A851<>\"\",VLOOKUP($A805,Base_Arbres,5,FALSE)*Crit3,\"\")","v":""},{"$f":"IF(Base_Arbres!A851<>\"\",VLOOKUP($A805,Base_Arbres,6,FALSE)*Crit4,\"\")","v":""},{"$f":"IF(Base_Arbres!B805<>\"\",VLOOKUP($A805,Base_Arbres,7,FALSE)*Crit5,\"\")","v":""},{"$f":"IF(Base_Arbres!C805<>\"\",VLOOKUP($A805,Base_Arbres,8,FALSE)*crit8,\"\")","v":""},{"$f":"IF(Base_Arbres!D805<>\"\",VLOOKUP($A805,Base_Arbres,9,FALSE)*crit9,\"\")","v":""},{"$f":"IF(ISNA(VLOOKUP(INDEX(Base_Typologie!$A$6:$P$1003,MATCH(A805,Base_Typologie!$A:$A,0)-5,MATCH(Typologie_Espace_Public,Base_Typologie!$6:$6,0)),TableauScoreTypologie2,2,FALSE)*Crit6),0,VLOOKUP(INDEX(Base_Typologie!$A$6:$P$1003,MATCH(A805,Base_Typologie!$A:$A,0)-5,MATCH(Typologie_Espace_Public,Base_Typologie!$6:$6,0)),TableauScoreTypologie2,2,FALSE)*Crit6)","v":0},0,0,0,0,0,0,0,0,0,0,0,0,null,{"$f":"IF(Base_Arbres!A908<>\"\",VLOOKUP($A805,Base_Arbres,4,FALSE)*Crit7,\"\")","v":""}]
[{"$f":"IF(Base_Arbres!A852<>\"\",Base_Arbres!A852,\"\")","v":""},{"$f":"IF(Base_Arbres!A852<>\"\",VLOOKUP($A806,Base_Arbres,3,FALSE)*Crit1,\"\")","v":""},{"$f":"IF(Base_Arbres!A852<>\"\",VLOOKUP($A806,Base_Arbres,4,FALSE)*Crit2,\"\")","v":""},{"$f":"IF(Base_Arbres!A852<>\"\",VLOOKUP($A806,Base_Arbres,5,FALSE)*Crit3,\"\")","v":""},{"$f":"IF(Base_Arbres!A852<>\"\",VLOOKUP($A806,Base_Arbres,6,FALSE)*Crit4,\"\")","v":""},{"$f":"IF(Base_Arbres!B806<>\"\",VLOOKUP($A806,Base_Arbres,7,FALSE)*Crit5,\"\")","v":""},{"$f":"IF(Base_Arbres!C806<>\"\",VLOOKUP($A806,Base_Arbres,8,FALSE)*crit8,\"\")","v":""},{"$f":"IF(Base_Arbres!D806<>\"\",VLOOKUP($A806,Base_Arbres,9,FALSE)*crit9,\"\")","v":""},{"$f":"IF(ISNA(VLOOKUP(INDEX(Base_Typologie!$A$6:$P$1003,MATCH(A806,Base_Typologie!$A:$A,0)-5,MATCH(Typologie_Espace_Public,Base_Typologie!$6:$6,0)),TableauScoreTypologie2,2,FALSE)*Crit6),0,VLOOKUP(INDEX(Base_Typologie!$A$6:$P$1003,MATCH(A806,Base_Typologie!$A:$A,0)-5,MATCH(Typologie_Espace_Public,Base_Typologie!$6:$6,0)),TableauScoreTypologie2,2,FALSE)*Crit6)","v":0},0,0,0,0,0,0,0,0,0,0,0,0,null,{"$f":"IF(Base_Arbres!A909<>\"\",VLOOKUP($A806,Base_Arbres,4,FALSE)*Crit7,\"\")","v":""}]
[{"$f":"IF(Base_Arbres!A853<>\"\",Base_Arbres!A853,\"\")","v":""},{"$f":"IF(Base_Arbres!A853<>\"\",VLOOKUP($A807,Base_Arbres,3,FALSE)*Crit1,\"\")","v":""},{"$f":"IF(Base_Arbres!A853<>\"\",VLOOKUP($A807,Base_Arbres,4,FALSE)*Crit2,\"\")","v":""},{"$f":"IF(Base_Arbres!A853<>\"\",VLOOKUP($A807,Base_Arbres,5,FALSE)*Crit3,\"\")","v":""},{"$f":"IF(Base_Arbres!A853<>\"\",VLOOKUP($A807,Base_Arbres,6,FALSE)*Crit4,\"\")","v":""},{"$f":"IF(Base_Arbres!B807<>\"\",VLOOKUP($A807,Base_Arbres,7,FALSE)*Crit5,\"\")","v":""},{"$f":"IF(Base_Arbres!C807<>\"\",VLOOKUP($A807,Base_Arbres,8,FALSE)*crit8,\"\")","v":""},{"$f":"IF(Base_Arbres!D807<>\"\",VLOOKUP($A807,Base_Arbres,9,FALSE)*crit9,\"\")","v":""},{"$f":"IF(ISNA(VLOOKUP(INDEX(Base_Typologie!$A$6:$P$1003,MATCH(A807,Base_Typologie!$A:$A,0)-5,MATCH(Typologie_Espace_Public,Base_Typologie!$6:$6,0)),TableauScoreTypologie2,2,FALSE)*Crit6),0,VLOOKUP(INDEX(Base_Typologie!$A$6:$P$1003,MATCH(A807,Base_Typologie!$A:$A,0)-5,MATCH(Typologie_Espace_Public,Base_Typologie!$6:$6,0)),TableauScoreTypologie2,2,FALSE)*Crit6)","v":0},0,0,0,0,0,0,0,0,0,0,0,0,null,{"$f":"IF(Base_Arbres!A910<>\"\",VLOOKUP($A807,Base_Arbres,4,FALSE)*Crit7,\"\")","v":""}]
[{"$f":"IF(Base_Arbres!A854<>\"\",Base_Arbres!A854,\"\")","v":""},{"$f":"IF(Base_Arbres!A854<>\"\",VLOOKUP($A808,Base_Arbres,3,FALSE)*Crit1,\"\")","v":""},{"$f":"IF(Base_Arbres!A854<>\"\",VLOOKUP($A808,Base_Arbres,4,FALSE)*Crit2,\"\")","v":""},{"$f":"IF(Base_Arbres!A854<>\"\",VLOOKUP($A808,Base_Arbres,5,FALSE)*Crit3,\"\")","v":""},{"$f":"IF(Base_Arbres!A854<>\"\",VLOOKUP($A808,Base_Arbres,6,FALSE)*Crit4,\"\")","v":""},{"$f":"IF(Base_Arbres!B808<>\"\",VLOOKUP($A808,Base_Arbres,7,FALSE)*Crit5,\"\")","v":""},{"$f":"IF(Base_Arbres!C808<>\"\",VLOOKUP($A808,Base_Arbres,8,FALSE)*crit8,\"\")","v":""},{"$f":"IF(Base_Arbres!D808<>\"\",VLOOKUP($A808,Base_Arbres,9,FALSE)*crit9,\"\")","v":""},{"$f":"IF(ISNA(VLOOKUP(INDEX(Base_Typologie!$A$6:$P$1003,MATCH(A808,Base_Typologie!$A:$A,0)-5,MATCH(Typologie_Espace_Public,Base_Typologie!$6:$6,0)),TableauScoreTypologie2,2,FALSE)*Crit6),0,VLOOKUP(INDEX(Base_Typologie!$A$6:$P$1003,MATCH(A808,Base_Typologie!$A:$A,0)-5,MATCH(Typologie_Espace_Public,Base_Typologie!$6:$6,0)),TableauScoreTypologie2,2,FALSE)*Crit6)","v":0},0,0,0,0,0,0,0,0,0,0,0,0,null,{"$f":"IF(Base_Arbres!A911<>\"\",VLOOKUP($A808,Base_Arbres,4,FALSE)*Crit7,\"\")","v":""}]
[{"$f":"IF(Base_Arbres!A855<>\"\",Base_Arbres!A855,\"\")","v":""},{"$f":"IF(Base_Arbres!A855<>\"\",VLOOKUP($A809,Base_Arbres,3,FALSE)*Crit1,\"\")","v":""},{"$f":"IF(Base_Arbres!A855<>\"\",VLOOKUP($A809,Base_Arbres,4,FALSE)*Crit2,\"\")","v":""},{"$f":"IF(Base_Arbres!A855<>\"\",VLOOKUP($A809,Base_Arbres,5,FALSE)*Crit3,\"\")","v":""},{"$f":"IF(Base_Arbres!A855<>\"\",VLOOKUP($A809,Base_Arbres,6,FALSE)*Crit4,\"\")","v":""},{"$f":"IF(Base_Arbres!B809<>\"\",VLOOKUP($A809,Base_Arbres,7,FALSE)*Crit5,\"\")","v":""},{"$f":"IF(Base_Arbres!C809<>\"\",VLOOKUP($A809,Base_Arbres,8,FALSE)*crit8,\"\")","v":""},{"$f":"IF(Base_Arbres!D809<>\"\",VLOOKUP($A809,Base_Arbres,9,FALSE)*crit9,\"\")","v":""},{"$f":"IF(ISNA(VLOOKUP(INDEX(Base_Typologie!$A$6:$P$1003,MATCH(A809,Base_Typologie!$A:$A,0)-5,MATCH(Typologie_Espace_Public,Base_Typologie!$6:$6,0)),TableauScoreTypologie2,2,FALSE)*Crit6),0,VLOOKUP(INDEX(Base_Typologie!$A$6:$P$1003,MATCH(A809,Base_Typologie!$A:$A,0)-5,MATCH(Typologie_Espace_Public,Base_Typologie!$6:$6,0)),TableauScoreTypologie2,2,FALSE)*Crit6)","v":0},0,0,0,0,0,0,0,0,0,0,0,0,null,{"$f":"IF(Base_Arbres!A912<>\"\",VLOOKUP($A809,Base_Arbres,4,FALSE)*Crit7,\"\")","v":""}]
[{"$f":"IF(Base_Arbres!A856<>\"\",Base_Arbres!A856,\"\")","v":""},{"$f":"IF(Base_Arbres!A856<>\"\",VLOOKUP($A810,Base_Arbres,3,FALSE)*Crit1,\"\")","v":""},{"$f":"IF(Base_Arbres!A856<>\"\",VLOOKUP($A810,Base_Arbres,4,FALSE)*Crit2,\"\")","v":""},{"$f":"IF(Base_Arbres!A856<>\"\",VLOOKUP($A810,Base_Arbres,5,FALSE)*Crit3,\"\")","v":""},{"$f":"IF(Base_Arbres!A856<>\"\",VLOOKUP($A810,Base_Arbres,6,FALSE)*Crit4,\"\")","v":""},{"$f":"IF(Base_Arbres!B810<>\"\",VLOOKUP($A810,Base_Arbres,7,FALSE)*Crit5,\"\")","v":""},{"$f":"IF(Base_Arbres!C810<>\"\",VLOOKUP($A810,Base_Arbres,8,FALSE)*crit8,\"\")","v":""},{"$f":"IF(Base_Arbres!D810<>\"\",VLOOKUP($A810,Base_Arbres,9,FALSE)*crit9,\"\")","v":""},{"$f":"IF(ISNA(VLOOKUP(INDEX(Base_Typologie!$A$6:$P$1003,MATCH(A810,Base_Typologie!$A:$A,0)-5,MATCH(Typologie_Espace_Public,Base_Typologie!$6:$6,0)),TableauScoreTypologie2,2,FALSE)*Crit6),0,VLOOKUP(INDEX(Base_Typologie!$A$6:$P$1003,MATCH(A810,Base_Typologie!$A:$A,0)-5,MATCH(Typologie_Espace_Public,Base_Typologie!$6:$6,0)),TableauScoreTypologie2,2,FALSE)*Crit6)","v":0},0,0,0,0,0,0,0,0,0,0,0,0,null,{"$f":"IF(Base_Arbres!A913<>\"\",VLOOKUP($A810,Base_Arbres,4,FALSE)*Crit7,\"\")","v":""}]
[{"$f":"IF(Base_Arbres!A857<>\"\",Base_Arbres!A857,\"\")","v":""},{"$f":"IF(Base_Arbres!A857<>\"\",VLOOKUP($A811,Base_Arbres,3,FALSE)*Crit1,\"\")","v":""},{"$f":"IF(Base_Arbres!A857<>\"\",VLOOKUP($A811,Base_Arbres,4,FALSE)*Crit2,\"\")","v":""},{"$f":"IF(Base_Arbres!A857<>\"\",VLOOKUP($A811,Base_Arbres,5,FALSE)*Crit3,\"\")","v":""},{"$f":"IF(Base_Arbres!A857<>\"\",VLOOKUP($A811,Base_Arbres,6,FALSE)*Crit4,\"\")","v":""},{"$f":"IF(Base_Arbres!B811<>\"\",VLOOKUP($A811,Base_Arbres,7,FALSE)*Crit5,\"\")","v":""},{"$f":"IF(Base_Arbres!C811<>\"\",VLOOKUP($A811,Base_Arbres,8,FALSE)*crit8,\"\")","v":""},{"$f":"IF(Base_Arbres!D811<>\"\",VLOOKUP($A811,Base_Arbres,9,FALSE)*crit9,\"\")","v":""},{"$f":"IF(ISNA(VLOOKUP(INDEX(Base_Typologie!$A$6:$P$1003,MATCH(A811,Base_Typologie!$A:$A,0)-5,MATCH(Typologie_Espace_Public,Base_Typologie!$6:$6,0)),TableauScoreTypologie2,2,FALSE)*Crit6),0,VLOOKUP(INDEX(Base_Typologie!$A$6:$P$1003,MATCH(A811,Base_Typologie!$A:$A,0)-5,MATCH(Typologie_Espace_Public,Base_Typologie!$6:$6,0)),TableauScoreTypologie2,2,FALSE)*Crit6)","v":0},0,0,0,0,0,0,0,0,0,0,0,0,null,{"$f":"IF(Base_Arbres!A914<>\"\",VLOOKUP($A811,Base_Arbres,4,FALSE)*Crit7,\"\")","v":""}]
[{"$f":"IF(Base_Arbres!A858<>\"\",Base_Arbres!A858,\"\")","v":""},{"$f":"IF(Base_Arbres!A858<>\"\",VLOOKUP($A812,Base_Arbres,3,FALSE)*Crit1,\"\")","v":""},{"$f":"IF(Base_Arbres!A858<>\"\",VLOOKUP($A812,Base_Arbres,4,FALSE)*Crit2,\"\")","v":""},{"$f":"IF(Base_Arbres!A858<>\"\",VLOOKUP($A812,Base_Arbres,5,FALSE)*Crit3,\"\")","v":""},{"$f":"IF(Base_Arbres!A858<>\"\",VLOOKUP($A812,Base_Arbres,6,FALSE)*Crit4,\"\")","v":""},{"$f":"IF(Base_Arbres!B812<>\"\",VLOOKUP($A812,Base_Arbres,7,FALSE)*Crit5,\"\")","v":""},{"$f":"IF(Base_Arbres!C812<>\"\",VLOOKUP($A812,Base_Arbres,8,FALSE)*crit8,\"\")","v":""},{"$f":"IF(Base_Arbres!D812<>\"\",VLOOKUP($A812,Base_Arbres,9,FALSE)*crit9,\"\")","v":""},{"$f":"IF(ISNA(VLOOKUP(INDEX(Base_Typologie!$A$6:$P$1003,MATCH(A812,Base_Typologie!$A:$A,0)-5,MATCH(Typologie_Espace_Public,Base_Typologie!$6:$6,0)),TableauScoreTypologie2,2,FALSE)*Crit6),0,VLOOKUP(INDEX(Base_Typologie!$A$6:$P$1003,MATCH(A812,Base_Typologie!$A:$A,0)-5,MATCH(Typologie_Espace_Public,Base_Typologie!$6:$6,0)),TableauScoreTypologie2,2,FALSE)*Crit6)","v":0},0,0,0,0,0,0,0,0,0,0,0,0,null,{"$f":"IF(Base_Arbres!A915<>\"\",VLOOKUP($A812,Base_Arbres,4,FALSE)*Crit7,\"\")","v":""}]
[{"$f":"IF(Base_Arbres!A859<>\"\",Base_Arbres!A859,\"\")","v":""},{"$f":"IF(Base_Arbres!A859<>\"\",VLOOKUP($A813,Base_Arbres,3,FALSE)*Crit1,\"\")","v":""},{"$f":"IF(Base_Arbres!A859<>\"\",VLOOKUP($A813,Base_Arbres,4,FALSE)*Crit2,\"\")","v":""},{"$f":"IF(Base_Arbres!A859<>\"\",VLOOKUP($A813,Base_Arbres,5,FALSE)*Crit3,\"\")","v":""},{"$f":"IF(Base_Arbres!A859<>\"\",VLOOKUP($A813,Base_Arbres,6,FALSE)*Crit4,\"\")","v":""},{"$f":"IF(Base_Arbres!B813<>\"\",VLOOKUP($A813,Base_Arbres,7,FALSE)*Crit5,\"\")","v":""},{"$f":"IF(Base_Arbres!C813<>\"\",VLOOKUP($A813,Base_Arbres,8,FALSE)*crit8,\"\")","v":""},{"$f":"IF(Base_Arbres!D813<>\"\",VLOOKUP($A813,Base_Arbres,9,FALSE)*crit9,\"\")","v":""},{"$f":"IF(ISNA(VLOOKUP(INDEX(Base_Typologie!$A$6:$P$1003,MATCH(A813,Base_Typologie!$A:$A,0)-5,MATCH(Typologie_Espace_Public,Base_Typologie!$6:$6,0)),TableauScoreTypologie2,2,FALSE)*Crit6),0,VLOOKUP(INDEX(Base_Typologie!$A$6:$P$1003,MATCH(A813,Base_Typologie!$A:$A,0)-5,MATCH(Typologie_Espace_Public,Base_Typologie!$6:$6,0)),TableauScoreTypologie2,2,FALSE)*Crit6)","v":0},0,0,0,0,0,0,0,0,0,0,0,0,null,{"$f":"IF(Base_Arbres!A916<>\"\",VLOOKUP($A813,Base_Arbres,4,FALSE)*Crit7,\"\")","v":""}]
[{"$f":"IF(Base_Arbres!A860<>\"\",Base_Arbres!A860,\"\")","v":""},{"$f":"IF(Base_Arbres!A860<>\"\",VLOOKUP($A814,Base_Arbres,3,FALSE)*Crit1,\"\")","v":""},{"$f":"IF(Base_Arbres!A860<>\"\",VLOOKUP($A814,Base_Arbres,4,FALSE)*Crit2,\"\")","v":""},{"$f":"IF(Base_Arbres!A860<>\"\",VLOOKUP($A814,Base_Arbres,5,FALSE)*Crit3,\"\")","v":""},{"$f":"IF(Base_Arbres!A860<>\"\",VLOOKUP($A814,Base_Arbres,6,FALSE)*Crit4,\"\")","v":""},{"$f":"IF(Base_Arbres!B814<>\"\",VLOOKUP($A814,Base_Arbres,7,FALSE)*Crit5,\"\")","v":""},{"$f":"IF(Base_Arbres!C814<>\"\",VLOOKUP($A814,Base_Arbres,8,FALSE)*crit8,\"\")","v":""},{"$f":"IF(Base_Arbres!D814<>\"\",VLOOKUP($A814,Base_Arbres,9,FALSE)*crit9,\"\")","v":""},{"$f":"IF(ISNA(VLOOKUP(INDEX(Base_Typologie!$A$6:$P$1003,MATCH(A814,Base_Typologie!$A:$A,0)-5,MATCH(Typologie_Espace_Public,Base_Typologie!$6:$6,0)),TableauScoreTypologie2,2,FALSE)*Crit6),0,VLOOKUP(INDEX(Base_Typologie!$A$6:$P$1003,MATCH(A814,Base_Typologie!$A:$A,0)-5,MATCH(Typologie_Espace_Public,Base_Typologie!$6:$6,0)),TableauScoreTypologie2,2,FALSE)*Crit6)","v":0},0,0,0,0,0,0,0,0,0,0,0,0,null,{"$f":"IF(Base_Arbres!A917<>\"\",VLOOKUP($A814,Base_Arbres,4,FALSE)*Crit7,\"\")","v":""}]
[{"$f":"IF(Base_Arbres!A861<>\"\",Base_Arbres!A861,\"\")","v":""},{"$f":"IF(Base_Arbres!A861<>\"\",VLOOKUP($A815,Base_Arbres,3,FALSE)*Crit1,\"\")","v":""},{"$f":"IF(Base_Arbres!A861<>\"\",VLOOKUP($A815,Base_Arbres,4,FALSE)*Crit2,\"\")","v":""},{"$f":"IF(Base_Arbres!A861<>\"\",VLOOKUP($A815,Base_Arbres,5,FALSE)*Crit3,\"\")","v":""},{"$f":"IF(Base_Arbres!A861<>\"\",VLOOKUP($A815,Base_Arbres,6,FALSE)*Crit4,\"\")","v":""},{"$f":"IF(Base_Arbres!B815<>\"\",VLOOKUP($A815,Base_Arbres,7,FALSE)*Crit5,\"\")","v":""},{"$f":"IF(Base_Arbres!C815<>\"\",VLOOKUP($A815,Base_Arbres,8,FALSE)*crit8,\"\")","v":""},{"$f":"IF(Base_Arbres!D815<>\"\",VLOOKUP($A815,Base_Arbres,9,FALSE)*crit9,\"\")","v":""},{"$f":"IF(ISNA(VLOOKUP(INDEX(Base_Typologie!$A$6:$P$1003,MATCH(A815,Base_Typologie!$A:$A,0)-5,MATCH(Typologie_Espace_Public,Base_Typologie!$6:$6,0)),TableauScoreTypologie2,2,FALSE)*Crit6),0,VLOOKUP(INDEX(Base_Typologie!$A$6:$P$1003,MATCH(A815,Base_Typologie!$A:$A,0)-5,MATCH(Typologie_Espace_Public,Base_Typologie!$6:$6,0)),TableauScoreTypologie2,2,FALSE)*Crit6)","v":0},0,0,0,0,0,0,0,0,0,0,0,0,null,{"$f":"IF(Base_Arbres!A918<>\"\",VLOOKUP($A815,Base_Arbres,4,FALSE)*Crit7,\"\")","v":""}]
[{"$f":"IF(Base_Arbres!A862<>\"\",Base_Arbres!A862,\"\")","v":""},{"$f":"IF(Base_Arbres!A862<>\"\",VLOOKUP($A816,Base_Arbres,3,FALSE)*Crit1,\"\")","v":""},{"$f":"IF(Base_Arbres!A862<>\"\",VLOOKUP($A816,Base_Arbres,4,FALSE)*Crit2,\"\")","v":""},{"$f":"IF(Base_Arbres!A862<>\"\",VLOOKUP($A816,Base_Arbres,5,FALSE)*Crit3,\"\")","v":""},{"$f":"IF(Base_Arbres!A862<>\"\",VLOOKUP($A816,Base_Arbres,6,FALSE)*Crit4,\"\")","v":""},{"$f":"IF(Base_Arbres!B816<>\"\",VLOOKUP($A816,Base_Arbres,7,FALSE)*Crit5,\"\")","v":""},{"$f":"IF(Base_Arbres!C816<>\"\",VLOOKUP($A816,Base_Arbres,8,FALSE)*crit8,\"\")","v":""},{"$f":"IF(Base_Arbres!D816<>\"\",VLOOKUP($A816,Base_Arbres,9,FALSE)*crit9,\"\")","v":""},{"$f":"IF(ISNA(VLOOKUP(INDEX(Base_Typologie!$A$6:$P$1003,MATCH(A816,Base_Typologie!$A:$A,0)-5,MATCH(Typologie_Espace_Public,Base_Typologie!$6:$6,0)),TableauScoreTypologie2,2,FALSE)*Crit6),0,VLOOKUP(INDEX(Base_Typologie!$A$6:$P$1003,MATCH(A816,Base_Typologie!$A:$A,0)-5,MATCH(Typologie_Espace_Public,Base_Typologie!$6:$6,0)),TableauScoreTypologie2,2,FALSE)*Crit6)","v":0},0,0,0,0,0,0,0,0,0,0,0,0,null,{"$f":"IF(Base_Arbres!A919<>\"\",VLOOKUP($A816,Base_Arbres,4,FALSE)*Crit7,\"\")","v":""}]
[{"$f":"IF(Base_Arbres!A863<>\"\",Base_Arbres!A863,\"\")","v":""},{"$f":"IF(Base_Arbres!A863<>\"\",VLOOKUP($A817,Base_Arbres,3,FALSE)*Crit1,\"\")","v":""},{"$f":"IF(Base_Arbres!A863<>\"\",VLOOKUP($A817,Base_Arbres,4,FALSE)*Crit2,\"\")","v":""},{"$f":"IF(Base_Arbres!A863<>\"\",VLOOKUP($A817,Base_Arbres,5,FALSE)*Crit3,\"\")","v":""},{"$f":"IF(Base_Arbres!A863<>\"\",VLOOKUP($A817,Base_Arbres,6,FALSE)*Crit4,\"\")","v":""},{"$f":"IF(Base_Arbres!B817<>\"\",VLOOKUP($A817,Base_Arbres,7,FALSE)*Crit5,\"\")","v":""},{"$f":"IF(Base_Arbres!C817<>\"\",VLOOKUP($A817,Base_Arbres,8,FALSE)*crit8,\"\")","v":""},{"$f":"IF(Base_Arbres!D817<>\"\",VLOOKUP($A817,Base_Arbres,9,FALSE)*crit9,\"\")","v":""},{"$f":"IF(ISNA(VLOOKUP(INDEX(Base_Typologie!$A$6:$P$1003,MATCH(A817,Base_Typologie!$A:$A,0)-5,MATCH(Typologie_Espace_Public,Base_Typologie!$6:$6,0)),TableauScoreTypologie2,2,FALSE)*Crit6),0,VLOOKUP(INDEX(Base_Typologie!$A$6:$P$1003,MATCH(A817,Base_Typologie!$A:$A,0)-5,MATCH(Typologie_Espace_Public,Base_Typologie!$6:$6,0)),TableauScoreTypologie2,2,FALSE)*Crit6)","v":0},0,0,0,0,0,0,0,0,0,0,0,0,null,{"$f":"IF(Base_Arbres!A920<>\"\",VLOOKUP($A817,Base_Arbres,4,FALSE)*Crit7,\"\")","v":""}]
[{"$f":"IF(Base_Arbres!A864<>\"\",Base_Arbres!A864,\"\")","v":""},{"$f":"IF(Base_Arbres!A864<>\"\",VLOOKUP($A818,Base_Arbres,3,FALSE)*Crit1,\"\")","v":""},{"$f":"IF(Base_Arbres!A864<>\"\",VLOOKUP($A818,Base_Arbres,4,FALSE)*Crit2,\"\")","v":""},{"$f":"IF(Base_Arbres!A864<>\"\",VLOOKUP($A818,Base_Arbres,5,FALSE)*Crit3,\"\")","v":""},{"$f":"IF(Base_Arbres!A864<>\"\",VLOOKUP($A818,Base_Arbres,6,FALSE)*Crit4,\"\")","v":""},{"$f":"IF(Base_Arbres!B818<>\"\",VLOOKUP($A818,Base_Arbres,7,FALSE)*Crit5,\"\")","v":""},{"$f":"IF(Base_Arbres!C818<>\"\",VLOOKUP($A818,Base_Arbres,8,FALSE)*crit8,\"\")","v":""},{"$f":"IF(Base_Arbres!D818<>\"\",VLOOKUP($A818,Base_Arbres,9,FALSE)*crit9,\"\")","v":""},{"$f":"IF(ISNA(VLOOKUP(INDEX(Base_Typologie!$A$6:$P$1003,MATCH(A818,Base_Typologie!$A:$A,0)-5,MATCH(Typologie_Espace_Public,Base_Typologie!$6:$6,0)),TableauScoreTypologie2,2,FALSE)*Crit6),0,VLOOKUP(INDEX(Base_Typologie!$A$6:$P$1003,MATCH(A818,Base_Typologie!$A:$A,0)-5,MATCH(Typologie_Espace_Public,Base_Typologie!$6:$6,0)),TableauScoreTypologie2,2,FALSE)*Crit6)","v":0},0,0,0,0,0,0,0,0,0,0,0,0,null,{"$f":"IF(Base_Arbres!A921<>\"\",VLOOKUP($A818,Base_Arbres,4,FALSE)*Crit7,\"\")","v":""}]
[{"$f":"IF(Base_Arbres!A865<>\"\",Base_Arbres!A865,\"\")","v":""},{"$f":"IF(Base_Arbres!A865<>\"\",VLOOKUP($A819,Base_Arbres,3,FALSE)*Crit1,\"\")","v":""},{"$f":"IF(Base_Arbres!A865<>\"\",VLOOKUP($A819,Base_Arbres,4,FALSE)*Crit2,\"\")","v":""},{"$f":"IF(Base_Arbres!A865<>\"\",VLOOKUP($A819,Base_Arbres,5,FALSE)*Crit3,\"\")","v":""},{"$f":"IF(Base_Arbres!A865<>\"\",VLOOKUP($A819,Base_Arbres,6,FALSE)*Crit4,\"\")","v":""},{"$f":"IF(Base_Arbres!B819<>\"\",VLOOKUP($A819,Base_Arbres,7,FALSE)*Crit5,\"\")","v":""},{"$f":"IF(Base_Arbres!C819<>\"\",VLOOKUP($A819,Base_Arbres,8,FALSE)*crit8,\"\")","v":""},{"$f":"IF(Base_Arbres!D819<>\"\",VLOOKUP($A819,Base_Arbres,9,FALSE)*crit9,\"\")","v":""},{"$f":"IF(ISNA(VLOOKUP(INDEX(Base_Typologie!$A$6:$P$1003,MATCH(A819,Base_Typologie!$A:$A,0)-5,MATCH(Typologie_Espace_Public,Base_Typologie!$6:$6,0)),TableauScoreTypologie2,2,FALSE)*Crit6),0,VLOOKUP(INDEX(Base_Typologie!$A$6:$P$1003,MATCH(A819,Base_Typologie!$A:$A,0)-5,MATCH(Typologie_Espace_Public,Base_Typologie!$6:$6,0)),TableauScoreTypologie2,2,FALSE)*Crit6)","v":0},0,0,0,0,0,0,0,0,0,0,0,0,null,{"$f":"IF(Base_Arbres!A922<>\"\",VLOOKUP($A819,Base_Arbres,4,FALSE)*Crit7,\"\")","v":""}]
[{"$f":"IF(Base_Arbres!A866<>\"\",Base_Arbres!A866,\"\")","v":""},{"$f":"IF(Base_Arbres!A866<>\"\",VLOOKUP($A820,Base_Arbres,3,FALSE)*Crit1,\"\")","v":""},{"$f":"IF(Base_Arbres!A866<>\"\",VLOOKUP($A820,Base_Arbres,4,FALSE)*Crit2,\"\")","v":""},{"$f":"IF(Base_Arbres!A866<>\"\",VLOOKUP($A820,Base_Arbres,5,FALSE)*Crit3,\"\")","v":""},{"$f":"IF(Base_Arbres!A866<>\"\",VLOOKUP($A820,Base_Arbres,6,FALSE)*Crit4,\"\")","v":""},{"$f":"IF(Base_Arbres!B820<>\"\",VLOOKUP($A820,Base_Arbres,7,FALSE)*Crit5,\"\")","v":""},{"$f":"IF(Base_Arbres!C820<>\"\",VLOOKUP($A820,Base_Arbres,8,FALSE)*crit8,\"\")","v":""},{"$f":"IF(Base_Arbres!D820<>\"\",VLOOKUP($A820,Base_Arbres,9,FALSE)*crit9,\"\")","v":""},{"$f":"IF(ISNA(VLOOKUP(INDEX(Base_Typologie!$A$6:$P$1003,MATCH(A820,Base_Typologie!$A:$A,0)-5,MATCH(Typologie_Espace_Public,Base_Typologie!$6:$6,0)),TableauScoreTypologie2,2,FALSE)*Crit6),0,VLOOKUP(INDEX(Base_Typologie!$A$6:$P$1003,MATCH(A820,Base_Typologie!$A:$A,0)-5,MATCH(Typologie_Espace_Public,Base_Typologie!$6:$6,0)),TableauScoreTypologie2,2,FALSE)*Crit6)","v":0},0,0,0,0,0,0,0,0,0,0,0,0,null,{"$f":"IF(Base_Arbres!A923<>\"\",VLOOKUP($A820,Base_Arbres,4,FALSE)*Crit7,\"\")","v":""}]
[{"$f":"IF(Base_Arbres!A867<>\"\",Base_Arbres!A867,\"\")","v":""},{"$f":"IF(Base_Arbres!A867<>\"\",VLOOKUP($A821,Base_Arbres,3,FALSE)*Crit1,\"\")","v":""},{"$f":"IF(Base_Arbres!A867<>\"\",VLOOKUP($A821,Base_Arbres,4,FALSE)*Crit2,\"\")","v":""},{"$f":"IF(Base_Arbres!A867<>\"\",VLOOKUP($A821,Base_Arbres,5,FALSE)*Crit3,\"\")","v":""},{"$f":"IF(Base_Arbres!A867<>\"\",VLOOKUP($A821,Base_Arbres,6,FALSE)*Crit4,\"\")","v":""},{"$f":"IF(Base_Arbres!B821<>\"\",VLOOKUP($A821,Base_Arbres,7,FALSE)*Crit5,\"\")","v":""},{"$f":"IF(Base_Arbres!C821<>\"\",VLOOKUP($A821,Base_Arbres,8,FALSE)*crit8,\"\")","v":""},{"$f":"IF(Base_Arbres!D821<>\"\",VLOOKUP($A821,Base_Arbres,9,FALSE)*crit9,\"\")","v":""},{"$f":"IF(ISNA(VLOOKUP(INDEX(Base_Typologie!$A$6:$P$1003,MATCH(A821,Base_Typologie!$A:$A,0)-5,MATCH(Typologie_Espace_Public,Base_Typologie!$6:$6,0)),TableauScoreTypologie2,2,FALSE)*Crit6),0,VLOOKUP(INDEX(Base_Typologie!$A$6:$P$1003,MATCH(A821,Base_Typologie!$A:$A,0)-5,MATCH(Typologie_Espace_Public,Base_Typologie!$6:$6,0)),TableauScoreTypologie2,2,FALSE)*Crit6)","v":0},0,0,0,0,0,0,0,0,0,0,0,0,null,{"$f":"IF(Base_Arbres!A924<>\"\",VLOOKUP($A821,Base_Arbres,4,FALSE)*Crit7,\"\")","v":""}]
[{"$f":"IF(Base_Arbres!A868<>\"\",Base_Arbres!A868,\"\")","v":""},{"$f":"IF(Base_Arbres!A868<>\"\",VLOOKUP($A822,Base_Arbres,3,FALSE)*Crit1,\"\")","v":""},{"$f":"IF(Base_Arbres!A868<>\"\",VLOOKUP($A822,Base_Arbres,4,FALSE)*Crit2,\"\")","v":""},{"$f":"IF(Base_Arbres!A868<>\"\",VLOOKUP($A822,Base_Arbres,5,FALSE)*Crit3,\"\")","v":""},{"$f":"IF(Base_Arbres!A868<>\"\",VLOOKUP($A822,Base_Arbres,6,FALSE)*Crit4,\"\")","v":""},{"$f":"IF(Base_Arbres!B822<>\"\",VLOOKUP($A822,Base_Arbres,7,FALSE)*Crit5,\"\")","v":""},{"$f":"IF(Base_Arbres!C822<>\"\",VLOOKUP($A822,Base_Arbres,8,FALSE)*crit8,\"\")","v":""},{"$f":"IF(Base_Arbres!D822<>\"\",VLOOKUP($A822,Base_Arbres,9,FALSE)*crit9,\"\")","v":""},{"$f":"IF(ISNA(VLOOKUP(INDEX(Base_Typologie!$A$6:$P$1003,MATCH(A822,Base_Typologie!$A:$A,0)-5,MATCH(Typologie_Espace_Public,Base_Typologie!$6:$6,0)),TableauScoreTypologie2,2,FALSE)*Crit6),0,VLOOKUP(INDEX(Base_Typologie!$A$6:$P$1003,MATCH(A822,Base_Typologie!$A:$A,0)-5,MATCH(Typologie_Espace_Public,Base_Typologie!$6:$6,0)),TableauScoreTypologie2,2,FALSE)*Crit6)","v":0},0,0,0,0,0,0,0,0,0,0,0,0,null,{"$f":"IF(Base_Arbres!A925<>\"\",VLOOKUP($A822,Base_Arbres,4,FALSE)*Crit7,\"\")","v":""}]
[{"$f":"IF(Base_Arbres!A869<>\"\",Base_Arbres!A869,\"\")","v":""},{"$f":"IF(Base_Arbres!A869<>\"\",VLOOKUP($A823,Base_Arbres,3,FALSE)*Crit1,\"\")","v":""},{"$f":"IF(Base_Arbres!A869<>\"\",VLOOKUP($A823,Base_Arbres,4,FALSE)*Crit2,\"\")","v":""},{"$f":"IF(Base_Arbres!A869<>\"\",VLOOKUP($A823,Base_Arbres,5,FALSE)*Crit3,\"\")","v":""},{"$f":"IF(Base_Arbres!A869<>\"\",VLOOKUP($A823,Base_Arbres,6,FALSE)*Crit4,\"\")","v":""},{"$f":"IF(Base_Arbres!B823<>\"\",VLOOKUP($A823,Base_Arbres,7,FALSE)*Crit5,\"\")","v":""},{"$f":"IF(Base_Arbres!C823<>\"\",VLOOKUP($A823,Base_Arbres,8,FALSE)*crit8,\"\")","v":""},{"$f":"IF(Base_Arbres!D823<>\"\",VLOOKUP($A823,Base_Arbres,9,FALSE)*crit9,\"\")","v":""},{"$f":"IF(ISNA(VLOOKUP(INDEX(Base_Typologie!$A$6:$P$1003,MATCH(A823,Base_Typologie!$A:$A,0)-5,MATCH(Typologie_Espace_Public,Base_Typologie!$6:$6,0)),TableauScoreTypologie2,2,FALSE)*Crit6),0,VLOOKUP(INDEX(Base_Typologie!$A$6:$P$1003,MATCH(A823,Base_Typologie!$A:$A,0)-5,MATCH(Typologie_Espace_Public,Base_Typologie!$6:$6,0)),TableauScoreTypologie2,2,FALSE)*Crit6)","v":0},0,0,0,0,0,0,0,0,0,0,0,0,null,{"$f":"IF(Base_Arbres!A926<>\"\",VLOOKUP($A823,Base_Arbres,4,FALSE)*Crit7,\"\")","v":""}]
[{"$f":"IF(Base_Arbres!A870<>\"\",Base_Arbres!A870,\"\")","v":""},{"$f":"IF(Base_Arbres!A870<>\"\",VLOOKUP($A824,Base_Arbres,3,FALSE)*Crit1,\"\")","v":""},{"$f":"IF(Base_Arbres!A870<>\"\",VLOOKUP($A824,Base_Arbres,4,FALSE)*Crit2,\"\")","v":""},{"$f":"IF(Base_Arbres!A870<>\"\",VLOOKUP($A824,Base_Arbres,5,FALSE)*Crit3,\"\")","v":""},{"$f":"IF(Base_Arbres!A870<>\"\",VLOOKUP($A824,Base_Arbres,6,FALSE)*Crit4,\"\")","v":""},{"$f":"IF(Base_Arbres!B824<>\"\",VLOOKUP($A824,Base_Arbres,7,FALSE)*Crit5,\"\")","v":""},{"$f":"IF(Base_Arbres!C824<>\"\",VLOOKUP($A824,Base_Arbres,8,FALSE)*crit8,\"\")","v":""},{"$f":"IF(Base_Arbres!D824<>\"\",VLOOKUP($A824,Base_Arbres,9,FALSE)*crit9,\"\")","v":""},{"$f":"IF(ISNA(VLOOKUP(INDEX(Base_Typologie!$A$6:$P$1003,MATCH(A824,Base_Typologie!$A:$A,0)-5,MATCH(Typologie_Espace_Public,Base_Typologie!$6:$6,0)),TableauScoreTypologie2,2,FALSE)*Crit6),0,VLOOKUP(INDEX(Base_Typologie!$A$6:$P$1003,MATCH(A824,Base_Typologie!$A:$A,0)-5,MATCH(Typologie_Espace_Public,Base_Typologie!$6:$6,0)),TableauScoreTypologie2,2,FALSE)*Crit6)","v":0},0,0,0,0,0,0,0,0,0,0,0,0,null,{"$f":"IF(Base_Arbres!A927<>\"\",VLOOKUP($A824,Base_Arbres,4,FALSE)*Crit7,\"\")","v":""}]
[{"$f":"IF(Base_Arbres!A871<>\"\",Base_Arbres!A871,\"\")","v":""},{"$f":"IF(Base_Arbres!A871<>\"\",VLOOKUP($A825,Base_Arbres,3,FALSE)*Crit1,\"\")","v":""},{"$f":"IF(Base_Arbres!A871<>\"\",VLOOKUP($A825,Base_Arbres,4,FALSE)*Crit2,\"\")","v":""},{"$f":"IF(Base_Arbres!A871<>\"\",VLOOKUP($A825,Base_Arbres,5,FALSE)*Crit3,\"\")","v":""},{"$f":"IF(Base_Arbres!A871<>\"\",VLOOKUP($A825,Base_Arbres,6,FALSE)*Crit4,\"\")","v":""},{"$f":"IF(Base_Arbres!B825<>\"\",VLOOKUP($A825,Base_Arbres,7,FALSE)*Crit5,\"\")","v":""},{"$f":"IF(Base_Arbres!C825<>\"\",VLOOKUP($A825,Base_Arbres,8,FALSE)*crit8,\"\")","v":""},{"$f":"IF(Base_Arbres!D825<>\"\",VLOOKUP($A825,Base_Arbres,9,FALSE)*crit9,\"\")","v":""},{"$f":"IF(ISNA(VLOOKUP(INDEX(Base_Typologie!$A$6:$P$1003,MATCH(A825,Base_Typologie!$A:$A,0)-5,MATCH(Typologie_Espace_Public,Base_Typologie!$6:$6,0)),TableauScoreTypologie2,2,FALSE)*Crit6),0,VLOOKUP(INDEX(Base_Typologie!$A$6:$P$1003,MATCH(A825,Base_Typologie!$A:$A,0)-5,MATCH(Typologie_Espace_Public,Base_Typologie!$6:$6,0)),TableauScoreTypologie2,2,FALSE)*Crit6)","v":0},0,0,0,0,0,0,0,0,0,0,0,0,null,{"$f":"IF(Base_Arbres!A928<>\"\",VLOOKUP($A825,Base_Arbres,4,FALSE)*Crit7,\"\")","v":""}]
[{"$f":"IF(Base_Arbres!A872<>\"\",Base_Arbres!A872,\"\")","v":""},{"$f":"IF(Base_Arbres!A872<>\"\",VLOOKUP($A826,Base_Arbres,3,FALSE)*Crit1,\"\")","v":""},{"$f":"IF(Base_Arbres!A872<>\"\",VLOOKUP($A826,Base_Arbres,4,FALSE)*Crit2,\"\")","v":""},{"$f":"IF(Base_Arbres!A872<>\"\",VLOOKUP($A826,Base_Arbres,5,FALSE)*Crit3,\"\")","v":""},{"$f":"IF(Base_Arbres!A872<>\"\",VLOOKUP($A826,Base_Arbres,6,FALSE)*Crit4,\"\")","v":""},{"$f":"IF(Base_Arbres!B826<>\"\",VLOOKUP($A826,Base_Arbres,7,FALSE)*Crit5,\"\")","v":""},{"$f":"IF(Base_Arbres!C826<>\"\",VLOOKUP($A826,Base_Arbres,8,FALSE)*crit8,\"\")","v":""},{"$f":"IF(Base_Arbres!D826<>\"\",VLOOKUP($A826,Base_Arbres,9,FALSE)*crit9,\"\")","v":""},{"$f":"IF(ISNA(VLOOKUP(INDEX(Base_Typologie!$A$6:$P$1003,MATCH(A826,Base_Typologie!$A:$A,0)-5,MATCH(Typologie_Espace_Public,Base_Typologie!$6:$6,0)),TableauScoreTypologie2,2,FALSE)*Crit6),0,VLOOKUP(INDEX(Base_Typologie!$A$6:$P$1003,MATCH(A826,Base_Typologie!$A:$A,0)-5,MATCH(Typologie_Espace_Public,Base_Typologie!$6:$6,0)),TableauScoreTypologie2,2,FALSE)*Crit6)","v":0},0,0,0,0,0,0,0,0,0,0,0,0,null,{"$f":"IF(Base_Arbres!A929<>\"\",VLOOKUP($A826,Base_Arbres,4,FALSE)*Crit7,\"\")","v":""}]
[{"$f":"IF(Base_Arbres!A873<>\"\",Base_Arbres!A873,\"\")","v":""},{"$f":"IF(Base_Arbres!A873<>\"\",VLOOKUP($A827,Base_Arbres,3,FALSE)*Crit1,\"\")","v":""},{"$f":"IF(Base_Arbres!A873<>\"\",VLOOKUP($A827,Base_Arbres,4,FALSE)*Crit2,\"\")","v":""},{"$f":"IF(Base_Arbres!A873<>\"\",VLOOKUP($A827,Base_Arbres,5,FALSE)*Crit3,\"\")","v":""},{"$f":"IF(Base_Arbres!A873<>\"\",VLOOKUP($A827,Base_Arbres,6,FALSE)*Crit4,\"\")","v":""},{"$f":"IF(Base_Arbres!B827<>\"\",VLOOKUP($A827,Base_Arbres,7,FALSE)*Crit5,\"\")","v":""},{"$f":"IF(Base_Arbres!C827<>\"\",VLOOKUP($A827,Base_Arbres,8,FALSE)*crit8,\"\")","v":""},{"$f":"IF(Base_Arbres!D827<>\"\",VLOOKUP($A827,Base_Arbres,9,FALSE)*crit9,\"\")","v":""},{"$f":"IF(ISNA(VLOOKUP(INDEX(Base_Typologie!$A$6:$P$1003,MATCH(A827,Base_Typologie!$A:$A,0)-5,MATCH(Typologie_Espace_Public,Base_Typologie!$6:$6,0)),TableauScoreTypologie2,2,FALSE)*Crit6),0,VLOOKUP(INDEX(Base_Typologie!$A$6:$P$1003,MATCH(A827,Base_Typologie!$A:$A,0)-5,MATCH(Typologie_Espace_Public,Base_Typologie!$6:$6,0)),TableauScoreTypologie2,2,FALSE)*Crit6)","v":0},0,0,0,0,0,0,0,0,0,0,0,0,null,{"$f":"IF(Base_Arbres!A930<>\"\",VLOOKUP($A827,Base_Arbres,4,FALSE)*Crit7,\"\")","v":""}]
[{"$f":"IF(Base_Arbres!A874<>\"\",Base_Arbres!A874,\"\")","v":""},{"$f":"IF(Base_Arbres!A874<>\"\",VLOOKUP($A828,Base_Arbres,3,FALSE)*Crit1,\"\")","v":""},{"$f":"IF(Base_Arbres!A874<>\"\",VLOOKUP($A828,Base_Arbres,4,FALSE)*Crit2,\"\")","v":""},{"$f":"IF(Base_Arbres!A874<>\"\",VLOOKUP($A828,Base_Arbres,5,FALSE)*Crit3,\"\")","v":""},{"$f":"IF(Base_Arbres!A874<>\"\",VLOOKUP($A828,Base_Arbres,6,FALSE)*Crit4,\"\")","v":""},{"$f":"IF(Base_Arbres!B828<>\"\",VLOOKUP($A828,Base_Arbres,7,FALSE)*Crit5,\"\")","v":""},{"$f":"IF(Base_Arbres!C828<>\"\",VLOOKUP($A828,Base_Arbres,8,FALSE)*crit8,\"\")","v":""},{"$f":"IF(Base_Arbres!D828<>\"\",VLOOKUP($A828,Base_Arbres,9,FALSE)*crit9,\"\")","v":""},{"$f":"IF(ISNA(VLOOKUP(INDEX(Base_Typologie!$A$6:$P$1003,MATCH(A828,Base_Typologie!$A:$A,0)-5,MATCH(Typologie_Espace_Public,Base_Typologie!$6:$6,0)),TableauScoreTypologie2,2,FALSE)*Crit6),0,VLOOKUP(INDEX(Base_Typologie!$A$6:$P$1003,MATCH(A828,Base_Typologie!$A:$A,0)-5,MATCH(Typologie_Espace_Public,Base_Typologie!$6:$6,0)),TableauScoreTypologie2,2,FALSE)*Crit6)","v":0},0,0,0,0,0,0,0,0,0,0,0,0,null,{"$f":"IF(Base_Arbres!A931<>\"\",VLOOKUP($A828,Base_Arbres,4,FALSE)*Crit7,\"\")","v":""}]
[{"$f":"IF(Base_Arbres!A875<>\"\",Base_Arbres!A875,\"\")","v":""},{"$f":"IF(Base_Arbres!A875<>\"\",VLOOKUP($A829,Base_Arbres,3,FALSE)*Crit1,\"\")","v":""},{"$f":"IF(Base_Arbres!A875<>\"\",VLOOKUP($A829,Base_Arbres,4,FALSE)*Crit2,\"\")","v":""},{"$f":"IF(Base_Arbres!A875<>\"\",VLOOKUP($A829,Base_Arbres,5,FALSE)*Crit3,\"\")","v":""},{"$f":"IF(Base_Arbres!A875<>\"\",VLOOKUP($A829,Base_Arbres,6,FALSE)*Crit4,\"\")","v":""},{"$f":"IF(Base_Arbres!B829<>\"\",VLOOKUP($A829,Base_Arbres,7,FALSE)*Crit5,\"\")","v":""},{"$f":"IF(Base_Arbres!C829<>\"\",VLOOKUP($A829,Base_Arbres,8,FALSE)*crit8,\"\")","v":""},{"$f":"IF(Base_Arbres!D829<>\"\",VLOOKUP($A829,Base_Arbres,9,FALSE)*crit9,\"\")","v":""},{"$f":"IF(ISNA(VLOOKUP(INDEX(Base_Typologie!$A$6:$P$1003,MATCH(A829,Base_Typologie!$A:$A,0)-5,MATCH(Typologie_Espace_Public,Base_Typologie!$6:$6,0)),TableauScoreTypologie2,2,FALSE)*Crit6),0,VLOOKUP(INDEX(Base_Typologie!$A$6:$P$1003,MATCH(A829,Base_Typologie!$A:$A,0)-5,MATCH(Typologie_Espace_Public,Base_Typologie!$6:$6,0)),TableauScoreTypologie2,2,FALSE)*Crit6)","v":0},0,0,0,0,0,0,0,0,0,0,0,0,null,{"$f":"IF(Base_Arbres!A932<>\"\",VLOOKUP($A829,Base_Arbres,4,FALSE)*Crit7,\"\")","v":""}]
[{"$f":"IF(Base_Arbres!A876<>\"\",Base_Arbres!A876,\"\")","v":""},{"$f":"IF(Base_Arbres!A876<>\"\",VLOOKUP($A830,Base_Arbres,3,FALSE)*Crit1,\"\")","v":""},{"$f":"IF(Base_Arbres!A876<>\"\",VLOOKUP($A830,Base_Arbres,4,FALSE)*Crit2,\"\")","v":""},{"$f":"IF(Base_Arbres!A876<>\"\",VLOOKUP($A830,Base_Arbres,5,FALSE)*Crit3,\"\")","v":""},{"$f":"IF(Base_Arbres!A876<>\"\",VLOOKUP($A830,Base_Arbres,6,FALSE)*Crit4,\"\")","v":""},{"$f":"IF(Base_Arbres!B830<>\"\",VLOOKUP($A830,Base_Arbres,7,FALSE)*Crit5,\"\")","v":""},{"$f":"IF(Base_Arbres!C830<>\"\",VLOOKUP($A830,Base_Arbres,8,FALSE)*crit8,\"\")","v":""},{"$f":"IF(Base_Arbres!D830<>\"\",VLOOKUP($A830,Base_Arbres,9,FALSE)*crit9,\"\")","v":""},{"$f":"IF(ISNA(VLOOKUP(INDEX(Base_Typologie!$A$6:$P$1003,MATCH(A830,Base_Typologie!$A:$A,0)-5,MATCH(Typologie_Espace_Public,Base_Typologie!$6:$6,0)),TableauScoreTypologie2,2,FALSE)*Crit6),0,VLOOKUP(INDEX(Base_Typologie!$A$6:$P$1003,MATCH(A830,Base_Typologie!$A:$A,0)-5,MATCH(Typologie_Espace_Public,Base_Typologie!$6:$6,0)),TableauScoreTypologie2,2,FALSE)*Crit6)","v":0},0,0,0,0,0,0,0,0,0,0,0,0,null,{"$f":"IF(Base_Arbres!A933<>\"\",VLOOKUP($A830,Base_Arbres,4,FALSE)*Crit7,\"\")","v":""}]
[{"$f":"IF(Base_Arbres!A877<>\"\",Base_Arbres!A877,\"\")","v":""},{"$f":"IF(Base_Arbres!A877<>\"\",VLOOKUP($A831,Base_Arbres,3,FALSE)*Crit1,\"\")","v":""},{"$f":"IF(Base_Arbres!A877<>\"\",VLOOKUP($A831,Base_Arbres,4,FALSE)*Crit2,\"\")","v":""},{"$f":"IF(Base_Arbres!A877<>\"\",VLOOKUP($A831,Base_Arbres,5,FALSE)*Crit3,\"\")","v":""},{"$f":"IF(Base_Arbres!A877<>\"\",VLOOKUP($A831,Base_Arbres,6,FALSE)*Crit4,\"\")","v":""},{"$f":"IF(Base_Arbres!B831<>\"\",VLOOKUP($A831,Base_Arbres,7,FALSE)*Crit5,\"\")","v":""},{"$f":"IF(Base_Arbres!C831<>\"\",VLOOKUP($A831,Base_Arbres,8,FALSE)*crit8,\"\")","v":""},{"$f":"IF(Base_Arbres!D831<>\"\",VLOOKUP($A831,Base_Arbres,9,FALSE)*crit9,\"\")","v":""},{"$f":"IF(ISNA(VLOOKUP(INDEX(Base_Typologie!$A$6:$P$1003,MATCH(A831,Base_Typologie!$A:$A,0)-5,MATCH(Typologie_Espace_Public,Base_Typologie!$6:$6,0)),TableauScoreTypologie2,2,FALSE)*Crit6),0,VLOOKUP(INDEX(Base_Typologie!$A$6:$P$1003,MATCH(A831,Base_Typologie!$A:$A,0)-5,MATCH(Typologie_Espace_Public,Base_Typologie!$6:$6,0)),TableauScoreTypologie2,2,FALSE)*Crit6)","v":0},0,0,0,0,0,0,0,0,0,0,0,0,null,{"$f":"IF(Base_Arbres!A934<>\"\",VLOOKUP($A831,Base_Arbres,4,FALSE)*Crit7,\"\")","v":""}]
[{"$f":"IF(Base_Arbres!A878<>\"\",Base_Arbres!A878,\"\")","v":""},{"$f":"IF(Base_Arbres!A878<>\"\",VLOOKUP($A832,Base_Arbres,3,FALSE)*Crit1,\"\")","v":""},{"$f":"IF(Base_Arbres!A878<>\"\",VLOOKUP($A832,Base_Arbres,4,FALSE)*Crit2,\"\")","v":""},{"$f":"IF(Base_Arbres!A878<>\"\",VLOOKUP($A832,Base_Arbres,5,FALSE)*Crit3,\"\")","v":""},{"$f":"IF(Base_Arbres!A878<>\"\",VLOOKUP($A832,Base_Arbres,6,FALSE)*Crit4,\"\")","v":""},{"$f":"IF(Base_Arbres!B832<>\"\",VLOOKUP($A832,Base_Arbres,7,FALSE)*Crit5,\"\")","v":""},{"$f":"IF(Base_Arbres!C832<>\"\",VLOOKUP($A832,Base_Arbres,8,FALSE)*crit8,\"\")","v":""},{"$f":"IF(Base_Arbres!D832<>\"\",VLOOKUP($A832,Base_Arbres,9,FALSE)*crit9,\"\")","v":""},{"$f":"IF(ISNA(VLOOKUP(INDEX(Base_Typologie!$A$6:$P$1003,MATCH(A832,Base_Typologie!$A:$A,0)-5,MATCH(Typologie_Espace_Public,Base_Typologie!$6:$6,0)),TableauScoreTypologie2,2,FALSE)*Crit6),0,VLOOKUP(INDEX(Base_Typologie!$A$6:$P$1003,MATCH(A832,Base_Typologie!$A:$A,0)-5,MATCH(Typologie_Espace_Public,Base_Typologie!$6:$6,0)),TableauScoreTypologie2,2,FALSE)*Crit6)","v":0},0,0,0,0,0,0,0,0,0,0,0,0,null,{"$f":"IF(Base_Arbres!A935<>\"\",VLOOKUP($A832,Base_Arbres,4,FALSE)*Crit7,\"\")","v":""}]
[{"$f":"IF(Base_Arbres!A879<>\"\",Base_Arbres!A879,\"\")","v":""},{"$f":"IF(Base_Arbres!A879<>\"\",VLOOKUP($A833,Base_Arbres,3,FALSE)*Crit1,\"\")","v":""},{"$f":"IF(Base_Arbres!A879<>\"\",VLOOKUP($A833,Base_Arbres,4,FALSE)*Crit2,\"\")","v":""},{"$f":"IF(Base_Arbres!A879<>\"\",VLOOKUP($A833,Base_Arbres,5,FALSE)*Crit3,\"\")","v":""},{"$f":"IF(Base_Arbres!A879<>\"\",VLOOKUP($A833,Base_Arbres,6,FALSE)*Crit4,\"\")","v":""},{"$f":"IF(Base_Arbres!B833<>\"\",VLOOKUP($A833,Base_Arbres,7,FALSE)*Crit5,\"\")","v":""},{"$f":"IF(Base_Arbres!C833<>\"\",VLOOKUP($A833,Base_Arbres,8,FALSE)*crit8,\"\")","v":""},{"$f":"IF(Base_Arbres!D833<>\"\",VLOOKUP($A833,Base_Arbres,9,FALSE)*crit9,\"\")","v":""},{"$f":"IF(ISNA(VLOOKUP(INDEX(Base_Typologie!$A$6:$P$1003,MATCH(A833,Base_Typologie!$A:$A,0)-5,MATCH(Typologie_Espace_Public,Base_Typologie!$6:$6,0)),TableauScoreTypologie2,2,FALSE)*Crit6),0,VLOOKUP(INDEX(Base_Typologie!$A$6:$P$1003,MATCH(A833,Base_Typologie!$A:$A,0)-5,MATCH(Typologie_Espace_Public,Base_Typologie!$6:$6,0)),TableauScoreTypologie2,2,FALSE)*Crit6)","v":0},0,0,0,0,0,0,0,0,0,0,0,0,null,{"$f":"IF(Base_Arbres!A936<>\"\",VLOOKUP($A833,Base_Arbres,4,FALSE)*Crit7,\"\")","v":""}]
[{"$f":"IF(Base_Arbres!A880<>\"\",Base_Arbres!A880,\"\")","v":""},{"$f":"IF(Base_Arbres!A880<>\"\",VLOOKUP($A834,Base_Arbres,3,FALSE)*Crit1,\"\")","v":""},{"$f":"IF(Base_Arbres!A880<>\"\",VLOOKUP($A834,Base_Arbres,4,FALSE)*Crit2,\"\")","v":""},{"$f":"IF(Base_Arbres!A880<>\"\",VLOOKUP($A834,Base_Arbres,5,FALSE)*Crit3,\"\")","v":""},{"$f":"IF(Base_Arbres!A880<>\"\",VLOOKUP($A834,Base_Arbres,6,FALSE)*Crit4,\"\")","v":""},{"$f":"IF(Base_Arbres!B834<>\"\",VLOOKUP($A834,Base_Arbres,7,FALSE)*Crit5,\"\")","v":""},{"$f":"IF(Base_Arbres!C834<>\"\",VLOOKUP($A834,Base_Arbres,8,FALSE)*crit8,\"\")","v":""},{"$f":"IF(Base_Arbres!D834<>\"\",VLOOKUP($A834,Base_Arbres,9,FALSE)*crit9,\"\")","v":""},{"$f":"IF(ISNA(VLOOKUP(INDEX(Base_Typologie!$A$6:$P$1003,MATCH(A834,Base_Typologie!$A:$A,0)-5,MATCH(Typologie_Espace_Public,Base_Typologie!$6:$6,0)),TableauScoreTypologie2,2,FALSE)*Crit6),0,VLOOKUP(INDEX(Base_Typologie!$A$6:$P$1003,MATCH(A834,Base_Typologie!$A:$A,0)-5,MATCH(Typologie_Espace_Public,Base_Typologie!$6:$6,0)),TableauScoreTypologie2,2,FALSE)*Crit6)","v":0},{"$f":"IF(A834<>\"\",IF(LEFT(VLOOKUP($A834,Base_Arbres,10,FALSE),1)>=LEFT(Cont_Racines,1),0,1),0)","v":0},{"$f":"IF(A834<>\"\",IF(LEFT(VLOOKUP($A834,Base_Arbres,11,FALSE),1)>=LEFT(Cont_Branches,1),0,1),0)","v":0},{"$f":"IF(A834<>\"\",IF(LEFT(VLOOKUP($A834,Base_Arbres,12,FALSE),1)>=LEFT(Cont_Chablis,1),0,1),0)","v":0},{"$f":"IF(A834<>\"\",IF(LEFT(VLOOKUP($A834,Base_Arbres,13,FALSE),1)>=LEFT(Cont_Fructifications,1),0,1),0)","v":0},{"$f":"IF(A834<>\"\",IF(LEFT(VLOOKUP($A834,Base_Arbres,14,FALSE),1)>=LEFT(Cont_Miellat,1),0,1),0)","v":0},{"$f":"IF(A834<>\"\",IF(LEFT(VLOOKUP($A834,Base_Arbres,15,FALSE),1)>=LEFT(Cont_Fruits_Toxiques,1),0,1),0)","v":0},{"$f":"IF(A834<>\"\",IF(LEFT(VLOOKUP($A834,Base_Arbres,16,FALSE),1)>=LEFT(Cont_Hauteur,1),0,1),0)","v":0},{"$f":"IF(A834<>\"\",IF(LEFT(VLOOKUP($A834,Base_Arbres,17,FALSE),1)>=LEFT(Cont_Envergure,1),0,1),0)","v":0},{"$f":"IF(A834<>\"\",IF(LEFT(VLOOKUP($A834,Base_Arbres,18,FALSE),1)>=LEFT(Cont_pollen,1),0,1),0)","v":0},{"$f":"IF(B834<>\"\",IF(LEFT(VLOOKUP($A834,Base_Arbres,19,FALSE),1)>=LEFT(Cont_malodo,1),0,1),0)","v":0},{"$f":"IF(A834<>\"\",IF(LEFT(VLOOKUP($A834,Base_Arbres,20,FALSE),1)>=LEFT(Cont_chenilles,1),0,1),0)","v":0},{"$f":"IF(A834<>\"\",IF(LEFT(VLOOKUP($A834,Base_Arbres,21,FALSE),1)>=LEFT(Cont_epineux,1),0,1),0)","v":0},null,{"$f":"IF(Base_Arbres!A937<>\"\",VLOOKUP($A834,Base_Arbres,4,FALSE)*Crit7,\"\")","v":""}]
[{"$f":"IF(Base_Arbres!A881<>\"\",Base_Arbres!A881,\"\")","v":""},{"$f":"IF(Base_Arbres!A881<>\"\",VLOOKUP($A835,Base_Arbres,3,FALSE)*Crit1,\"\")","v":""},{"$f":"IF(Base_Arbres!A881<>\"\",VLOOKUP($A835,Base_Arbres,4,FALSE)*Crit2,\"\")","v":""},{"$f":"IF(Base_Arbres!A881<>\"\",VLOOKUP($A835,Base_Arbres,5,FALSE)*Crit3,\"\")","v":""},{"$f":"IF(Base_Arbres!A881<>\"\",VLOOKUP($A835,Base_Arbres,6,FALSE)*Crit4,\"\")","v":""},{"$f":"IF(Base_Arbres!B835<>\"\",VLOOKUP($A835,Base_Arbres,7,FALSE)*Crit5,\"\")","v":""},{"$f":"IF(Base_Arbres!C835<>\"\",VLOOKUP($A835,Base_Arbres,8,FALSE)*crit8,\"\")","v":""},{"$f":"IF(Base_Arbres!D835<>\"\",VLOOKUP($A835,Base_Arbres,9,FALSE)*crit9,\"\")","v":""},{"$f":"IF(ISNA(VLOOKUP(INDEX(Base_Typologie!$A$6:$P$1003,MATCH(A835,Base_Typologie!$A:$A,0)-5,MATCH(Typologie_Espace_Public,Base_Typologie!$6:$6,0)),TableauScoreTypologie2,2,FALSE)*Crit6),0,VLOOKUP(INDEX(Base_Typologie!$A$6:$P$1003,MATCH(A835,Base_Typologie!$A:$A,0)-5,MATCH(Typologie_Espace_Public,Base_Typologie!$6:$6,0)),TableauScoreTypologie2,2,FALSE)*Crit6)","v":0},0,0,0,0,0,0,0,0,0,0,0,0,null,{"$f":"IF(Base_Arbres!A938<>\"\",VLOOKUP($A835,Base_Arbres,4,FALSE)*Crit7,\"\")","v":""}]
[{"$f":"IF(Base_Arbres!A882<>\"\",Base_Arbres!A882,\"\")","v":""},{"$f":"IF(Base_Arbres!A882<>\"\",VLOOKUP($A836,Base_Arbres,3,FALSE)*Crit1,\"\")","v":""},{"$f":"IF(Base_Arbres!A882<>\"\",VLOOKUP($A836,Base_Arbres,4,FALSE)*Crit2,\"\")","v":""},{"$f":"IF(Base_Arbres!A882<>\"\",VLOOKUP($A836,Base_Arbres,5,FALSE)*Crit3,\"\")","v":""},{"$f":"IF(Base_Arbres!A882<>\"\",VLOOKUP($A836,Base_Arbres,6,FALSE)*Crit4,\"\")","v":""},{"$f":"IF(Base_Arbres!B836<>\"\",VLOOKUP($A836,Base_Arbres,7,FALSE)*Crit5,\"\")","v":""},{"$f":"IF(Base_Arbres!C836<>\"\",VLOOKUP($A836,Base_Arbres,8,FALSE)*crit8,\"\")","v":""},{"$f":"IF(Base_Arbres!D836<>\"\",VLOOKUP($A836,Base_Arbres,9,FALSE)*crit9,\"\")","v":""},{"$f":"IF(ISNA(VLOOKUP(INDEX(Base_Typologie!$A$6:$P$1003,MATCH(A836,Base_Typologie!$A:$A,0)-5,MATCH(Typologie_Espace_Public,Base_Typologie!$6:$6,0)),TableauScoreTypologie2,2,FALSE)*Crit6),0,VLOOKUP(INDEX(Base_Typologie!$A$6:$P$1003,MATCH(A836,Base_Typologie!$A:$A,0)-5,MATCH(Typologie_Espace_Public,Base_Typologie!$6:$6,0)),TableauScoreTypologie2,2,FALSE)*Crit6)","v":0},0,0,0,0,0,0,0,0,0,0,0,0,null,{"$f":"IF(Base_Arbres!A939<>\"\",VLOOKUP($A836,Base_Arbres,4,FALSE)*Crit7,\"\")","v":""}]
[{"$f":"IF(Base_Arbres!A883<>\"\",Base_Arbres!A883,\"\")","v":""},{"$f":"IF(Base_Arbres!A883<>\"\",VLOOKUP($A837,Base_Arbres,3,FALSE)*Crit1,\"\")","v":""},{"$f":"IF(Base_Arbres!A883<>\"\",VLOOKUP($A837,Base_Arbres,4,FALSE)*Crit2,\"\")","v":""},{"$f":"IF(Base_Arbres!A883<>\"\",VLOOKUP($A837,Base_Arbres,5,FALSE)*Crit3,\"\")","v":""},{"$f":"IF(Base_Arbres!A883<>\"\",VLOOKUP($A837,Base_Arbres,6,FALSE)*Crit4,\"\")","v":""},{"$f":"IF(Base_Arbres!B837<>\"\",VLOOKUP($A837,Base_Arbres,7,FALSE)*Crit5,\"\")","v":""},{"$f":"IF(Base_Arbres!C837<>\"\",VLOOKUP($A837,Base_Arbres,8,FALSE)*crit8,\"\")","v":""},{"$f":"IF(Base_Arbres!D837<>\"\",VLOOKUP($A837,Base_Arbres,9,FALSE)*crit9,\"\")","v":""},{"$f":"IF(ISNA(VLOOKUP(INDEX(Base_Typologie!$A$6:$P$1003,MATCH(A837,Base_Typologie!$A:$A,0)-5,MATCH(Typologie_Espace_Public,Base_Typologie!$6:$6,0)),TableauScoreTypologie2,2,FALSE)*Crit6),0,VLOOKUP(INDEX(Base_Typologie!$A$6:$P$1003,MATCH(A837,Base_Typologie!$A:$A,0)-5,MATCH(Typologie_Espace_Public,Base_Typologie!$6:$6,0)),TableauScoreTypologie2,2,FALSE)*Crit6)","v":0},0,0,0,0,0,0,0,0,0,0,0,0,null,{"$f":"IF(Base_Arbres!A940<>\"\",VLOOKUP($A837,Base_Arbres,4,FALSE)*Crit7,\"\")","v":""}]
[{"$f":"IF(Base_Arbres!A884<>\"\",Base_Arbres!A884,\"\")","v":""},{"$f":"IF(Base_Arbres!A884<>\"\",VLOOKUP($A838,Base_Arbres,3,FALSE)*Crit1,\"\")","v":""},{"$f":"IF(Base_Arbres!A884<>\"\",VLOOKUP($A838,Base_Arbres,4,FALSE)*Crit2,\"\")","v":""},{"$f":"IF(Base_Arbres!A884<>\"\",VLOOKUP($A838,Base_Arbres,5,FALSE)*Crit3,\"\")","v":""},{"$f":"IF(Base_Arbres!A884<>\"\",VLOOKUP($A838,Base_Arbres,6,FALSE)*Crit4,\"\")","v":""},{"$f":"IF(Base_Arbres!B838<>\"\",VLOOKUP($A838,Base_Arbres,7,FALSE)*Crit5,\"\")","v":""},{"$f":"IF(Base_Arbres!C838<>\"\",VLOOKUP($A838,Base_Arbres,8,FALSE)*crit8,\"\")","v":""},{"$f":"IF(Base_Arbres!D838<>\"\",VLOOKUP($A838,Base_Arbres,9,FALSE)*crit9,\"\")","v":""},{"$f":"IF(ISNA(VLOOKUP(INDEX(Base_Typologie!$A$6:$P$1003,MATCH(A838,Base_Typologie!$A:$A,0)-5,MATCH(Typologie_Espace_Public,Base_Typologie!$6:$6,0)),TableauScoreTypologie2,2,FALSE)*Crit6),0,VLOOKUP(INDEX(Base_Typologie!$A$6:$P$1003,MATCH(A838,Base_Typologie!$A:$A,0)-5,MATCH(Typologie_Espace_Public,Base_Typologie!$6:$6,0)),TableauScoreTypologie2,2,FALSE)*Crit6)","v":0},0,0,0,0,0,0,0,0,0,0,0,0,null,{"$f":"IF(Base_Arbres!A941<>\"\",VLOOKUP($A838,Base_Arbres,4,FALSE)*Crit7,\"\")","v":""}]
[{"$f":"IF(Base_Arbres!A885<>\"\",Base_Arbres!A885,\"\")","v":""},{"$f":"IF(Base_Arbres!A885<>\"\",VLOOKUP($A839,Base_Arbres,3,FALSE)*Crit1,\"\")","v":""},{"$f":"IF(Base_Arbres!A885<>\"\",VLOOKUP($A839,Base_Arbres,4,FALSE)*Crit2,\"\")","v":""},{"$f":"IF(Base_Arbres!A885<>\"\",VLOOKUP($A839,Base_Arbres,5,FALSE)*Crit3,\"\")","v":""},{"$f":"IF(Base_Arbres!A885<>\"\",VLOOKUP($A839,Base_Arbres,6,FALSE)*Crit4,\"\")","v":""},{"$f":"IF(Base_Arbres!B839<>\"\",VLOOKUP($A839,Base_Arbres,7,FALSE)*Crit5,\"\")","v":""},{"$f":"IF(Base_Arbres!C839<>\"\",VLOOKUP($A839,Base_Arbres,8,FALSE)*crit8,\"\")","v":""},{"$f":"IF(Base_Arbres!D839<>\"\",VLOOKUP($A839,Base_Arbres,9,FALSE)*crit9,\"\")","v":""},{"$f":"IF(ISNA(VLOOKUP(INDEX(Base_Typologie!$A$6:$P$1003,MATCH(A839,Base_Typologie!$A:$A,0)-5,MATCH(Typologie_Espace_Public,Base_Typologie!$6:$6,0)),TableauScoreTypologie2,2,FALSE)*Crit6),0,VLOOKUP(INDEX(Base_Typologie!$A$6:$P$1003,MATCH(A839,Base_Typologie!$A:$A,0)-5,MATCH(Typologie_Espace_Public,Base_Typologie!$6:$6,0)),TableauScoreTypologie2,2,FALSE)*Crit6)","v":0},0,0,0,0,0,0,0,0,0,0,0,0,null,{"$f":"IF(Base_Arbres!A942<>\"\",VLOOKUP($A839,Base_Arbres,4,FALSE)*Crit7,\"\")","v":""}]
[{"$f":"IF(Base_Arbres!A886<>\"\",Base_Arbres!A886,\"\")","v":""},{"$f":"IF(Base_Arbres!A886<>\"\",VLOOKUP($A840,Base_Arbres,3,FALSE)*Crit1,\"\")","v":""},{"$f":"IF(Base_Arbres!A886<>\"\",VLOOKUP($A840,Base_Arbres,4,FALSE)*Crit2,\"\")","v":""},{"$f":"IF(Base_Arbres!A886<>\"\",VLOOKUP($A840,Base_Arbres,5,FALSE)*Crit3,\"\")","v":""},{"$f":"IF(Base_Arbres!A886<>\"\",VLOOKUP($A840,Base_Arbres,6,FALSE)*Crit4,\"\")","v":""},{"$f":"IF(Base_Arbres!B840<>\"\",VLOOKUP($A840,Base_Arbres,7,FALSE)*Crit5,\"\")","v":""},{"$f":"IF(Base_Arbres!C840<>\"\",VLOOKUP($A840,Base_Arbres,8,FALSE)*crit8,\"\")","v":""},{"$f":"IF(Base_Arbres!D840<>\"\",VLOOKUP($A840,Base_Arbres,9,FALSE)*crit9,\"\")","v":""},{"$f":"IF(ISNA(VLOOKUP(INDEX(Base_Typologie!$A$6:$P$1003,MATCH(A840,Base_Typologie!$A:$A,0)-5,MATCH(Typologie_Espace_Public,Base_Typologie!$6:$6,0)),TableauScoreTypologie2,2,FALSE)*Crit6),0,VLOOKUP(INDEX(Base_Typologie!$A$6:$P$1003,MATCH(A840,Base_Typologie!$A:$A,0)-5,MATCH(Typologie_Espace_Public,Base_Typologie!$6:$6,0)),TableauScoreTypologie2,2,FALSE)*Crit6)","v":0},0,0,0,0,0,0,0,0,0,0,0,0,null,{"$f":"IF(Base_Arbres!A943<>\"\",VLOOKUP($A840,Base_Arbres,4,FALSE)*Crit7,\"\")","v":""}]
[{"$f":"IF(Base_Arbres!A887<>\"\",Base_Arbres!A887,\"\")","v":""},{"$f":"IF(Base_Arbres!A887<>\"\",VLOOKUP($A841,Base_Arbres,3,FALSE)*Crit1,\"\")","v":""},{"$f":"IF(Base_Arbres!A887<>\"\",VLOOKUP($A841,Base_Arbres,4,FALSE)*Crit2,\"\")","v":""},{"$f":"IF(Base_Arbres!A887<>\"\",VLOOKUP($A841,Base_Arbres,5,FALSE)*Crit3,\"\")","v":""},{"$f":"IF(Base_Arbres!A887<>\"\",VLOOKUP($A841,Base_Arbres,6,FALSE)*Crit4,\"\")","v":""},{"$f":"IF(Base_Arbres!B841<>\"\",VLOOKUP($A841,Base_Arbres,7,FALSE)*Crit5,\"\")","v":""},{"$f":"IF(Base_Arbres!C841<>\"\",VLOOKUP($A841,Base_Arbres,8,FALSE)*crit8,\"\")","v":""},{"$f":"IF(Base_Arbres!D841<>\"\",VLOOKUP($A841,Base_Arbres,9,FALSE)*crit9,\"\")","v":""},{"$f":"IF(ISNA(VLOOKUP(INDEX(Base_Typologie!$A$6:$P$1003,MATCH(A841,Base_Typologie!$A:$A,0)-5,MATCH(Typologie_Espace_Public,Base_Typologie!$6:$6,0)),TableauScoreTypologie2,2,FALSE)*Crit6),0,VLOOKUP(INDEX(Base_Typologie!$A$6:$P$1003,MATCH(A841,Base_Typologie!$A:$A,0)-5,MATCH(Typologie_Espace_Public,Base_Typologie!$6:$6,0)),TableauScoreTypologie2,2,FALSE)*Crit6)","v":0},0,0,0,0,0,0,0,0,0,0,0,0,null,{"$f":"IF(Base_Arbres!A944<>\"\",VLOOKUP($A841,Base_Arbres,4,FALSE)*Crit7,\"\")","v":""}]
[{"$f":"IF(Base_Arbres!A888<>\"\",Base_Arbres!A888,\"\")","v":""},{"$f":"IF(Base_Arbres!A888<>\"\",VLOOKUP($A842,Base_Arbres,3,FALSE)*Crit1,\"\")","v":""},{"$f":"IF(Base_Arbres!A888<>\"\",VLOOKUP($A842,Base_Arbres,4,FALSE)*Crit2,\"\")","v":""},{"$f":"IF(Base_Arbres!A888<>\"\",VLOOKUP($A842,Base_Arbres,5,FALSE)*Crit3,\"\")","v":""},{"$f":"IF(Base_Arbres!A888<>\"\",VLOOKUP($A842,Base_Arbres,6,FALSE)*Crit4,\"\")","v":""},{"$f":"IF(Base_Arbres!B842<>\"\",VLOOKUP($A842,Base_Arbres,7,FALSE)*Crit5,\"\")","v":""},{"$f":"IF(Base_Arbres!C842<>\"\",VLOOKUP($A842,Base_Arbres,8,FALSE)*crit8,\"\")","v":""},{"$f":"IF(Base_Arbres!D842<>\"\",VLOOKUP($A842,Base_Arbres,9,FALSE)*crit9,\"\")","v":""},{"$f":"IF(ISNA(VLOOKUP(INDEX(Base_Typologie!$A$6:$P$1003,MATCH(A842,Base_Typologie!$A:$A,0)-5,MATCH(Typologie_Espace_Public,Base_Typologie!$6:$6,0)),TableauScoreTypologie2,2,FALSE)*Crit6),0,VLOOKUP(INDEX(Base_Typologie!$A$6:$P$1003,MATCH(A842,Base_Typologie!$A:$A,0)-5,MATCH(Typologie_Espace_Public,Base_Typologie!$6:$6,0)),TableauScoreTypologie2,2,FALSE)*Crit6)","v":0},0,0,0,0,0,0,0,0,0,0,0,0,null,{"$f":"IF(Base_Arbres!A945<>\"\",VLOOKUP($A842,Base_Arbres,4,FALSE)*Crit7,\"\")","v":""}]
[{"$f":"IF(Base_Arbres!A889<>\"\",Base_Arbres!A889,\"\")","v":""},{"$f":"IF(Base_Arbres!A889<>\"\",VLOOKUP($A843,Base_Arbres,3,FALSE)*Crit1,\"\")","v":""},{"$f":"IF(Base_Arbres!A889<>\"\",VLOOKUP($A843,Base_Arbres,4,FALSE)*Crit2,\"\")","v":""},{"$f":"IF(Base_Arbres!A889<>\"\",VLOOKUP($A843,Base_Arbres,5,FALSE)*Crit3,\"\")","v":""},{"$f":"IF(Base_Arbres!A889<>\"\",VLOOKUP($A843,Base_Arbres,6,FALSE)*Crit4,\"\")","v":""},{"$f":"IF(Base_Arbres!B843<>\"\",VLOOKUP($A843,Base_Arbres,7,FALSE)*Crit5,\"\")","v":""},{"$f":"IF(Base_Arbres!C843<>\"\",VLOOKUP($A843,Base_Arbres,8,FALSE)*crit8,\"\")","v":""},{"$f":"IF(Base_Arbres!D843<>\"\",VLOOKUP($A843,Base_Arbres,9,FALSE)*crit9,\"\")","v":""},{"$f":"IF(ISNA(VLOOKUP(INDEX(Base_Typologie!$A$6:$P$1003,MATCH(A843,Base_Typologie!$A:$A,0)-5,MATCH(Typologie_Espace_Public,Base_Typologie!$6:$6,0)),TableauScoreTypologie2,2,FALSE)*Crit6),0,VLOOKUP(INDEX(Base_Typologie!$A$6:$P$1003,MATCH(A843,Base_Typologie!$A:$A,0)-5,MATCH(Typologie_Espace_Public,Base_Typologie!$6:$6,0)),TableauScoreTypologie2,2,FALSE)*Crit6)","v":0},0,0,0,0,0,0,0,0,0,0,0,0,null,{"$f":"IF(Base_Arbres!A946<>\"\",VLOOKUP($A843,Base_Arbres,4,FALSE)*Crit7,\"\")","v":""}]
[{"$f":"IF(Base_Arbres!A890<>\"\",Base_Arbres!A890,\"\")","v":""},{"$f":"IF(Base_Arbres!A890<>\"\",VLOOKUP($A844,Base_Arbres,3,FALSE)*Crit1,\"\")","v":""},{"$f":"IF(Base_Arbres!A890<>\"\",VLOOKUP($A844,Base_Arbres,4,FALSE)*Crit2,\"\")","v":""},{"$f":"IF(Base_Arbres!A890<>\"\",VLOOKUP($A844,Base_Arbres,5,FALSE)*Crit3,\"\")","v":""},{"$f":"IF(Base_Arbres!A890<>\"\",VLOOKUP($A844,Base_Arbres,6,FALSE)*Crit4,\"\")","v":""},{"$f":"IF(Base_Arbres!B844<>\"\",VLOOKUP($A844,Base_Arbres,7,FALSE)*Crit5,\"\")","v":""},{"$f":"IF(Base_Arbres!C844<>\"\",VLOOKUP($A844,Base_Arbres,8,FALSE)*crit8,\"\")","v":""},{"$f":"IF(Base_Arbres!D844<>\"\",VLOOKUP($A844,Base_Arbres,9,FALSE)*crit9,\"\")","v":""},{"$f":"IF(ISNA(VLOOKUP(INDEX(Base_Typologie!$A$6:$P$1003,MATCH(A844,Base_Typologie!$A:$A,0)-5,MATCH(Typologie_Espace_Public,Base_Typologie!$6:$6,0)),TableauScoreTypologie2,2,FALSE)*Crit6),0,VLOOKUP(INDEX(Base_Typologie!$A$6:$P$1003,MATCH(A844,Base_Typologie!$A:$A,0)-5,MATCH(Typologie_Espace_Public,Base_Typologie!$6:$6,0)),TableauScoreTypologie2,2,FALSE)*Crit6)","v":0},0,0,0,0,0,0,0,0,0,0,0,0,null,{"$f":"IF(Base_Arbres!A947<>\"\",VLOOKUP($A844,Base_Arbres,4,FALSE)*Crit7,\"\")","v":""}]
[{"$f":"IF(Base_Arbres!A891<>\"\",Base_Arbres!A891,\"\")","v":""},{"$f":"IF(Base_Arbres!A891<>\"\",VLOOKUP($A845,Base_Arbres,3,FALSE)*Crit1,\"\")","v":""},{"$f":"IF(Base_Arbres!A891<>\"\",VLOOKUP($A845,Base_Arbres,4,FALSE)*Crit2,\"\")","v":""},{"$f":"IF(Base_Arbres!A891<>\"\",VLOOKUP($A845,Base_Arbres,5,FALSE)*Crit3,\"\")","v":""},{"$f":"IF(Base_Arbres!A891<>\"\",VLOOKUP($A845,Base_Arbres,6,FALSE)*Crit4,\"\")","v":""},{"$f":"IF(Base_Arbres!B845<>\"\",VLOOKUP($A845,Base_Arbres,7,FALSE)*Crit5,\"\")","v":""},{"$f":"IF(Base_Arbres!C845<>\"\",VLOOKUP($A845,Base_Arbres,8,FALSE)*crit8,\"\")","v":""},{"$f":"IF(Base_Arbres!D845<>\"\",VLOOKUP($A845,Base_Arbres,9,FALSE)*crit9,\"\")","v":""},{"$f":"IF(ISNA(VLOOKUP(INDEX(Base_Typologie!$A$6:$P$1003,MATCH(A845,Base_Typologie!$A:$A,0)-5,MATCH(Typologie_Espace_Public,Base_Typologie!$6:$6,0)),TableauScoreTypologie2,2,FALSE)*Crit6),0,VLOOKUP(INDEX(Base_Typologie!$A$6:$P$1003,MATCH(A845,Base_Typologie!$A:$A,0)-5,MATCH(Typologie_Espace_Public,Base_Typologie!$6:$6,0)),TableauScoreTypologie2,2,FALSE)*Crit6)","v":0},0,0,0,0,0,0,0,0,0,0,0,0,null,{"$f":"IF(Base_Arbres!A948<>\"\",VLOOKUP($A845,Base_Arbres,4,FALSE)*Crit7,\"\")","v":""}]
[{"$f":"IF(Base_Arbres!A892<>\"\",Base_Arbres!A892,\"\")","v":""},{"$f":"IF(Base_Arbres!A892<>\"\",VLOOKUP($A846,Base_Arbres,3,FALSE)*Crit1,\"\")","v":""},{"$f":"IF(Base_Arbres!A892<>\"\",VLOOKUP($A846,Base_Arbres,4,FALSE)*Crit2,\"\")","v":""},{"$f":"IF(Base_Arbres!A892<>\"\",VLOOKUP($A846,Base_Arbres,5,FALSE)*Crit3,\"\")","v":""},{"$f":"IF(Base_Arbres!A892<>\"\",VLOOKUP($A846,Base_Arbres,6,FALSE)*Crit4,\"\")","v":""},{"$f":"IF(Base_Arbres!B846<>\"\",VLOOKUP($A846,Base_Arbres,7,FALSE)*Crit5,\"\")","v":""},{"$f":"IF(Base_Arbres!C846<>\"\",VLOOKUP($A846,Base_Arbres,8,FALSE)*crit8,\"\")","v":""},{"$f":"IF(Base_Arbres!D846<>\"\",VLOOKUP($A846,Base_Arbres,9,FALSE)*crit9,\"\")","v":""},{"$f":"IF(ISNA(VLOOKUP(INDEX(Base_Typologie!$A$6:$P$1003,MATCH(A846,Base_Typologie!$A:$A,0)-5,MATCH(Typologie_Espace_Public,Base_Typologie!$6:$6,0)),TableauScoreTypologie2,2,FALSE)*Crit6),0,VLOOKUP(INDEX(Base_Typologie!$A$6:$P$1003,MATCH(A846,Base_Typologie!$A:$A,0)-5,MATCH(Typologie_Espace_Public,Base_Typologie!$6:$6,0)),TableauScoreTypologie2,2,FALSE)*Crit6)","v":0},0,0,0,0,0,0,0,0,0,0,0,0,null,{"$f":"IF(Base_Arbres!A949<>\"\",VLOOKUP($A846,Base_Arbres,4,FALSE)*Crit7,\"\")","v":""}]
[{"$f":"IF(Base_Arbres!A893<>\"\",Base_Arbres!A893,\"\")","v":""},{"$f":"IF(Base_Arbres!A893<>\"\",VLOOKUP($A847,Base_Arbres,3,FALSE)*Crit1,\"\")","v":""},{"$f":"IF(Base_Arbres!A893<>\"\",VLOOKUP($A847,Base_Arbres,4,FALSE)*Crit2,\"\")","v":""},{"$f":"IF(Base_Arbres!A893<>\"\",VLOOKUP($A847,Base_Arbres,5,FALSE)*Crit3,\"\")","v":""},{"$f":"IF(Base_Arbres!A893<>\"\",VLOOKUP($A847,Base_Arbres,6,FALSE)*Crit4,\"\")","v":""},{"$f":"IF(Base_Arbres!B847<>\"\",VLOOKUP($A847,Base_Arbres,7,FALSE)*Crit5,\"\")","v":""},{"$f":"IF(Base_Arbres!C847<>\"\",VLOOKUP($A847,Base_Arbres,8,FALSE)*crit8,\"\")","v":""},{"$f":"IF(Base_Arbres!D847<>\"\",VLOOKUP($A847,Base_Arbres,9,FALSE)*crit9,\"\")","v":""},{"$f":"IF(ISNA(VLOOKUP(INDEX(Base_Typologie!$A$6:$P$1003,MATCH(A847,Base_Typologie!$A:$A,0)-5,MATCH(Typologie_Espace_Public,Base_Typologie!$6:$6,0)),TableauScoreTypologie2,2,FALSE)*Crit6),0,VLOOKUP(INDEX(Base_Typologie!$A$6:$P$1003,MATCH(A847,Base_Typologie!$A:$A,0)-5,MATCH(Typologie_Espace_Public,Base_Typologie!$6:$6,0)),TableauScoreTypologie2,2,FALSE)*Crit6)","v":0},0,0,0,0,0,0,0,0,0,0,0,0,null,{"$f":"IF(Base_Arbres!A950<>\"\",VLOOKUP($A847,Base_Arbres,4,FALSE)*Crit7,\"\")","v":""}]
[{"$f":"IF(Base_Arbres!A894<>\"\",Base_Arbres!A894,\"\")","v":""},{"$f":"IF(Base_Arbres!A894<>\"\",VLOOKUP($A848,Base_Arbres,3,FALSE)*Crit1,\"\")","v":""},{"$f":"IF(Base_Arbres!A894<>\"\",VLOOKUP($A848,Base_Arbres,4,FALSE)*Crit2,\"\")","v":""},{"$f":"IF(Base_Arbres!A894<>\"\",VLOOKUP($A848,Base_Arbres,5,FALSE)*Crit3,\"\")","v":""},{"$f":"IF(Base_Arbres!A894<>\"\",VLOOKUP($A848,Base_Arbres,6,FALSE)*Crit4,\"\")","v":""},{"$f":"IF(Base_Arbres!B848<>\"\",VLOOKUP($A848,Base_Arbres,7,FALSE)*Crit5,\"\")","v":""},{"$f":"IF(Base_Arbres!C848<>\"\",VLOOKUP($A848,Base_Arbres,8,FALSE)*crit8,\"\")","v":""},{"$f":"IF(Base_Arbres!D848<>\"\",VLOOKUP($A848,Base_Arbres,9,FALSE)*crit9,\"\")","v":""},{"$f":"IF(ISNA(VLOOKUP(INDEX(Base_Typologie!$A$6:$P$1003,MATCH(A848,Base_Typologie!$A:$A,0)-5,MATCH(Typologie_Espace_Public,Base_Typologie!$6:$6,0)),TableauScoreTypologie2,2,FALSE)*Crit6),0,VLOOKUP(INDEX(Base_Typologie!$A$6:$P$1003,MATCH(A848,Base_Typologie!$A:$A,0)-5,MATCH(Typologie_Espace_Public,Base_Typologie!$6:$6,0)),TableauScoreTypologie2,2,FALSE)*Crit6)","v":0},0,0,0,0,0,0,0,0,0,0,0,0,null,{"$f":"IF(Base_Arbres!A951<>\"\",VLOOKUP($A848,Base_Arbres,4,FALSE)*Crit7,\"\")","v":""}]
[{"$f":"IF(Base_Arbres!A895<>\"\",Base_Arbres!A895,\"\")","v":""},{"$f":"IF(Base_Arbres!A895<>\"\",VLOOKUP($A849,Base_Arbres,3,FALSE)*Crit1,\"\")","v":""},{"$f":"IF(Base_Arbres!A895<>\"\",VLOOKUP($A849,Base_Arbres,4,FALSE)*Crit2,\"\")","v":""},{"$f":"IF(Base_Arbres!A895<>\"\",VLOOKUP($A849,Base_Arbres,5,FALSE)*Crit3,\"\")","v":""},{"$f":"IF(Base_Arbres!A895<>\"\",VLOOKUP($A849,Base_Arbres,6,FALSE)*Crit4,\"\")","v":""},{"$f":"IF(Base_Arbres!B849<>\"\",VLOOKUP($A849,Base_Arbres,7,FALSE)*Crit5,\"\")","v":""},{"$f":"IF(Base_Arbres!C849<>\"\",VLOOKUP($A849,Base_Arbres,8,FALSE)*crit8,\"\")","v":""},{"$f":"IF(Base_Arbres!D849<>\"\",VLOOKUP($A849,Base_Arbres,9,FALSE)*crit9,\"\")","v":""},{"$f":"IF(ISNA(VLOOKUP(INDEX(Base_Typologie!$A$6:$P$1003,MATCH(A849,Base_Typologie!$A:$A,0)-5,MATCH(Typologie_Espace_Public,Base_Typologie!$6:$6,0)),TableauScoreTypologie2,2,FALSE)*Crit6),0,VLOOKUP(INDEX(Base_Typologie!$A$6:$P$1003,MATCH(A849,Base_Typologie!$A:$A,0)-5,MATCH(Typologie_Espace_Public,Base_Typologie!$6:$6,0)),TableauScoreTypologie2,2,FALSE)*Crit6)","v":0},0,0,0,0,0,0,0,0,0,0,0,0,null,{"$f":"IF(Base_Arbres!A952<>\"\",VLOOKUP($A849,Base_Arbres,4,FALSE)*Crit7,\"\")","v":""}]
[{"$f":"IF(Base_Arbres!A896<>\"\",Base_Arbres!A896,\"\")","v":""},{"$f":"IF(Base_Arbres!A896<>\"\",VLOOKUP($A850,Base_Arbres,3,FALSE)*Crit1,\"\")","v":""},{"$f":"IF(Base_Arbres!A896<>\"\",VLOOKUP($A850,Base_Arbres,4,FALSE)*Crit2,\"\")","v":""},{"$f":"IF(Base_Arbres!A896<>\"\",VLOOKUP($A850,Base_Arbres,5,FALSE)*Crit3,\"\")","v":""},{"$f":"IF(Base_Arbres!A896<>\"\",VLOOKUP($A850,Base_Arbres,6,FALSE)*Crit4,\"\")","v":""},{"$f":"IF(Base_Arbres!B850<>\"\",VLOOKUP($A850,Base_Arbres,7,FALSE)*Crit5,\"\")","v":""},{"$f":"IF(Base_Arbres!C850<>\"\",VLOOKUP($A850,Base_Arbres,8,FALSE)*crit8,\"\")","v":""},{"$f":"IF(Base_Arbres!D850<>\"\",VLOOKUP($A850,Base_Arbres,9,FALSE)*crit9,\"\")","v":""},{"$f":"IF(ISNA(VLOOKUP(INDEX(Base_Typologie!$A$6:$P$1003,MATCH(A850,Base_Typologie!$A:$A,0)-5,MATCH(Typologie_Espace_Public,Base_Typologie!$6:$6,0)),TableauScoreTypologie2,2,FALSE)*Crit6),0,VLOOKUP(INDEX(Base_Typologie!$A$6:$P$1003,MATCH(A850,Base_Typologie!$A:$A,0)-5,MATCH(Typologie_Espace_Public,Base_Typologie!$6:$6,0)),TableauScoreTypologie2,2,FALSE)*Crit6)","v":0},0,0,0,0,0,0,0,0,0,0,0,0,null,{"$f":"IF(Base_Arbres!A953<>\"\",VLOOKUP($A850,Base_Arbres,4,FALSE)*Crit7,\"\")","v":""}]
[{"$f":"IF(Base_Arbres!A897<>\"\",Base_Arbres!A897,\"\")","v":""},{"$f":"IF(Base_Arbres!A897<>\"\",VLOOKUP($A851,Base_Arbres,3,FALSE)*Crit1,\"\")","v":""},{"$f":"IF(Base_Arbres!A897<>\"\",VLOOKUP($A851,Base_Arbres,4,FALSE)*Crit2,\"\")","v":""},{"$f":"IF(Base_Arbres!A897<>\"\",VLOOKUP($A851,Base_Arbres,5,FALSE)*Crit3,\"\")","v":""},{"$f":"IF(Base_Arbres!A897<>\"\",VLOOKUP($A851,Base_Arbres,6,FALSE)*Crit4,\"\")","v":""},{"$f":"IF(Base_Arbres!B851<>\"\",VLOOKUP($A851,Base_Arbres,7,FALSE)*Crit5,\"\")","v":""},{"$f":"IF(Base_Arbres!C851<>\"\",VLOOKUP($A851,Base_Arbres,8,FALSE)*crit8,\"\")","v":""},{"$f":"IF(Base_Arbres!D851<>\"\",VLOOKUP($A851,Base_Arbres,9,FALSE)*crit9,\"\")","v":""},{"$f":"IF(ISNA(VLOOKUP(INDEX(Base_Typologie!$A$6:$P$1003,MATCH(A851,Base_Typologie!$A:$A,0)-5,MATCH(Typologie_Espace_Public,Base_Typologie!$6:$6,0)),TableauScoreTypologie2,2,FALSE)*Crit6),0,VLOOKUP(INDEX(Base_Typologie!$A$6:$P$1003,MATCH(A851,Base_Typologie!$A:$A,0)-5,MATCH(Typologie_Espace_Public,Base_Typologie!$6:$6,0)),TableauScoreTypologie2,2,FALSE)*Crit6)","v":0},0,0,0,0,0,0,0,0,0,0,0,0,null,{"$f":"IF(Base_Arbres!A954<>\"\",VLOOKUP($A851,Base_Arbres,4,FALSE)*Crit7,\"\")","v":""}]
[{"$f":"IF(Base_Arbres!A898<>\"\",Base_Arbres!A898,\"\")","v":""},{"$f":"IF(Base_Arbres!A898<>\"\",VLOOKUP($A852,Base_Arbres,3,FALSE)*Crit1,\"\")","v":""},{"$f":"IF(Base_Arbres!A898<>\"\",VLOOKUP($A852,Base_Arbres,4,FALSE)*Crit2,\"\")","v":""},{"$f":"IF(Base_Arbres!A898<>\"\",VLOOKUP($A852,Base_Arbres,5,FALSE)*Crit3,\"\")","v":""},{"$f":"IF(Base_Arbres!A898<>\"\",VLOOKUP($A852,Base_Arbres,6,FALSE)*Crit4,\"\")","v":""},{"$f":"IF(Base_Arbres!B852<>\"\",VLOOKUP($A852,Base_Arbres,7,FALSE)*Crit5,\"\")","v":""},{"$f":"IF(Base_Arbres!C852<>\"\",VLOOKUP($A852,Base_Arbres,8,FALSE)*crit8,\"\")","v":""},{"$f":"IF(Base_Arbres!D852<>\"\",VLOOKUP($A852,Base_Arbres,9,FALSE)*crit9,\"\")","v":""},{"$f":"IF(ISNA(VLOOKUP(INDEX(Base_Typologie!$A$6:$P$1003,MATCH(A852,Base_Typologie!$A:$A,0)-5,MATCH(Typologie_Espace_Public,Base_Typologie!$6:$6,0)),TableauScoreTypologie2,2,FALSE)*Crit6),0,VLOOKUP(INDEX(Base_Typologie!$A$6:$P$1003,MATCH(A852,Base_Typologie!$A:$A,0)-5,MATCH(Typologie_Espace_Public,Base_Typologie!$6:$6,0)),TableauScoreTypologie2,2,FALSE)*Crit6)","v":0},0,0,0,0,0,0,0,0,0,0,0,0,null,{"$f":"IF(Base_Arbres!A955<>\"\",VLOOKUP($A852,Base_Arbres,4,FALSE)*Crit7,\"\")","v":""}]
[{"$f":"IF(Base_Arbres!A899<>\"\",Base_Arbres!A899,\"\")","v":""},{"$f":"IF(Base_Arbres!A899<>\"\",VLOOKUP($A853,Base_Arbres,3,FALSE)*Crit1,\"\")","v":""},{"$f":"IF(Base_Arbres!A899<>\"\",VLOOKUP($A853,Base_Arbres,4,FALSE)*Crit2,\"\")","v":""},{"$f":"IF(Base_Arbres!A899<>\"\",VLOOKUP($A853,Base_Arbres,5,FALSE)*Crit3,\"\")","v":""},{"$f":"IF(Base_Arbres!A899<>\"\",VLOOKUP($A853,Base_Arbres,6,FALSE)*Crit4,\"\")","v":""},{"$f":"IF(Base_Arbres!B853<>\"\",VLOOKUP($A853,Base_Arbres,7,FALSE)*Crit5,\"\")","v":""},{"$f":"IF(Base_Arbres!C853<>\"\",VLOOKUP($A853,Base_Arbres,8,FALSE)*crit8,\"\")","v":""},{"$f":"IF(Base_Arbres!D853<>\"\",VLOOKUP($A853,Base_Arbres,9,FALSE)*crit9,\"\")","v":""},{"$f":"IF(ISNA(VLOOKUP(INDEX(Base_Typologie!$A$6:$P$1003,MATCH(A853,Base_Typologie!$A:$A,0)-5,MATCH(Typologie_Espace_Public,Base_Typologie!$6:$6,0)),TableauScoreTypologie2,2,FALSE)*Crit6),0,VLOOKUP(INDEX(Base_Typologie!$A$6:$P$1003,MATCH(A853,Base_Typologie!$A:$A,0)-5,MATCH(Typologie_Espace_Public,Base_Typologie!$6:$6,0)),TableauScoreTypologie2,2,FALSE)*Crit6)","v":0},0,0,0,0,0,0,0,0,0,0,0,0,null,{"$f":"IF(Base_Arbres!A956<>\"\",VLOOKUP($A853,Base_Arbres,4,FALSE)*Crit7,\"\")","v":""}]
[{"$f":"IF(Base_Arbres!A900<>\"\",Base_Arbres!A900,\"\")","v":""},{"$f":"IF(Base_Arbres!A900<>\"\",VLOOKUP($A854,Base_Arbres,3,FALSE)*Crit1,\"\")","v":""},{"$f":"IF(Base_Arbres!A900<>\"\",VLOOKUP($A854,Base_Arbres,4,FALSE)*Crit2,\"\")","v":""},{"$f":"IF(Base_Arbres!A900<>\"\",VLOOKUP($A854,Base_Arbres,5,FALSE)*Crit3,\"\")","v":""},{"$f":"IF(Base_Arbres!A900<>\"\",VLOOKUP($A854,Base_Arbres,6,FALSE)*Crit4,\"\")","v":""},{"$f":"IF(Base_Arbres!B854<>\"\",VLOOKUP($A854,Base_Arbres,7,FALSE)*Crit5,\"\")","v":""},{"$f":"IF(Base_Arbres!C854<>\"\",VLOOKUP($A854,Base_Arbres,8,FALSE)*crit8,\"\")","v":""},{"$f":"IF(Base_Arbres!D854<>\"\",VLOOKUP($A854,Base_Arbres,9,FALSE)*crit9,\"\")","v":""},{"$f":"IF(ISNA(VLOOKUP(INDEX(Base_Typologie!$A$6:$P$1003,MATCH(A854,Base_Typologie!$A:$A,0)-5,MATCH(Typologie_Espace_Public,Base_Typologie!$6:$6,0)),TableauScoreTypologie2,2,FALSE)*Crit6),0,VLOOKUP(INDEX(Base_Typologie!$A$6:$P$1003,MATCH(A854,Base_Typologie!$A:$A,0)-5,MATCH(Typologie_Espace_Public,Base_Typologie!$6:$6,0)),TableauScoreTypologie2,2,FALSE)*Crit6)","v":0},0,0,0,0,0,0,0,0,0,0,0,0,null,{"$f":"IF(Base_Arbres!A957<>\"\",VLOOKUP($A854,Base_Arbres,4,FALSE)*Crit7,\"\")","v":""}]
[{"$f":"IF(Base_Arbres!A901<>\"\",Base_Arbres!A901,\"\")","v":""},{"$f":"IF(Base_Arbres!A901<>\"\",VLOOKUP($A855,Base_Arbres,3,FALSE)*Crit1,\"\")","v":""},{"$f":"IF(Base_Arbres!A901<>\"\",VLOOKUP($A855,Base_Arbres,4,FALSE)*Crit2,\"\")","v":""},{"$f":"IF(Base_Arbres!A901<>\"\",VLOOKUP($A855,Base_Arbres,5,FALSE)*Crit3,\"\")","v":""},{"$f":"IF(Base_Arbres!A901<>\"\",VLOOKUP($A855,Base_Arbres,6,FALSE)*Crit4,\"\")","v":""},{"$f":"IF(Base_Arbres!B855<>\"\",VLOOKUP($A855,Base_Arbres,7,FALSE)*Crit5,\"\")","v":""},{"$f":"IF(Base_Arbres!C855<>\"\",VLOOKUP($A855,Base_Arbres,8,FALSE)*crit8,\"\")","v":""},{"$f":"IF(Base_Arbres!D855<>\"\",VLOOKUP($A855,Base_Arbres,9,FALSE)*crit9,\"\")","v":""},{"$f":"IF(ISNA(VLOOKUP(INDEX(Base_Typologie!$A$6:$P$1003,MATCH(A855,Base_Typologie!$A:$A,0)-5,MATCH(Typologie_Espace_Public,Base_Typologie!$6:$6,0)),TableauScoreTypologie2,2,FALSE)*Crit6),0,VLOOKUP(INDEX(Base_Typologie!$A$6:$P$1003,MATCH(A855,Base_Typologie!$A:$A,0)-5,MATCH(Typologie_Espace_Public,Base_Typologie!$6:$6,0)),TableauScoreTypologie2,2,FALSE)*Crit6)","v":0},0,0,0,0,0,0,0,0,0,0,0,0,null,{"$f":"IF(Base_Arbres!A958<>\"\",VLOOKUP($A855,Base_Arbres,4,FALSE)*Crit7,\"\")","v":""}]
[{"$f":"IF(Base_Arbres!A902<>\"\",Base_Arbres!A902,\"\")","v":""},{"$f":"IF(Base_Arbres!A902<>\"\",VLOOKUP($A856,Base_Arbres,3,FALSE)*Crit1,\"\")","v":""},{"$f":"IF(Base_Arbres!A902<>\"\",VLOOKUP($A856,Base_Arbres,4,FALSE)*Crit2,\"\")","v":""},{"$f":"IF(Base_Arbres!A902<>\"\",VLOOKUP($A856,Base_Arbres,5,FALSE)*Crit3,\"\")","v":""},{"$f":"IF(Base_Arbres!A902<>\"\",VLOOKUP($A856,Base_Arbres,6,FALSE)*Crit4,\"\")","v":""},{"$f":"IF(Base_Arbres!B856<>\"\",VLOOKUP($A856,Base_Arbres,7,FALSE)*Crit5,\"\")","v":""},{"$f":"IF(Base_Arbres!C856<>\"\",VLOOKUP($A856,Base_Arbres,8,FALSE)*crit8,\"\")","v":""},{"$f":"IF(Base_Arbres!D856<>\"\",VLOOKUP($A856,Base_Arbres,9,FALSE)*crit9,\"\")","v":""},{"$f":"IF(ISNA(VLOOKUP(INDEX(Base_Typologie!$A$6:$P$1003,MATCH(A856,Base_Typologie!$A:$A,0)-5,MATCH(Typologie_Espace_Public,Base_Typologie!$6:$6,0)),TableauScoreTypologie2,2,FALSE)*Crit6),0,VLOOKUP(INDEX(Base_Typologie!$A$6:$P$1003,MATCH(A856,Base_Typologie!$A:$A,0)-5,MATCH(Typologie_Espace_Public,Base_Typologie!$6:$6,0)),TableauScoreTypologie2,2,FALSE)*Crit6)","v":0},0,0,0,0,0,0,0,0,0,0,0,0,null,{"$f":"IF(Base_Arbres!A959<>\"\",VLOOKUP($A856,Base_Arbres,4,FALSE)*Crit7,\"\")","v":""}]
[{"$f":"IF(Base_Arbres!A903<>\"\",Base_Arbres!A903,\"\")","v":""},{"$f":"IF(Base_Arbres!A903<>\"\",VLOOKUP($A857,Base_Arbres,3,FALSE)*Crit1,\"\")","v":""},{"$f":"IF(Base_Arbres!A903<>\"\",VLOOKUP($A857,Base_Arbres,4,FALSE)*Crit2,\"\")","v":""},{"$f":"IF(Base_Arbres!A903<>\"\",VLOOKUP($A857,Base_Arbres,5,FALSE)*Crit3,\"\")","v":""},{"$f":"IF(Base_Arbres!A903<>\"\",VLOOKUP($A857,Base_Arbres,6,FALSE)*Crit4,\"\")","v":""},{"$f":"IF(Base_Arbres!B857<>\"\",VLOOKUP($A857,Base_Arbres,7,FALSE)*Crit5,\"\")","v":""},{"$f":"IF(Base_Arbres!C857<>\"\",VLOOKUP($A857,Base_Arbres,8,FALSE)*crit8,\"\")","v":""},{"$f":"IF(Base_Arbres!D857<>\"\",VLOOKUP($A857,Base_Arbres,9,FALSE)*crit9,\"\")","v":""},{"$f":"IF(ISNA(VLOOKUP(INDEX(Base_Typologie!$A$6:$P$1003,MATCH(A857,Base_Typologie!$A:$A,0)-5,MATCH(Typologie_Espace_Public,Base_Typologie!$6:$6,0)),TableauScoreTypologie2,2,FALSE)*Crit6),0,VLOOKUP(INDEX(Base_Typologie!$A$6:$P$1003,MATCH(A857,Base_Typologie!$A:$A,0)-5,MATCH(Typologie_Espace_Public,Base_Typologie!$6:$6,0)),TableauScoreTypologie2,2,FALSE)*Crit6)","v":0},0,0,0,0,0,0,0,0,0,0,0,0,null,{"$f":"IF(Base_Arbres!A960<>\"\",VLOOKUP($A857,Base_Arbres,4,FALSE)*Crit7,\"\")","v":""}]
[{"$f":"IF(Base_Arbres!A904<>\"\",Base_Arbres!A904,\"\")","v":""},{"$f":"IF(Base_Arbres!A904<>\"\",VLOOKUP($A858,Base_Arbres,3,FALSE)*Crit1,\"\")","v":""},{"$f":"IF(Base_Arbres!A904<>\"\",VLOOKUP($A858,Base_Arbres,4,FALSE)*Crit2,\"\")","v":""},{"$f":"IF(Base_Arbres!A904<>\"\",VLOOKUP($A858,Base_Arbres,5,FALSE)*Crit3,\"\")","v":""},{"$f":"IF(Base_Arbres!A904<>\"\",VLOOKUP($A858,Base_Arbres,6,FALSE)*Crit4,\"\")","v":""},{"$f":"IF(Base_Arbres!B858<>\"\",VLOOKUP($A858,Base_Arbres,7,FALSE)*Crit5,\"\")","v":""},{"$f":"IF(Base_Arbres!C858<>\"\",VLOOKUP($A858,Base_Arbres,8,FALSE)*crit8,\"\")","v":""},{"$f":"IF(Base_Arbres!D858<>\"\",VLOOKUP($A858,Base_Arbres,9,FALSE)*crit9,\"\")","v":""},{"$f":"IF(ISNA(VLOOKUP(INDEX(Base_Typologie!$A$6:$P$1003,MATCH(A858,Base_Typologie!$A:$A,0)-5,MATCH(Typologie_Espace_Public,Base_Typologie!$6:$6,0)),TableauScoreTypologie2,2,FALSE)*Crit6),0,VLOOKUP(INDEX(Base_Typologie!$A$6:$P$1003,MATCH(A858,Base_Typologie!$A:$A,0)-5,MATCH(Typologie_Espace_Public,Base_Typologie!$6:$6,0)),TableauScoreTypologie2,2,FALSE)*Crit6)","v":0},0,0,0,0,0,0,0,0,0,0,0,0,null,{"$f":"IF(Base_Arbres!A961<>\"\",VLOOKUP($A858,Base_Arbres,4,FALSE)*Crit7,\"\")","v":""}]
[{"$f":"IF(Base_Arbres!A905<>\"\",Base_Arbres!A905,\"\")","v":""},{"$f":"IF(Base_Arbres!A905<>\"\",VLOOKUP($A859,Base_Arbres,3,FALSE)*Crit1,\"\")","v":""},{"$f":"IF(Base_Arbres!A905<>\"\",VLOOKUP($A859,Base_Arbres,4,FALSE)*Crit2,\"\")","v":""},{"$f":"IF(Base_Arbres!A905<>\"\",VLOOKUP($A859,Base_Arbres,5,FALSE)*Crit3,\"\")","v":""},{"$f":"IF(Base_Arbres!A905<>\"\",VLOOKUP($A859,Base_Arbres,6,FALSE)*Crit4,\"\")","v":""},{"$f":"IF(Base_Arbres!B859<>\"\",VLOOKUP($A859,Base_Arbres,7,FALSE)*Crit5,\"\")","v":""},{"$f":"IF(Base_Arbres!C859<>\"\",VLOOKUP($A859,Base_Arbres,8,FALSE)*crit8,\"\")","v":""},{"$f":"IF(Base_Arbres!D859<>\"\",VLOOKUP($A859,Base_Arbres,9,FALSE)*crit9,\"\")","v":""},{"$f":"IF(ISNA(VLOOKUP(INDEX(Base_Typologie!$A$6:$P$1003,MATCH(A859,Base_Typologie!$A:$A,0)-5,MATCH(Typologie_Espace_Public,Base_Typologie!$6:$6,0)),TableauScoreTypologie2,2,FALSE)*Crit6),0,VLOOKUP(INDEX(Base_Typologie!$A$6:$P$1003,MATCH(A859,Base_Typologie!$A:$A,0)-5,MATCH(Typologie_Espace_Public,Base_Typologie!$6:$6,0)),TableauScoreTypologie2,2,FALSE)*Crit6)","v":0},0,0,0,0,0,0,0,0,0,0,0,0,null,{"$f":"IF(Base_Arbres!A962<>\"\",VLOOKUP($A859,Base_Arbres,4,FALSE)*Crit7,\"\")","v":""}]
[{"$f":"IF(Base_Arbres!A906<>\"\",Base_Arbres!A906,\"\")","v":""},{"$f":"IF(Base_Arbres!A906<>\"\",VLOOKUP($A860,Base_Arbres,3,FALSE)*Crit1,\"\")","v":""},{"$f":"IF(Base_Arbres!A906<>\"\",VLOOKUP($A860,Base_Arbres,4,FALSE)*Crit2,\"\")","v":""},{"$f":"IF(Base_Arbres!A906<>\"\",VLOOKUP($A860,Base_Arbres,5,FALSE)*Crit3,\"\")","v":""},{"$f":"IF(Base_Arbres!A906<>\"\",VLOOKUP($A860,Base_Arbres,6,FALSE)*Crit4,\"\")","v":""},{"$f":"IF(Base_Arbres!B860<>\"\",VLOOKUP($A860,Base_Arbres,7,FALSE)*Crit5,\"\")","v":""},{"$f":"IF(Base_Arbres!C860<>\"\",VLOOKUP($A860,Base_Arbres,8,FALSE)*crit8,\"\")","v":""},{"$f":"IF(Base_Arbres!D860<>\"\",VLOOKUP($A860,Base_Arbres,9,FALSE)*crit9,\"\")","v":""},{"$f":"IF(ISNA(VLOOKUP(INDEX(Base_Typologie!$A$6:$P$1003,MATCH(A860,Base_Typologie!$A:$A,0)-5,MATCH(Typologie_Espace_Public,Base_Typologie!$6:$6,0)),TableauScoreTypologie2,2,FALSE)*Crit6),0,VLOOKUP(INDEX(Base_Typologie!$A$6:$P$1003,MATCH(A860,Base_Typologie!$A:$A,0)-5,MATCH(Typologie_Espace_Public,Base_Typologie!$6:$6,0)),TableauScoreTypologie2,2,FALSE)*Crit6)","v":0},0,0,0,0,0,0,0,0,0,0,0,0,null,{"$f":"IF(Base_Arbres!A963<>\"\",VLOOKUP($A860,Base_Arbres,4,FALSE)*Crit7,\"\")","v":""}]
[{"$f":"IF(Base_Arbres!A907<>\"\",Base_Arbres!A907,\"\")","v":""},{"$f":"IF(Base_Arbres!A907<>\"\",VLOOKUP($A861,Base_Arbres,3,FALSE)*Crit1,\"\")","v":""},{"$f":"IF(Base_Arbres!A907<>\"\",VLOOKUP($A861,Base_Arbres,4,FALSE)*Crit2,\"\")","v":""},{"$f":"IF(Base_Arbres!A907<>\"\",VLOOKUP($A861,Base_Arbres,5,FALSE)*Crit3,\"\")","v":""},{"$f":"IF(Base_Arbres!A907<>\"\",VLOOKUP($A861,Base_Arbres,6,FALSE)*Crit4,\"\")","v":""},{"$f":"IF(Base_Arbres!B861<>\"\",VLOOKUP($A861,Base_Arbres,7,FALSE)*Crit5,\"\")","v":""},{"$f":"IF(Base_Arbres!C861<>\"\",VLOOKUP($A861,Base_Arbres,8,FALSE)*crit8,\"\")","v":""},{"$f":"IF(Base_Arbres!D861<>\"\",VLOOKUP($A861,Base_Arbres,9,FALSE)*crit9,\"\")","v":""},{"$f":"IF(ISNA(VLOOKUP(INDEX(Base_Typologie!$A$6:$P$1003,MATCH(A861,Base_Typologie!$A:$A,0)-5,MATCH(Typologie_Espace_Public,Base_Typologie!$6:$6,0)),TableauScoreTypologie2,2,FALSE)*Crit6),0,VLOOKUP(INDEX(Base_Typologie!$A$6:$P$1003,MATCH(A861,Base_Typologie!$A:$A,0)-5,MATCH(Typologie_Espace_Public,Base_Typologie!$6:$6,0)),TableauScoreTypologie2,2,FALSE)*Crit6)","v":0},0,0,0,0,0,0,0,0,0,0,0,0,null,{"$f":"IF(Base_Arbres!A964<>\"\",VLOOKUP($A861,Base_Arbres,4,FALSE)*Crit7,\"\")","v":""}]
[{"$f":"IF(Base_Arbres!A908<>\"\",Base_Arbres!A908,\"\")","v":""},{"$f":"IF(Base_Arbres!A908<>\"\",VLOOKUP($A862,Base_Arbres,3,FALSE)*Crit1,\"\")","v":""},{"$f":"IF(Base_Arbres!A908<>\"\",VLOOKUP($A862,Base_Arbres,4,FALSE)*Crit2,\"\")","v":""},{"$f":"IF(Base_Arbres!A908<>\"\",VLOOKUP($A862,Base_Arbres,5,FALSE)*Crit3,\"\")","v":""},{"$f":"IF(Base_Arbres!A908<>\"\",VLOOKUP($A862,Base_Arbres,6,FALSE)*Crit4,\"\")","v":""},{"$f":"IF(Base_Arbres!B862<>\"\",VLOOKUP($A862,Base_Arbres,7,FALSE)*Crit5,\"\")","v":""},{"$f":"IF(Base_Arbres!C862<>\"\",VLOOKUP($A862,Base_Arbres,8,FALSE)*crit8,\"\")","v":""},{"$f":"IF(Base_Arbres!D862<>\"\",VLOOKUP($A862,Base_Arbres,9,FALSE)*crit9,\"\")","v":""},{"$f":"IF(ISNA(VLOOKUP(INDEX(Base_Typologie!$A$6:$P$1003,MATCH(A862,Base_Typologie!$A:$A,0)-5,MATCH(Typologie_Espace_Public,Base_Typologie!$6:$6,0)),TableauScoreTypologie2,2,FALSE)*Crit6),0,VLOOKUP(INDEX(Base_Typologie!$A$6:$P$1003,MATCH(A862,Base_Typologie!$A:$A,0)-5,MATCH(Typologie_Espace_Public,Base_Typologie!$6:$6,0)),TableauScoreTypologie2,2,FALSE)*Crit6)","v":0},0,0,0,0,0,0,0,0,0,0,0,0,null,{"$f":"IF(Base_Arbres!A965<>\"\",VLOOKUP($A862,Base_Arbres,4,FALSE)*Crit7,\"\")","v":""}]
[{"$f":"IF(Base_Arbres!A909<>\"\",Base_Arbres!A909,\"\")","v":""},{"$f":"IF(Base_Arbres!A909<>\"\",VLOOKUP($A863,Base_Arbres,3,FALSE)*Crit1,\"\")","v":""},{"$f":"IF(Base_Arbres!A909<>\"\",VLOOKUP($A863,Base_Arbres,4,FALSE)*Crit2,\"\")","v":""},{"$f":"IF(Base_Arbres!A909<>\"\",VLOOKUP($A863,Base_Arbres,5,FALSE)*Crit3,\"\")","v":""},{"$f":"IF(Base_Arbres!A909<>\"\",VLOOKUP($A863,Base_Arbres,6,FALSE)*Crit4,\"\")","v":""},{"$f":"IF(Base_Arbres!B863<>\"\",VLOOKUP($A863,Base_Arbres,7,FALSE)*Crit5,\"\")","v":""},{"$f":"IF(Base_Arbres!C863<>\"\",VLOOKUP($A863,Base_Arbres,8,FALSE)*crit8,\"\")","v":""},{"$f":"IF(Base_Arbres!D863<>\"\",VLOOKUP($A863,Base_Arbres,9,FALSE)*crit9,\"\")","v":""},{"$f":"IF(ISNA(VLOOKUP(INDEX(Base_Typologie!$A$6:$P$1003,MATCH(A863,Base_Typologie!$A:$A,0)-5,MATCH(Typologie_Espace_Public,Base_Typologie!$6:$6,0)),TableauScoreTypologie2,2,FALSE)*Crit6),0,VLOOKUP(INDEX(Base_Typologie!$A$6:$P$1003,MATCH(A863,Base_Typologie!$A:$A,0)-5,MATCH(Typologie_Espace_Public,Base_Typologie!$6:$6,0)),TableauScoreTypologie2,2,FALSE)*Crit6)","v":0},0,0,0,0,0,0,0,0,0,0,0,0,null,{"$f":"IF(Base_Arbres!A966<>\"\",VLOOKUP($A863,Base_Arbres,4,FALSE)*Crit7,\"\")","v":""}]
[{"$f":"IF(Base_Arbres!A910<>\"\",Base_Arbres!A910,\"\")","v":""},{"$f":"IF(Base_Arbres!A910<>\"\",VLOOKUP($A864,Base_Arbres,3,FALSE)*Crit1,\"\")","v":""},{"$f":"IF(Base_Arbres!A910<>\"\",VLOOKUP($A864,Base_Arbres,4,FALSE)*Crit2,\"\")","v":""},{"$f":"IF(Base_Arbres!A910<>\"\",VLOOKUP($A864,Base_Arbres,5,FALSE)*Crit3,\"\")","v":""},{"$f":"IF(Base_Arbres!A910<>\"\",VLOOKUP($A864,Base_Arbres,6,FALSE)*Crit4,\"\")","v":""},{"$f":"IF(Base_Arbres!B864<>\"\",VLOOKUP($A864,Base_Arbres,7,FALSE)*Crit5,\"\")","v":""},{"$f":"IF(Base_Arbres!C864<>\"\",VLOOKUP($A864,Base_Arbres,8,FALSE)*crit8,\"\")","v":""},{"$f":"IF(Base_Arbres!D864<>\"\",VLOOKUP($A864,Base_Arbres,9,FALSE)*crit9,\"\")","v":""},{"$f":"IF(ISNA(VLOOKUP(INDEX(Base_Typologie!$A$6:$P$1003,MATCH(A864,Base_Typologie!$A:$A,0)-5,MATCH(Typologie_Espace_Public,Base_Typologie!$6:$6,0)),TableauScoreTypologie2,2,FALSE)*Crit6),0,VLOOKUP(INDEX(Base_Typologie!$A$6:$P$1003,MATCH(A864,Base_Typologie!$A:$A,0)-5,MATCH(Typologie_Espace_Public,Base_Typologie!$6:$6,0)),TableauScoreTypologie2,2,FALSE)*Crit6)","v":0},0,0,0,0,0,0,0,0,0,0,0,0,null,{"$f":"IF(Base_Arbres!A967<>\"\",VLOOKUP($A864,Base_Arbres,4,FALSE)*Crit7,\"\")","v":""}]
[{"$f":"IF(Base_Arbres!A911<>\"\",Base_Arbres!A911,\"\")","v":""},{"$f":"IF(Base_Arbres!A911<>\"\",VLOOKUP($A865,Base_Arbres,3,FALSE)*Crit1,\"\")","v":""},{"$f":"IF(Base_Arbres!A911<>\"\",VLOOKUP($A865,Base_Arbres,4,FALSE)*Crit2,\"\")","v":""},{"$f":"IF(Base_Arbres!A911<>\"\",VLOOKUP($A865,Base_Arbres,5,FALSE)*Crit3,\"\")","v":""},{"$f":"IF(Base_Arbres!A911<>\"\",VLOOKUP($A865,Base_Arbres,6,FALSE)*Crit4,\"\")","v":""},{"$f":"IF(Base_Arbres!B865<>\"\",VLOOKUP($A865,Base_Arbres,7,FALSE)*Crit5,\"\")","v":""},{"$f":"IF(Base_Arbres!C865<>\"\",VLOOKUP($A865,Base_Arbres,8,FALSE)*crit8,\"\")","v":""},{"$f":"IF(Base_Arbres!D865<>\"\",VLOOKUP($A865,Base_Arbres,9,FALSE)*crit9,\"\")","v":""},{"$f":"IF(ISNA(VLOOKUP(INDEX(Base_Typologie!$A$6:$P$1003,MATCH(A865,Base_Typologie!$A:$A,0)-5,MATCH(Typologie_Espace_Public,Base_Typologie!$6:$6,0)),TableauScoreTypologie2,2,FALSE)*Crit6),0,VLOOKUP(INDEX(Base_Typologie!$A$6:$P$1003,MATCH(A865,Base_Typologie!$A:$A,0)-5,MATCH(Typologie_Espace_Public,Base_Typologie!$6:$6,0)),TableauScoreTypologie2,2,FALSE)*Crit6)","v":0},0,0,0,0,0,0,0,0,0,0,0,0,null,{"$f":"IF(Base_Arbres!A968<>\"\",VLOOKUP($A865,Base_Arbres,4,FALSE)*Crit7,\"\")","v":""}]
[{"$f":"IF(Base_Arbres!A912<>\"\",Base_Arbres!A912,\"\")","v":""},{"$f":"IF(Base_Arbres!A912<>\"\",VLOOKUP($A866,Base_Arbres,3,FALSE)*Crit1,\"\")","v":""},{"$f":"IF(Base_Arbres!A912<>\"\",VLOOKUP($A866,Base_Arbres,4,FALSE)*Crit2,\"\")","v":""},{"$f":"IF(Base_Arbres!A912<>\"\",VLOOKUP($A866,Base_Arbres,5,FALSE)*Crit3,\"\")","v":""},{"$f":"IF(Base_Arbres!A912<>\"\",VLOOKUP($A866,Base_Arbres,6,FALSE)*Crit4,\"\")","v":""},{"$f":"IF(Base_Arbres!B866<>\"\",VLOOKUP($A866,Base_Arbres,7,FALSE)*Crit5,\"\")","v":""},{"$f":"IF(Base_Arbres!C866<>\"\",VLOOKUP($A866,Base_Arbres,8,FALSE)*crit8,\"\")","v":""},{"$f":"IF(Base_Arbres!D866<>\"\",VLOOKUP($A866,Base_Arbres,9,FALSE)*crit9,\"\")","v":""},{"$f":"IF(ISNA(VLOOKUP(INDEX(Base_Typologie!$A$6:$P$1003,MATCH(A866,Base_Typologie!$A:$A,0)-5,MATCH(Typologie_Espace_Public,Base_Typologie!$6:$6,0)),TableauScoreTypologie2,2,FALSE)*Crit6),0,VLOOKUP(INDEX(Base_Typologie!$A$6:$P$1003,MATCH(A866,Base_Typologie!$A:$A,0)-5,MATCH(Typologie_Espace_Public,Base_Typologie!$6:$6,0)),TableauScoreTypologie2,2,FALSE)*Crit6)","v":0},0,0,0,0,0,0,0,0,0,0,0,0,null,{"$f":"IF(Base_Arbres!A969<>\"\",VLOOKUP($A866,Base_Arbres,4,FALSE)*Crit7,\"\")","v":""}]
[{"$f":"IF(Base_Arbres!A913<>\"\",Base_Arbres!A913,\"\")","v":""},{"$f":"IF(Base_Arbres!A913<>\"\",VLOOKUP($A867,Base_Arbres,3,FALSE)*Crit1,\"\")","v":""},{"$f":"IF(Base_Arbres!A913<>\"\",VLOOKUP($A867,Base_Arbres,4,FALSE)*Crit2,\"\")","v":""},{"$f":"IF(Base_Arbres!A913<>\"\",VLOOKUP($A867,Base_Arbres,5,FALSE)*Crit3,\"\")","v":""},{"$f":"IF(Base_Arbres!A913<>\"\",VLOOKUP($A867,Base_Arbres,6,FALSE)*Crit4,\"\")","v":""},{"$f":"IF(Base_Arbres!B867<>\"\",VLOOKUP($A867,Base_Arbres,7,FALSE)*Crit5,\"\")","v":""},{"$f":"IF(Base_Arbres!C867<>\"\",VLOOKUP($A867,Base_Arbres,8,FALSE)*crit8,\"\")","v":""},{"$f":"IF(Base_Arbres!D867<>\"\",VLOOKUP($A867,Base_Arbres,9,FALSE)*crit9,\"\")","v":""},{"$f":"IF(ISNA(VLOOKUP(INDEX(Base_Typologie!$A$6:$P$1003,MATCH(A867,Base_Typologie!$A:$A,0)-5,MATCH(Typologie_Espace_Public,Base_Typologie!$6:$6,0)),TableauScoreTypologie2,2,FALSE)*Crit6),0,VLOOKUP(INDEX(Base_Typologie!$A$6:$P$1003,MATCH(A867,Base_Typologie!$A:$A,0)-5,MATCH(Typologie_Espace_Public,Base_Typologie!$6:$6,0)),TableauScoreTypologie2,2,FALSE)*Crit6)","v":0},0,0,0,0,0,0,0,0,0,0,0,0,null,{"$f":"IF(Base_Arbres!A970<>\"\",VLOOKUP($A867,Base_Arbres,4,FALSE)*Crit7,\"\")","v":""}]
[{"$f":"IF(Base_Arbres!A914<>\"\",Base_Arbres!A914,\"\")","v":""},{"$f":"IF(Base_Arbres!A914<>\"\",VLOOKUP($A868,Base_Arbres,3,FALSE)*Crit1,\"\")","v":""},{"$f":"IF(Base_Arbres!A914<>\"\",VLOOKUP($A868,Base_Arbres,4,FALSE)*Crit2,\"\")","v":""},{"$f":"IF(Base_Arbres!A914<>\"\",VLOOKUP($A868,Base_Arbres,5,FALSE)*Crit3,\"\")","v":""},{"$f":"IF(Base_Arbres!A914<>\"\",VLOOKUP($A868,Base_Arbres,6,FALSE)*Crit4,\"\")","v":""},{"$f":"IF(Base_Arbres!B868<>\"\",VLOOKUP($A868,Base_Arbres,7,FALSE)*Crit5,\"\")","v":""},{"$f":"IF(Base_Arbres!C868<>\"\",VLOOKUP($A868,Base_Arbres,8,FALSE)*crit8,\"\")","v":""},{"$f":"IF(Base_Arbres!D868<>\"\",VLOOKUP($A868,Base_Arbres,9,FALSE)*crit9,\"\")","v":""},{"$f":"IF(ISNA(VLOOKUP(INDEX(Base_Typologie!$A$6:$P$1003,MATCH(A868,Base_Typologie!$A:$A,0)-5,MATCH(Typologie_Espace_Public,Base_Typologie!$6:$6,0)),TableauScoreTypologie2,2,FALSE)*Crit6),0,VLOOKUP(INDEX(Base_Typologie!$A$6:$P$1003,MATCH(A868,Base_Typologie!$A:$A,0)-5,MATCH(Typologie_Espace_Public,Base_Typologie!$6:$6,0)),TableauScoreTypologie2,2,FALSE)*Crit6)","v":0},0,0,0,0,0,0,0,0,0,0,0,0,null,{"$f":"IF(Base_Arbres!A971<>\"\",VLOOKUP($A868,Base_Arbres,4,FALSE)*Crit7,\"\")","v":""}]
[{"$f":"IF(Base_Arbres!A915<>\"\",Base_Arbres!A915,\"\")","v":""},{"$f":"IF(Base_Arbres!A915<>\"\",VLOOKUP($A869,Base_Arbres,3,FALSE)*Crit1,\"\")","v":""},{"$f":"IF(Base_Arbres!A915<>\"\",VLOOKUP($A869,Base_Arbres,4,FALSE)*Crit2,\"\")","v":""},{"$f":"IF(Base_Arbres!A915<>\"\",VLOOKUP($A869,Base_Arbres,5,FALSE)*Crit3,\"\")","v":""},{"$f":"IF(Base_Arbres!A915<>\"\",VLOOKUP($A869,Base_Arbres,6,FALSE)*Crit4,\"\")","v":""},{"$f":"IF(Base_Arbres!B869<>\"\",VLOOKUP($A869,Base_Arbres,7,FALSE)*Crit5,\"\")","v":""},{"$f":"IF(Base_Arbres!C869<>\"\",VLOOKUP($A869,Base_Arbres,8,FALSE)*crit8,\"\")","v":""},{"$f":"IF(Base_Arbres!D869<>\"\",VLOOKUP($A869,Base_Arbres,9,FALSE)*crit9,\"\")","v":""},{"$f":"IF(ISNA(VLOOKUP(INDEX(Base_Typologie!$A$6:$P$1003,MATCH(A869,Base_Typologie!$A:$A,0)-5,MATCH(Typologie_Espace_Public,Base_Typologie!$6:$6,0)),TableauScoreTypologie2,2,FALSE)*Crit6),0,VLOOKUP(INDEX(Base_Typologie!$A$6:$P$1003,MATCH(A869,Base_Typologie!$A:$A,0)-5,MATCH(Typologie_Espace_Public,Base_Typologie!$6:$6,0)),TableauScoreTypologie2,2,FALSE)*Crit6)","v":0},0,0,0,0,0,0,0,0,0,0,0,0,null,{"$f":"IF(Base_Arbres!A972<>\"\",VLOOKUP($A869,Base_Arbres,4,FALSE)*Crit7,\"\")","v":""}]
[{"$f":"IF(Base_Arbres!A916<>\"\",Base_Arbres!A916,\"\")","v":""},{"$f":"IF(Base_Arbres!A916<>\"\",VLOOKUP($A870,Base_Arbres,3,FALSE)*Crit1,\"\")","v":""},{"$f":"IF(Base_Arbres!A916<>\"\",VLOOKUP($A870,Base_Arbres,4,FALSE)*Crit2,\"\")","v":""},{"$f":"IF(Base_Arbres!A916<>\"\",VLOOKUP($A870,Base_Arbres,5,FALSE)*Crit3,\"\")","v":""},{"$f":"IF(Base_Arbres!A916<>\"\",VLOOKUP($A870,Base_Arbres,6,FALSE)*Crit4,\"\")","v":""},{"$f":"IF(Base_Arbres!B870<>\"\",VLOOKUP($A870,Base_Arbres,7,FALSE)*Crit5,\"\")","v":""},{"$f":"IF(Base_Arbres!C870<>\"\",VLOOKUP($A870,Base_Arbres,8,FALSE)*crit8,\"\")","v":""},{"$f":"IF(Base_Arbres!D870<>\"\",VLOOKUP($A870,Base_Arbres,9,FALSE)*crit9,\"\")","v":""},{"$f":"IF(ISNA(VLOOKUP(INDEX(Base_Typologie!$A$6:$P$1003,MATCH(A870,Base_Typologie!$A:$A,0)-5,MATCH(Typologie_Espace_Public,Base_Typologie!$6:$6,0)),TableauScoreTypologie2,2,FALSE)*Crit6),0,VLOOKUP(INDEX(Base_Typologie!$A$6:$P$1003,MATCH(A870,Base_Typologie!$A:$A,0)-5,MATCH(Typologie_Espace_Public,Base_Typologie!$6:$6,0)),TableauScoreTypologie2,2,FALSE)*Crit6)","v":0},0,0,0,0,0,0,0,0,0,0,0,0,null,{"$f":"IF(Base_Arbres!A973<>\"\",VLOOKUP($A870,Base_Arbres,4,FALSE)*Crit7,\"\")","v":""}]
[{"$f":"IF(Base_Arbres!A917<>\"\",Base_Arbres!A917,\"\")","v":""},{"$f":"IF(Base_Arbres!A917<>\"\",VLOOKUP($A871,Base_Arbres,3,FALSE)*Crit1,\"\")","v":""},{"$f":"IF(Base_Arbres!A917<>\"\",VLOOKUP($A871,Base_Arbres,4,FALSE)*Crit2,\"\")","v":""},{"$f":"IF(Base_Arbres!A917<>\"\",VLOOKUP($A871,Base_Arbres,5,FALSE)*Crit3,\"\")","v":""},{"$f":"IF(Base_Arbres!A917<>\"\",VLOOKUP($A871,Base_Arbres,6,FALSE)*Crit4,\"\")","v":""},{"$f":"IF(Base_Arbres!B871<>\"\",VLOOKUP($A871,Base_Arbres,7,FALSE)*Crit5,\"\")","v":""},{"$f":"IF(Base_Arbres!C871<>\"\",VLOOKUP($A871,Base_Arbres,8,FALSE)*crit8,\"\")","v":""},{"$f":"IF(Base_Arbres!D871<>\"\",VLOOKUP($A871,Base_Arbres,9,FALSE)*crit9,\"\")","v":""},{"$f":"IF(ISNA(VLOOKUP(INDEX(Base_Typologie!$A$6:$P$1003,MATCH(A871,Base_Typologie!$A:$A,0)-5,MATCH(Typologie_Espace_Public,Base_Typologie!$6:$6,0)),TableauScoreTypologie2,2,FALSE)*Crit6),0,VLOOKUP(INDEX(Base_Typologie!$A$6:$P$1003,MATCH(A871,Base_Typologie!$A:$A,0)-5,MATCH(Typologie_Espace_Public,Base_Typologie!$6:$6,0)),TableauScoreTypologie2,2,FALSE)*Crit6)","v":0},0,0,0,0,0,0,0,0,0,0,0,0,null,{"$f":"IF(Base_Arbres!A974<>\"\",VLOOKUP($A871,Base_Arbres,4,FALSE)*Crit7,\"\")","v":""}]
[{"$f":"IF(Base_Arbres!A918<>\"\",Base_Arbres!A918,\"\")","v":""},{"$f":"IF(Base_Arbres!A918<>\"\",VLOOKUP($A872,Base_Arbres,3,FALSE)*Crit1,\"\")","v":""},{"$f":"IF(Base_Arbres!A918<>\"\",VLOOKUP($A872,Base_Arbres,4,FALSE)*Crit2,\"\")","v":""},{"$f":"IF(Base_Arbres!A918<>\"\",VLOOKUP($A872,Base_Arbres,5,FALSE)*Crit3,\"\")","v":""},{"$f":"IF(Base_Arbres!A918<>\"\",VLOOKUP($A872,Base_Arbres,6,FALSE)*Crit4,\"\")","v":""},{"$f":"IF(Base_Arbres!B872<>\"\",VLOOKUP($A872,Base_Arbres,7,FALSE)*Crit5,\"\")","v":""},{"$f":"IF(Base_Arbres!C872<>\"\",VLOOKUP($A872,Base_Arbres,8,FALSE)*crit8,\"\")","v":""},{"$f":"IF(Base_Arbres!D872<>\"\",VLOOKUP($A872,Base_Arbres,9,FALSE)*crit9,\"\")","v":""},{"$f":"IF(ISNA(VLOOKUP(INDEX(Base_Typologie!$A$6:$P$1003,MATCH(A872,Base_Typologie!$A:$A,0)-5,MATCH(Typologie_Espace_Public,Base_Typologie!$6:$6,0)),TableauScoreTypologie2,2,FALSE)*Crit6),0,VLOOKUP(INDEX(Base_Typologie!$A$6:$P$1003,MATCH(A872,Base_Typologie!$A:$A,0)-5,MATCH(Typologie_Espace_Public,Base_Typologie!$6:$6,0)),TableauScoreTypologie2,2,FALSE)*Crit6)","v":0},0,0,0,0,0,0,0,0,0,0,0,0,null,{"$f":"IF(Base_Arbres!A975<>\"\",VLOOKUP($A872,Base_Arbres,4,FALSE)*Crit7,\"\")","v":""}]
[{"$f":"IF(Base_Arbres!A919<>\"\",Base_Arbres!A919,\"\")","v":""},{"$f":"IF(Base_Arbres!A919<>\"\",VLOOKUP($A873,Base_Arbres,3,FALSE)*Crit1,\"\")","v":""},{"$f":"IF(Base_Arbres!A919<>\"\",VLOOKUP($A873,Base_Arbres,4,FALSE)*Crit2,\"\")","v":""},{"$f":"IF(Base_Arbres!A919<>\"\",VLOOKUP($A873,Base_Arbres,5,FALSE)*Crit3,\"\")","v":""},{"$f":"IF(Base_Arbres!A919<>\"\",VLOOKUP($A873,Base_Arbres,6,FALSE)*Crit4,\"\")","v":""},{"$f":"IF(Base_Arbres!B873<>\"\",VLOOKUP($A873,Base_Arbres,7,FALSE)*Crit5,\"\")","v":""},{"$f":"IF(Base_Arbres!C873<>\"\",VLOOKUP($A873,Base_Arbres,8,FALSE)*crit8,\"\")","v":""},{"$f":"IF(Base_Arbres!D873<>\"\",VLOOKUP($A873,Base_Arbres,9,FALSE)*crit9,\"\")","v":""},{"$f":"IF(ISNA(VLOOKUP(INDEX(Base_Typologie!$A$6:$P$1003,MATCH(A873,Base_Typologie!$A:$A,0)-5,MATCH(Typologie_Espace_Public,Base_Typologie!$6:$6,0)),TableauScoreTypologie2,2,FALSE)*Crit6),0,VLOOKUP(INDEX(Base_Typologie!$A$6:$P$1003,MATCH(A873,Base_Typologie!$A:$A,0)-5,MATCH(Typologie_Espace_Public,Base_Typologie!$6:$6,0)),TableauScoreTypologie2,2,FALSE)*Crit6)","v":0},0,0,0,0,0,0,0,0,0,0,0,0,null,{"$f":"IF(Base_Arbres!A976<>\"\",VLOOKUP($A873,Base_Arbres,4,FALSE)*Crit7,\"\")","v":""}]
[{"$f":"IF(Base_Arbres!A920<>\"\",Base_Arbres!A920,\"\")","v":""},{"$f":"IF(Base_Arbres!A920<>\"\",VLOOKUP($A874,Base_Arbres,3,FALSE)*Crit1,\"\")","v":""},{"$f":"IF(Base_Arbres!A920<>\"\",VLOOKUP($A874,Base_Arbres,4,FALSE)*Crit2,\"\")","v":""},{"$f":"IF(Base_Arbres!A920<>\"\",VLOOKUP($A874,Base_Arbres,5,FALSE)*Crit3,\"\")","v":""},{"$f":"IF(Base_Arbres!A920<>\"\",VLOOKUP($A874,Base_Arbres,6,FALSE)*Crit4,\"\")","v":""},{"$f":"IF(Base_Arbres!B874<>\"\",VLOOKUP($A874,Base_Arbres,7,FALSE)*Crit5,\"\")","v":""},{"$f":"IF(Base_Arbres!C874<>\"\",VLOOKUP($A874,Base_Arbres,8,FALSE)*crit8,\"\")","v":""},{"$f":"IF(Base_Arbres!D874<>\"\",VLOOKUP($A874,Base_Arbres,9,FALSE)*crit9,\"\")","v":""},{"$f":"IF(ISNA(VLOOKUP(INDEX(Base_Typologie!$A$6:$P$1003,MATCH(A874,Base_Typologie!$A:$A,0)-5,MATCH(Typologie_Espace_Public,Base_Typologie!$6:$6,0)),TableauScoreTypologie2,2,FALSE)*Crit6),0,VLOOKUP(INDEX(Base_Typologie!$A$6:$P$1003,MATCH(A874,Base_Typologie!$A:$A,0)-5,MATCH(Typologie_Espace_Public,Base_Typologie!$6:$6,0)),TableauScoreTypologie2,2,FALSE)*Crit6)","v":0},0,0,0,0,0,0,0,0,0,0,0,0,null,{"$f":"IF(Base_Arbres!A977<>\"\",VLOOKUP($A874,Base_Arbres,4,FALSE)*Crit7,\"\")","v":""}]
[{"$f":"IF(Base_Arbres!A921<>\"\",Base_Arbres!A921,\"\")","v":""},{"$f":"IF(Base_Arbres!A921<>\"\",VLOOKUP($A875,Base_Arbres,3,FALSE)*Crit1,\"\")","v":""},{"$f":"IF(Base_Arbres!A921<>\"\",VLOOKUP($A875,Base_Arbres,4,FALSE)*Crit2,\"\")","v":""},{"$f":"IF(Base_Arbres!A921<>\"\",VLOOKUP($A875,Base_Arbres,5,FALSE)*Crit3,\"\")","v":""},{"$f":"IF(Base_Arbres!A921<>\"\",VLOOKUP($A875,Base_Arbres,6,FALSE)*Crit4,\"\")","v":""},{"$f":"IF(Base_Arbres!B875<>\"\",VLOOKUP($A875,Base_Arbres,7,FALSE)*Crit5,\"\")","v":""},{"$f":"IF(Base_Arbres!C875<>\"\",VLOOKUP($A875,Base_Arbres,8,FALSE)*crit8,\"\")","v":""},{"$f":"IF(Base_Arbres!D875<>\"\",VLOOKUP($A875,Base_Arbres,9,FALSE)*crit9,\"\")","v":""},{"$f":"IF(ISNA(VLOOKUP(INDEX(Base_Typologie!$A$6:$P$1003,MATCH(A875,Base_Typologie!$A:$A,0)-5,MATCH(Typologie_Espace_Public,Base_Typologie!$6:$6,0)),TableauScoreTypologie2,2,FALSE)*Crit6),0,VLOOKUP(INDEX(Base_Typologie!$A$6:$P$1003,MATCH(A875,Base_Typologie!$A:$A,0)-5,MATCH(Typologie_Espace_Public,Base_Typologie!$6:$6,0)),TableauScoreTypologie2,2,FALSE)*Crit6)","v":0},0,0,0,0,0,0,0,0,0,0,0,0,null,{"$f":"IF(Base_Arbres!A978<>\"\",VLOOKUP($A875,Base_Arbres,4,FALSE)*Crit7,\"\")","v":""}]
[{"$f":"IF(Base_Arbres!A922<>\"\",Base_Arbres!A922,\"\")","v":""},{"$f":"IF(Base_Arbres!A922<>\"\",VLOOKUP($A876,Base_Arbres,3,FALSE)*Crit1,\"\")","v":""},{"$f":"IF(Base_Arbres!A922<>\"\",VLOOKUP($A876,Base_Arbres,4,FALSE)*Crit2,\"\")","v":""},{"$f":"IF(Base_Arbres!A922<>\"\",VLOOKUP($A876,Base_Arbres,5,FALSE)*Crit3,\"\")","v":""},{"$f":"IF(Base_Arbres!A922<>\"\",VLOOKUP($A876,Base_Arbres,6,FALSE)*Crit4,\"\")","v":""},{"$f":"IF(Base_Arbres!B876<>\"\",VLOOKUP($A876,Base_Arbres,7,FALSE)*Crit5,\"\")","v":""},{"$f":"IF(Base_Arbres!C876<>\"\",VLOOKUP($A876,Base_Arbres,8,FALSE)*crit8,\"\")","v":""},{"$f":"IF(Base_Arbres!D876<>\"\",VLOOKUP($A876,Base_Arbres,9,FALSE)*crit9,\"\")","v":""},{"$f":"IF(ISNA(VLOOKUP(INDEX(Base_Typologie!$A$6:$P$1003,MATCH(A876,Base_Typologie!$A:$A,0)-5,MATCH(Typologie_Espace_Public,Base_Typologie!$6:$6,0)),TableauScoreTypologie2,2,FALSE)*Crit6),0,VLOOKUP(INDEX(Base_Typologie!$A$6:$P$1003,MATCH(A876,Base_Typologie!$A:$A,0)-5,MATCH(Typologie_Espace_Public,Base_Typologie!$6:$6,0)),TableauScoreTypologie2,2,FALSE)*Crit6)","v":0},0,0,0,0,0,0,0,0,0,0,0,0,null,{"$f":"IF(Base_Arbres!A979<>\"\",VLOOKUP($A876,Base_Arbres,4,FALSE)*Crit7,\"\")","v":""}]
[{"$f":"IF(Base_Arbres!A923<>\"\",Base_Arbres!A923,\"\")","v":""},{"$f":"IF(Base_Arbres!A923<>\"\",VLOOKUP($A877,Base_Arbres,3,FALSE)*Crit1,\"\")","v":""},{"$f":"IF(Base_Arbres!A923<>\"\",VLOOKUP($A877,Base_Arbres,4,FALSE)*Crit2,\"\")","v":""},{"$f":"IF(Base_Arbres!A923<>\"\",VLOOKUP($A877,Base_Arbres,5,FALSE)*Crit3,\"\")","v":""},{"$f":"IF(Base_Arbres!A923<>\"\",VLOOKUP($A877,Base_Arbres,6,FALSE)*Crit4,\"\")","v":""},{"$f":"IF(Base_Arbres!B877<>\"\",VLOOKUP($A877,Base_Arbres,7,FALSE)*Crit5,\"\")","v":""},{"$f":"IF(Base_Arbres!C877<>\"\",VLOOKUP($A877,Base_Arbres,8,FALSE)*crit8,\"\")","v":""},{"$f":"IF(Base_Arbres!D877<>\"\",VLOOKUP($A877,Base_Arbres,9,FALSE)*crit9,\"\")","v":""},{"$f":"IF(ISNA(VLOOKUP(INDEX(Base_Typologie!$A$6:$P$1003,MATCH(A877,Base_Typologie!$A:$A,0)-5,MATCH(Typologie_Espace_Public,Base_Typologie!$6:$6,0)),TableauScoreTypologie2,2,FALSE)*Crit6),0,VLOOKUP(INDEX(Base_Typologie!$A$6:$P$1003,MATCH(A877,Base_Typologie!$A:$A,0)-5,MATCH(Typologie_Espace_Public,Base_Typologie!$6:$6,0)),TableauScoreTypologie2,2,FALSE)*Crit6)","v":0},0,0,0,0,0,0,0,0,0,0,0,0,null,{"$f":"IF(Base_Arbres!A980<>\"\",VLOOKUP($A877,Base_Arbres,4,FALSE)*Crit7,\"\")","v":""}]
[{"$f":"IF(Base_Arbres!A924<>\"\",Base_Arbres!A924,\"\")","v":""},{"$f":"IF(Base_Arbres!A924<>\"\",VLOOKUP($A878,Base_Arbres,3,FALSE)*Crit1,\"\")","v":""},{"$f":"IF(Base_Arbres!A924<>\"\",VLOOKUP($A878,Base_Arbres,4,FALSE)*Crit2,\"\")","v":""},{"$f":"IF(Base_Arbres!A924<>\"\",VLOOKUP($A878,Base_Arbres,5,FALSE)*Crit3,\"\")","v":""},{"$f":"IF(Base_Arbres!A924<>\"\",VLOOKUP($A878,Base_Arbres,6,FALSE)*Crit4,\"\")","v":""},{"$f":"IF(Base_Arbres!B878<>\"\",VLOOKUP($A878,Base_Arbres,7,FALSE)*Crit5,\"\")","v":""},{"$f":"IF(Base_Arbres!C878<>\"\",VLOOKUP($A878,Base_Arbres,8,FALSE)*crit8,\"\")","v":""},{"$f":"IF(Base_Arbres!D878<>\"\",VLOOKUP($A878,Base_Arbres,9,FALSE)*crit9,\"\")","v":""},{"$f":"IF(ISNA(VLOOKUP(INDEX(Base_Typologie!$A$6:$P$1003,MATCH(A878,Base_Typologie!$A:$A,0)-5,MATCH(Typologie_Espace_Public,Base_Typologie!$6:$6,0)),TableauScoreTypologie2,2,FALSE)*Crit6),0,VLOOKUP(INDEX(Base_Typologie!$A$6:$P$1003,MATCH(A878,Base_Typologie!$A:$A,0)-5,MATCH(Typologie_Espace_Public,Base_Typologie!$6:$6,0)),TableauScoreTypologie2,2,FALSE)*Crit6)","v":0},0,0,0,0,0,0,0,0,0,0,0,0,null,{"$f":"IF(Base_Arbres!A981<>\"\",VLOOKUP($A878,Base_Arbres,4,FALSE)*Crit7,\"\")","v":""}]
[{"$f":"IF(Base_Arbres!A925<>\"\",Base_Arbres!A925,\"\")","v":""},{"$f":"IF(Base_Arbres!A925<>\"\",VLOOKUP($A879,Base_Arbres,3,FALSE)*Crit1,\"\")","v":""},{"$f":"IF(Base_Arbres!A925<>\"\",VLOOKUP($A879,Base_Arbres,4,FALSE)*Crit2,\"\")","v":""},{"$f":"IF(Base_Arbres!A925<>\"\",VLOOKUP($A879,Base_Arbres,5,FALSE)*Crit3,\"\")","v":""},{"$f":"IF(Base_Arbres!A925<>\"\",VLOOKUP($A879,Base_Arbres,6,FALSE)*Crit4,\"\")","v":""},{"$f":"IF(Base_Arbres!B879<>\"\",VLOOKUP($A879,Base_Arbres,7,FALSE)*Crit5,\"\")","v":""},{"$f":"IF(Base_Arbres!C879<>\"\",VLOOKUP($A879,Base_Arbres,8,FALSE)*crit8,\"\")","v":""},{"$f":"IF(Base_Arbres!D879<>\"\",VLOOKUP($A879,Base_Arbres,9,FALSE)*crit9,\"\")","v":""},{"$f":"IF(ISNA(VLOOKUP(INDEX(Base_Typologie!$A$6:$P$1003,MATCH(A879,Base_Typologie!$A:$A,0)-5,MATCH(Typologie_Espace_Public,Base_Typologie!$6:$6,0)),TableauScoreTypologie2,2,FALSE)*Crit6),0,VLOOKUP(INDEX(Base_Typologie!$A$6:$P$1003,MATCH(A879,Base_Typologie!$A:$A,0)-5,MATCH(Typologie_Espace_Public,Base_Typologie!$6:$6,0)),TableauScoreTypologie2,2,FALSE)*Crit6)","v":0},0,0,0,0,0,0,0,0,0,0,0,0,null,{"$f":"IF(Base_Arbres!A982<>\"\",VLOOKUP($A879,Base_Arbres,4,FALSE)*Crit7,\"\")","v":""}]
[{"$f":"IF(Base_Arbres!A926<>\"\",Base_Arbres!A926,\"\")","v":""},{"$f":"IF(Base_Arbres!A926<>\"\",VLOOKUP($A880,Base_Arbres,3,FALSE)*Crit1,\"\")","v":""},{"$f":"IF(Base_Arbres!A926<>\"\",VLOOKUP($A880,Base_Arbres,4,FALSE)*Crit2,\"\")","v":""},{"$f":"IF(Base_Arbres!A926<>\"\",VLOOKUP($A880,Base_Arbres,5,FALSE)*Crit3,\"\")","v":""},{"$f":"IF(Base_Arbres!A926<>\"\",VLOOKUP($A880,Base_Arbres,6,FALSE)*Crit4,\"\")","v":""},{"$f":"IF(Base_Arbres!B880<>\"\",VLOOKUP($A880,Base_Arbres,7,FALSE)*Crit5,\"\")","v":""},{"$f":"IF(Base_Arbres!C880<>\"\",VLOOKUP($A880,Base_Arbres,8,FALSE)*crit8,\"\")","v":""},{"$f":"IF(Base_Arbres!D880<>\"\",VLOOKUP($A880,Base_Arbres,9,FALSE)*crit9,\"\")","v":""},{"$f":"IF(ISNA(VLOOKUP(INDEX(Base_Typologie!$A$6:$P$1003,MATCH(A880,Base_Typologie!$A:$A,0)-5,MATCH(Typologie_Espace_Public,Base_Typologie!$6:$6,0)),TableauScoreTypologie2,2,FALSE)*Crit6),0,VLOOKUP(INDEX(Base_Typologie!$A$6:$P$1003,MATCH(A880,Base_Typologie!$A:$A,0)-5,MATCH(Typologie_Espace_Public,Base_Typologie!$6:$6,0)),TableauScoreTypologie2,2,FALSE)*Crit6)","v":0},0,0,0,0,0,0,0,0,0,0,0,0,null,{"$f":"IF(Base_Arbres!A983<>\"\",VLOOKUP($A880,Base_Arbres,4,FALSE)*Crit7,\"\")","v":""}]
[{"$f":"IF(Base_Arbres!A927<>\"\",Base_Arbres!A927,\"\")","v":""},{"$f":"IF(Base_Arbres!A927<>\"\",VLOOKUP($A881,Base_Arbres,3,FALSE)*Crit1,\"\")","v":""},{"$f":"IF(Base_Arbres!A927<>\"\",VLOOKUP($A881,Base_Arbres,4,FALSE)*Crit2,\"\")","v":""},{"$f":"IF(Base_Arbres!A927<>\"\",VLOOKUP($A881,Base_Arbres,5,FALSE)*Crit3,\"\")","v":""},{"$f":"IF(Base_Arbres!A927<>\"\",VLOOKUP($A881,Base_Arbres,6,FALSE)*Crit4,\"\")","v":""},{"$f":"IF(Base_Arbres!B881<>\"\",VLOOKUP($A881,Base_Arbres,7,FALSE)*Crit5,\"\")","v":""},{"$f":"IF(Base_Arbres!C881<>\"\",VLOOKUP($A881,Base_Arbres,8,FALSE)*crit8,\"\")","v":""},{"$f":"IF(Base_Arbres!D881<>\"\",VLOOKUP($A881,Base_Arbres,9,FALSE)*crit9,\"\")","v":""},{"$f":"IF(ISNA(VLOOKUP(INDEX(Base_Typologie!$A$6:$P$1003,MATCH(A881,Base_Typologie!$A:$A,0)-5,MATCH(Typologie_Espace_Public,Base_Typologie!$6:$6,0)),TableauScoreTypologie2,2,FALSE)*Crit6),0,VLOOKUP(INDEX(Base_Typologie!$A$6:$P$1003,MATCH(A881,Base_Typologie!$A:$A,0)-5,MATCH(Typologie_Espace_Public,Base_Typologie!$6:$6,0)),TableauScoreTypologie2,2,FALSE)*Crit6)","v":0},0,0,0,0,0,0,0,0,0,0,0,0,null,{"$f":"IF(Base_Arbres!A984<>\"\",VLOOKUP($A881,Base_Arbres,4,FALSE)*Crit7,\"\")","v":""}]
[{"$f":"IF(Base_Arbres!A928<>\"\",Base_Arbres!A928,\"\")","v":""},{"$f":"IF(Base_Arbres!A928<>\"\",VLOOKUP($A882,Base_Arbres,3,FALSE)*Crit1,\"\")","v":""},{"$f":"IF(Base_Arbres!A928<>\"\",VLOOKUP($A882,Base_Arbres,4,FALSE)*Crit2,\"\")","v":""},{"$f":"IF(Base_Arbres!A928<>\"\",VLOOKUP($A882,Base_Arbres,5,FALSE)*Crit3,\"\")","v":""},{"$f":"IF(Base_Arbres!A928<>\"\",VLOOKUP($A882,Base_Arbres,6,FALSE)*Crit4,\"\")","v":""},{"$f":"IF(Base_Arbres!B882<>\"\",VLOOKUP($A882,Base_Arbres,7,FALSE)*Crit5,\"\")","v":""},{"$f":"IF(Base_Arbres!C882<>\"\",VLOOKUP($A882,Base_Arbres,8,FALSE)*crit8,\"\")","v":""},{"$f":"IF(Base_Arbres!D882<>\"\",VLOOKUP($A882,Base_Arbres,9,FALSE)*crit9,\"\")","v":""},{"$f":"IF(ISNA(VLOOKUP(INDEX(Base_Typologie!$A$6:$P$1003,MATCH(A882,Base_Typologie!$A:$A,0)-5,MATCH(Typologie_Espace_Public,Base_Typologie!$6:$6,0)),TableauScoreTypologie2,2,FALSE)*Crit6),0,VLOOKUP(INDEX(Base_Typologie!$A$6:$P$1003,MATCH(A882,Base_Typologie!$A:$A,0)-5,MATCH(Typologie_Espace_Public,Base_Typologie!$6:$6,0)),TableauScoreTypologie2,2,FALSE)*Crit6)","v":0},0,0,0,0,0,0,0,0,0,0,0,0,null,{"$f":"IF(Base_Arbres!A985<>\"\",VLOOKUP($A882,Base_Arbres,4,FALSE)*Crit7,\"\")","v":""}]
[{"$f":"IF(Base_Arbres!A929<>\"\",Base_Arbres!A929,\"\")","v":""},{"$f":"IF(Base_Arbres!A929<>\"\",VLOOKUP($A883,Base_Arbres,3,FALSE)*Crit1,\"\")","v":""},{"$f":"IF(Base_Arbres!A929<>\"\",VLOOKUP($A883,Base_Arbres,4,FALSE)*Crit2,\"\")","v":""},{"$f":"IF(Base_Arbres!A929<>\"\",VLOOKUP($A883,Base_Arbres,5,FALSE)*Crit3,\"\")","v":""},{"$f":"IF(Base_Arbres!A929<>\"\",VLOOKUP($A883,Base_Arbres,6,FALSE)*Crit4,\"\")","v":""},{"$f":"IF(Base_Arbres!B883<>\"\",VLOOKUP($A883,Base_Arbres,7,FALSE)*Crit5,\"\")","v":""},{"$f":"IF(Base_Arbres!C883<>\"\",VLOOKUP($A883,Base_Arbres,8,FALSE)*crit8,\"\")","v":""},{"$f":"IF(Base_Arbres!D883<>\"\",VLOOKUP($A883,Base_Arbres,9,FALSE)*crit9,\"\")","v":""},{"$f":"IF(ISNA(VLOOKUP(INDEX(Base_Typologie!$A$6:$P$1003,MATCH(A883,Base_Typologie!$A:$A,0)-5,MATCH(Typologie_Espace_Public,Base_Typologie!$6:$6,0)),TableauScoreTypologie2,2,FALSE)*Crit6),0,VLOOKUP(INDEX(Base_Typologie!$A$6:$P$1003,MATCH(A883,Base_Typologie!$A:$A,0)-5,MATCH(Typologie_Espace_Public,Base_Typologie!$6:$6,0)),TableauScoreTypologie2,2,FALSE)*Crit6)","v":0},0,0,0,0,0,0,0,0,0,0,0,0,null,{"$f":"IF(Base_Arbres!A986<>\"\",VLOOKUP($A883,Base_Arbres,4,FALSE)*Crit7,\"\")","v":""}]
[{"$f":"IF(Base_Arbres!A930<>\"\",Base_Arbres!A930,\"\")","v":""},{"$f":"IF(Base_Arbres!A930<>\"\",VLOOKUP($A884,Base_Arbres,3,FALSE)*Crit1,\"\")","v":""},{"$f":"IF(Base_Arbres!A930<>\"\",VLOOKUP($A884,Base_Arbres,4,FALSE)*Crit2,\"\")","v":""},{"$f":"IF(Base_Arbres!A930<>\"\",VLOOKUP($A884,Base_Arbres,5,FALSE)*Crit3,\"\")","v":""},{"$f":"IF(Base_Arbres!A930<>\"\",VLOOKUP($A884,Base_Arbres,6,FALSE)*Crit4,\"\")","v":""},{"$f":"IF(Base_Arbres!B884<>\"\",VLOOKUP($A884,Base_Arbres,7,FALSE)*Crit5,\"\")","v":""},{"$f":"IF(Base_Arbres!C884<>\"\",VLOOKUP($A884,Base_Arbres,8,FALSE)*crit8,\"\")","v":""},{"$f":"IF(Base_Arbres!D884<>\"\",VLOOKUP($A884,Base_Arbres,9,FALSE)*crit9,\"\")","v":""},{"$f":"IF(ISNA(VLOOKUP(INDEX(Base_Typologie!$A$6:$P$1003,MATCH(A884,Base_Typologie!$A:$A,0)-5,MATCH(Typologie_Espace_Public,Base_Typologie!$6:$6,0)),TableauScoreTypologie2,2,FALSE)*Crit6),0,VLOOKUP(INDEX(Base_Typologie!$A$6:$P$1003,MATCH(A884,Base_Typologie!$A:$A,0)-5,MATCH(Typologie_Espace_Public,Base_Typologie!$6:$6,0)),TableauScoreTypologie2,2,FALSE)*Crit6)","v":0},0,0,0,0,0,0,0,0,0,0,0,0,null,{"$f":"IF(Base_Arbres!A987<>\"\",VLOOKUP($A884,Base_Arbres,4,FALSE)*Crit7,\"\")","v":""}]
[{"$f":"IF(Base_Arbres!A931<>\"\",Base_Arbres!A931,\"\")","v":""},{"$f":"IF(Base_Arbres!A931<>\"\",VLOOKUP($A885,Base_Arbres,3,FALSE)*Crit1,\"\")","v":""},{"$f":"IF(Base_Arbres!A931<>\"\",VLOOKUP($A885,Base_Arbres,4,FALSE)*Crit2,\"\")","v":""},{"$f":"IF(Base_Arbres!A931<>\"\",VLOOKUP($A885,Base_Arbres,5,FALSE)*Crit3,\"\")","v":""},{"$f":"IF(Base_Arbres!A931<>\"\",VLOOKUP($A885,Base_Arbres,6,FALSE)*Crit4,\"\")","v":""},{"$f":"IF(Base_Arbres!B885<>\"\",VLOOKUP($A885,Base_Arbres,7,FALSE)*Crit5,\"\")","v":""},{"$f":"IF(Base_Arbres!C885<>\"\",VLOOKUP($A885,Base_Arbres,8,FALSE)*crit8,\"\")","v":""},{"$f":"IF(Base_Arbres!D885<>\"\",VLOOKUP($A885,Base_Arbres,9,FALSE)*crit9,\"\")","v":""},{"$f":"IF(ISNA(VLOOKUP(INDEX(Base_Typologie!$A$6:$P$1003,MATCH(A885,Base_Typologie!$A:$A,0)-5,MATCH(Typologie_Espace_Public,Base_Typologie!$6:$6,0)),TableauScoreTypologie2,2,FALSE)*Crit6),0,VLOOKUP(INDEX(Base_Typologie!$A$6:$P$1003,MATCH(A885,Base_Typologie!$A:$A,0)-5,MATCH(Typologie_Espace_Public,Base_Typologie!$6:$6,0)),TableauScoreTypologie2,2,FALSE)*Crit6)","v":0},0,0,0,0,0,0,0,0,0,0,0,0,null,{"$f":"IF(Base_Arbres!A988<>\"\",VLOOKUP($A885,Base_Arbres,4,FALSE)*Crit7,\"\")","v":""}]
[{"$f":"IF(Base_Arbres!A932<>\"\",Base_Arbres!A932,\"\")","v":""},{"$f":"IF(Base_Arbres!A932<>\"\",VLOOKUP($A886,Base_Arbres,3,FALSE)*Crit1,\"\")","v":""},{"$f":"IF(Base_Arbres!A932<>\"\",VLOOKUP($A886,Base_Arbres,4,FALSE)*Crit2,\"\")","v":""},{"$f":"IF(Base_Arbres!A932<>\"\",VLOOKUP($A886,Base_Arbres,5,FALSE)*Crit3,\"\")","v":""},{"$f":"IF(Base_Arbres!A932<>\"\",VLOOKUP($A886,Base_Arbres,6,FALSE)*Crit4,\"\")","v":""},{"$f":"IF(Base_Arbres!B886<>\"\",VLOOKUP($A886,Base_Arbres,7,FALSE)*Crit5,\"\")","v":""},{"$f":"IF(Base_Arbres!C886<>\"\",VLOOKUP($A886,Base_Arbres,8,FALSE)*crit8,\"\")","v":""},{"$f":"IF(Base_Arbres!D886<>\"\",VLOOKUP($A886,Base_Arbres,9,FALSE)*crit9,\"\")","v":""},{"$f":"IF(ISNA(VLOOKUP(INDEX(Base_Typologie!$A$6:$P$1003,MATCH(A886,Base_Typologie!$A:$A,0)-5,MATCH(Typologie_Espace_Public,Base_Typologie!$6:$6,0)),TableauScoreTypologie2,2,FALSE)*Crit6),0,VLOOKUP(INDEX(Base_Typologie!$A$6:$P$1003,MATCH(A886,Base_Typologie!$A:$A,0)-5,MATCH(Typologie_Espace_Public,Base_Typologie!$6:$6,0)),TableauScoreTypologie2,2,FALSE)*Crit6)","v":0},0,0,0,0,0,0,0,0,0,0,0,0,null,{"$f":"IF(Base_Arbres!A989<>\"\",VLOOKUP($A886,Base_Arbres,4,FALSE)*Crit7,\"\")","v":""}]
[{"$f":"IF(Base_Arbres!A933<>\"\",Base_Arbres!A933,\"\")","v":""},{"$f":"IF(Base_Arbres!A933<>\"\",VLOOKUP($A887,Base_Arbres,3,FALSE)*Crit1,\"\")","v":""},{"$f":"IF(Base_Arbres!A933<>\"\",VLOOKUP($A887,Base_Arbres,4,FALSE)*Crit2,\"\")","v":""},{"$f":"IF(Base_Arbres!A933<>\"\",VLOOKUP($A887,Base_Arbres,5,FALSE)*Crit3,\"\")","v":""},{"$f":"IF(Base_Arbres!A933<>\"\",VLOOKUP($A887,Base_Arbres,6,FALSE)*Crit4,\"\")","v":""},{"$f":"IF(Base_Arbres!B887<>\"\",VLOOKUP($A887,Base_Arbres,7,FALSE)*Crit5,\"\")","v":""},{"$f":"IF(Base_Arbres!C887<>\"\",VLOOKUP($A887,Base_Arbres,8,FALSE)*crit8,\"\")","v":""},{"$f":"IF(Base_Arbres!D887<>\"\",VLOOKUP($A887,Base_Arbres,9,FALSE)*crit9,\"\")","v":""},{"$f":"IF(ISNA(VLOOKUP(INDEX(Base_Typologie!$A$6:$P$1003,MATCH(A887,Base_Typologie!$A:$A,0)-5,MATCH(Typologie_Espace_Public,Base_Typologie!$6:$6,0)),TableauScoreTypologie2,2,FALSE)*Crit6),0,VLOOKUP(INDEX(Base_Typologie!$A$6:$P$1003,MATCH(A887,Base_Typologie!$A:$A,0)-5,MATCH(Typologie_Espace_Public,Base_Typologie!$6:$6,0)),TableauScoreTypologie2,2,FALSE)*Crit6)","v":0},0,0,0,0,0,0,0,0,0,0,0,0,null,{"$f":"IF(Base_Arbres!A990<>\"\",VLOOKUP($A887,Base_Arbres,4,FALSE)*Crit7,\"\")","v":""}]
[{"$f":"IF(Base_Arbres!A934<>\"\",Base_Arbres!A934,\"\")","v":""},{"$f":"IF(Base_Arbres!A934<>\"\",VLOOKUP($A888,Base_Arbres,3,FALSE)*Crit1,\"\")","v":""},{"$f":"IF(Base_Arbres!A934<>\"\",VLOOKUP($A888,Base_Arbres,4,FALSE)*Crit2,\"\")","v":""},{"$f":"IF(Base_Arbres!A934<>\"\",VLOOKUP($A888,Base_Arbres,5,FALSE)*Crit3,\"\")","v":""},{"$f":"IF(Base_Arbres!A934<>\"\",VLOOKUP($A888,Base_Arbres,6,FALSE)*Crit4,\"\")","v":""},{"$f":"IF(Base_Arbres!B888<>\"\",VLOOKUP($A888,Base_Arbres,7,FALSE)*Crit5,\"\")","v":""},{"$f":"IF(Base_Arbres!C888<>\"\",VLOOKUP($A888,Base_Arbres,8,FALSE)*crit8,\"\")","v":""},{"$f":"IF(Base_Arbres!D888<>\"\",VLOOKUP($A888,Base_Arbres,9,FALSE)*crit9,\"\")","v":""},{"$f":"IF(ISNA(VLOOKUP(INDEX(Base_Typologie!$A$6:$P$1003,MATCH(A888,Base_Typologie!$A:$A,0)-5,MATCH(Typologie_Espace_Public,Base_Typologie!$6:$6,0)),TableauScoreTypologie2,2,FALSE)*Crit6),0,VLOOKUP(INDEX(Base_Typologie!$A$6:$P$1003,MATCH(A888,Base_Typologie!$A:$A,0)-5,MATCH(Typologie_Espace_Public,Base_Typologie!$6:$6,0)),TableauScoreTypologie2,2,FALSE)*Crit6)","v":0},0,0,0,0,0,0,0,0,0,0,0,0,null,{"$f":"IF(Base_Arbres!A991<>\"\",VLOOKUP($A888,Base_Arbres,4,FALSE)*Crit7,\"\")","v":""}]
[{"$f":"IF(Base_Arbres!A935<>\"\",Base_Arbres!A935,\"\")","v":""},{"$f":"IF(Base_Arbres!A935<>\"\",VLOOKUP($A889,Base_Arbres,3,FALSE)*Crit1,\"\")","v":""},{"$f":"IF(Base_Arbres!A935<>\"\",VLOOKUP($A889,Base_Arbres,4,FALSE)*Crit2,\"\")","v":""},{"$f":"IF(Base_Arbres!A935<>\"\",VLOOKUP($A889,Base_Arbres,5,FALSE)*Crit3,\"\")","v":""},{"$f":"IF(Base_Arbres!A935<>\"\",VLOOKUP($A889,Base_Arbres,6,FALSE)*Crit4,\"\")","v":""},{"$f":"IF(Base_Arbres!B889<>\"\",VLOOKUP($A889,Base_Arbres,7,FALSE)*Crit5,\"\")","v":""},{"$f":"IF(Base_Arbres!C889<>\"\",VLOOKUP($A889,Base_Arbres,8,FALSE)*crit8,\"\")","v":""},{"$f":"IF(Base_Arbres!D889<>\"\",VLOOKUP($A889,Base_Arbres,9,FALSE)*crit9,\"\")","v":""},{"$f":"IF(ISNA(VLOOKUP(INDEX(Base_Typologie!$A$6:$P$1003,MATCH(A889,Base_Typologie!$A:$A,0)-5,MATCH(Typologie_Espace_Public,Base_Typologie!$6:$6,0)),TableauScoreTypologie2,2,FALSE)*Crit6),0,VLOOKUP(INDEX(Base_Typologie!$A$6:$P$1003,MATCH(A889,Base_Typologie!$A:$A,0)-5,MATCH(Typologie_Espace_Public,Base_Typologie!$6:$6,0)),TableauScoreTypologie2,2,FALSE)*Crit6)","v":0},0,0,0,0,0,0,0,0,0,0,0,0,null,{"$f":"IF(Base_Arbres!A992<>\"\",VLOOKUP($A889,Base_Arbres,4,FALSE)*Crit7,\"\")","v":""}]
[{"$f":"IF(Base_Arbres!A936<>\"\",Base_Arbres!A936,\"\")","v":""},{"$f":"IF(Base_Arbres!A936<>\"\",VLOOKUP($A890,Base_Arbres,3,FALSE)*Crit1,\"\")","v":""},{"$f":"IF(Base_Arbres!A936<>\"\",VLOOKUP($A890,Base_Arbres,4,FALSE)*Crit2,\"\")","v":""},{"$f":"IF(Base_Arbres!A936<>\"\",VLOOKUP($A890,Base_Arbres,5,FALSE)*Crit3,\"\")","v":""},{"$f":"IF(Base_Arbres!A936<>\"\",VLOOKUP($A890,Base_Arbres,6,FALSE)*Crit4,\"\")","v":""},{"$f":"IF(Base_Arbres!B890<>\"\",VLOOKUP($A890,Base_Arbres,7,FALSE)*Crit5,\"\")","v":""},{"$f":"IF(Base_Arbres!C890<>\"\",VLOOKUP($A890,Base_Arbres,8,FALSE)*crit8,\"\")","v":""},{"$f":"IF(Base_Arbres!D890<>\"\",VLOOKUP($A890,Base_Arbres,9,FALSE)*crit9,\"\")","v":""},{"$f":"IF(ISNA(VLOOKUP(INDEX(Base_Typologie!$A$6:$P$1003,MATCH(A890,Base_Typologie!$A:$A,0)-5,MATCH(Typologie_Espace_Public,Base_Typologie!$6:$6,0)),TableauScoreTypologie2,2,FALSE)*Crit6),0,VLOOKUP(INDEX(Base_Typologie!$A$6:$P$1003,MATCH(A890,Base_Typologie!$A:$A,0)-5,MATCH(Typologie_Espace_Public,Base_Typologie!$6:$6,0)),TableauScoreTypologie2,2,FALSE)*Crit6)","v":0},0,0,0,0,0,0,0,0,0,0,0,0,null,{"$f":"IF(Base_Arbres!A993<>\"\",VLOOKUP($A890,Base_Arbres,4,FALSE)*Crit7,\"\")","v":""}]
[{"$f":"IF(Base_Arbres!A937<>\"\",Base_Arbres!A937,\"\")","v":""},{"$f":"IF(Base_Arbres!A937<>\"\",VLOOKUP($A891,Base_Arbres,3,FALSE)*Crit1,\"\")","v":""},{"$f":"IF(Base_Arbres!A937<>\"\",VLOOKUP($A891,Base_Arbres,4,FALSE)*Crit2,\"\")","v":""},{"$f":"IF(Base_Arbres!A937<>\"\",VLOOKUP($A891,Base_Arbres,5,FALSE)*Crit3,\"\")","v":""},{"$f":"IF(Base_Arbres!A937<>\"\",VLOOKUP($A891,Base_Arbres,6,FALSE)*Crit4,\"\")","v":""},{"$f":"IF(Base_Arbres!B891<>\"\",VLOOKUP($A891,Base_Arbres,7,FALSE)*Crit5,\"\")","v":""},{"$f":"IF(Base_Arbres!C891<>\"\",VLOOKUP($A891,Base_Arbres,8,FALSE)*crit8,\"\")","v":""},{"$f":"IF(Base_Arbres!D891<>\"\",VLOOKUP($A891,Base_Arbres,9,FALSE)*crit9,\"\")","v":""},{"$f":"IF(ISNA(VLOOKUP(INDEX(Base_Typologie!$A$6:$P$1003,MATCH(A891,Base_Typologie!$A:$A,0)-5,MATCH(Typologie_Espace_Public,Base_Typologie!$6:$6,0)),TableauScoreTypologie2,2,FALSE)*Crit6),0,VLOOKUP(INDEX(Base_Typologie!$A$6:$P$1003,MATCH(A891,Base_Typologie!$A:$A,0)-5,MATCH(Typologie_Espace_Public,Base_Typologie!$6:$6,0)),TableauScoreTypologie2,2,FALSE)*Crit6)","v":0},0,0,0,0,0,0,0,0,0,0,0,0,null,{"$f":"IF(Base_Arbres!A994<>\"\",VLOOKUP($A891,Base_Arbres,4,FALSE)*Crit7,\"\")","v":""}]
[{"$f":"IF(Base_Arbres!A938<>\"\",Base_Arbres!A938,\"\")","v":""},{"$f":"IF(Base_Arbres!A938<>\"\",VLOOKUP($A892,Base_Arbres,3,FALSE)*Crit1,\"\")","v":""},{"$f":"IF(Base_Arbres!A938<>\"\",VLOOKUP($A892,Base_Arbres,4,FALSE)*Crit2,\"\")","v":""},{"$f":"IF(Base_Arbres!A938<>\"\",VLOOKUP($A892,Base_Arbres,5,FALSE)*Crit3,\"\")","v":""},{"$f":"IF(Base_Arbres!A938<>\"\",VLOOKUP($A892,Base_Arbres,6,FALSE)*Crit4,\"\")","v":""},{"$f":"IF(Base_Arbres!B892<>\"\",VLOOKUP($A892,Base_Arbres,7,FALSE)*Crit5,\"\")","v":""},{"$f":"IF(Base_Arbres!C892<>\"\",VLOOKUP($A892,Base_Arbres,8,FALSE)*crit8,\"\")","v":""},{"$f":"IF(Base_Arbres!D892<>\"\",VLOOKUP($A892,Base_Arbres,9,FALSE)*crit9,\"\")","v":""},{"$f":"IF(ISNA(VLOOKUP(INDEX(Base_Typologie!$A$6:$P$1003,MATCH(A892,Base_Typologie!$A:$A,0)-5,MATCH(Typologie_Espace_Public,Base_Typologie!$6:$6,0)),TableauScoreTypologie2,2,FALSE)*Crit6),0,VLOOKUP(INDEX(Base_Typologie!$A$6:$P$1003,MATCH(A892,Base_Typologie!$A:$A,0)-5,MATCH(Typologie_Espace_Public,Base_Typologie!$6:$6,0)),TableauScoreTypologie2,2,FALSE)*Crit6)","v":0},0,0,0,0,0,0,0,0,0,0,0,0,null,{"$f":"IF(Base_Arbres!A995<>\"\",VLOOKUP($A892,Base_Arbres,4,FALSE)*Crit7,\"\")","v":""}]
[{"$f":"IF(Base_Arbres!A939<>\"\",Base_Arbres!A939,\"\")","v":""},{"$f":"IF(Base_Arbres!A939<>\"\",VLOOKUP($A893,Base_Arbres,3,FALSE)*Crit1,\"\")","v":""},{"$f":"IF(Base_Arbres!A939<>\"\",VLOOKUP($A893,Base_Arbres,4,FALSE)*Crit2,\"\")","v":""},{"$f":"IF(Base_Arbres!A939<>\"\",VLOOKUP($A893,Base_Arbres,5,FALSE)*Crit3,\"\")","v":""},{"$f":"IF(Base_Arbres!A939<>\"\",VLOOKUP($A893,Base_Arbres,6,FALSE)*Crit4,\"\")","v":""},{"$f":"IF(Base_Arbres!B893<>\"\",VLOOKUP($A893,Base_Arbres,7,FALSE)*Crit5,\"\")","v":""},{"$f":"IF(Base_Arbres!C893<>\"\",VLOOKUP($A893,Base_Arbres,8,FALSE)*crit8,\"\")","v":""},{"$f":"IF(Base_Arbres!D893<>\"\",VLOOKUP($A893,Base_Arbres,9,FALSE)*crit9,\"\")","v":""},{"$f":"IF(ISNA(VLOOKUP(INDEX(Base_Typologie!$A$6:$P$1003,MATCH(A893,Base_Typologie!$A:$A,0)-5,MATCH(Typologie_Espace_Public,Base_Typologie!$6:$6,0)),TableauScoreTypologie2,2,FALSE)*Crit6),0,VLOOKUP(INDEX(Base_Typologie!$A$6:$P$1003,MATCH(A893,Base_Typologie!$A:$A,0)-5,MATCH(Typologie_Espace_Public,Base_Typologie!$6:$6,0)),TableauScoreTypologie2,2,FALSE)*Crit6)","v":0},0,0,0,0,0,0,0,0,0,0,0,0,null,{"$f":"IF(Base_Arbres!A996<>\"\",VLOOKUP($A893,Base_Arbres,4,FALSE)*Crit7,\"\")","v":""}]
[{"$f":"IF(Base_Arbres!A940<>\"\",Base_Arbres!A940,\"\")","v":""},{"$f":"IF(Base_Arbres!A940<>\"\",VLOOKUP($A894,Base_Arbres,3,FALSE)*Crit1,\"\")","v":""},{"$f":"IF(Base_Arbres!A940<>\"\",VLOOKUP($A894,Base_Arbres,4,FALSE)*Crit2,\"\")","v":""},{"$f":"IF(Base_Arbres!A940<>\"\",VLOOKUP($A894,Base_Arbres,5,FALSE)*Crit3,\"\")","v":""},{"$f":"IF(Base_Arbres!A940<>\"\",VLOOKUP($A894,Base_Arbres,6,FALSE)*Crit4,\"\")","v":""},{"$f":"IF(Base_Arbres!B894<>\"\",VLOOKUP($A894,Base_Arbres,7,FALSE)*Crit5,\"\")","v":""},{"$f":"IF(Base_Arbres!C894<>\"\",VLOOKUP($A894,Base_Arbres,8,FALSE)*crit8,\"\")","v":""},{"$f":"IF(Base_Arbres!D894<>\"\",VLOOKUP($A894,Base_Arbres,9,FALSE)*crit9,\"\")","v":""},{"$f":"IF(ISNA(VLOOKUP(INDEX(Base_Typologie!$A$6:$P$1003,MATCH(A894,Base_Typologie!$A:$A,0)-5,MATCH(Typologie_Espace_Public,Base_Typologie!$6:$6,0)),TableauScoreTypologie2,2,FALSE)*Crit6),0,VLOOKUP(INDEX(Base_Typologie!$A$6:$P$1003,MATCH(A894,Base_Typologie!$A:$A,0)-5,MATCH(Typologie_Espace_Public,Base_Typologie!$6:$6,0)),TableauScoreTypologie2,2,FALSE)*Crit6)","v":0},0,0,0,0,0,0,0,0,0,0,0,0,null,{"$f":"IF(Base_Arbres!A997<>\"\",VLOOKUP($A894,Base_Arbres,4,FALSE)*Crit7,\"\")","v":""}]
[{"$f":"IF(Base_Arbres!A941<>\"\",Base_Arbres!A941,\"\")","v":""},{"$f":"IF(Base_Arbres!A941<>\"\",VLOOKUP($A895,Base_Arbres,3,FALSE)*Crit1,\"\")","v":""},{"$f":"IF(Base_Arbres!A941<>\"\",VLOOKUP($A895,Base_Arbres,4,FALSE)*Crit2,\"\")","v":""},{"$f":"IF(Base_Arbres!A941<>\"\",VLOOKUP($A895,Base_Arbres,5,FALSE)*Crit3,\"\")","v":""},{"$f":"IF(Base_Arbres!A941<>\"\",VLOOKUP($A895,Base_Arbres,6,FALSE)*Crit4,\"\")","v":""},{"$f":"IF(Base_Arbres!B895<>\"\",VLOOKUP($A895,Base_Arbres,7,FALSE)*Crit5,\"\")","v":""},{"$f":"IF(Base_Arbres!C895<>\"\",VLOOKUP($A895,Base_Arbres,8,FALSE)*crit8,\"\")","v":""},{"$f":"IF(Base_Arbres!D895<>\"\",VLOOKUP($A895,Base_Arbres,9,FALSE)*crit9,\"\")","v":""},{"$f":"IF(ISNA(VLOOKUP(INDEX(Base_Typologie!$A$6:$P$1003,MATCH(A895,Base_Typologie!$A:$A,0)-5,MATCH(Typologie_Espace_Public,Base_Typologie!$6:$6,0)),TableauScoreTypologie2,2,FALSE)*Crit6),0,VLOOKUP(INDEX(Base_Typologie!$A$6:$P$1003,MATCH(A895,Base_Typologie!$A:$A,0)-5,MATCH(Typologie_Espace_Public,Base_Typologie!$6:$6,0)),TableauScoreTypologie2,2,FALSE)*Crit6)","v":0},0,0,0,0,0,0,0,0,0,0,0,0,null,{"$f":"IF(Base_Arbres!A998<>\"\",VLOOKUP($A895,Base_Arbres,4,FALSE)*Crit7,\"\")","v":""}]
[{"$f":"IF(Base_Arbres!A942<>\"\",Base_Arbres!A942,\"\")","v":""},{"$f":"IF(Base_Arbres!A942<>\"\",VLOOKUP($A896,Base_Arbres,3,FALSE)*Crit1,\"\")","v":""},{"$f":"IF(Base_Arbres!A942<>\"\",VLOOKUP($A896,Base_Arbres,4,FALSE)*Crit2,\"\")","v":""},{"$f":"IF(Base_Arbres!A942<>\"\",VLOOKUP($A896,Base_Arbres,5,FALSE)*Crit3,\"\")","v":""},{"$f":"IF(Base_Arbres!A942<>\"\",VLOOKUP($A896,Base_Arbres,6,FALSE)*Crit4,\"\")","v":""},{"$f":"IF(Base_Arbres!B896<>\"\",VLOOKUP($A896,Base_Arbres,7,FALSE)*Crit5,\"\")","v":""},{"$f":"IF(Base_Arbres!C896<>\"\",VLOOKUP($A896,Base_Arbres,8,FALSE)*crit8,\"\")","v":""},{"$f":"IF(Base_Arbres!D896<>\"\",VLOOKUP($A896,Base_Arbres,9,FALSE)*crit9,\"\")","v":""},{"$f":"IF(ISNA(VLOOKUP(INDEX(Base_Typologie!$A$6:$P$1003,MATCH(A896,Base_Typologie!$A:$A,0)-5,MATCH(Typologie_Espace_Public,Base_Typologie!$6:$6,0)),TableauScoreTypologie2,2,FALSE)*Crit6),0,VLOOKUP(INDEX(Base_Typologie!$A$6:$P$1003,MATCH(A896,Base_Typologie!$A:$A,0)-5,MATCH(Typologie_Espace_Public,Base_Typologie!$6:$6,0)),TableauScoreTypologie2,2,FALSE)*Crit6)","v":0},0,0,0,0,0,0,0,0,0,0,0,0,null,{"$f":"IF(Base_Arbres!A999<>\"\",VLOOKUP($A896,Base_Arbres,4,FALSE)*Crit7,\"\")","v":""}]
[{"$f":"IF(Base_Arbres!A943<>\"\",Base_Arbres!A943,\"\")","v":""},{"$f":"IF(Base_Arbres!A943<>\"\",VLOOKUP($A897,Base_Arbres,3,FALSE)*Crit1,\"\")","v":""},{"$f":"IF(Base_Arbres!A943<>\"\",VLOOKUP($A897,Base_Arbres,4,FALSE)*Crit2,\"\")","v":""},{"$f":"IF(Base_Arbres!A943<>\"\",VLOOKUP($A897,Base_Arbres,5,FALSE)*Crit3,\"\")","v":""},{"$f":"IF(Base_Arbres!A943<>\"\",VLOOKUP($A897,Base_Arbres,6,FALSE)*Crit4,\"\")","v":""},{"$f":"IF(Base_Arbres!B897<>\"\",VLOOKUP($A897,Base_Arbres,7,FALSE)*Crit5,\"\")","v":""},{"$f":"IF(Base_Arbres!C897<>\"\",VLOOKUP($A897,Base_Arbres,8,FALSE)*crit8,\"\")","v":""},{"$f":"IF(Base_Arbres!D897<>\"\",VLOOKUP($A897,Base_Arbres,9,FALSE)*crit9,\"\")","v":""},{"$f":"IF(ISNA(VLOOKUP(INDEX(Base_Typologie!$A$6:$P$1003,MATCH(A897,Base_Typologie!$A:$A,0)-5,MATCH(Typologie_Espace_Public,Base_Typologie!$6:$6,0)),TableauScoreTypologie2,2,FALSE)*Crit6),0,VLOOKUP(INDEX(Base_Typologie!$A$6:$P$1003,MATCH(A897,Base_Typologie!$A:$A,0)-5,MATCH(Typologie_Espace_Public,Base_Typologie!$6:$6,0)),TableauScoreTypologie2,2,FALSE)*Crit6)","v":0},0,0,0,0,0,0,0,0,0,0,0,0,null,{"$f":"IF(Base_Arbres!A1000<>\"\",VLOOKUP($A897,Base_Arbres,4,FALSE)*Crit7,\"\")","v":""}]
[{"$f":"IF(Base_Arbres!A944<>\"\",Base_Arbres!A944,\"\")","v":""},{"$f":"IF(Base_Arbres!A944<>\"\",VLOOKUP($A898,Base_Arbres,3,FALSE)*Crit1,\"\")","v":""},{"$f":"IF(Base_Arbres!A944<>\"\",VLOOKUP($A898,Base_Arbres,4,FALSE)*Crit2,\"\")","v":""},{"$f":"IF(Base_Arbres!A944<>\"\",VLOOKUP($A898,Base_Arbres,5,FALSE)*Crit3,\"\")","v":""},{"$f":"IF(Base_Arbres!A944<>\"\",VLOOKUP($A898,Base_Arbres,6,FALSE)*Crit4,\"\")","v":""},{"$f":"IF(Base_Arbres!B898<>\"\",VLOOKUP($A898,Base_Arbres,7,FALSE)*Crit5,\"\")","v":""},{"$f":"IF(Base_Arbres!C898<>\"\",VLOOKUP($A898,Base_Arbres,8,FALSE)*crit8,\"\")","v":""},{"$f":"IF(Base_Arbres!D898<>\"\",VLOOKUP($A898,Base_Arbres,9,FALSE)*crit9,\"\")","v":""},{"$f":"IF(ISNA(VLOOKUP(INDEX(Base_Typologie!$A$6:$P$1003,MATCH(A898,Base_Typologie!$A:$A,0)-5,MATCH(Typologie_Espace_Public,Base_Typologie!$6:$6,0)),TableauScoreTypologie2,2,FALSE)*Crit6),0,VLOOKUP(INDEX(Base_Typologie!$A$6:$P$1003,MATCH(A898,Base_Typologie!$A:$A,0)-5,MATCH(Typologie_Espace_Public,Base_Typologie!$6:$6,0)),TableauScoreTypologie2,2,FALSE)*Crit6)","v":0},{"$f":"IF(A898<>\"\",IF(LEFT(VLOOKUP($A898,Base_Arbres,10,FALSE),1)>=LEFT(Cont_Racines,1),0,1),0)","v":0},{"$f":"IF(A898<>\"\",IF(LEFT(VLOOKUP($A898,Base_Arbres,11,FALSE),1)>=LEFT(Cont_Branches,1),0,1),0)","v":0},{"$f":"IF(A898<>\"\",IF(LEFT(VLOOKUP($A898,Base_Arbres,12,FALSE),1)>=LEFT(Cont_Chablis,1),0,1),0)","v":0},{"$f":"IF(A898<>\"\",IF(LEFT(VLOOKUP($A898,Base_Arbres,13,FALSE),1)>=LEFT(Cont_Fructifications,1),0,1),0)","v":0},{"$f":"IF(A898<>\"\",IF(LEFT(VLOOKUP($A898,Base_Arbres,14,FALSE),1)>=LEFT(Cont_Miellat,1),0,1),0)","v":0},{"$f":"IF(A898<>\"\",IF(LEFT(VLOOKUP($A898,Base_Arbres,15,FALSE),1)>=LEFT(Cont_Fruits_Toxiques,1),0,1),0)","v":0},{"$f":"IF(A898<>\"\",IF(LEFT(VLOOKUP($A898,Base_Arbres,16,FALSE),1)>=LEFT(Cont_Hauteur,1),0,1),0)","v":0},{"$f":"IF(A898<>\"\",IF(LEFT(VLOOKUP($A898,Base_Arbres,17,FALSE),1)>=LEFT(Cont_Envergure,1),0,1),0)","v":0},{"$f":"IF(A898<>\"\",IF(LEFT(VLOOKUP($A898,Base_Arbres,18,FALSE),1)>=LEFT(Cont_pollen,1),0,1),0)","v":0},{"$f":"IF(B898<>\"\",IF(LEFT(VLOOKUP($A898,Base_Arbres,19,FALSE),1)>=LEFT(Cont_malodo,1),0,1),0)","v":0},{"$f":"IF(A898<>\"\",IF(LEFT(VLOOKUP($A898,Base_Arbres,20,FALSE),1)>=LEFT(Cont_chenilles,1),0,1),0)","v":0},{"$f":"IF(A898<>\"\",IF(LEFT(VLOOKUP($A898,Base_Arbres,21,FALSE),1)>=LEFT(Cont_epineux,1),0,1),0)","v":0},null,{"$f":"IF(Base_Arbres!A1001<>\"\",VLOOKUP($A898,Base_Arbres,4,FALSE)*Crit7,\"\")","v":""}]
[{"$f":"IF(Base_Arbres!A945<>\"\",Base_Arbres!A945,\"\")","v":""},{"$f":"IF(Base_Arbres!A945<>\"\",VLOOKUP($A899,Base_Arbres,3,FALSE)*Crit1,\"\")","v":""},{"$f":"IF(Base_Arbres!A945<>\"\",VLOOKUP($A899,Base_Arbres,4,FALSE)*Crit2,\"\")","v":""},{"$f":"IF(Base_Arbres!A945<>\"\",VLOOKUP($A899,Base_Arbres,5,FALSE)*Crit3,\"\")","v":""},{"$f":"IF(Base_Arbres!A945<>\"\",VLOOKUP($A899,Base_Arbres,6,FALSE)*Crit4,\"\")","v":""},{"$f":"IF(Base_Arbres!B899<>\"\",VLOOKUP($A899,Base_Arbres,7,FALSE)*Crit5,\"\")","v":""},{"$f":"IF(Base_Arbres!C899<>\"\",VLOOKUP($A899,Base_Arbres,8,FALSE)*crit8,\"\")","v":""},{"$f":"IF(Base_Arbres!D899<>\"\",VLOOKUP($A899,Base_Arbres,9,FALSE)*crit9,\"\")","v":""},{"$f":"IF(ISNA(VLOOKUP(INDEX(Base_Typologie!$A$6:$P$1003,MATCH(A899,Base_Typologie!$A:$A,0)-5,MATCH(Typologie_Espace_Public,Base_Typologie!$6:$6,0)),TableauScoreTypologie2,2,FALSE)*Crit6),0,VLOOKUP(INDEX(Base_Typologie!$A$6:$P$1003,MATCH(A899,Base_Typologie!$A:$A,0)-5,MATCH(Typologie_Espace_Public,Base_Typologie!$6:$6,0)),TableauScoreTypologie2,2,FALSE)*Crit6)","v":0},0,0,0,0,0,0,0,0,0,0,0,0,null,{"$f":"IF(Base_Arbres!A1002<>\"\",VLOOKUP($A899,Base_Arbres,4,FALSE)*Crit7,\"\")","v":""}]
[{"$f":"IF(Base_Arbres!A946<>\"\",Base_Arbres!A946,\"\")","v":""},{"$f":"IF(Base_Arbres!A946<>\"\",VLOOKUP($A900,Base_Arbres,3,FALSE)*Crit1,\"\")","v":""},{"$f":"IF(Base_Arbres!A946<>\"\",VLOOKUP($A900,Base_Arbres,4,FALSE)*Crit2,\"\")","v":""},{"$f":"IF(Base_Arbres!A946<>\"\",VLOOKUP($A900,Base_Arbres,5,FALSE)*Crit3,\"\")","v":""},{"$f":"IF(Base_Arbres!A946<>\"\",VLOOKUP($A900,Base_Arbres,6,FALSE)*Crit4,\"\")","v":""},{"$f":"IF(Base_Arbres!B900<>\"\",VLOOKUP($A900,Base_Arbres,7,FALSE)*Crit5,\"\")","v":""},{"$f":"IF(Base_Arbres!C900<>\"\",VLOOKUP($A900,Base_Arbres,8,FALSE)*crit8,\"\")","v":""},{"$f":"IF(Base_Arbres!D900<>\"\",VLOOKUP($A900,Base_Arbres,9,FALSE)*crit9,\"\")","v":""},{"$f":"IF(ISNA(VLOOKUP(INDEX(Base_Typologie!$A$6:$P$1003,MATCH(A900,Base_Typologie!$A:$A,0)-5,MATCH(Typologie_Espace_Public,Base_Typologie!$6:$6,0)),TableauScoreTypologie2,2,FALSE)*Crit6),0,VLOOKUP(INDEX(Base_Typologie!$A$6:$P$1003,MATCH(A900,Base_Typologie!$A:$A,0)-5,MATCH(Typologie_Espace_Public,Base_Typologie!$6:$6,0)),TableauScoreTypologie2,2,FALSE)*Crit6)","v":0},0,0,0,0,0,0,0,0,0,0,0,0,null,{"$f":"IF(Base_Arbres!A1003<>\"\",VLOOKUP($A900,Base_Arbres,4,FALSE)*Crit7,\"\")","v":""}]
[{"$f":"IF(Base_Arbres!A947<>\"\",Base_Arbres!A947,\"\")","v":""},{"$f":"IF(Base_Arbres!A947<>\"\",VLOOKUP($A901,Base_Arbres,3,FALSE)*Crit1,\"\")","v":""},{"$f":"IF(Base_Arbres!A947<>\"\",VLOOKUP($A901,Base_Arbres,4,FALSE)*Crit2,\"\")","v":""},{"$f":"IF(Base_Arbres!A947<>\"\",VLOOKUP($A901,Base_Arbres,5,FALSE)*Crit3,\"\")","v":""},{"$f":"IF(Base_Arbres!A947<>\"\",VLOOKUP($A901,Base_Arbres,6,FALSE)*Crit4,\"\")","v":""},{"$f":"IF(Base_Arbres!B901<>\"\",VLOOKUP($A901,Base_Arbres,7,FALSE)*Crit5,\"\")","v":""},{"$f":"IF(Base_Arbres!C901<>\"\",VLOOKUP($A901,Base_Arbres,8,FALSE)*crit8,\"\")","v":""},{"$f":"IF(Base_Arbres!D901<>\"\",VLOOKUP($A901,Base_Arbres,9,FALSE)*crit9,\"\")","v":""},{"$f":"IF(ISNA(VLOOKUP(INDEX(Base_Typologie!$A$6:$P$1003,MATCH(A901,Base_Typologie!$A:$A,0)-5,MATCH(Typologie_Espace_Public,Base_Typologie!$6:$6,0)),TableauScoreTypologie2,2,FALSE)*Crit6),0,VLOOKUP(INDEX(Base_Typologie!$A$6:$P$1003,MATCH(A901,Base_Typologie!$A:$A,0)-5,MATCH(Typologie_Espace_Public,Base_Typologie!$6:$6,0)),TableauScoreTypologie2,2,FALSE)*Crit6)","v":0},0,0,0,0,0,0,0,0,0,0,0,0,null,{"$f":"IF(Base_Arbres!A1004<>\"\",VLOOKUP($A901,Base_Arbres,4,FALSE)*Crit7,\"\")","v":""}]
[{"$f":"IF(Base_Arbres!A948<>\"\",Base_Arbres!A948,\"\")","v":""},{"$f":"IF(Base_Arbres!A948<>\"\",VLOOKUP($A902,Base_Arbres,3,FALSE)*Crit1,\"\")","v":""},{"$f":"IF(Base_Arbres!A948<>\"\",VLOOKUP($A902,Base_Arbres,4,FALSE)*Crit2,\"\")","v":""},{"$f":"IF(Base_Arbres!A948<>\"\",VLOOKUP($A902,Base_Arbres,5,FALSE)*Crit3,\"\")","v":""},{"$f":"IF(Base_Arbres!A948<>\"\",VLOOKUP($A902,Base_Arbres,6,FALSE)*Crit4,\"\")","v":""},{"$f":"IF(Base_Arbres!B902<>\"\",VLOOKUP($A902,Base_Arbres,7,FALSE)*Crit5,\"\")","v":""},{"$f":"IF(Base_Arbres!C902<>\"\",VLOOKUP($A902,Base_Arbres,8,FALSE)*crit8,\"\")","v":""},{"$f":"IF(Base_Arbres!D902<>\"\",VLOOKUP($A902,Base_Arbres,9,FALSE)*crit9,\"\")","v":""},{"$f":"IF(ISNA(VLOOKUP(INDEX(Base_Typologie!$A$6:$P$1003,MATCH(A902,Base_Typologie!$A:$A,0)-5,MATCH(Typologie_Espace_Public,Base_Typologie!$6:$6,0)),TableauScoreTypologie2,2,FALSE)*Crit6),0,VLOOKUP(INDEX(Base_Typologie!$A$6:$P$1003,MATCH(A902,Base_Typologie!$A:$A,0)-5,MATCH(Typologie_Espace_Public,Base_Typologie!$6:$6,0)),TableauScoreTypologie2,2,FALSE)*Crit6)","v":0},0,0,0,0,0,0,0,0,0,0,0,0,null,{"$f":"IF(Base_Arbres!A1005<>\"\",VLOOKUP($A902,Base_Arbres,4,FALSE)*Crit7,\"\")","v":""}]
[{"$f":"IF(Base_Arbres!A949<>\"\",Base_Arbres!A949,\"\")","v":""},{"$f":"IF(Base_Arbres!A949<>\"\",VLOOKUP($A903,Base_Arbres,3,FALSE)*Crit1,\"\")","v":""},{"$f":"IF(Base_Arbres!A949<>\"\",VLOOKUP($A903,Base_Arbres,4,FALSE)*Crit2,\"\")","v":""},{"$f":"IF(Base_Arbres!A949<>\"\",VLOOKUP($A903,Base_Arbres,5,FALSE)*Crit3,\"\")","v":""},{"$f":"IF(Base_Arbres!A949<>\"\",VLOOKUP($A903,Base_Arbres,6,FALSE)*Crit4,\"\")","v":""},{"$f":"IF(Base_Arbres!B903<>\"\",VLOOKUP($A903,Base_Arbres,7,FALSE)*Crit5,\"\")","v":""},{"$f":"IF(Base_Arbres!C903<>\"\",VLOOKUP($A903,Base_Arbres,8,FALSE)*crit8,\"\")","v":""},{"$f":"IF(Base_Arbres!D903<>\"\",VLOOKUP($A903,Base_Arbres,9,FALSE)*crit9,\"\")","v":""},{"$f":"IF(ISNA(VLOOKUP(INDEX(Base_Typologie!$A$6:$P$1003,MATCH(A903,Base_Typologie!$A:$A,0)-5,MATCH(Typologie_Espace_Public,Base_Typologie!$6:$6,0)),TableauScoreTypologie2,2,FALSE)*Crit6),0,VLOOKUP(INDEX(Base_Typologie!$A$6:$P$1003,MATCH(A903,Base_Typologie!$A:$A,0)-5,MATCH(Typologie_Espace_Public,Base_Typologie!$6:$6,0)),TableauScoreTypologie2,2,FALSE)*Crit6)","v":0},0,0,0,0,0,0,0,0,0,0,0,0,null,{"$f":"IF(Base_Arbres!A1006<>\"\",VLOOKUP($A903,Base_Arbres,4,FALSE)*Crit7,\"\")","v":""}]
[{"$f":"IF(Base_Arbres!A950<>\"\",Base_Arbres!A950,\"\")","v":""},{"$f":"IF(Base_Arbres!A950<>\"\",VLOOKUP($A904,Base_Arbres,3,FALSE)*Crit1,\"\")","v":""},{"$f":"IF(Base_Arbres!A950<>\"\",VLOOKUP($A904,Base_Arbres,4,FALSE)*Crit2,\"\")","v":""},{"$f":"IF(Base_Arbres!A950<>\"\",VLOOKUP($A904,Base_Arbres,5,FALSE)*Crit3,\"\")","v":""},{"$f":"IF(Base_Arbres!A950<>\"\",VLOOKUP($A904,Base_Arbres,6,FALSE)*Crit4,\"\")","v":""},{"$f":"IF(Base_Arbres!B904<>\"\",VLOOKUP($A904,Base_Arbres,7,FALSE)*Crit5,\"\")","v":""},{"$f":"IF(Base_Arbres!C904<>\"\",VLOOKUP($A904,Base_Arbres,8,FALSE)*crit8,\"\")","v":""},{"$f":"IF(Base_Arbres!D904<>\"\",VLOOKUP($A904,Base_Arbres,9,FALSE)*crit9,\"\")","v":""},{"$f":"IF(ISNA(VLOOKUP(INDEX(Base_Typologie!$A$6:$P$1003,MATCH(A904,Base_Typologie!$A:$A,0)-5,MATCH(Typologie_Espace_Public,Base_Typologie!$6:$6,0)),TableauScoreTypologie2,2,FALSE)*Crit6),0,VLOOKUP(INDEX(Base_Typologie!$A$6:$P$1003,MATCH(A904,Base_Typologie!$A:$A,0)-5,MATCH(Typologie_Espace_Public,Base_Typologie!$6:$6,0)),TableauScoreTypologie2,2,FALSE)*Crit6)","v":0},0,0,0,0,0,0,0,0,0,0,0,0,null,{"$f":"IF(Base_Arbres!A1007<>\"\",VLOOKUP($A904,Base_Arbres,4,FALSE)*Crit7,\"\")","v":""}]
[{"$f":"IF(Base_Arbres!A951<>\"\",Base_Arbres!A951,\"\")","v":""},{"$f":"IF(Base_Arbres!A951<>\"\",VLOOKUP($A905,Base_Arbres,3,FALSE)*Crit1,\"\")","v":""},{"$f":"IF(Base_Arbres!A951<>\"\",VLOOKUP($A905,Base_Arbres,4,FALSE)*Crit2,\"\")","v":""},{"$f":"IF(Base_Arbres!A951<>\"\",VLOOKUP($A905,Base_Arbres,5,FALSE)*Crit3,\"\")","v":""},{"$f":"IF(Base_Arbres!A951<>\"\",VLOOKUP($A905,Base_Arbres,6,FALSE)*Crit4,\"\")","v":""},{"$f":"IF(Base_Arbres!B905<>\"\",VLOOKUP($A905,Base_Arbres,7,FALSE)*Crit5,\"\")","v":""},{"$f":"IF(Base_Arbres!C905<>\"\",VLOOKUP($A905,Base_Arbres,8,FALSE)*crit8,\"\")","v":""},{"$f":"IF(Base_Arbres!D905<>\"\",VLOOKUP($A905,Base_Arbres,9,FALSE)*crit9,\"\")","v":""},{"$f":"IF(ISNA(VLOOKUP(INDEX(Base_Typologie!$A$6:$P$1003,MATCH(A905,Base_Typologie!$A:$A,0)-5,MATCH(Typologie_Espace_Public,Base_Typologie!$6:$6,0)),TableauScoreTypologie2,2,FALSE)*Crit6),0,VLOOKUP(INDEX(Base_Typologie!$A$6:$P$1003,MATCH(A905,Base_Typologie!$A:$A,0)-5,MATCH(Typologie_Espace_Public,Base_Typologie!$6:$6,0)),TableauScoreTypologie2,2,FALSE)*Crit6)","v":0},0,0,0,0,0,0,0,0,0,0,0,0,null,{"$f":"IF(Base_Arbres!A1008<>\"\",VLOOKUP($A905,Base_Arbres,4,FALSE)*Crit7,\"\")","v":""}]
[{"$f":"IF(Base_Arbres!A952<>\"\",Base_Arbres!A952,\"\")","v":""},{"$f":"IF(Base_Arbres!A952<>\"\",VLOOKUP($A906,Base_Arbres,3,FALSE)*Crit1,\"\")","v":""},{"$f":"IF(Base_Arbres!A952<>\"\",VLOOKUP($A906,Base_Arbres,4,FALSE)*Crit2,\"\")","v":""},{"$f":"IF(Base_Arbres!A952<>\"\",VLOOKUP($A906,Base_Arbres,5,FALSE)*Crit3,\"\")","v":""},{"$f":"IF(Base_Arbres!A952<>\"\",VLOOKUP($A906,Base_Arbres,6,FALSE)*Crit4,\"\")","v":""},{"$f":"IF(Base_Arbres!B906<>\"\",VLOOKUP($A906,Base_Arbres,7,FALSE)*Crit5,\"\")","v":""},{"$f":"IF(Base_Arbres!C906<>\"\",VLOOKUP($A906,Base_Arbres,8,FALSE)*crit8,\"\")","v":""},{"$f":"IF(Base_Arbres!D906<>\"\",VLOOKUP($A906,Base_Arbres,9,FALSE)*crit9,\"\")","v":""},{"$f":"IF(ISNA(VLOOKUP(INDEX(Base_Typologie!$A$6:$P$1003,MATCH(A906,Base_Typologie!$A:$A,0)-5,MATCH(Typologie_Espace_Public,Base_Typologie!$6:$6,0)),TableauScoreTypologie2,2,FALSE)*Crit6),0,VLOOKUP(INDEX(Base_Typologie!$A$6:$P$1003,MATCH(A906,Base_Typologie!$A:$A,0)-5,MATCH(Typologie_Espace_Public,Base_Typologie!$6:$6,0)),TableauScoreTypologie2,2,FALSE)*Crit6)","v":0},0,0,0,0,0,0,0,0,0,0,0,0,null,{"$f":"IF(Base_Arbres!A1009<>\"\",VLOOKUP($A906,Base_Arbres,4,FALSE)*Crit7,\"\")","v":""}]
[{"$f":"IF(Base_Arbres!A953<>\"\",Base_Arbres!A953,\"\")","v":""},{"$f":"IF(Base_Arbres!A953<>\"\",VLOOKUP($A907,Base_Arbres,3,FALSE)*Crit1,\"\")","v":""},{"$f":"IF(Base_Arbres!A953<>\"\",VLOOKUP($A907,Base_Arbres,4,FALSE)*Crit2,\"\")","v":""},{"$f":"IF(Base_Arbres!A953<>\"\",VLOOKUP($A907,Base_Arbres,5,FALSE)*Crit3,\"\")","v":""},{"$f":"IF(Base_Arbres!A953<>\"\",VLOOKUP($A907,Base_Arbres,6,FALSE)*Crit4,\"\")","v":""},{"$f":"IF(Base_Arbres!B907<>\"\",VLOOKUP($A907,Base_Arbres,7,FALSE)*Crit5,\"\")","v":""},{"$f":"IF(Base_Arbres!C907<>\"\",VLOOKUP($A907,Base_Arbres,8,FALSE)*crit8,\"\")","v":""},{"$f":"IF(Base_Arbres!D907<>\"\",VLOOKUP($A907,Base_Arbres,9,FALSE)*crit9,\"\")","v":""},{"$f":"IF(ISNA(VLOOKUP(INDEX(Base_Typologie!$A$6:$P$1003,MATCH(A907,Base_Typologie!$A:$A,0)-5,MATCH(Typologie_Espace_Public,Base_Typologie!$6:$6,0)),TableauScoreTypologie2,2,FALSE)*Crit6),0,VLOOKUP(INDEX(Base_Typologie!$A$6:$P$1003,MATCH(A907,Base_Typologie!$A:$A,0)-5,MATCH(Typologie_Espace_Public,Base_Typologie!$6:$6,0)),TableauScoreTypologie2,2,FALSE)*Crit6)","v":0},0,0,0,0,0,0,0,0,0,0,0,0,null,{"$f":"IF(Base_Arbres!A1010<>\"\",VLOOKUP($A907,Base_Arbres,4,FALSE)*Crit7,\"\")","v":""}]
[{"$f":"IF(Base_Arbres!A954<>\"\",Base_Arbres!A954,\"\")","v":""},{"$f":"IF(Base_Arbres!A954<>\"\",VLOOKUP($A908,Base_Arbres,3,FALSE)*Crit1,\"\")","v":""},{"$f":"IF(Base_Arbres!A954<>\"\",VLOOKUP($A908,Base_Arbres,4,FALSE)*Crit2,\"\")","v":""},{"$f":"IF(Base_Arbres!A954<>\"\",VLOOKUP($A908,Base_Arbres,5,FALSE)*Crit3,\"\")","v":""},{"$f":"IF(Base_Arbres!A954<>\"\",VLOOKUP($A908,Base_Arbres,6,FALSE)*Crit4,\"\")","v":""},{"$f":"IF(Base_Arbres!B908<>\"\",VLOOKUP($A908,Base_Arbres,7,FALSE)*Crit5,\"\")","v":""},{"$f":"IF(Base_Arbres!C908<>\"\",VLOOKUP($A908,Base_Arbres,8,FALSE)*crit8,\"\")","v":""},{"$f":"IF(Base_Arbres!D908<>\"\",VLOOKUP($A908,Base_Arbres,9,FALSE)*crit9,\"\")","v":""},{"$f":"IF(ISNA(VLOOKUP(INDEX(Base_Typologie!$A$6:$P$1003,MATCH(A908,Base_Typologie!$A:$A,0)-5,MATCH(Typologie_Espace_Public,Base_Typologie!$6:$6,0)),TableauScoreTypologie2,2,FALSE)*Crit6),0,VLOOKUP(INDEX(Base_Typologie!$A$6:$P$1003,MATCH(A908,Base_Typologie!$A:$A,0)-5,MATCH(Typologie_Espace_Public,Base_Typologie!$6:$6,0)),TableauScoreTypologie2,2,FALSE)*Crit6)","v":0},0,0,0,0,0,0,0,0,0,0,0,0,null,{"$f":"IF(Base_Arbres!A1011<>\"\",VLOOKUP($A908,Base_Arbres,4,FALSE)*Crit7,\"\")","v":""}]
[{"$f":"IF(Base_Arbres!A955<>\"\",Base_Arbres!A955,\"\")","v":""},{"$f":"IF(Base_Arbres!A955<>\"\",VLOOKUP($A909,Base_Arbres,3,FALSE)*Crit1,\"\")","v":""},{"$f":"IF(Base_Arbres!A955<>\"\",VLOOKUP($A909,Base_Arbres,4,FALSE)*Crit2,\"\")","v":""},{"$f":"IF(Base_Arbres!A955<>\"\",VLOOKUP($A909,Base_Arbres,5,FALSE)*Crit3,\"\")","v":""},{"$f":"IF(Base_Arbres!A955<>\"\",VLOOKUP($A909,Base_Arbres,6,FALSE)*Crit4,\"\")","v":""},{"$f":"IF(Base_Arbres!B909<>\"\",VLOOKUP($A909,Base_Arbres,7,FALSE)*Crit5,\"\")","v":""},{"$f":"IF(Base_Arbres!C909<>\"\",VLOOKUP($A909,Base_Arbres,8,FALSE)*crit8,\"\")","v":""},{"$f":"IF(Base_Arbres!D909<>\"\",VLOOKUP($A909,Base_Arbres,9,FALSE)*crit9,\"\")","v":""},{"$f":"IF(ISNA(VLOOKUP(INDEX(Base_Typologie!$A$6:$P$1003,MATCH(A909,Base_Typologie!$A:$A,0)-5,MATCH(Typologie_Espace_Public,Base_Typologie!$6:$6,0)),TableauScoreTypologie2,2,FALSE)*Crit6),0,VLOOKUP(INDEX(Base_Typologie!$A$6:$P$1003,MATCH(A909,Base_Typologie!$A:$A,0)-5,MATCH(Typologie_Espace_Public,Base_Typologie!$6:$6,0)),TableauScoreTypologie2,2,FALSE)*Crit6)","v":0},0,0,0,0,0,0,0,0,0,0,0,0,null,{"$f":"IF(Base_Arbres!A1012<>\"\",VLOOKUP($A909,Base_Arbres,4,FALSE)*Crit7,\"\")","v":""}]
[{"$f":"IF(Base_Arbres!A956<>\"\",Base_Arbres!A956,\"\")","v":""},{"$f":"IF(Base_Arbres!A956<>\"\",VLOOKUP($A910,Base_Arbres,3,FALSE)*Crit1,\"\")","v":""},{"$f":"IF(Base_Arbres!A956<>\"\",VLOOKUP($A910,Base_Arbres,4,FALSE)*Crit2,\"\")","v":""},{"$f":"IF(Base_Arbres!A956<>\"\",VLOOKUP($A910,Base_Arbres,5,FALSE)*Crit3,\"\")","v":""},{"$f":"IF(Base_Arbres!A956<>\"\",VLOOKUP($A910,Base_Arbres,6,FALSE)*Crit4,\"\")","v":""},{"$f":"IF(Base_Arbres!B910<>\"\",VLOOKUP($A910,Base_Arbres,7,FALSE)*Crit5,\"\")","v":""},{"$f":"IF(Base_Arbres!C910<>\"\",VLOOKUP($A910,Base_Arbres,8,FALSE)*crit8,\"\")","v":""},{"$f":"IF(Base_Arbres!D910<>\"\",VLOOKUP($A910,Base_Arbres,9,FALSE)*crit9,\"\")","v":""},{"$f":"IF(ISNA(VLOOKUP(INDEX(Base_Typologie!$A$6:$P$1003,MATCH(A910,Base_Typologie!$A:$A,0)-5,MATCH(Typologie_Espace_Public,Base_Typologie!$6:$6,0)),TableauScoreTypologie2,2,FALSE)*Crit6),0,VLOOKUP(INDEX(Base_Typologie!$A$6:$P$1003,MATCH(A910,Base_Typologie!$A:$A,0)-5,MATCH(Typologie_Espace_Public,Base_Typologie!$6:$6,0)),TableauScoreTypologie2,2,FALSE)*Crit6)","v":0},0,0,0,0,0,0,0,0,0,0,0,0,null,{"$f":"IF(Base_Arbres!A1013<>\"\",VLOOKUP($A910,Base_Arbres,4,FALSE)*Crit7,\"\")","v":""}]
[{"$f":"IF(Base_Arbres!A957<>\"\",Base_Arbres!A957,\"\")","v":""},{"$f":"IF(Base_Arbres!A957<>\"\",VLOOKUP($A911,Base_Arbres,3,FALSE)*Crit1,\"\")","v":""},{"$f":"IF(Base_Arbres!A957<>\"\",VLOOKUP($A911,Base_Arbres,4,FALSE)*Crit2,\"\")","v":""},{"$f":"IF(Base_Arbres!A957<>\"\",VLOOKUP($A911,Base_Arbres,5,FALSE)*Crit3,\"\")","v":""},{"$f":"IF(Base_Arbres!A957<>\"\",VLOOKUP($A911,Base_Arbres,6,FALSE)*Crit4,\"\")","v":""},{"$f":"IF(Base_Arbres!B911<>\"\",VLOOKUP($A911,Base_Arbres,7,FALSE)*Crit5,\"\")","v":""},{"$f":"IF(Base_Arbres!C911<>\"\",VLOOKUP($A911,Base_Arbres,8,FALSE)*crit8,\"\")","v":""},{"$f":"IF(Base_Arbres!D911<>\"\",VLOOKUP($A911,Base_Arbres,9,FALSE)*crit9,\"\")","v":""},{"$f":"IF(ISNA(VLOOKUP(INDEX(Base_Typologie!$A$6:$P$1003,MATCH(A911,Base_Typologie!$A:$A,0)-5,MATCH(Typologie_Espace_Public,Base_Typologie!$6:$6,0)),TableauScoreTypologie2,2,FALSE)*Crit6),0,VLOOKUP(INDEX(Base_Typologie!$A$6:$P$1003,MATCH(A911,Base_Typologie!$A:$A,0)-5,MATCH(Typologie_Espace_Public,Base_Typologie!$6:$6,0)),TableauScoreTypologie2,2,FALSE)*Crit6)","v":0},0,0,0,0,0,0,0,0,0,0,0,0,null,{"$f":"IF(Base_Arbres!A1014<>\"\",VLOOKUP($A911,Base_Arbres,4,FALSE)*Crit7,\"\")","v":""}]
[{"$f":"IF(Base_Arbres!A958<>\"\",Base_Arbres!A958,\"\")","v":""},{"$f":"IF(Base_Arbres!A958<>\"\",VLOOKUP($A912,Base_Arbres,3,FALSE)*Crit1,\"\")","v":""},{"$f":"IF(Base_Arbres!A958<>\"\",VLOOKUP($A912,Base_Arbres,4,FALSE)*Crit2,\"\")","v":""},{"$f":"IF(Base_Arbres!A958<>\"\",VLOOKUP($A912,Base_Arbres,5,FALSE)*Crit3,\"\")","v":""},{"$f":"IF(Base_Arbres!A958<>\"\",VLOOKUP($A912,Base_Arbres,6,FALSE)*Crit4,\"\")","v":""},{"$f":"IF(Base_Arbres!B912<>\"\",VLOOKUP($A912,Base_Arbres,7,FALSE)*Crit5,\"\")","v":""},{"$f":"IF(Base_Arbres!C912<>\"\",VLOOKUP($A912,Base_Arbres,8,FALSE)*crit8,\"\")","v":""},{"$f":"IF(Base_Arbres!D912<>\"\",VLOOKUP($A912,Base_Arbres,9,FALSE)*crit9,\"\")","v":""},{"$f":"IF(ISNA(VLOOKUP(INDEX(Base_Typologie!$A$6:$P$1003,MATCH(A912,Base_Typologie!$A:$A,0)-5,MATCH(Typologie_Espace_Public,Base_Typologie!$6:$6,0)),TableauScoreTypologie2,2,FALSE)*Crit6),0,VLOOKUP(INDEX(Base_Typologie!$A$6:$P$1003,MATCH(A912,Base_Typologie!$A:$A,0)-5,MATCH(Typologie_Espace_Public,Base_Typologie!$6:$6,0)),TableauScoreTypologie2,2,FALSE)*Crit6)","v":0},0,0,0,0,0,0,0,0,0,0,0,0,null,{"$f":"IF(Base_Arbres!A1015<>\"\",VLOOKUP($A912,Base_Arbres,4,FALSE)*Crit7,\"\")","v":""}]
[{"$f":"IF(Base_Arbres!A959<>\"\",Base_Arbres!A959,\"\")","v":""},{"$f":"IF(Base_Arbres!A959<>\"\",VLOOKUP($A913,Base_Arbres,3,FALSE)*Crit1,\"\")","v":""},{"$f":"IF(Base_Arbres!A959<>\"\",VLOOKUP($A913,Base_Arbres,4,FALSE)*Crit2,\"\")","v":""},{"$f":"IF(Base_Arbres!A959<>\"\",VLOOKUP($A913,Base_Arbres,5,FALSE)*Crit3,\"\")","v":""},{"$f":"IF(Base_Arbres!A959<>\"\",VLOOKUP($A913,Base_Arbres,6,FALSE)*Crit4,\"\")","v":""},{"$f":"IF(Base_Arbres!B913<>\"\",VLOOKUP($A913,Base_Arbres,7,FALSE)*Crit5,\"\")","v":""},{"$f":"IF(Base_Arbres!C913<>\"\",VLOOKUP($A913,Base_Arbres,8,FALSE)*crit8,\"\")","v":""},{"$f":"IF(Base_Arbres!D913<>\"\",VLOOKUP($A913,Base_Arbres,9,FALSE)*crit9,\"\")","v":""},{"$f":"IF(ISNA(VLOOKUP(INDEX(Base_Typologie!$A$6:$P$1003,MATCH(A913,Base_Typologie!$A:$A,0)-5,MATCH(Typologie_Espace_Public,Base_Typologie!$6:$6,0)),TableauScoreTypologie2,2,FALSE)*Crit6),0,VLOOKUP(INDEX(Base_Typologie!$A$6:$P$1003,MATCH(A913,Base_Typologie!$A:$A,0)-5,MATCH(Typologie_Espace_Public,Base_Typologie!$6:$6,0)),TableauScoreTypologie2,2,FALSE)*Crit6)","v":0},0,0,0,0,0,0,0,0,0,0,0,0,null,{"$f":"IF(Base_Arbres!A1016<>\"\",VLOOKUP($A913,Base_Arbres,4,FALSE)*Crit7,\"\")","v":""}]
[{"$f":"IF(Base_Arbres!A960<>\"\",Base_Arbres!A960,\"\")","v":""},{"$f":"IF(Base_Arbres!A960<>\"\",VLOOKUP($A914,Base_Arbres,3,FALSE)*Crit1,\"\")","v":""},{"$f":"IF(Base_Arbres!A960<>\"\",VLOOKUP($A914,Base_Arbres,4,FALSE)*Crit2,\"\")","v":""},{"$f":"IF(Base_Arbres!A960<>\"\",VLOOKUP($A914,Base_Arbres,5,FALSE)*Crit3,\"\")","v":""},{"$f":"IF(Base_Arbres!A960<>\"\",VLOOKUP($A914,Base_Arbres,6,FALSE)*Crit4,\"\")","v":""},{"$f":"IF(Base_Arbres!B914<>\"\",VLOOKUP($A914,Base_Arbres,7,FALSE)*Crit5,\"\")","v":""},{"$f":"IF(Base_Arbres!C914<>\"\",VLOOKUP($A914,Base_Arbres,8,FALSE)*crit8,\"\")","v":""},{"$f":"IF(Base_Arbres!D914<>\"\",VLOOKUP($A914,Base_Arbres,9,FALSE)*crit9,\"\")","v":""},{"$f":"IF(ISNA(VLOOKUP(INDEX(Base_Typologie!$A$6:$P$1003,MATCH(A914,Base_Typologie!$A:$A,0)-5,MATCH(Typologie_Espace_Public,Base_Typologie!$6:$6,0)),TableauScoreTypologie2,2,FALSE)*Crit6),0,VLOOKUP(INDEX(Base_Typologie!$A$6:$P$1003,MATCH(A914,Base_Typologie!$A:$A,0)-5,MATCH(Typologie_Espace_Public,Base_Typologie!$6:$6,0)),TableauScoreTypologie2,2,FALSE)*Crit6)","v":0},0,0,0,0,0,0,0,0,0,0,0,0,null,{"$f":"IF(Base_Arbres!A1017<>\"\",VLOOKUP($A914,Base_Arbres,4,FALSE)*Crit7,\"\")","v":""}]
[{"$f":"IF(Base_Arbres!A961<>\"\",Base_Arbres!A961,\"\")","v":""},{"$f":"IF(Base_Arbres!A961<>\"\",VLOOKUP($A915,Base_Arbres,3,FALSE)*Crit1,\"\")","v":""},{"$f":"IF(Base_Arbres!A961<>\"\",VLOOKUP($A915,Base_Arbres,4,FALSE)*Crit2,\"\")","v":""},{"$f":"IF(Base_Arbres!A961<>\"\",VLOOKUP($A915,Base_Arbres,5,FALSE)*Crit3,\"\")","v":""},{"$f":"IF(Base_Arbres!A961<>\"\",VLOOKUP($A915,Base_Arbres,6,FALSE)*Crit4,\"\")","v":""},{"$f":"IF(Base_Arbres!B915<>\"\",VLOOKUP($A915,Base_Arbres,7,FALSE)*Crit5,\"\")","v":""},{"$f":"IF(Base_Arbres!C915<>\"\",VLOOKUP($A915,Base_Arbres,8,FALSE)*crit8,\"\")","v":""},{"$f":"IF(Base_Arbres!D915<>\"\",VLOOKUP($A915,Base_Arbres,9,FALSE)*crit9,\"\")","v":""},{"$f":"IF(ISNA(VLOOKUP(INDEX(Base_Typologie!$A$6:$P$1003,MATCH(A915,Base_Typologie!$A:$A,0)-5,MATCH(Typologie_Espace_Public,Base_Typologie!$6:$6,0)),TableauScoreTypologie2,2,FALSE)*Crit6),0,VLOOKUP(INDEX(Base_Typologie!$A$6:$P$1003,MATCH(A915,Base_Typologie!$A:$A,0)-5,MATCH(Typologie_Espace_Public,Base_Typologie!$6:$6,0)),TableauScoreTypologie2,2,FALSE)*Crit6)","v":0},0,0,0,0,0,0,0,0,0,0,0,0,null,{"$f":"IF(Base_Arbres!A1018<>\"\",VLOOKUP($A915,Base_Arbres,4,FALSE)*Crit7,\"\")","v":""}]
[{"$f":"IF(Base_Arbres!A962<>\"\",Base_Arbres!A962,\"\")","v":""},{"$f":"IF(Base_Arbres!A962<>\"\",VLOOKUP($A916,Base_Arbres,3,FALSE)*Crit1,\"\")","v":""},{"$f":"IF(Base_Arbres!A962<>\"\",VLOOKUP($A916,Base_Arbres,4,FALSE)*Crit2,\"\")","v":""},{"$f":"IF(Base_Arbres!A962<>\"\",VLOOKUP($A916,Base_Arbres,5,FALSE)*Crit3,\"\")","v":""},{"$f":"IF(Base_Arbres!A962<>\"\",VLOOKUP($A916,Base_Arbres,6,FALSE)*Crit4,\"\")","v":""},{"$f":"IF(Base_Arbres!B916<>\"\",VLOOKUP($A916,Base_Arbres,7,FALSE)*Crit5,\"\")","v":""},{"$f":"IF(Base_Arbres!C916<>\"\",VLOOKUP($A916,Base_Arbres,8,FALSE)*crit8,\"\")","v":""},{"$f":"IF(Base_Arbres!D916<>\"\",VLOOKUP($A916,Base_Arbres,9,FALSE)*crit9,\"\")","v":""},{"$f":"IF(ISNA(VLOOKUP(INDEX(Base_Typologie!$A$6:$P$1003,MATCH(A916,Base_Typologie!$A:$A,0)-5,MATCH(Typologie_Espace_Public,Base_Typologie!$6:$6,0)),TableauScoreTypologie2,2,FALSE)*Crit6),0,VLOOKUP(INDEX(Base_Typologie!$A$6:$P$1003,MATCH(A916,Base_Typologie!$A:$A,0)-5,MATCH(Typologie_Espace_Public,Base_Typologie!$6:$6,0)),TableauScoreTypologie2,2,FALSE)*Crit6)","v":0},0,0,0,0,0,0,0,0,0,0,0,0,null,{"$f":"IF(Base_Arbres!A1019<>\"\",VLOOKUP($A916,Base_Arbres,4,FALSE)*Crit7,\"\")","v":""}]
[{"$f":"IF(Base_Arbres!A963<>\"\",Base_Arbres!A963,\"\")","v":""},{"$f":"IF(Base_Arbres!A963<>\"\",VLOOKUP($A917,Base_Arbres,3,FALSE)*Crit1,\"\")","v":""},{"$f":"IF(Base_Arbres!A963<>\"\",VLOOKUP($A917,Base_Arbres,4,FALSE)*Crit2,\"\")","v":""},{"$f":"IF(Base_Arbres!A963<>\"\",VLOOKUP($A917,Base_Arbres,5,FALSE)*Crit3,\"\")","v":""},{"$f":"IF(Base_Arbres!A963<>\"\",VLOOKUP($A917,Base_Arbres,6,FALSE)*Crit4,\"\")","v":""},{"$f":"IF(Base_Arbres!B917<>\"\",VLOOKUP($A917,Base_Arbres,7,FALSE)*Crit5,\"\")","v":""},{"$f":"IF(Base_Arbres!C917<>\"\",VLOOKUP($A917,Base_Arbres,8,FALSE)*crit8,\"\")","v":""},{"$f":"IF(Base_Arbres!D917<>\"\",VLOOKUP($A917,Base_Arbres,9,FALSE)*crit9,\"\")","v":""},{"$f":"IF(ISNA(VLOOKUP(INDEX(Base_Typologie!$A$6:$P$1003,MATCH(A917,Base_Typologie!$A:$A,0)-5,MATCH(Typologie_Espace_Public,Base_Typologie!$6:$6,0)),TableauScoreTypologie2,2,FALSE)*Crit6),0,VLOOKUP(INDEX(Base_Typologie!$A$6:$P$1003,MATCH(A917,Base_Typologie!$A:$A,0)-5,MATCH(Typologie_Espace_Public,Base_Typologie!$6:$6,0)),TableauScoreTypologie2,2,FALSE)*Crit6)","v":0},0,0,0,0,0,0,0,0,0,0,0,0,null,{"$f":"IF(Base_Arbres!A1020<>\"\",VLOOKUP($A917,Base_Arbres,4,FALSE)*Crit7,\"\")","v":""}]
[{"$f":"IF(Base_Arbres!A964<>\"\",Base_Arbres!A964,\"\")","v":""},{"$f":"IF(Base_Arbres!A964<>\"\",VLOOKUP($A918,Base_Arbres,3,FALSE)*Crit1,\"\")","v":""},{"$f":"IF(Base_Arbres!A964<>\"\",VLOOKUP($A918,Base_Arbres,4,FALSE)*Crit2,\"\")","v":""},{"$f":"IF(Base_Arbres!A964<>\"\",VLOOKUP($A918,Base_Arbres,5,FALSE)*Crit3,\"\")","v":""},{"$f":"IF(Base_Arbres!A964<>\"\",VLOOKUP($A918,Base_Arbres,6,FALSE)*Crit4,\"\")","v":""},{"$f":"IF(Base_Arbres!B918<>\"\",VLOOKUP($A918,Base_Arbres,7,FALSE)*Crit5,\"\")","v":""},{"$f":"IF(Base_Arbres!C918<>\"\",VLOOKUP($A918,Base_Arbres,8,FALSE)*crit8,\"\")","v":""},{"$f":"IF(Base_Arbres!D918<>\"\",VLOOKUP($A918,Base_Arbres,9,FALSE)*crit9,\"\")","v":""},{"$f":"IF(ISNA(VLOOKUP(INDEX(Base_Typologie!$A$6:$P$1003,MATCH(A918,Base_Typologie!$A:$A,0)-5,MATCH(Typologie_Espace_Public,Base_Typologie!$6:$6,0)),TableauScoreTypologie2,2,FALSE)*Crit6),0,VLOOKUP(INDEX(Base_Typologie!$A$6:$P$1003,MATCH(A918,Base_Typologie!$A:$A,0)-5,MATCH(Typologie_Espace_Public,Base_Typologie!$6:$6,0)),TableauScoreTypologie2,2,FALSE)*Crit6)","v":0},0,0,0,0,0,0,0,0,0,0,0,0,null,{"$f":"IF(Base_Arbres!A1021<>\"\",VLOOKUP($A918,Base_Arbres,4,FALSE)*Crit7,\"\")","v":""}]
[{"$f":"IF(Base_Arbres!A965<>\"\",Base_Arbres!A965,\"\")","v":""},{"$f":"IF(Base_Arbres!A965<>\"\",VLOOKUP($A919,Base_Arbres,3,FALSE)*Crit1,\"\")","v":""},{"$f":"IF(Base_Arbres!A965<>\"\",VLOOKUP($A919,Base_Arbres,4,FALSE)*Crit2,\"\")","v":""},{"$f":"IF(Base_Arbres!A965<>\"\",VLOOKUP($A919,Base_Arbres,5,FALSE)*Crit3,\"\")","v":""},{"$f":"IF(Base_Arbres!A965<>\"\",VLOOKUP($A919,Base_Arbres,6,FALSE)*Crit4,\"\")","v":""},{"$f":"IF(Base_Arbres!B919<>\"\",VLOOKUP($A919,Base_Arbres,7,FALSE)*Crit5,\"\")","v":""},{"$f":"IF(Base_Arbres!C919<>\"\",VLOOKUP($A919,Base_Arbres,8,FALSE)*crit8,\"\")","v":""},{"$f":"IF(Base_Arbres!D919<>\"\",VLOOKUP($A919,Base_Arbres,9,FALSE)*crit9,\"\")","v":""},{"$f":"IF(ISNA(VLOOKUP(INDEX(Base_Typologie!$A$6:$P$1003,MATCH(A919,Base_Typologie!$A:$A,0)-5,MATCH(Typologie_Espace_Public,Base_Typologie!$6:$6,0)),TableauScoreTypologie2,2,FALSE)*Crit6),0,VLOOKUP(INDEX(Base_Typologie!$A$6:$P$1003,MATCH(A919,Base_Typologie!$A:$A,0)-5,MATCH(Typologie_Espace_Public,Base_Typologie!$6:$6,0)),TableauScoreTypologie2,2,FALSE)*Crit6)","v":0},0,0,0,0,0,0,0,0,0,0,0,0,null,{"$f":"IF(Base_Arbres!A1022<>\"\",VLOOKUP($A919,Base_Arbres,4,FALSE)*Crit7,\"\")","v":""}]
[{"$f":"IF(Base_Arbres!A966<>\"\",Base_Arbres!A966,\"\")","v":""},{"$f":"IF(Base_Arbres!A966<>\"\",VLOOKUP($A920,Base_Arbres,3,FALSE)*Crit1,\"\")","v":""},{"$f":"IF(Base_Arbres!A966<>\"\",VLOOKUP($A920,Base_Arbres,4,FALSE)*Crit2,\"\")","v":""},{"$f":"IF(Base_Arbres!A966<>\"\",VLOOKUP($A920,Base_Arbres,5,FALSE)*Crit3,\"\")","v":""},{"$f":"IF(Base_Arbres!A966<>\"\",VLOOKUP($A920,Base_Arbres,6,FALSE)*Crit4,\"\")","v":""},{"$f":"IF(Base_Arbres!B920<>\"\",VLOOKUP($A920,Base_Arbres,7,FALSE)*Crit5,\"\")","v":""},{"$f":"IF(Base_Arbres!C920<>\"\",VLOOKUP($A920,Base_Arbres,8,FALSE)*crit8,\"\")","v":""},{"$f":"IF(Base_Arbres!D920<>\"\",VLOOKUP($A920,Base_Arbres,9,FALSE)*crit9,\"\")","v":""},{"$f":"IF(ISNA(VLOOKUP(INDEX(Base_Typologie!$A$6:$P$1003,MATCH(A920,Base_Typologie!$A:$A,0)-5,MATCH(Typologie_Espace_Public,Base_Typologie!$6:$6,0)),TableauScoreTypologie2,2,FALSE)*Crit6),0,VLOOKUP(INDEX(Base_Typologie!$A$6:$P$1003,MATCH(A920,Base_Typologie!$A:$A,0)-5,MATCH(Typologie_Espace_Public,Base_Typologie!$6:$6,0)),TableauScoreTypologie2,2,FALSE)*Crit6)","v":0},0,0,0,0,0,0,0,0,0,0,0,0,null,{"$f":"IF(Base_Arbres!A1023<>\"\",VLOOKUP($A920,Base_Arbres,4,FALSE)*Crit7,\"\")","v":""}]
[{"$f":"IF(Base_Arbres!A967<>\"\",Base_Arbres!A967,\"\")","v":""},{"$f":"IF(Base_Arbres!A967<>\"\",VLOOKUP($A921,Base_Arbres,3,FALSE)*Crit1,\"\")","v":""},{"$f":"IF(Base_Arbres!A967<>\"\",VLOOKUP($A921,Base_Arbres,4,FALSE)*Crit2,\"\")","v":""},{"$f":"IF(Base_Arbres!A967<>\"\",VLOOKUP($A921,Base_Arbres,5,FALSE)*Crit3,\"\")","v":""},{"$f":"IF(Base_Arbres!A967<>\"\",VLOOKUP($A921,Base_Arbres,6,FALSE)*Crit4,\"\")","v":""},{"$f":"IF(Base_Arbres!B921<>\"\",VLOOKUP($A921,Base_Arbres,7,FALSE)*Crit5,\"\")","v":""},{"$f":"IF(Base_Arbres!C921<>\"\",VLOOKUP($A921,Base_Arbres,8,FALSE)*crit8,\"\")","v":""},{"$f":"IF(Base_Arbres!D921<>\"\",VLOOKUP($A921,Base_Arbres,9,FALSE)*crit9,\"\")","v":""},{"$f":"IF(ISNA(VLOOKUP(INDEX(Base_Typologie!$A$6:$P$1003,MATCH(A921,Base_Typologie!$A:$A,0)-5,MATCH(Typologie_Espace_Public,Base_Typologie!$6:$6,0)),TableauScoreTypologie2,2,FALSE)*Crit6),0,VLOOKUP(INDEX(Base_Typologie!$A$6:$P$1003,MATCH(A921,Base_Typologie!$A:$A,0)-5,MATCH(Typologie_Espace_Public,Base_Typologie!$6:$6,0)),TableauScoreTypologie2,2,FALSE)*Crit6)","v":0},0,0,0,0,0,0,0,0,0,0,0,0,null,{"$f":"IF(Base_Arbres!A1024<>\"\",VLOOKUP($A921,Base_Arbres,4,FALSE)*Crit7,\"\")","v":""}]
[{"$f":"IF(Base_Arbres!A968<>\"\",Base_Arbres!A968,\"\")","v":""},{"$f":"IF(Base_Arbres!A968<>\"\",VLOOKUP($A922,Base_Arbres,3,FALSE)*Crit1,\"\")","v":""},{"$f":"IF(Base_Arbres!A968<>\"\",VLOOKUP($A922,Base_Arbres,4,FALSE)*Crit2,\"\")","v":""},{"$f":"IF(Base_Arbres!A968<>\"\",VLOOKUP($A922,Base_Arbres,5,FALSE)*Crit3,\"\")","v":""},{"$f":"IF(Base_Arbres!A968<>\"\",VLOOKUP($A922,Base_Arbres,6,FALSE)*Crit4,\"\")","v":""},{"$f":"IF(Base_Arbres!B922<>\"\",VLOOKUP($A922,Base_Arbres,7,FALSE)*Crit5,\"\")","v":""},{"$f":"IF(Base_Arbres!C922<>\"\",VLOOKUP($A922,Base_Arbres,8,FALSE)*crit8,\"\")","v":""},{"$f":"IF(Base_Arbres!D922<>\"\",VLOOKUP($A922,Base_Arbres,9,FALSE)*crit9,\"\")","v":""},{"$f":"IF(ISNA(VLOOKUP(INDEX(Base_Typologie!$A$6:$P$1003,MATCH(A922,Base_Typologie!$A:$A,0)-5,MATCH(Typologie_Espace_Public,Base_Typologie!$6:$6,0)),TableauScoreTypologie2,2,FALSE)*Crit6),0,VLOOKUP(INDEX(Base_Typologie!$A$6:$P$1003,MATCH(A922,Base_Typologie!$A:$A,0)-5,MATCH(Typologie_Espace_Public,Base_Typologie!$6:$6,0)),TableauScoreTypologie2,2,FALSE)*Crit6)","v":0},0,0,0,0,0,0,0,0,0,0,0,0,null,{"$f":"IF(Base_Arbres!A1025<>\"\",VLOOKUP($A922,Base_Arbres,4,FALSE)*Crit7,\"\")","v":""}]
[{"$f":"IF(Base_Arbres!A969<>\"\",Base_Arbres!A969,\"\")","v":""},{"$f":"IF(Base_Arbres!A969<>\"\",VLOOKUP($A923,Base_Arbres,3,FALSE)*Crit1,\"\")","v":""},{"$f":"IF(Base_Arbres!A969<>\"\",VLOOKUP($A923,Base_Arbres,4,FALSE)*Crit2,\"\")","v":""},{"$f":"IF(Base_Arbres!A969<>\"\",VLOOKUP($A923,Base_Arbres,5,FALSE)*Crit3,\"\")","v":""},{"$f":"IF(Base_Arbres!A969<>\"\",VLOOKUP($A923,Base_Arbres,6,FALSE)*Crit4,\"\")","v":""},{"$f":"IF(Base_Arbres!B923<>\"\",VLOOKUP($A923,Base_Arbres,7,FALSE)*Crit5,\"\")","v":""},{"$f":"IF(Base_Arbres!C923<>\"\",VLOOKUP($A923,Base_Arbres,8,FALSE)*crit8,\"\")","v":""},{"$f":"IF(Base_Arbres!D923<>\"\",VLOOKUP($A923,Base_Arbres,9,FALSE)*crit9,\"\")","v":""},{"$f":"IF(ISNA(VLOOKUP(INDEX(Base_Typologie!$A$6:$P$1003,MATCH(A923,Base_Typologie!$A:$A,0)-5,MATCH(Typologie_Espace_Public,Base_Typologie!$6:$6,0)),TableauScoreTypologie2,2,FALSE)*Crit6),0,VLOOKUP(INDEX(Base_Typologie!$A$6:$P$1003,MATCH(A923,Base_Typologie!$A:$A,0)-5,MATCH(Typologie_Espace_Public,Base_Typologie!$6:$6,0)),TableauScoreTypologie2,2,FALSE)*Crit6)","v":0},0,0,0,0,0,0,0,0,0,0,0,0,null,{"$f":"IF(Base_Arbres!A1026<>\"\",VLOOKUP($A923,Base_Arbres,4,FALSE)*Crit7,\"\")","v":""}]
[{"$f":"IF(Base_Arbres!A970<>\"\",Base_Arbres!A970,\"\")","v":""},{"$f":"IF(Base_Arbres!A970<>\"\",VLOOKUP($A924,Base_Arbres,3,FALSE)*Crit1,\"\")","v":""},{"$f":"IF(Base_Arbres!A970<>\"\",VLOOKUP($A924,Base_Arbres,4,FALSE)*Crit2,\"\")","v":""},{"$f":"IF(Base_Arbres!A970<>\"\",VLOOKUP($A924,Base_Arbres,5,FALSE)*Crit3,\"\")","v":""},{"$f":"IF(Base_Arbres!A970<>\"\",VLOOKUP($A924,Base_Arbres,6,FALSE)*Crit4,\"\")","v":""},{"$f":"IF(Base_Arbres!B924<>\"\",VLOOKUP($A924,Base_Arbres,7,FALSE)*Crit5,\"\")","v":""},{"$f":"IF(Base_Arbres!C924<>\"\",VLOOKUP($A924,Base_Arbres,8,FALSE)*crit8,\"\")","v":""},{"$f":"IF(Base_Arbres!D924<>\"\",VLOOKUP($A924,Base_Arbres,9,FALSE)*crit9,\"\")","v":""},{"$f":"IF(ISNA(VLOOKUP(INDEX(Base_Typologie!$A$6:$P$1003,MATCH(A924,Base_Typologie!$A:$A,0)-5,MATCH(Typologie_Espace_Public,Base_Typologie!$6:$6,0)),TableauScoreTypologie2,2,FALSE)*Crit6),0,VLOOKUP(INDEX(Base_Typologie!$A$6:$P$1003,MATCH(A924,Base_Typologie!$A:$A,0)-5,MATCH(Typologie_Espace_Public,Base_Typologie!$6:$6,0)),TableauScoreTypologie2,2,FALSE)*Crit6)","v":0},0,0,0,0,0,0,0,0,0,0,0,0,null,{"$f":"IF(Base_Arbres!A1027<>\"\",VLOOKUP($A924,Base_Arbres,4,FALSE)*Crit7,\"\")","v":""}]
[{"$f":"IF(Base_Arbres!A971<>\"\",Base_Arbres!A971,\"\")","v":""},{"$f":"IF(Base_Arbres!A971<>\"\",VLOOKUP($A925,Base_Arbres,3,FALSE)*Crit1,\"\")","v":""},{"$f":"IF(Base_Arbres!A971<>\"\",VLOOKUP($A925,Base_Arbres,4,FALSE)*Crit2,\"\")","v":""},{"$f":"IF(Base_Arbres!A971<>\"\",VLOOKUP($A925,Base_Arbres,5,FALSE)*Crit3,\"\")","v":""},{"$f":"IF(Base_Arbres!A971<>\"\",VLOOKUP($A925,Base_Arbres,6,FALSE)*Crit4,\"\")","v":""},{"$f":"IF(Base_Arbres!B925<>\"\",VLOOKUP($A925,Base_Arbres,7,FALSE)*Crit5,\"\")","v":""},{"$f":"IF(Base_Arbres!C925<>\"\",VLOOKUP($A925,Base_Arbres,8,FALSE)*crit8,\"\")","v":""},{"$f":"IF(Base_Arbres!D925<>\"\",VLOOKUP($A925,Base_Arbres,9,FALSE)*crit9,\"\")","v":""},{"$f":"IF(ISNA(VLOOKUP(INDEX(Base_Typologie!$A$6:$P$1003,MATCH(A925,Base_Typologie!$A:$A,0)-5,MATCH(Typologie_Espace_Public,Base_Typologie!$6:$6,0)),TableauScoreTypologie2,2,FALSE)*Crit6),0,VLOOKUP(INDEX(Base_Typologie!$A$6:$P$1003,MATCH(A925,Base_Typologie!$A:$A,0)-5,MATCH(Typologie_Espace_Public,Base_Typologie!$6:$6,0)),TableauScoreTypologie2,2,FALSE)*Crit6)","v":0},0,0,0,0,0,0,0,0,0,0,0,0,null,{"$f":"IF(Base_Arbres!A1028<>\"\",VLOOKUP($A925,Base_Arbres,4,FALSE)*Crit7,\"\")","v":""}]
[{"$f":"IF(Base_Arbres!A972<>\"\",Base_Arbres!A972,\"\")","v":""},{"$f":"IF(Base_Arbres!A972<>\"\",VLOOKUP($A926,Base_Arbres,3,FALSE)*Crit1,\"\")","v":""},{"$f":"IF(Base_Arbres!A972<>\"\",VLOOKUP($A926,Base_Arbres,4,FALSE)*Crit2,\"\")","v":""},{"$f":"IF(Base_Arbres!A972<>\"\",VLOOKUP($A926,Base_Arbres,5,FALSE)*Crit3,\"\")","v":""},{"$f":"IF(Base_Arbres!A972<>\"\",VLOOKUP($A926,Base_Arbres,6,FALSE)*Crit4,\"\")","v":""},{"$f":"IF(Base_Arbres!B926<>\"\",VLOOKUP($A926,Base_Arbres,7,FALSE)*Crit5,\"\")","v":""},{"$f":"IF(Base_Arbres!C926<>\"\",VLOOKUP($A926,Base_Arbres,8,FALSE)*crit8,\"\")","v":""},{"$f":"IF(Base_Arbres!D926<>\"\",VLOOKUP($A926,Base_Arbres,9,FALSE)*crit9,\"\")","v":""},{"$f":"IF(ISNA(VLOOKUP(INDEX(Base_Typologie!$A$6:$P$1003,MATCH(A926,Base_Typologie!$A:$A,0)-5,MATCH(Typologie_Espace_Public,Base_Typologie!$6:$6,0)),TableauScoreTypologie2,2,FALSE)*Crit6),0,VLOOKUP(INDEX(Base_Typologie!$A$6:$P$1003,MATCH(A926,Base_Typologie!$A:$A,0)-5,MATCH(Typologie_Espace_Public,Base_Typologie!$6:$6,0)),TableauScoreTypologie2,2,FALSE)*Crit6)","v":0},0,0,0,0,0,0,0,0,0,0,0,0,null,{"$f":"IF(Base_Arbres!A1029<>\"\",VLOOKUP($A926,Base_Arbres,4,FALSE)*Crit7,\"\")","v":""}]
[{"$f":"IF(Base_Arbres!A973<>\"\",Base_Arbres!A973,\"\")","v":""},{"$f":"IF(Base_Arbres!A973<>\"\",VLOOKUP($A927,Base_Arbres,3,FALSE)*Crit1,\"\")","v":""},{"$f":"IF(Base_Arbres!A973<>\"\",VLOOKUP($A927,Base_Arbres,4,FALSE)*Crit2,\"\")","v":""},{"$f":"IF(Base_Arbres!A973<>\"\",VLOOKUP($A927,Base_Arbres,5,FALSE)*Crit3,\"\")","v":""},{"$f":"IF(Base_Arbres!A973<>\"\",VLOOKUP($A927,Base_Arbres,6,FALSE)*Crit4,\"\")","v":""},{"$f":"IF(Base_Arbres!B927<>\"\",VLOOKUP($A927,Base_Arbres,7,FALSE)*Crit5,\"\")","v":""},{"$f":"IF(Base_Arbres!C927<>\"\",VLOOKUP($A927,Base_Arbres,8,FALSE)*crit8,\"\")","v":""},{"$f":"IF(Base_Arbres!D927<>\"\",VLOOKUP($A927,Base_Arbres,9,FALSE)*crit9,\"\")","v":""},{"$f":"IF(ISNA(VLOOKUP(INDEX(Base_Typologie!$A$6:$P$1003,MATCH(A927,Base_Typologie!$A:$A,0)-5,MATCH(Typologie_Espace_Public,Base_Typologie!$6:$6,0)),TableauScoreTypologie2,2,FALSE)*Crit6),0,VLOOKUP(INDEX(Base_Typologie!$A$6:$P$1003,MATCH(A927,Base_Typologie!$A:$A,0)-5,MATCH(Typologie_Espace_Public,Base_Typologie!$6:$6,0)),TableauScoreTypologie2,2,FALSE)*Crit6)","v":0},0,0,0,0,0,0,0,0,0,0,0,0,null,{"$f":"IF(Base_Arbres!A1030<>\"\",VLOOKUP($A927,Base_Arbres,4,FALSE)*Crit7,\"\")","v":""}]
[{"$f":"IF(Base_Arbres!A974<>\"\",Base_Arbres!A974,\"\")","v":""},{"$f":"IF(Base_Arbres!A974<>\"\",VLOOKUP($A928,Base_Arbres,3,FALSE)*Crit1,\"\")","v":""},{"$f":"IF(Base_Arbres!A974<>\"\",VLOOKUP($A928,Base_Arbres,4,FALSE)*Crit2,\"\")","v":""},{"$f":"IF(Base_Arbres!A974<>\"\",VLOOKUP($A928,Base_Arbres,5,FALSE)*Crit3,\"\")","v":""},{"$f":"IF(Base_Arbres!A974<>\"\",VLOOKUP($A928,Base_Arbres,6,FALSE)*Crit4,\"\")","v":""},{"$f":"IF(Base_Arbres!B928<>\"\",VLOOKUP($A928,Base_Arbres,7,FALSE)*Crit5,\"\")","v":""},{"$f":"IF(Base_Arbres!C928<>\"\",VLOOKUP($A928,Base_Arbres,8,FALSE)*crit8,\"\")","v":""},{"$f":"IF(Base_Arbres!D928<>\"\",VLOOKUP($A928,Base_Arbres,9,FALSE)*crit9,\"\")","v":""},{"$f":"IF(ISNA(VLOOKUP(INDEX(Base_Typologie!$A$6:$P$1003,MATCH(A928,Base_Typologie!$A:$A,0)-5,MATCH(Typologie_Espace_Public,Base_Typologie!$6:$6,0)),TableauScoreTypologie2,2,FALSE)*Crit6),0,VLOOKUP(INDEX(Base_Typologie!$A$6:$P$1003,MATCH(A928,Base_Typologie!$A:$A,0)-5,MATCH(Typologie_Espace_Public,Base_Typologie!$6:$6,0)),TableauScoreTypologie2,2,FALSE)*Crit6)","v":0},0,0,0,0,0,0,0,0,0,0,0,0,null,{"$f":"IF(Base_Arbres!A1031<>\"\",VLOOKUP($A928,Base_Arbres,4,FALSE)*Crit7,\"\")","v":""}]
[{"$f":"IF(Base_Arbres!A975<>\"\",Base_Arbres!A975,\"\")","v":""},{"$f":"IF(Base_Arbres!A975<>\"\",VLOOKUP($A929,Base_Arbres,3,FALSE)*Crit1,\"\")","v":""},{"$f":"IF(Base_Arbres!A975<>\"\",VLOOKUP($A929,Base_Arbres,4,FALSE)*Crit2,\"\")","v":""},{"$f":"IF(Base_Arbres!A975<>\"\",VLOOKUP($A929,Base_Arbres,5,FALSE)*Crit3,\"\")","v":""},{"$f":"IF(Base_Arbres!A975<>\"\",VLOOKUP($A929,Base_Arbres,6,FALSE)*Crit4,\"\")","v":""},{"$f":"IF(Base_Arbres!B929<>\"\",VLOOKUP($A929,Base_Arbres,7,FALSE)*Crit5,\"\")","v":""},{"$f":"IF(Base_Arbres!C929<>\"\",VLOOKUP($A929,Base_Arbres,8,FALSE)*crit8,\"\")","v":""},{"$f":"IF(Base_Arbres!D929<>\"\",VLOOKUP($A929,Base_Arbres,9,FALSE)*crit9,\"\")","v":""},{"$f":"IF(ISNA(VLOOKUP(INDEX(Base_Typologie!$A$6:$P$1003,MATCH(A929,Base_Typologie!$A:$A,0)-5,MATCH(Typologie_Espace_Public,Base_Typologie!$6:$6,0)),TableauScoreTypologie2,2,FALSE)*Crit6),0,VLOOKUP(INDEX(Base_Typologie!$A$6:$P$1003,MATCH(A929,Base_Typologie!$A:$A,0)-5,MATCH(Typologie_Espace_Public,Base_Typologie!$6:$6,0)),TableauScoreTypologie2,2,FALSE)*Crit6)","v":0},0,0,0,0,0,0,0,0,0,0,0,0,null,{"$f":"IF(Base_Arbres!A1032<>\"\",VLOOKUP($A929,Base_Arbres,4,FALSE)*Crit7,\"\")","v":""}]
[{"$f":"IF(Base_Arbres!A976<>\"\",Base_Arbres!A976,\"\")","v":""},{"$f":"IF(Base_Arbres!A976<>\"\",VLOOKUP($A930,Base_Arbres,3,FALSE)*Crit1,\"\")","v":""},{"$f":"IF(Base_Arbres!A976<>\"\",VLOOKUP($A930,Base_Arbres,4,FALSE)*Crit2,\"\")","v":""},{"$f":"IF(Base_Arbres!A976<>\"\",VLOOKUP($A930,Base_Arbres,5,FALSE)*Crit3,\"\")","v":""},{"$f":"IF(Base_Arbres!A976<>\"\",VLOOKUP($A930,Base_Arbres,6,FALSE)*Crit4,\"\")","v":""},{"$f":"IF(Base_Arbres!B930<>\"\",VLOOKUP($A930,Base_Arbres,7,FALSE)*Crit5,\"\")","v":""},{"$f":"IF(Base_Arbres!C930<>\"\",VLOOKUP($A930,Base_Arbres,8,FALSE)*crit8,\"\")","v":""},{"$f":"IF(Base_Arbres!D930<>\"\",VLOOKUP($A930,Base_Arbres,9,FALSE)*crit9,\"\")","v":""},{"$f":"IF(ISNA(VLOOKUP(INDEX(Base_Typologie!$A$6:$P$1003,MATCH(A930,Base_Typologie!$A:$A,0)-5,MATCH(Typologie_Espace_Public,Base_Typologie!$6:$6,0)),TableauScoreTypologie2,2,FALSE)*Crit6),0,VLOOKUP(INDEX(Base_Typologie!$A$6:$P$1003,MATCH(A930,Base_Typologie!$A:$A,0)-5,MATCH(Typologie_Espace_Public,Base_Typologie!$6:$6,0)),TableauScoreTypologie2,2,FALSE)*Crit6)","v":0},0,0,0,0,0,0,0,0,0,0,0,0,null,{"$f":"IF(Base_Arbres!A1033<>\"\",VLOOKUP($A930,Base_Arbres,4,FALSE)*Crit7,\"\")","v":""}]
[{"$f":"IF(Base_Arbres!A977<>\"\",Base_Arbres!A977,\"\")","v":""},{"$f":"IF(Base_Arbres!A977<>\"\",VLOOKUP($A931,Base_Arbres,3,FALSE)*Crit1,\"\")","v":""},{"$f":"IF(Base_Arbres!A977<>\"\",VLOOKUP($A931,Base_Arbres,4,FALSE)*Crit2,\"\")","v":""},{"$f":"IF(Base_Arbres!A977<>\"\",VLOOKUP($A931,Base_Arbres,5,FALSE)*Crit3,\"\")","v":""},{"$f":"IF(Base_Arbres!A977<>\"\",VLOOKUP($A931,Base_Arbres,6,FALSE)*Crit4,\"\")","v":""},{"$f":"IF(Base_Arbres!B931<>\"\",VLOOKUP($A931,Base_Arbres,7,FALSE)*Crit5,\"\")","v":""},{"$f":"IF(Base_Arbres!C931<>\"\",VLOOKUP($A931,Base_Arbres,8,FALSE)*crit8,\"\")","v":""},{"$f":"IF(Base_Arbres!D931<>\"\",VLOOKUP($A931,Base_Arbres,9,FALSE)*crit9,\"\")","v":""},{"$f":"IF(ISNA(VLOOKUP(INDEX(Base_Typologie!$A$6:$P$1003,MATCH(A931,Base_Typologie!$A:$A,0)-5,MATCH(Typologie_Espace_Public,Base_Typologie!$6:$6,0)),TableauScoreTypologie2,2,FALSE)*Crit6),0,VLOOKUP(INDEX(Base_Typologie!$A$6:$P$1003,MATCH(A931,Base_Typologie!$A:$A,0)-5,MATCH(Typologie_Espace_Public,Base_Typologie!$6:$6,0)),TableauScoreTypologie2,2,FALSE)*Crit6)","v":0},0,0,0,0,0,0,0,0,0,0,0,0,null,{"$f":"IF(Base_Arbres!A1034<>\"\",VLOOKUP($A931,Base_Arbres,4,FALSE)*Crit7,\"\")","v":""}]
[{"$f":"IF(Base_Arbres!A978<>\"\",Base_Arbres!A978,\"\")","v":""},{"$f":"IF(Base_Arbres!A978<>\"\",VLOOKUP($A932,Base_Arbres,3,FALSE)*Crit1,\"\")","v":""},{"$f":"IF(Base_Arbres!A978<>\"\",VLOOKUP($A932,Base_Arbres,4,FALSE)*Crit2,\"\")","v":""},{"$f":"IF(Base_Arbres!A978<>\"\",VLOOKUP($A932,Base_Arbres,5,FALSE)*Crit3,\"\")","v":""},{"$f":"IF(Base_Arbres!A978<>\"\",VLOOKUP($A932,Base_Arbres,6,FALSE)*Crit4,\"\")","v":""},{"$f":"IF(Base_Arbres!B932<>\"\",VLOOKUP($A932,Base_Arbres,7,FALSE)*Crit5,\"\")","v":""},{"$f":"IF(Base_Arbres!C932<>\"\",VLOOKUP($A932,Base_Arbres,8,FALSE)*crit8,\"\")","v":""},{"$f":"IF(Base_Arbres!D932<>\"\",VLOOKUP($A932,Base_Arbres,9,FALSE)*crit9,\"\")","v":""},{"$f":"IF(ISNA(VLOOKUP(INDEX(Base_Typologie!$A$6:$P$1003,MATCH(A932,Base_Typologie!$A:$A,0)-5,MATCH(Typologie_Espace_Public,Base_Typologie!$6:$6,0)),TableauScoreTypologie2,2,FALSE)*Crit6),0,VLOOKUP(INDEX(Base_Typologie!$A$6:$P$1003,MATCH(A932,Base_Typologie!$A:$A,0)-5,MATCH(Typologie_Espace_Public,Base_Typologie!$6:$6,0)),TableauScoreTypologie2,2,FALSE)*Crit6)","v":0},0,0,0,0,0,0,0,0,0,0,0,0,null,{"$f":"IF(Base_Arbres!A1035<>\"\",VLOOKUP($A932,Base_Arbres,4,FALSE)*Crit7,\"\")","v":""}]
[{"$f":"IF(Base_Arbres!A979<>\"\",Base_Arbres!A979,\"\")","v":""},{"$f":"IF(Base_Arbres!A979<>\"\",VLOOKUP($A933,Base_Arbres,3,FALSE)*Crit1,\"\")","v":""},{"$f":"IF(Base_Arbres!A979<>\"\",VLOOKUP($A933,Base_Arbres,4,FALSE)*Crit2,\"\")","v":""},{"$f":"IF(Base_Arbres!A979<>\"\",VLOOKUP($A933,Base_Arbres,5,FALSE)*Crit3,\"\")","v":""},{"$f":"IF(Base_Arbres!A979<>\"\",VLOOKUP($A933,Base_Arbres,6,FALSE)*Crit4,\"\")","v":""},{"$f":"IF(Base_Arbres!B933<>\"\",VLOOKUP($A933,Base_Arbres,7,FALSE)*Crit5,\"\")","v":""},{"$f":"IF(Base_Arbres!C933<>\"\",VLOOKUP($A933,Base_Arbres,8,FALSE)*crit8,\"\")","v":""},{"$f":"IF(Base_Arbres!D933<>\"\",VLOOKUP($A933,Base_Arbres,9,FALSE)*crit9,\"\")","v":""},{"$f":"IF(ISNA(VLOOKUP(INDEX(Base_Typologie!$A$6:$P$1003,MATCH(A933,Base_Typologie!$A:$A,0)-5,MATCH(Typologie_Espace_Public,Base_Typologie!$6:$6,0)),TableauScoreTypologie2,2,FALSE)*Crit6),0,VLOOKUP(INDEX(Base_Typologie!$A$6:$P$1003,MATCH(A933,Base_Typologie!$A:$A,0)-5,MATCH(Typologie_Espace_Public,Base_Typologie!$6:$6,0)),TableauScoreTypologie2,2,FALSE)*Crit6)","v":0},0,0,0,0,0,0,0,0,0,0,0,0,null,{"$f":"IF(Base_Arbres!A1036<>\"\",VLOOKUP($A933,Base_Arbres,4,FALSE)*Crit7,\"\")","v":""}]
[{"$f":"IF(Base_Arbres!A980<>\"\",Base_Arbres!A980,\"\")","v":""},{"$f":"IF(Base_Arbres!A980<>\"\",VLOOKUP($A934,Base_Arbres,3,FALSE)*Crit1,\"\")","v":""},{"$f":"IF(Base_Arbres!A980<>\"\",VLOOKUP($A934,Base_Arbres,4,FALSE)*Crit2,\"\")","v":""},{"$f":"IF(Base_Arbres!A980<>\"\",VLOOKUP($A934,Base_Arbres,5,FALSE)*Crit3,\"\")","v":""},{"$f":"IF(Base_Arbres!A980<>\"\",VLOOKUP($A934,Base_Arbres,6,FALSE)*Crit4,\"\")","v":""},{"$f":"IF(Base_Arbres!B934<>\"\",VLOOKUP($A934,Base_Arbres,7,FALSE)*Crit5,\"\")","v":""},{"$f":"IF(Base_Arbres!C934<>\"\",VLOOKUP($A934,Base_Arbres,8,FALSE)*crit8,\"\")","v":""},{"$f":"IF(Base_Arbres!D934<>\"\",VLOOKUP($A934,Base_Arbres,9,FALSE)*crit9,\"\")","v":""},{"$f":"IF(ISNA(VLOOKUP(INDEX(Base_Typologie!$A$6:$P$1003,MATCH(A934,Base_Typologie!$A:$A,0)-5,MATCH(Typologie_Espace_Public,Base_Typologie!$6:$6,0)),TableauScoreTypologie2,2,FALSE)*Crit6),0,VLOOKUP(INDEX(Base_Typologie!$A$6:$P$1003,MATCH(A934,Base_Typologie!$A:$A,0)-5,MATCH(Typologie_Espace_Public,Base_Typologie!$6:$6,0)),TableauScoreTypologie2,2,FALSE)*Crit6)","v":0},0,0,0,0,0,0,0,0,0,0,0,0,null,{"$f":"IF(Base_Arbres!A1037<>\"\",VLOOKUP($A934,Base_Arbres,4,FALSE)*Crit7,\"\")","v":""}]
[{"$f":"IF(Base_Arbres!A981<>\"\",Base_Arbres!A981,\"\")","v":""},{"$f":"IF(Base_Arbres!A981<>\"\",VLOOKUP($A935,Base_Arbres,3,FALSE)*Crit1,\"\")","v":""},{"$f":"IF(Base_Arbres!A981<>\"\",VLOOKUP($A935,Base_Arbres,4,FALSE)*Crit2,\"\")","v":""},{"$f":"IF(Base_Arbres!A981<>\"\",VLOOKUP($A935,Base_Arbres,5,FALSE)*Crit3,\"\")","v":""},{"$f":"IF(Base_Arbres!A981<>\"\",VLOOKUP($A935,Base_Arbres,6,FALSE)*Crit4,\"\")","v":""},{"$f":"IF(Base_Arbres!B935<>\"\",VLOOKUP($A935,Base_Arbres,7,FALSE)*Crit5,\"\")","v":""},{"$f":"IF(Base_Arbres!C935<>\"\",VLOOKUP($A935,Base_Arbres,8,FALSE)*crit8,\"\")","v":""},{"$f":"IF(Base_Arbres!D935<>\"\",VLOOKUP($A935,Base_Arbres,9,FALSE)*crit9,\"\")","v":""},{"$f":"IF(ISNA(VLOOKUP(INDEX(Base_Typologie!$A$6:$P$1003,MATCH(A935,Base_Typologie!$A:$A,0)-5,MATCH(Typologie_Espace_Public,Base_Typologie!$6:$6,0)),TableauScoreTypologie2,2,FALSE)*Crit6),0,VLOOKUP(INDEX(Base_Typologie!$A$6:$P$1003,MATCH(A935,Base_Typologie!$A:$A,0)-5,MATCH(Typologie_Espace_Public,Base_Typologie!$6:$6,0)),TableauScoreTypologie2,2,FALSE)*Crit6)","v":0},0,0,0,0,0,0,0,0,0,0,0,0,null,{"$f":"IF(Base_Arbres!A1038<>\"\",VLOOKUP($A935,Base_Arbres,4,FALSE)*Crit7,\"\")","v":""}]
[{"$f":"IF(Base_Arbres!A982<>\"\",Base_Arbres!A982,\"\")","v":""},{"$f":"IF(Base_Arbres!A982<>\"\",VLOOKUP($A936,Base_Arbres,3,FALSE)*Crit1,\"\")","v":""},{"$f":"IF(Base_Arbres!A982<>\"\",VLOOKUP($A936,Base_Arbres,4,FALSE)*Crit2,\"\")","v":""},{"$f":"IF(Base_Arbres!A982<>\"\",VLOOKUP($A936,Base_Arbres,5,FALSE)*Crit3,\"\")","v":""},{"$f":"IF(Base_Arbres!A982<>\"\",VLOOKUP($A936,Base_Arbres,6,FALSE)*Crit4,\"\")","v":""},{"$f":"IF(Base_Arbres!B936<>\"\",VLOOKUP($A936,Base_Arbres,7,FALSE)*Crit5,\"\")","v":""},{"$f":"IF(Base_Arbres!C936<>\"\",VLOOKUP($A936,Base_Arbres,8,FALSE)*crit8,\"\")","v":""},{"$f":"IF(Base_Arbres!D936<>\"\",VLOOKUP($A936,Base_Arbres,9,FALSE)*crit9,\"\")","v":""},{"$f":"IF(ISNA(VLOOKUP(INDEX(Base_Typologie!$A$6:$P$1003,MATCH(A936,Base_Typologie!$A:$A,0)-5,MATCH(Typologie_Espace_Public,Base_Typologie!$6:$6,0)),TableauScoreTypologie2,2,FALSE)*Crit6),0,VLOOKUP(INDEX(Base_Typologie!$A$6:$P$1003,MATCH(A936,Base_Typologie!$A:$A,0)-5,MATCH(Typologie_Espace_Public,Base_Typologie!$6:$6,0)),TableauScoreTypologie2,2,FALSE)*Crit6)","v":0},0,0,0,0,0,0,0,0,0,0,0,0,null,{"$f":"IF(Base_Arbres!A1039<>\"\",VLOOKUP($A936,Base_Arbres,4,FALSE)*Crit7,\"\")","v":""}]
[{"$f":"IF(Base_Arbres!A983<>\"\",Base_Arbres!A983,\"\")","v":""},{"$f":"IF(Base_Arbres!A983<>\"\",VLOOKUP($A937,Base_Arbres,3,FALSE)*Crit1,\"\")","v":""},{"$f":"IF(Base_Arbres!A983<>\"\",VLOOKUP($A937,Base_Arbres,4,FALSE)*Crit2,\"\")","v":""},{"$f":"IF(Base_Arbres!A983<>\"\",VLOOKUP($A937,Base_Arbres,5,FALSE)*Crit3,\"\")","v":""},{"$f":"IF(Base_Arbres!A983<>\"\",VLOOKUP($A937,Base_Arbres,6,FALSE)*Crit4,\"\")","v":""},{"$f":"IF(Base_Arbres!B937<>\"\",VLOOKUP($A937,Base_Arbres,7,FALSE)*Crit5,\"\")","v":""},{"$f":"IF(Base_Arbres!C937<>\"\",VLOOKUP($A937,Base_Arbres,8,FALSE)*crit8,\"\")","v":""},{"$f":"IF(Base_Arbres!D937<>\"\",VLOOKUP($A937,Base_Arbres,9,FALSE)*crit9,\"\")","v":""},{"$f":"IF(ISNA(VLOOKUP(INDEX(Base_Typologie!$A$6:$P$1003,MATCH(A937,Base_Typologie!$A:$A,0)-5,MATCH(Typologie_Espace_Public,Base_Typologie!$6:$6,0)),TableauScoreTypologie2,2,FALSE)*Crit6),0,VLOOKUP(INDEX(Base_Typologie!$A$6:$P$1003,MATCH(A937,Base_Typologie!$A:$A,0)-5,MATCH(Typologie_Espace_Public,Base_Typologie!$6:$6,0)),TableauScoreTypologie2,2,FALSE)*Crit6)","v":0},0,0,0,0,0,0,0,0,0,0,0,0,null,{"$f":"IF(Base_Arbres!A1040<>\"\",VLOOKUP($A937,Base_Arbres,4,FALSE)*Crit7,\"\")","v":""}]
[{"$f":"IF(Base_Arbres!A984<>\"\",Base_Arbres!A984,\"\")","v":""},{"$f":"IF(Base_Arbres!A984<>\"\",VLOOKUP($A938,Base_Arbres,3,FALSE)*Crit1,\"\")","v":""},{"$f":"IF(Base_Arbres!A984<>\"\",VLOOKUP($A938,Base_Arbres,4,FALSE)*Crit2,\"\")","v":""},{"$f":"IF(Base_Arbres!A984<>\"\",VLOOKUP($A938,Base_Arbres,5,FALSE)*Crit3,\"\")","v":""},{"$f":"IF(Base_Arbres!A984<>\"\",VLOOKUP($A938,Base_Arbres,6,FALSE)*Crit4,\"\")","v":""},{"$f":"IF(Base_Arbres!B938<>\"\",VLOOKUP($A938,Base_Arbres,7,FALSE)*Crit5,\"\")","v":""},{"$f":"IF(Base_Arbres!C938<>\"\",VLOOKUP($A938,Base_Arbres,8,FALSE)*crit8,\"\")","v":""},{"$f":"IF(Base_Arbres!D938<>\"\",VLOOKUP($A938,Base_Arbres,9,FALSE)*crit9,\"\")","v":""},{"$f":"IF(ISNA(VLOOKUP(INDEX(Base_Typologie!$A$6:$P$1003,MATCH(A938,Base_Typologie!$A:$A,0)-5,MATCH(Typologie_Espace_Public,Base_Typologie!$6:$6,0)),TableauScoreTypologie2,2,FALSE)*Crit6),0,VLOOKUP(INDEX(Base_Typologie!$A$6:$P$1003,MATCH(A938,Base_Typologie!$A:$A,0)-5,MATCH(Typologie_Espace_Public,Base_Typologie!$6:$6,0)),TableauScoreTypologie2,2,FALSE)*Crit6)","v":0},0,0,0,0,0,0,0,0,0,0,0,0,null,{"$f":"IF(Base_Arbres!A1041<>\"\",VLOOKUP($A938,Base_Arbres,4,FALSE)*Crit7,\"\")","v":""}]
[{"$f":"IF(Base_Arbres!A985<>\"\",Base_Arbres!A985,\"\")","v":""},{"$f":"IF(Base_Arbres!A985<>\"\",VLOOKUP($A939,Base_Arbres,3,FALSE)*Crit1,\"\")","v":""},{"$f":"IF(Base_Arbres!A985<>\"\",VLOOKUP($A939,Base_Arbres,4,FALSE)*Crit2,\"\")","v":""},{"$f":"IF(Base_Arbres!A985<>\"\",VLOOKUP($A939,Base_Arbres,5,FALSE)*Crit3,\"\")","v":""},{"$f":"IF(Base_Arbres!A985<>\"\",VLOOKUP($A939,Base_Arbres,6,FALSE)*Crit4,\"\")","v":""},{"$f":"IF(Base_Arbres!B939<>\"\",VLOOKUP($A939,Base_Arbres,7,FALSE)*Crit5,\"\")","v":""},{"$f":"IF(Base_Arbres!C939<>\"\",VLOOKUP($A939,Base_Arbres,8,FALSE)*crit8,\"\")","v":""},{"$f":"IF(Base_Arbres!D939<>\"\",VLOOKUP($A939,Base_Arbres,9,FALSE)*crit9,\"\")","v":""},{"$f":"IF(ISNA(VLOOKUP(INDEX(Base_Typologie!$A$6:$P$1003,MATCH(A939,Base_Typologie!$A:$A,0)-5,MATCH(Typologie_Espace_Public,Base_Typologie!$6:$6,0)),TableauScoreTypologie2,2,FALSE)*Crit6),0,VLOOKUP(INDEX(Base_Typologie!$A$6:$P$1003,MATCH(A939,Base_Typologie!$A:$A,0)-5,MATCH(Typologie_Espace_Public,Base_Typologie!$6:$6,0)),TableauScoreTypologie2,2,FALSE)*Crit6)","v":0},0,0,0,0,0,0,0,0,0,0,0,0,null,{"$f":"IF(Base_Arbres!A1042<>\"\",VLOOKUP($A939,Base_Arbres,4,FALSE)*Crit7,\"\")","v":""}]
[{"$f":"IF(Base_Arbres!A986<>\"\",Base_Arbres!A986,\"\")","v":""},{"$f":"IF(Base_Arbres!A986<>\"\",VLOOKUP($A940,Base_Arbres,3,FALSE)*Crit1,\"\")","v":""},{"$f":"IF(Base_Arbres!A986<>\"\",VLOOKUP($A940,Base_Arbres,4,FALSE)*Crit2,\"\")","v":""},{"$f":"IF(Base_Arbres!A986<>\"\",VLOOKUP($A940,Base_Arbres,5,FALSE)*Crit3,\"\")","v":""},{"$f":"IF(Base_Arbres!A986<>\"\",VLOOKUP($A940,Base_Arbres,6,FALSE)*Crit4,\"\")","v":""},{"$f":"IF(Base_Arbres!B940<>\"\",VLOOKUP($A940,Base_Arbres,7,FALSE)*Crit5,\"\")","v":""},{"$f":"IF(Base_Arbres!C940<>\"\",VLOOKUP($A940,Base_Arbres,8,FALSE)*crit8,\"\")","v":""},{"$f":"IF(Base_Arbres!D940<>\"\",VLOOKUP($A940,Base_Arbres,9,FALSE)*crit9,\"\")","v":""},{"$f":"IF(ISNA(VLOOKUP(INDEX(Base_Typologie!$A$6:$P$1003,MATCH(A940,Base_Typologie!$A:$A,0)-5,MATCH(Typologie_Espace_Public,Base_Typologie!$6:$6,0)),TableauScoreTypologie2,2,FALSE)*Crit6),0,VLOOKUP(INDEX(Base_Typologie!$A$6:$P$1003,MATCH(A940,Base_Typologie!$A:$A,0)-5,MATCH(Typologie_Espace_Public,Base_Typologie!$6:$6,0)),TableauScoreTypologie2,2,FALSE)*Crit6)","v":0},0,0,0,0,0,0,0,0,0,0,0,0,null,{"$f":"IF(Base_Arbres!A1043<>\"\",VLOOKUP($A940,Base_Arbres,4,FALSE)*Crit7,\"\")","v":""}]
[{"$f":"IF(Base_Arbres!A987<>\"\",Base_Arbres!A987,\"\")","v":""},{"$f":"IF(Base_Arbres!A987<>\"\",VLOOKUP($A941,Base_Arbres,3,FALSE)*Crit1,\"\")","v":""},{"$f":"IF(Base_Arbres!A987<>\"\",VLOOKUP($A941,Base_Arbres,4,FALSE)*Crit2,\"\")","v":""},{"$f":"IF(Base_Arbres!A987<>\"\",VLOOKUP($A941,Base_Arbres,5,FALSE)*Crit3,\"\")","v":""},{"$f":"IF(Base_Arbres!A987<>\"\",VLOOKUP($A941,Base_Arbres,6,FALSE)*Crit4,\"\")","v":""},{"$f":"IF(Base_Arbres!B941<>\"\",VLOOKUP($A941,Base_Arbres,7,FALSE)*Crit5,\"\")","v":""},{"$f":"IF(Base_Arbres!C941<>\"\",VLOOKUP($A941,Base_Arbres,8,FALSE)*crit8,\"\")","v":""},{"$f":"IF(Base_Arbres!D941<>\"\",VLOOKUP($A941,Base_Arbres,9,FALSE)*crit9,\"\")","v":""},{"$f":"IF(ISNA(VLOOKUP(INDEX(Base_Typologie!$A$6:$P$1003,MATCH(A941,Base_Typologie!$A:$A,0)-5,MATCH(Typologie_Espace_Public,Base_Typologie!$6:$6,0)),TableauScoreTypologie2,2,FALSE)*Crit6),0,VLOOKUP(INDEX(Base_Typologie!$A$6:$P$1003,MATCH(A941,Base_Typologie!$A:$A,0)-5,MATCH(Typologie_Espace_Public,Base_Typologie!$6:$6,0)),TableauScoreTypologie2,2,FALSE)*Crit6)","v":0},0,0,0,0,0,0,0,0,0,0,0,0,null,{"$f":"IF(Base_Arbres!A1044<>\"\",VLOOKUP($A941,Base_Arbres,4,FALSE)*Crit7,\"\")","v":""}]
[{"$f":"IF(Base_Arbres!A988<>\"\",Base_Arbres!A988,\"\")","v":""},{"$f":"IF(Base_Arbres!A988<>\"\",VLOOKUP($A942,Base_Arbres,3,FALSE)*Crit1,\"\")","v":""},{"$f":"IF(Base_Arbres!A988<>\"\",VLOOKUP($A942,Base_Arbres,4,FALSE)*Crit2,\"\")","v":""},{"$f":"IF(Base_Arbres!A988<>\"\",VLOOKUP($A942,Base_Arbres,5,FALSE)*Crit3,\"\")","v":""},{"$f":"IF(Base_Arbres!A988<>\"\",VLOOKUP($A942,Base_Arbres,6,FALSE)*Crit4,\"\")","v":""},{"$f":"IF(Base_Arbres!B942<>\"\",VLOOKUP($A942,Base_Arbres,7,FALSE)*Crit5,\"\")","v":""},{"$f":"IF(Base_Arbres!C942<>\"\",VLOOKUP($A942,Base_Arbres,8,FALSE)*crit8,\"\")","v":""},{"$f":"IF(Base_Arbres!D942<>\"\",VLOOKUP($A942,Base_Arbres,9,FALSE)*crit9,\"\")","v":""},{"$f":"IF(ISNA(VLOOKUP(INDEX(Base_Typologie!$A$6:$P$1003,MATCH(A942,Base_Typologie!$A:$A,0)-5,MATCH(Typologie_Espace_Public,Base_Typologie!$6:$6,0)),TableauScoreTypologie2,2,FALSE)*Crit6),0,VLOOKUP(INDEX(Base_Typologie!$A$6:$P$1003,MATCH(A942,Base_Typologie!$A:$A,0)-5,MATCH(Typologie_Espace_Public,Base_Typologie!$6:$6,0)),TableauScoreTypologie2,2,FALSE)*Crit6)","v":0},0,0,0,0,0,0,0,0,0,0,0,0,null,{"$f":"IF(Base_Arbres!A1045<>\"\",VLOOKUP($A942,Base_Arbres,4,FALSE)*Crit7,\"\")","v":""}]
[{"$f":"IF(Base_Arbres!A989<>\"\",Base_Arbres!A989,\"\")","v":""},{"$f":"IF(Base_Arbres!A989<>\"\",VLOOKUP($A943,Base_Arbres,3,FALSE)*Crit1,\"\")","v":""},{"$f":"IF(Base_Arbres!A989<>\"\",VLOOKUP($A943,Base_Arbres,4,FALSE)*Crit2,\"\")","v":""},{"$f":"IF(Base_Arbres!A989<>\"\",VLOOKUP($A943,Base_Arbres,5,FALSE)*Crit3,\"\")","v":""},{"$f":"IF(Base_Arbres!A989<>\"\",VLOOKUP($A943,Base_Arbres,6,FALSE)*Crit4,\"\")","v":""},{"$f":"IF(Base_Arbres!B943<>\"\",VLOOKUP($A943,Base_Arbres,7,FALSE)*Crit5,\"\")","v":""},{"$f":"IF(Base_Arbres!C943<>\"\",VLOOKUP($A943,Base_Arbres,8,FALSE)*crit8,\"\")","v":""},{"$f":"IF(Base_Arbres!D943<>\"\",VLOOKUP($A943,Base_Arbres,9,FALSE)*crit9,\"\")","v":""},{"$f":"IF(ISNA(VLOOKUP(INDEX(Base_Typologie!$A$6:$P$1003,MATCH(A943,Base_Typologie!$A:$A,0)-5,MATCH(Typologie_Espace_Public,Base_Typologie!$6:$6,0)),TableauScoreTypologie2,2,FALSE)*Crit6),0,VLOOKUP(INDEX(Base_Typologie!$A$6:$P$1003,MATCH(A943,Base_Typologie!$A:$A,0)-5,MATCH(Typologie_Espace_Public,Base_Typologie!$6:$6,0)),TableauScoreTypologie2,2,FALSE)*Crit6)","v":0},0,0,0,0,0,0,0,0,0,0,0,0,null,{"$f":"IF(Base_Arbres!A1046<>\"\",VLOOKUP($A943,Base_Arbres,4,FALSE)*Crit7,\"\")","v":""}]
[{"$f":"IF(Base_Arbres!A990<>\"\",Base_Arbres!A990,\"\")","v":""},{"$f":"IF(Base_Arbres!A990<>\"\",VLOOKUP($A944,Base_Arbres,3,FALSE)*Crit1,\"\")","v":""},{"$f":"IF(Base_Arbres!A990<>\"\",VLOOKUP($A944,Base_Arbres,4,FALSE)*Crit2,\"\")","v":""},{"$f":"IF(Base_Arbres!A990<>\"\",VLOOKUP($A944,Base_Arbres,5,FALSE)*Crit3,\"\")","v":""},{"$f":"IF(Base_Arbres!A990<>\"\",VLOOKUP($A944,Base_Arbres,6,FALSE)*Crit4,\"\")","v":""},{"$f":"IF(Base_Arbres!B944<>\"\",VLOOKUP($A944,Base_Arbres,7,FALSE)*Crit5,\"\")","v":""},{"$f":"IF(Base_Arbres!C944<>\"\",VLOOKUP($A944,Base_Arbres,8,FALSE)*crit8,\"\")","v":""},{"$f":"IF(Base_Arbres!D944<>\"\",VLOOKUP($A944,Base_Arbres,9,FALSE)*crit9,\"\")","v":""},{"$f":"IF(ISNA(VLOOKUP(INDEX(Base_Typologie!$A$6:$P$1003,MATCH(A944,Base_Typologie!$A:$A,0)-5,MATCH(Typologie_Espace_Public,Base_Typologie!$6:$6,0)),TableauScoreTypologie2,2,FALSE)*Crit6),0,VLOOKUP(INDEX(Base_Typologie!$A$6:$P$1003,MATCH(A944,Base_Typologie!$A:$A,0)-5,MATCH(Typologie_Espace_Public,Base_Typologie!$6:$6,0)),TableauScoreTypologie2,2,FALSE)*Crit6)","v":0},0,0,0,0,0,0,0,0,0,0,0,0,null,{"$f":"IF(Base_Arbres!A1047<>\"\",VLOOKUP($A944,Base_Arbres,4,FALSE)*Crit7,\"\")","v":""}]
[{"$f":"IF(Base_Arbres!A991<>\"\",Base_Arbres!A991,\"\")","v":""},{"$f":"IF(Base_Arbres!A991<>\"\",VLOOKUP($A945,Base_Arbres,3,FALSE)*Crit1,\"\")","v":""},{"$f":"IF(Base_Arbres!A991<>\"\",VLOOKUP($A945,Base_Arbres,4,FALSE)*Crit2,\"\")","v":""},{"$f":"IF(Base_Arbres!A991<>\"\",VLOOKUP($A945,Base_Arbres,5,FALSE)*Crit3,\"\")","v":""},{"$f":"IF(Base_Arbres!A991<>\"\",VLOOKUP($A945,Base_Arbres,6,FALSE)*Crit4,\"\")","v":""},{"$f":"IF(Base_Arbres!B945<>\"\",VLOOKUP($A945,Base_Arbres,7,FALSE)*Crit5,\"\")","v":""},{"$f":"IF(Base_Arbres!C945<>\"\",VLOOKUP($A945,Base_Arbres,8,FALSE)*crit8,\"\")","v":""},{"$f":"IF(Base_Arbres!D945<>\"\",VLOOKUP($A945,Base_Arbres,9,FALSE)*crit9,\"\")","v":""},{"$f":"IF(ISNA(VLOOKUP(INDEX(Base_Typologie!$A$6:$P$1003,MATCH(A945,Base_Typologie!$A:$A,0)-5,MATCH(Typologie_Espace_Public,Base_Typologie!$6:$6,0)),TableauScoreTypologie2,2,FALSE)*Crit6),0,VLOOKUP(INDEX(Base_Typologie!$A$6:$P$1003,MATCH(A945,Base_Typologie!$A:$A,0)-5,MATCH(Typologie_Espace_Public,Base_Typologie!$6:$6,0)),TableauScoreTypologie2,2,FALSE)*Crit6)","v":0},0,0,0,0,0,0,0,0,0,0,0,0,null,{"$f":"IF(Base_Arbres!A1048<>\"\",VLOOKUP($A945,Base_Arbres,4,FALSE)*Crit7,\"\")","v":""}]
[{"$f":"IF(Base_Arbres!A992<>\"\",Base_Arbres!A992,\"\")","v":""},{"$f":"IF(Base_Arbres!A992<>\"\",VLOOKUP($A946,Base_Arbres,3,FALSE)*Crit1,\"\")","v":""},{"$f":"IF(Base_Arbres!A992<>\"\",VLOOKUP($A946,Base_Arbres,4,FALSE)*Crit2,\"\")","v":""},{"$f":"IF(Base_Arbres!A992<>\"\",VLOOKUP($A946,Base_Arbres,5,FALSE)*Crit3,\"\")","v":""},{"$f":"IF(Base_Arbres!A992<>\"\",VLOOKUP($A946,Base_Arbres,6,FALSE)*Crit4,\"\")","v":""},{"$f":"IF(Base_Arbres!B946<>\"\",VLOOKUP($A946,Base_Arbres,7,FALSE)*Crit5,\"\")","v":""},{"$f":"IF(Base_Arbres!C946<>\"\",VLOOKUP($A946,Base_Arbres,8,FALSE)*crit8,\"\")","v":""},{"$f":"IF(Base_Arbres!D946<>\"\",VLOOKUP($A946,Base_Arbres,9,FALSE)*crit9,\"\")","v":""},{"$f":"IF(ISNA(VLOOKUP(INDEX(Base_Typologie!$A$6:$P$1003,MATCH(A946,Base_Typologie!$A:$A,0)-5,MATCH(Typologie_Espace_Public,Base_Typologie!$6:$6,0)),TableauScoreTypologie2,2,FALSE)*Crit6),0,VLOOKUP(INDEX(Base_Typologie!$A$6:$P$1003,MATCH(A946,Base_Typologie!$A:$A,0)-5,MATCH(Typologie_Espace_Public,Base_Typologie!$6:$6,0)),TableauScoreTypologie2,2,FALSE)*Crit6)","v":0},0,0,0,0,0,0,0,0,0,0,0,0,null,{"$f":"IF(Base_Arbres!A1049<>\"\",VLOOKUP($A946,Base_Arbres,4,FALSE)*Crit7,\"\")","v":""}]
[{"$f":"IF(Base_Arbres!A993<>\"\",Base_Arbres!A993,\"\")","v":""},{"$f":"IF(Base_Arbres!A993<>\"\",VLOOKUP($A947,Base_Arbres,3,FALSE)*Crit1,\"\")","v":""},{"$f":"IF(Base_Arbres!A993<>\"\",VLOOKUP($A947,Base_Arbres,4,FALSE)*Crit2,\"\")","v":""},{"$f":"IF(Base_Arbres!A993<>\"\",VLOOKUP($A947,Base_Arbres,5,FALSE)*Crit3,\"\")","v":""},{"$f":"IF(Base_Arbres!A993<>\"\",VLOOKUP($A947,Base_Arbres,6,FALSE)*Crit4,\"\")","v":""},{"$f":"IF(Base_Arbres!B947<>\"\",VLOOKUP($A947,Base_Arbres,7,FALSE)*Crit5,\"\")","v":""},{"$f":"IF(Base_Arbres!C947<>\"\",VLOOKUP($A947,Base_Arbres,8,FALSE)*crit8,\"\")","v":""},{"$f":"IF(Base_Arbres!D947<>\"\",VLOOKUP($A947,Base_Arbres,9,FALSE)*crit9,\"\")","v":""},{"$f":"IF(ISNA(VLOOKUP(INDEX(Base_Typologie!$A$6:$P$1003,MATCH(A947,Base_Typologie!$A:$A,0)-5,MATCH(Typologie_Espace_Public,Base_Typologie!$6:$6,0)),TableauScoreTypologie2,2,FALSE)*Crit6),0,VLOOKUP(INDEX(Base_Typologie!$A$6:$P$1003,MATCH(A947,Base_Typologie!$A:$A,0)-5,MATCH(Typologie_Espace_Public,Base_Typologie!$6:$6,0)),TableauScoreTypologie2,2,FALSE)*Crit6)","v":0},0,0,0,0,0,0,0,0,0,0,0,0,null,{"$f":"IF(Base_Arbres!A1050<>\"\",VLOOKUP($A947,Base_Arbres,4,FALSE)*Crit7,\"\")","v":""}]
[{"$f":"IF(Base_Arbres!A994<>\"\",Base_Arbres!A994,\"\")","v":""},{"$f":"IF(Base_Arbres!A994<>\"\",VLOOKUP($A948,Base_Arbres,3,FALSE)*Crit1,\"\")","v":""},{"$f":"IF(Base_Arbres!A994<>\"\",VLOOKUP($A948,Base_Arbres,4,FALSE)*Crit2,\"\")","v":""},{"$f":"IF(Base_Arbres!A994<>\"\",VLOOKUP($A948,Base_Arbres,5,FALSE)*Crit3,\"\")","v":""},{"$f":"IF(Base_Arbres!A994<>\"\",VLOOKUP($A948,Base_Arbres,6,FALSE)*Crit4,\"\")","v":""},{"$f":"IF(Base_Arbres!B948<>\"\",VLOOKUP($A948,Base_Arbres,7,FALSE)*Crit5,\"\")","v":""},{"$f":"IF(Base_Arbres!C948<>\"\",VLOOKUP($A948,Base_Arbres,8,FALSE)*crit8,\"\")","v":""},{"$f":"IF(Base_Arbres!D948<>\"\",VLOOKUP($A948,Base_Arbres,9,FALSE)*crit9,\"\")","v":""},{"$f":"IF(ISNA(VLOOKUP(INDEX(Base_Typologie!$A$6:$P$1003,MATCH(A948,Base_Typologie!$A:$A,0)-5,MATCH(Typologie_Espace_Public,Base_Typologie!$6:$6,0)),TableauScoreTypologie2,2,FALSE)*Crit6),0,VLOOKUP(INDEX(Base_Typologie!$A$6:$P$1003,MATCH(A948,Base_Typologie!$A:$A,0)-5,MATCH(Typologie_Espace_Public,Base_Typologie!$6:$6,0)),TableauScoreTypologie2,2,FALSE)*Crit6)","v":0},0,0,0,0,0,0,0,0,0,0,0,0,null,{"$f":"IF(Base_Arbres!A1051<>\"\",VLOOKUP($A948,Base_Arbres,4,FALSE)*Crit7,\"\")","v":""}]
[{"$f":"IF(Base_Arbres!A995<>\"\",Base_Arbres!A995,\"\")","v":""},{"$f":"IF(Base_Arbres!A995<>\"\",VLOOKUP($A949,Base_Arbres,3,FALSE)*Crit1,\"\")","v":""},{"$f":"IF(Base_Arbres!A995<>\"\",VLOOKUP($A949,Base_Arbres,4,FALSE)*Crit2,\"\")","v":""},{"$f":"IF(Base_Arbres!A995<>\"\",VLOOKUP($A949,Base_Arbres,5,FALSE)*Crit3,\"\")","v":""},{"$f":"IF(Base_Arbres!A995<>\"\",VLOOKUP($A949,Base_Arbres,6,FALSE)*Crit4,\"\")","v":""},{"$f":"IF(Base_Arbres!B949<>\"\",VLOOKUP($A949,Base_Arbres,7,FALSE)*Crit5,\"\")","v":""},{"$f":"IF(Base_Arbres!C949<>\"\",VLOOKUP($A949,Base_Arbres,8,FALSE)*crit8,\"\")","v":""},{"$f":"IF(Base_Arbres!D949<>\"\",VLOOKUP($A949,Base_Arbres,9,FALSE)*crit9,\"\")","v":""},{"$f":"IF(ISNA(VLOOKUP(INDEX(Base_Typologie!$A$6:$P$1003,MATCH(A949,Base_Typologie!$A:$A,0)-5,MATCH(Typologie_Espace_Public,Base_Typologie!$6:$6,0)),TableauScoreTypologie2,2,FALSE)*Crit6),0,VLOOKUP(INDEX(Base_Typologie!$A$6:$P$1003,MATCH(A949,Base_Typologie!$A:$A,0)-5,MATCH(Typologie_Espace_Public,Base_Typologie!$6:$6,0)),TableauScoreTypologie2,2,FALSE)*Crit6)","v":0},0,0,0,0,0,0,0,0,0,0,0,0,null,{"$f":"IF(Base_Arbres!A1052<>\"\",VLOOKUP($A949,Base_Arbres,4,FALSE)*Crit7,\"\")","v":""}]
[{"$f":"IF(Base_Arbres!A996<>\"\",Base_Arbres!A996,\"\")","v":""},{"$f":"IF(Base_Arbres!A996<>\"\",VLOOKUP($A950,Base_Arbres,3,FALSE)*Crit1,\"\")","v":""},{"$f":"IF(Base_Arbres!A996<>\"\",VLOOKUP($A950,Base_Arbres,4,FALSE)*Crit2,\"\")","v":""},{"$f":"IF(Base_Arbres!A996<>\"\",VLOOKUP($A950,Base_Arbres,5,FALSE)*Crit3,\"\")","v":""},{"$f":"IF(Base_Arbres!A996<>\"\",VLOOKUP($A950,Base_Arbres,6,FALSE)*Crit4,\"\")","v":""},{"$f":"IF(Base_Arbres!B950<>\"\",VLOOKUP($A950,Base_Arbres,7,FALSE)*Crit5,\"\")","v":""},{"$f":"IF(Base_Arbres!C950<>\"\",VLOOKUP($A950,Base_Arbres,8,FALSE)*crit8,\"\")","v":""},{"$f":"IF(Base_Arbres!D950<>\"\",VLOOKUP($A950,Base_Arbres,9,FALSE)*crit9,\"\")","v":""},{"$f":"IF(ISNA(VLOOKUP(INDEX(Base_Typologie!$A$6:$P$1003,MATCH(A950,Base_Typologie!$A:$A,0)-5,MATCH(Typologie_Espace_Public,Base_Typologie!$6:$6,0)),TableauScoreTypologie2,2,FALSE)*Crit6),0,VLOOKUP(INDEX(Base_Typologie!$A$6:$P$1003,MATCH(A950,Base_Typologie!$A:$A,0)-5,MATCH(Typologie_Espace_Public,Base_Typologie!$6:$6,0)),TableauScoreTypologie2,2,FALSE)*Crit6)","v":0},0,0,0,0,0,0,0,0,0,0,0,0,null,{"$f":"IF(Base_Arbres!A1053<>\"\",VLOOKUP($A950,Base_Arbres,4,FALSE)*Crit7,\"\")","v":""}]
[{"$f":"IF(Base_Arbres!A997<>\"\",Base_Arbres!A997,\"\")","v":""},{"$f":"IF(Base_Arbres!A997<>\"\",VLOOKUP($A951,Base_Arbres,3,FALSE)*Crit1,\"\")","v":""},{"$f":"IF(Base_Arbres!A997<>\"\",VLOOKUP($A951,Base_Arbres,4,FALSE)*Crit2,\"\")","v":""},{"$f":"IF(Base_Arbres!A997<>\"\",VLOOKUP($A951,Base_Arbres,5,FALSE)*Crit3,\"\")","v":""},{"$f":"IF(Base_Arbres!A997<>\"\",VLOOKUP($A951,Base_Arbres,6,FALSE)*Crit4,\"\")","v":""},{"$f":"IF(Base_Arbres!B951<>\"\",VLOOKUP($A951,Base_Arbres,7,FALSE)*Crit5,\"\")","v":""},{"$f":"IF(Base_Arbres!C951<>\"\",VLOOKUP($A951,Base_Arbres,8,FALSE)*crit8,\"\")","v":""},{"$f":"IF(Base_Arbres!D951<>\"\",VLOOKUP($A951,Base_Arbres,9,FALSE)*crit9,\"\")","v":""},{"$f":"IF(ISNA(VLOOKUP(INDEX(Base_Typologie!$A$6:$P$1003,MATCH(A951,Base_Typologie!$A:$A,0)-5,MATCH(Typologie_Espace_Public,Base_Typologie!$6:$6,0)),TableauScoreTypologie2,2,FALSE)*Crit6),0,VLOOKUP(INDEX(Base_Typologie!$A$6:$P$1003,MATCH(A951,Base_Typologie!$A:$A,0)-5,MATCH(Typologie_Espace_Public,Base_Typologie!$6:$6,0)),TableauScoreTypologie2,2,FALSE)*Crit6)","v":0},0,0,0,0,0,0,0,0,0,0,0,0,null,{"$f":"IF(Base_Arbres!A1054<>\"\",VLOOKUP($A951,Base_Arbres,4,FALSE)*Crit7,\"\")","v":""}]
[{"$f":"IF(Base_Arbres!A998<>\"\",Base_Arbres!A998,\"\")","v":""},{"$f":"IF(Base_Arbres!A998<>\"\",VLOOKUP($A952,Base_Arbres,3,FALSE)*Crit1,\"\")","v":""},{"$f":"IF(Base_Arbres!A998<>\"\",VLOOKUP($A952,Base_Arbres,4,FALSE)*Crit2,\"\")","v":""},{"$f":"IF(Base_Arbres!A998<>\"\",VLOOKUP($A952,Base_Arbres,5,FALSE)*Crit3,\"\")","v":""},{"$f":"IF(Base_Arbres!A998<>\"\",VLOOKUP($A952,Base_Arbres,6,FALSE)*Crit4,\"\")","v":""},{"$f":"IF(Base_Arbres!B952<>\"\",VLOOKUP($A952,Base_Arbres,7,FALSE)*Crit5,\"\")","v":""},{"$f":"IF(Base_Arbres!C952<>\"\",VLOOKUP($A952,Base_Arbres,8,FALSE)*crit8,\"\")","v":""},{"$f":"IF(Base_Arbres!D952<>\"\",VLOOKUP($A952,Base_Arbres,9,FALSE)*crit9,\"\")","v":""},{"$f":"IF(ISNA(VLOOKUP(INDEX(Base_Typologie!$A$6:$P$1003,MATCH(A952,Base_Typologie!$A:$A,0)-5,MATCH(Typologie_Espace_Public,Base_Typologie!$6:$6,0)),TableauScoreTypologie2,2,FALSE)*Crit6),0,VLOOKUP(INDEX(Base_Typologie!$A$6:$P$1003,MATCH(A952,Base_Typologie!$A:$A,0)-5,MATCH(Typologie_Espace_Public,Base_Typologie!$6:$6,0)),TableauScoreTypologie2,2,FALSE)*Crit6)","v":0},0,0,0,0,0,0,0,0,0,0,0,0,null,{"$f":"IF(Base_Arbres!A1055<>\"\",VLOOKUP($A952,Base_Arbres,4,FALSE)*Crit7,\"\")","v":""}]
[{"$f":"IF(Base_Arbres!A999<>\"\",Base_Arbres!A999,\"\")","v":""},{"$f":"IF(Base_Arbres!A999<>\"\",VLOOKUP($A953,Base_Arbres,3,FALSE)*Crit1,\"\")","v":""},{"$f":"IF(Base_Arbres!A999<>\"\",VLOOKUP($A953,Base_Arbres,4,FALSE)*Crit2,\"\")","v":""},{"$f":"IF(Base_Arbres!A999<>\"\",VLOOKUP($A953,Base_Arbres,5,FALSE)*Crit3,\"\")","v":""},{"$f":"IF(Base_Arbres!A999<>\"\",VLOOKUP($A953,Base_Arbres,6,FALSE)*Crit4,\"\")","v":""},{"$f":"IF(Base_Arbres!B953<>\"\",VLOOKUP($A953,Base_Arbres,7,FALSE)*Crit5,\"\")","v":""},{"$f":"IF(Base_Arbres!C953<>\"\",VLOOKUP($A953,Base_Arbres,8,FALSE)*crit8,\"\")","v":""},{"$f":"IF(Base_Arbres!D953<>\"\",VLOOKUP($A953,Base_Arbres,9,FALSE)*crit9,\"\")","v":""},{"$f":"IF(ISNA(VLOOKUP(INDEX(Base_Typologie!$A$6:$P$1003,MATCH(A953,Base_Typologie!$A:$A,0)-5,MATCH(Typologie_Espace_Public,Base_Typologie!$6:$6,0)),TableauScoreTypologie2,2,FALSE)*Crit6),0,VLOOKUP(INDEX(Base_Typologie!$A$6:$P$1003,MATCH(A953,Base_Typologie!$A:$A,0)-5,MATCH(Typologie_Espace_Public,Base_Typologie!$6:$6,0)),TableauScoreTypologie2,2,FALSE)*Crit6)","v":0},0,0,0,0,0,0,0,0,0,0,0,0,null,{"$f":"IF(Base_Arbres!A1056<>\"\",VLOOKUP($A953,Base_Arbres,4,FALSE)*Crit7,\"\")","v":""}]
[{"$f":"IF(Base_Arbres!A1000<>\"\",Base_Arbres!A1000,\"\")","v":""},{"$f":"IF(Base_Arbres!A1000<>\"\",VLOOKUP($A954,Base_Arbres,3,FALSE)*Crit1,\"\")","v":""},{"$f":"IF(Base_Arbres!A1000<>\"\",VLOOKUP($A954,Base_Arbres,4,FALSE)*Crit2,\"\")","v":""},{"$f":"IF(Base_Arbres!A1000<>\"\",VLOOKUP($A954,Base_Arbres,5,FALSE)*Crit3,\"\")","v":""},{"$f":"IF(Base_Arbres!A1000<>\"\",VLOOKUP($A954,Base_Arbres,6,FALSE)*Crit4,\"\")","v":""},{"$f":"IF(Base_Arbres!B954<>\"\",VLOOKUP($A954,Base_Arbres,7,FALSE)*Crit5,\"\")","v":""},{"$f":"IF(Base_Arbres!C954<>\"\",VLOOKUP($A954,Base_Arbres,8,FALSE)*crit8,\"\")","v":""},{"$f":"IF(Base_Arbres!D954<>\"\",VLOOKUP($A954,Base_Arbres,9,FALSE)*crit9,\"\")","v":""},{"$f":"IF(ISNA(VLOOKUP(INDEX(Base_Typologie!$A$6:$P$1003,MATCH(A954,Base_Typologie!$A:$A,0)-5,MATCH(Typologie_Espace_Public,Base_Typologie!$6:$6,0)),TableauScoreTypologie2,2,FALSE)*Crit6),0,VLOOKUP(INDEX(Base_Typologie!$A$6:$P$1003,MATCH(A954,Base_Typologie!$A:$A,0)-5,MATCH(Typologie_Espace_Public,Base_Typologie!$6:$6,0)),TableauScoreTypologie2,2,FALSE)*Crit6)","v":0},0,0,0,0,0,0,0,0,0,0,0,0,null,{"$f":"IF(Base_Arbres!A1057<>\"\",VLOOKUP($A954,Base_Arbres,4,FALSE)*Crit7,\"\")","v":""}]
[{"$f":"IF(Base_Arbres!A1001<>\"\",Base_Arbres!A1001,\"\")","v":""},{"$f":"IF(Base_Arbres!A1001<>\"\",VLOOKUP($A955,Base_Arbres,3,FALSE)*Crit1,\"\")","v":""},{"$f":"IF(Base_Arbres!A1001<>\"\",VLOOKUP($A955,Base_Arbres,4,FALSE)*Crit2,\"\")","v":""},{"$f":"IF(Base_Arbres!A1001<>\"\",VLOOKUP($A955,Base_Arbres,5,FALSE)*Crit3,\"\")","v":""},{"$f":"IF(Base_Arbres!A1001<>\"\",VLOOKUP($A955,Base_Arbres,6,FALSE)*Crit4,\"\")","v":""},{"$f":"IF(Base_Arbres!B955<>\"\",VLOOKUP($A955,Base_Arbres,7,FALSE)*Crit5,\"\")","v":""},{"$f":"IF(Base_Arbres!C955<>\"\",VLOOKUP($A955,Base_Arbres,8,FALSE)*crit8,\"\")","v":""},{"$f":"IF(Base_Arbres!D955<>\"\",VLOOKUP($A955,Base_Arbres,9,FALSE)*crit9,\"\")","v":""},{"$f":"IF(ISNA(VLOOKUP(INDEX(Base_Typologie!$A$6:$P$1003,MATCH(A955,Base_Typologie!$A:$A,0)-5,MATCH(Typologie_Espace_Public,Base_Typologie!$6:$6,0)),TableauScoreTypologie2,2,FALSE)*Crit6),0,VLOOKUP(INDEX(Base_Typologie!$A$6:$P$1003,MATCH(A955,Base_Typologie!$A:$A,0)-5,MATCH(Typologie_Espace_Public,Base_Typologie!$6:$6,0)),TableauScoreTypologie2,2,FALSE)*Crit6)","v":0},0,0,0,0,0,0,0,0,0,0,0,0,null,{"$f":"IF(Base_Arbres!A1058<>\"\",VLOOKUP($A955,Base_Arbres,4,FALSE)*Crit7,\"\")","v":""}]
[{"$f":"IF(Base_Arbres!A1002<>\"\",Base_Arbres!A1002,\"\")","v":""},{"$f":"IF(Base_Arbres!A1002<>\"\",VLOOKUP($A956,Base_Arbres,3,FALSE)*Crit1,\"\")","v":""},{"$f":"IF(Base_Arbres!A1002<>\"\",VLOOKUP($A956,Base_Arbres,4,FALSE)*Crit2,\"\")","v":""},{"$f":"IF(Base_Arbres!A1002<>\"\",VLOOKUP($A956,Base_Arbres,5,FALSE)*Crit3,\"\")","v":""},{"$f":"IF(Base_Arbres!A1002<>\"\",VLOOKUP($A956,Base_Arbres,6,FALSE)*Crit4,\"\")","v":""},{"$f":"IF(Base_Arbres!B956<>\"\",VLOOKUP($A956,Base_Arbres,7,FALSE)*Crit5,\"\")","v":""},{"$f":"IF(Base_Arbres!C956<>\"\",VLOOKUP($A956,Base_Arbres,8,FALSE)*crit8,\"\")","v":""},{"$f":"IF(Base_Arbres!D956<>\"\",VLOOKUP($A956,Base_Arbres,9,FALSE)*crit9,\"\")","v":""},{"$f":"IF(ISNA(VLOOKUP(INDEX(Base_Typologie!$A$6:$P$1003,MATCH(A956,Base_Typologie!$A:$A,0)-5,MATCH(Typologie_Espace_Public,Base_Typologie!$6:$6,0)),TableauScoreTypologie2,2,FALSE)*Crit6),0,VLOOKUP(INDEX(Base_Typologie!$A$6:$P$1003,MATCH(A956,Base_Typologie!$A:$A,0)-5,MATCH(Typologie_Espace_Public,Base_Typologie!$6:$6,0)),TableauScoreTypologie2,2,FALSE)*Crit6)","v":0},0,0,0,0,0,0,0,0,0,0,0,0,null,{"$f":"IF(Base_Arbres!A1059<>\"\",VLOOKUP($A956,Base_Arbres,4,FALSE)*Crit7,\"\")","v":""}]
[{"$f":"IF(Base_Arbres!A1003<>\"\",Base_Arbres!A1003,\"\")","v":""},{"$f":"IF(Base_Arbres!A1003<>\"\",VLOOKUP($A957,Base_Arbres,3,FALSE)*Crit1,\"\")","v":""},{"$f":"IF(Base_Arbres!A1003<>\"\",VLOOKUP($A957,Base_Arbres,4,FALSE)*Crit2,\"\")","v":""},{"$f":"IF(Base_Arbres!A1003<>\"\",VLOOKUP($A957,Base_Arbres,5,FALSE)*Crit3,\"\")","v":""},{"$f":"IF(Base_Arbres!A1003<>\"\",VLOOKUP($A957,Base_Arbres,6,FALSE)*Crit4,\"\")","v":""},{"$f":"IF(Base_Arbres!B957<>\"\",VLOOKUP($A957,Base_Arbres,7,FALSE)*Crit5,\"\")","v":""},{"$f":"IF(Base_Arbres!C957<>\"\",VLOOKUP($A957,Base_Arbres,8,FALSE)*crit8,\"\")","v":""},{"$f":"IF(Base_Arbres!D957<>\"\",VLOOKUP($A957,Base_Arbres,9,FALSE)*crit9,\"\")","v":""},{"$f":"IF(ISNA(VLOOKUP(INDEX(Base_Typologie!$A$6:$P$1003,MATCH(A957,Base_Typologie!$A:$A,0)-5,MATCH(Typologie_Espace_Public,Base_Typologie!$6:$6,0)),TableauScoreTypologie2,2,FALSE)*Crit6),0,VLOOKUP(INDEX(Base_Typologie!$A$6:$P$1003,MATCH(A957,Base_Typologie!$A:$A,0)-5,MATCH(Typologie_Espace_Public,Base_Typologie!$6:$6,0)),TableauScoreTypologie2,2,FALSE)*Crit6)","v":0},0,0,0,0,0,0,0,0,0,0,0,0,null,{"$f":"IF(Base_Arbres!A1060<>\"\",VLOOKUP($A957,Base_Arbres,4,FALSE)*Crit7,\"\")","v":""}]
[{"$f":"IF(Base_Arbres!A1004<>\"\",Base_Arbres!A1004,\"\")","v":""},{"$f":"IF(Base_Arbres!A1004<>\"\",VLOOKUP($A958,Base_Arbres,3,FALSE)*Crit1,\"\")","v":""},{"$f":"IF(Base_Arbres!A1004<>\"\",VLOOKUP($A958,Base_Arbres,4,FALSE)*Crit2,\"\")","v":""},{"$f":"IF(Base_Arbres!A1004<>\"\",VLOOKUP($A958,Base_Arbres,5,FALSE)*Crit3,\"\")","v":""},{"$f":"IF(Base_Arbres!A1004<>\"\",VLOOKUP($A958,Base_Arbres,6,FALSE)*Crit4,\"\")","v":""},{"$f":"IF(Base_Arbres!B958<>\"\",VLOOKUP($A958,Base_Arbres,7,FALSE)*Crit5,\"\")","v":""},{"$f":"IF(Base_Arbres!C958<>\"\",VLOOKUP($A958,Base_Arbres,8,FALSE)*crit8,\"\")","v":""},{"$f":"IF(Base_Arbres!D958<>\"\",VLOOKUP($A958,Base_Arbres,9,FALSE)*crit9,\"\")","v":""},{"$f":"IF(ISNA(VLOOKUP(INDEX(Base_Typologie!$A$6:$P$1003,MATCH(A958,Base_Typologie!$A:$A,0)-5,MATCH(Typologie_Espace_Public,Base_Typologie!$6:$6,0)),TableauScoreTypologie2,2,FALSE)*Crit6),0,VLOOKUP(INDEX(Base_Typologie!$A$6:$P$1003,MATCH(A958,Base_Typologie!$A:$A,0)-5,MATCH(Typologie_Espace_Public,Base_Typologie!$6:$6,0)),TableauScoreTypologie2,2,FALSE)*Crit6)","v":0},0,0,0,0,0,0,0,0,0,0,0,0,null,{"$f":"IF(Base_Arbres!A1061<>\"\",VLOOKUP($A958,Base_Arbres,4,FALSE)*Crit7,\"\")","v":""}]
[{"$f":"IF(Base_Arbres!A1005<>\"\",Base_Arbres!A1005,\"\")","v":""},{"$f":"IF(Base_Arbres!A1005<>\"\",VLOOKUP($A959,Base_Arbres,3,FALSE)*Crit1,\"\")","v":""},{"$f":"IF(Base_Arbres!A1005<>\"\",VLOOKUP($A959,Base_Arbres,4,FALSE)*Crit2,\"\")","v":""},{"$f":"IF(Base_Arbres!A1005<>\"\",VLOOKUP($A959,Base_Arbres,5,FALSE)*Crit3,\"\")","v":""},{"$f":"IF(Base_Arbres!A1005<>\"\",VLOOKUP($A959,Base_Arbres,6,FALSE)*Crit4,\"\")","v":""},{"$f":"IF(Base_Arbres!B959<>\"\",VLOOKUP($A959,Base_Arbres,7,FALSE)*Crit5,\"\")","v":""},{"$f":"IF(Base_Arbres!C959<>\"\",VLOOKUP($A959,Base_Arbres,8,FALSE)*crit8,\"\")","v":""},{"$f":"IF(Base_Arbres!D959<>\"\",VLOOKUP($A959,Base_Arbres,9,FALSE)*crit9,\"\")","v":""},{"$f":"IF(ISNA(VLOOKUP(INDEX(Base_Typologie!$A$6:$P$1003,MATCH(A959,Base_Typologie!$A:$A,0)-5,MATCH(Typologie_Espace_Public,Base_Typologie!$6:$6,0)),TableauScoreTypologie2,2,FALSE)*Crit6),0,VLOOKUP(INDEX(Base_Typologie!$A$6:$P$1003,MATCH(A959,Base_Typologie!$A:$A,0)-5,MATCH(Typologie_Espace_Public,Base_Typologie!$6:$6,0)),TableauScoreTypologie2,2,FALSE)*Crit6)","v":0},0,0,0,0,0,0,0,0,0,0,0,0,null,{"$f":"IF(Base_Arbres!A1062<>\"\",VLOOKUP($A959,Base_Arbres,4,FALSE)*Crit7,\"\")","v":""}]
[{"$f":"IF(Base_Arbres!A1006<>\"\",Base_Arbres!A1006,\"\")","v":""},{"$f":"IF(Base_Arbres!A1006<>\"\",VLOOKUP($A960,Base_Arbres,3,FALSE)*Crit1,\"\")","v":""},{"$f":"IF(Base_Arbres!A1006<>\"\",VLOOKUP($A960,Base_Arbres,4,FALSE)*Crit2,\"\")","v":""},{"$f":"IF(Base_Arbres!A1006<>\"\",VLOOKUP($A960,Base_Arbres,5,FALSE)*Crit3,\"\")","v":""},{"$f":"IF(Base_Arbres!A1006<>\"\",VLOOKUP($A960,Base_Arbres,6,FALSE)*Crit4,\"\")","v":""},{"$f":"IF(Base_Arbres!B960<>\"\",VLOOKUP($A960,Base_Arbres,7,FALSE)*Crit5,\"\")","v":""},{"$f":"IF(Base_Arbres!C960<>\"\",VLOOKUP($A960,Base_Arbres,8,FALSE)*crit8,\"\")","v":""},{"$f":"IF(Base_Arbres!D960<>\"\",VLOOKUP($A960,Base_Arbres,9,FALSE)*crit9,\"\")","v":""},{"$f":"IF(ISNA(VLOOKUP(INDEX(Base_Typologie!$A$6:$P$1003,MATCH(A960,Base_Typologie!$A:$A,0)-5,MATCH(Typologie_Espace_Public,Base_Typologie!$6:$6,0)),TableauScoreTypologie2,2,FALSE)*Crit6),0,VLOOKUP(INDEX(Base_Typologie!$A$6:$P$1003,MATCH(A960,Base_Typologie!$A:$A,0)-5,MATCH(Typologie_Espace_Public,Base_Typologie!$6:$6,0)),TableauScoreTypologie2,2,FALSE)*Crit6)","v":0},0,0,0,0,0,0,0,0,0,0,0,0,null,{"$f":"IF(Base_Arbres!A1063<>\"\",VLOOKUP($A960,Base_Arbres,4,FALSE)*Crit7,\"\")","v":""}]
[{"$f":"IF(Base_Arbres!A1007<>\"\",Base_Arbres!A1007,\"\")","v":""},{"$f":"IF(Base_Arbres!A1007<>\"\",VLOOKUP($A961,Base_Arbres,3,FALSE)*Crit1,\"\")","v":""},{"$f":"IF(Base_Arbres!A1007<>\"\",VLOOKUP($A961,Base_Arbres,4,FALSE)*Crit2,\"\")","v":""},{"$f":"IF(Base_Arbres!A1007<>\"\",VLOOKUP($A961,Base_Arbres,5,FALSE)*Crit3,\"\")","v":""},{"$f":"IF(Base_Arbres!A1007<>\"\",VLOOKUP($A961,Base_Arbres,6,FALSE)*Crit4,\"\")","v":""},{"$f":"IF(Base_Arbres!B961<>\"\",VLOOKUP($A961,Base_Arbres,7,FALSE)*Crit5,\"\")","v":""},{"$f":"IF(Base_Arbres!C961<>\"\",VLOOKUP($A961,Base_Arbres,8,FALSE)*crit8,\"\")","v":""},{"$f":"IF(Base_Arbres!D961<>\"\",VLOOKUP($A961,Base_Arbres,9,FALSE)*crit9,\"\")","v":""},{"$f":"IF(ISNA(VLOOKUP(INDEX(Base_Typologie!$A$6:$P$1003,MATCH(A961,Base_Typologie!$A:$A,0)-5,MATCH(Typologie_Espace_Public,Base_Typologie!$6:$6,0)),TableauScoreTypologie2,2,FALSE)*Crit6),0,VLOOKUP(INDEX(Base_Typologie!$A$6:$P$1003,MATCH(A961,Base_Typologie!$A:$A,0)-5,MATCH(Typologie_Espace_Public,Base_Typologie!$6:$6,0)),TableauScoreTypologie2,2,FALSE)*Crit6)","v":0},0,0,0,0,0,0,0,0,0,0,0,0,null,{"$f":"IF(Base_Arbres!A1064<>\"\",VLOOKUP($A961,Base_Arbres,4,FALSE)*Crit7,\"\")","v":""}]
[{"$f":"IF(Base_Arbres!A1008<>\"\",Base_Arbres!A1008,\"\")","v":""},{"$f":"IF(Base_Arbres!A1008<>\"\",VLOOKUP($A962,Base_Arbres,3,FALSE)*Crit1,\"\")","v":""},{"$f":"IF(Base_Arbres!A1008<>\"\",VLOOKUP($A962,Base_Arbres,4,FALSE)*Crit2,\"\")","v":""},{"$f":"IF(Base_Arbres!A1008<>\"\",VLOOKUP($A962,Base_Arbres,5,FALSE)*Crit3,\"\")","v":""},{"$f":"IF(Base_Arbres!A1008<>\"\",VLOOKUP($A962,Base_Arbres,6,FALSE)*Crit4,\"\")","v":""},{"$f":"IF(Base_Arbres!B962<>\"\",VLOOKUP($A962,Base_Arbres,7,FALSE)*Crit5,\"\")","v":""},{"$f":"IF(Base_Arbres!C962<>\"\",VLOOKUP($A962,Base_Arbres,8,FALSE)*crit8,\"\")","v":""},{"$f":"IF(Base_Arbres!D962<>\"\",VLOOKUP($A962,Base_Arbres,9,FALSE)*crit9,\"\")","v":""},{"$f":"IF(ISNA(VLOOKUP(INDEX(Base_Typologie!$A$6:$P$1003,MATCH(A962,Base_Typologie!$A:$A,0)-5,MATCH(Typologie_Espace_Public,Base_Typologie!$6:$6,0)),TableauScoreTypologie2,2,FALSE)*Crit6),0,VLOOKUP(INDEX(Base_Typologie!$A$6:$P$1003,MATCH(A962,Base_Typologie!$A:$A,0)-5,MATCH(Typologie_Espace_Public,Base_Typologie!$6:$6,0)),TableauScoreTypologie2,2,FALSE)*Crit6)","v":0},{"$f":"IF(A962<>\"\",IF(LEFT(VLOOKUP($A962,Base_Arbres,10,FALSE),1)>=LEFT(Cont_Racines,1),0,1),0)","v":0},{"$f":"IF(A962<>\"\",IF(LEFT(VLOOKUP($A962,Base_Arbres,11,FALSE),1)>=LEFT(Cont_Branches,1),0,1),0)","v":0},{"$f":"IF(A962<>\"\",IF(LEFT(VLOOKUP($A962,Base_Arbres,12,FALSE),1)>=LEFT(Cont_Chablis,1),0,1),0)","v":0},{"$f":"IF(A962<>\"\",IF(LEFT(VLOOKUP($A962,Base_Arbres,13,FALSE),1)>=LEFT(Cont_Fructifications,1),0,1),0)","v":0},{"$f":"IF(A962<>\"\",IF(LEFT(VLOOKUP($A962,Base_Arbres,14,FALSE),1)>=LEFT(Cont_Miellat,1),0,1),0)","v":0},{"$f":"IF(A962<>\"\",IF(LEFT(VLOOKUP($A962,Base_Arbres,15,FALSE),1)>=LEFT(Cont_Fruits_Toxiques,1),0,1),0)","v":0},{"$f":"IF(A962<>\"\",IF(LEFT(VLOOKUP($A962,Base_Arbres,16,FALSE),1)>=LEFT(Cont_Hauteur,1),0,1),0)","v":0},{"$f":"IF(A962<>\"\",IF(LEFT(VLOOKUP($A962,Base_Arbres,17,FALSE),1)>=LEFT(Cont_Envergure,1),0,1),0)","v":0},{"$f":"IF(A962<>\"\",IF(LEFT(VLOOKUP($A962,Base_Arbres,18,FALSE),1)>=LEFT(Cont_pollen,1),0,1),0)","v":0},{"$f":"IF(B962<>\"\",IF(LEFT(VLOOKUP($A962,Base_Arbres,19,FALSE),1)>=LEFT(Cont_malodo,1),0,1),0)","v":0},{"$f":"IF(A962<>\"\",IF(LEFT(VLOOKUP($A962,Base_Arbres,20,FALSE),1)>=LEFT(Cont_chenilles,1),0,1),0)","v":0},{"$f":"IF(A962<>\"\",IF(LEFT(VLOOKUP($A962,Base_Arbres,21,FALSE),1)>=LEFT(Cont_epineux,1),0,1),0)","v":0},null,{"$f":"IF(Base_Arbres!A1065<>\"\",VLOOKUP($A962,Base_Arbres,4,FALSE)*Crit7,\"\")","v":""}]
[{"$f":"IF(Base_Arbres!A1009<>\"\",Base_Arbres!A1009,\"\")","v":""},{"$f":"IF(Base_Arbres!A1009<>\"\",VLOOKUP($A963,Base_Arbres,3,FALSE)*Crit1,\"\")","v":""},{"$f":"IF(Base_Arbres!A1009<>\"\",VLOOKUP($A963,Base_Arbres,4,FALSE)*Crit2,\"\")","v":""},{"$f":"IF(Base_Arbres!A1009<>\"\",VLOOKUP($A963,Base_Arbres,5,FALSE)*Crit3,\"\")","v":""},{"$f":"IF(Base_Arbres!A1009<>\"\",VLOOKUP($A963,Base_Arbres,6,FALSE)*Crit4,\"\")","v":""},{"$f":"IF(Base_Arbres!B963<>\"\",VLOOKUP($A963,Base_Arbres,7,FALSE)*Crit5,\"\")","v":""},{"$f":"IF(Base_Arbres!C963<>\"\",VLOOKUP($A963,Base_Arbres,8,FALSE)*crit8,\"\")","v":""},{"$f":"IF(Base_Arbres!D963<>\"\",VLOOKUP($A963,Base_Arbres,9,FALSE)*crit9,\"\")","v":""},{"$f":"IF(ISNA(VLOOKUP(INDEX(Base_Typologie!$A$6:$P$1003,MATCH(A963,Base_Typologie!$A:$A,0)-5,MATCH(Typologie_Espace_Public,Base_Typologie!$6:$6,0)),TableauScoreTypologie2,2,FALSE)*Crit6),0,VLOOKUP(INDEX(Base_Typologie!$A$6:$P$1003,MATCH(A963,Base_Typologie!$A:$A,0)-5,MATCH(Typologie_Espace_Public,Base_Typologie!$6:$6,0)),TableauScoreTypologie2,2,FALSE)*Crit6)","v":0},0,0,0,0,0,0,0,0,0,0,0,0,null,{"$f":"IF(Base_Arbres!A1066<>\"\",VLOOKUP($A963,Base_Arbres,4,FALSE)*Crit7,\"\")","v":""}]
[{"$f":"IF(Base_Arbres!A1010<>\"\",Base_Arbres!A1010,\"\")","v":""},{"$f":"IF(Base_Arbres!A1010<>\"\",VLOOKUP($A964,Base_Arbres,3,FALSE)*Crit1,\"\")","v":""},{"$f":"IF(Base_Arbres!A1010<>\"\",VLOOKUP($A964,Base_Arbres,4,FALSE)*Crit2,\"\")","v":""},{"$f":"IF(Base_Arbres!A1010<>\"\",VLOOKUP($A964,Base_Arbres,5,FALSE)*Crit3,\"\")","v":""},{"$f":"IF(Base_Arbres!A1010<>\"\",VLOOKUP($A964,Base_Arbres,6,FALSE)*Crit4,\"\")","v":""},{"$f":"IF(Base_Arbres!B964<>\"\",VLOOKUP($A964,Base_Arbres,7,FALSE)*Crit5,\"\")","v":""},{"$f":"IF(Base_Arbres!C964<>\"\",VLOOKUP($A964,Base_Arbres,8,FALSE)*crit8,\"\")","v":""},{"$f":"IF(Base_Arbres!D964<>\"\",VLOOKUP($A964,Base_Arbres,9,FALSE)*crit9,\"\")","v":""},{"$f":"IF(ISNA(VLOOKUP(INDEX(Base_Typologie!$A$6:$P$1003,MATCH(A964,Base_Typologie!$A:$A,0)-5,MATCH(Typologie_Espace_Public,Base_Typologie!$6:$6,0)),TableauScoreTypologie2,2,FALSE)*Crit6),0,VLOOKUP(INDEX(Base_Typologie!$A$6:$P$1003,MATCH(A964,Base_Typologie!$A:$A,0)-5,MATCH(Typologie_Espace_Public,Base_Typologie!$6:$6,0)),TableauScoreTypologie2,2,FALSE)*Crit6)","v":0},0,0,0,0,0,0,0,0,0,0,0,0,null,{"$f":"IF(Base_Arbres!A1067<>\"\",VLOOKUP($A964,Base_Arbres,4,FALSE)*Crit7,\"\")","v":""}]
[{"$f":"IF(Base_Arbres!A1011<>\"\",Base_Arbres!A1011,\"\")","v":""},{"$f":"IF(Base_Arbres!A1011<>\"\",VLOOKUP($A965,Base_Arbres,3,FALSE)*Crit1,\"\")","v":""},{"$f":"IF(Base_Arbres!A1011<>\"\",VLOOKUP($A965,Base_Arbres,4,FALSE)*Crit2,\"\")","v":""},{"$f":"IF(Base_Arbres!A1011<>\"\",VLOOKUP($A965,Base_Arbres,5,FALSE)*Crit3,\"\")","v":""},{"$f":"IF(Base_Arbres!A1011<>\"\",VLOOKUP($A965,Base_Arbres,6,FALSE)*Crit4,\"\")","v":""},{"$f":"IF(Base_Arbres!B965<>\"\",VLOOKUP($A965,Base_Arbres,7,FALSE)*Crit5,\"\")","v":""},{"$f":"IF(Base_Arbres!C965<>\"\",VLOOKUP($A965,Base_Arbres,8,FALSE)*crit8,\"\")","v":""},{"$f":"IF(Base_Arbres!D965<>\"\",VLOOKUP($A965,Base_Arbres,9,FALSE)*crit9,\"\")","v":""},{"$f":"IF(ISNA(VLOOKUP(INDEX(Base_Typologie!$A$6:$P$1003,MATCH(A965,Base_Typologie!$A:$A,0)-5,MATCH(Typologie_Espace_Public,Base_Typologie!$6:$6,0)),TableauScoreTypologie2,2,FALSE)*Crit6),0,VLOOKUP(INDEX(Base_Typologie!$A$6:$P$1003,MATCH(A965,Base_Typologie!$A:$A,0)-5,MATCH(Typologie_Espace_Public,Base_Typologie!$6:$6,0)),TableauScoreTypologie2,2,FALSE)*Crit6)","v":0},0,0,0,0,0,0,0,0,0,0,0,0,null,{"$f":"IF(Base_Arbres!A1068<>\"\",VLOOKUP($A965,Base_Arbres,4,FALSE)*Crit7,\"\")","v":""}]
[{"$f":"IF(Base_Arbres!A1012<>\"\",Base_Arbres!A1012,\"\")","v":""},{"$f":"IF(Base_Arbres!A1012<>\"\",VLOOKUP($A966,Base_Arbres,3,FALSE)*Crit1,\"\")","v":""},{"$f":"IF(Base_Arbres!A1012<>\"\",VLOOKUP($A966,Base_Arbres,4,FALSE)*Crit2,\"\")","v":""},{"$f":"IF(Base_Arbres!A1012<>\"\",VLOOKUP($A966,Base_Arbres,5,FALSE)*Crit3,\"\")","v":""},{"$f":"IF(Base_Arbres!A1012<>\"\",VLOOKUP($A966,Base_Arbres,6,FALSE)*Crit4,\"\")","v":""},{"$f":"IF(Base_Arbres!B966<>\"\",VLOOKUP($A966,Base_Arbres,7,FALSE)*Crit5,\"\")","v":""},{"$f":"IF(Base_Arbres!C966<>\"\",VLOOKUP($A966,Base_Arbres,8,FALSE)*crit8,\"\")","v":""},{"$f":"IF(Base_Arbres!D966<>\"\",VLOOKUP($A966,Base_Arbres,9,FALSE)*crit9,\"\")","v":""},{"$f":"IF(ISNA(VLOOKUP(INDEX(Base_Typologie!$A$6:$P$1003,MATCH(A966,Base_Typologie!$A:$A,0)-5,MATCH(Typologie_Espace_Public,Base_Typologie!$6:$6,0)),TableauScoreTypologie2,2,FALSE)*Crit6),0,VLOOKUP(INDEX(Base_Typologie!$A$6:$P$1003,MATCH(A966,Base_Typologie!$A:$A,0)-5,MATCH(Typologie_Espace_Public,Base_Typologie!$6:$6,0)),TableauScoreTypologie2,2,FALSE)*Crit6)","v":0},0,0,0,0,0,0,0,0,0,0,0,0,null,{"$f":"IF(Base_Arbres!A1069<>\"\",VLOOKUP($A966,Base_Arbres,4,FALSE)*Crit7,\"\")","v":""}]
[{"$f":"IF(Base_Arbres!A1013<>\"\",Base_Arbres!A1013,\"\")","v":""},{"$f":"IF(Base_Arbres!A1013<>\"\",VLOOKUP($A967,Base_Arbres,3,FALSE)*Crit1,\"\")","v":""},{"$f":"IF(Base_Arbres!A1013<>\"\",VLOOKUP($A967,Base_Arbres,4,FALSE)*Crit2,\"\")","v":""},{"$f":"IF(Base_Arbres!A1013<>\"\",VLOOKUP($A967,Base_Arbres,5,FALSE)*Crit3,\"\")","v":""},{"$f":"IF(Base_Arbres!A1013<>\"\",VLOOKUP($A967,Base_Arbres,6,FALSE)*Crit4,\"\")","v":""},{"$f":"IF(Base_Arbres!B967<>\"\",VLOOKUP($A967,Base_Arbres,7,FALSE)*Crit5,\"\")","v":""},{"$f":"IF(Base_Arbres!C967<>\"\",VLOOKUP($A967,Base_Arbres,8,FALSE)*crit8,\"\")","v":""},{"$f":"IF(Base_Arbres!D967<>\"\",VLOOKUP($A967,Base_Arbres,9,FALSE)*crit9,\"\")","v":""},{"$f":"IF(ISNA(VLOOKUP(INDEX(Base_Typologie!$A$6:$P$1003,MATCH(A967,Base_Typologie!$A:$A,0)-5,MATCH(Typologie_Espace_Public,Base_Typologie!$6:$6,0)),TableauScoreTypologie2,2,FALSE)*Crit6),0,VLOOKUP(INDEX(Base_Typologie!$A$6:$P$1003,MATCH(A967,Base_Typologie!$A:$A,0)-5,MATCH(Typologie_Espace_Public,Base_Typologie!$6:$6,0)),TableauScoreTypologie2,2,FALSE)*Crit6)","v":0},0,0,0,0,0,0,0,0,0,0,0,0,null,{"$f":"IF(Base_Arbres!A1070<>\"\",VLOOKUP($A967,Base_Arbres,4,FALSE)*Crit7,\"\")","v":""}]
[{"$f":"IF(Base_Arbres!A1014<>\"\",Base_Arbres!A1014,\"\")","v":""},{"$f":"IF(Base_Arbres!A1014<>\"\",VLOOKUP($A968,Base_Arbres,3,FALSE)*Crit1,\"\")","v":""},{"$f":"IF(Base_Arbres!A1014<>\"\",VLOOKUP($A968,Base_Arbres,4,FALSE)*Crit2,\"\")","v":""},{"$f":"IF(Base_Arbres!A1014<>\"\",VLOOKUP($A968,Base_Arbres,5,FALSE)*Crit3,\"\")","v":""},{"$f":"IF(Base_Arbres!A1014<>\"\",VLOOKUP($A968,Base_Arbres,6,FALSE)*Crit4,\"\")","v":""},{"$f":"IF(Base_Arbres!B968<>\"\",VLOOKUP($A968,Base_Arbres,7,FALSE)*Crit5,\"\")","v":""},{"$f":"IF(Base_Arbres!C968<>\"\",VLOOKUP($A968,Base_Arbres,8,FALSE)*crit8,\"\")","v":""},{"$f":"IF(Base_Arbres!D968<>\"\",VLOOKUP($A968,Base_Arbres,9,FALSE)*crit9,\"\")","v":""},{"$f":"IF(ISNA(VLOOKUP(INDEX(Base_Typologie!$A$6:$P$1003,MATCH(A968,Base_Typologie!$A:$A,0)-5,MATCH(Typologie_Espace_Public,Base_Typologie!$6:$6,0)),TableauScoreTypologie2,2,FALSE)*Crit6),0,VLOOKUP(INDEX(Base_Typologie!$A$6:$P$1003,MATCH(A968,Base_Typologie!$A:$A,0)-5,MATCH(Typologie_Espace_Public,Base_Typologie!$6:$6,0)),TableauScoreTypologie2,2,FALSE)*Crit6)","v":0},0,0,0,0,0,0,0,0,0,0,0,0,null,{"$f":"IF(Base_Arbres!A1071<>\"\",VLOOKUP($A968,Base_Arbres,4,FALSE)*Crit7,\"\")","v":""}]
[{"$f":"IF(Base_Arbres!A1015<>\"\",Base_Arbres!A1015,\"\")","v":""},{"$f":"IF(Base_Arbres!A1015<>\"\",VLOOKUP($A969,Base_Arbres,3,FALSE)*Crit1,\"\")","v":""},{"$f":"IF(Base_Arbres!A1015<>\"\",VLOOKUP($A969,Base_Arbres,4,FALSE)*Crit2,\"\")","v":""},{"$f":"IF(Base_Arbres!A1015<>\"\",VLOOKUP($A969,Base_Arbres,5,FALSE)*Crit3,\"\")","v":""},{"$f":"IF(Base_Arbres!A1015<>\"\",VLOOKUP($A969,Base_Arbres,6,FALSE)*Crit4,\"\")","v":""},{"$f":"IF(Base_Arbres!B969<>\"\",VLOOKUP($A969,Base_Arbres,7,FALSE)*Crit5,\"\")","v":""},{"$f":"IF(Base_Arbres!C969<>\"\",VLOOKUP($A969,Base_Arbres,8,FALSE)*crit8,\"\")","v":""},{"$f":"IF(Base_Arbres!D969<>\"\",VLOOKUP($A969,Base_Arbres,9,FALSE)*crit9,\"\")","v":""},{"$f":"IF(ISNA(VLOOKUP(INDEX(Base_Typologie!$A$6:$P$1003,MATCH(A969,Base_Typologie!$A:$A,0)-5,MATCH(Typologie_Espace_Public,Base_Typologie!$6:$6,0)),TableauScoreTypologie2,2,FALSE)*Crit6),0,VLOOKUP(INDEX(Base_Typologie!$A$6:$P$1003,MATCH(A969,Base_Typologie!$A:$A,0)-5,MATCH(Typologie_Espace_Public,Base_Typologie!$6:$6,0)),TableauScoreTypologie2,2,FALSE)*Crit6)","v":0},0,0,0,0,0,0,0,0,0,0,0,0,null,{"$f":"IF(Base_Arbres!A1072<>\"\",VLOOKUP($A969,Base_Arbres,4,FALSE)*Crit7,\"\")","v":""}]
[{"$f":"IF(Base_Arbres!A1016<>\"\",Base_Arbres!A1016,\"\")","v":""},{"$f":"IF(Base_Arbres!A1016<>\"\",VLOOKUP($A970,Base_Arbres,3,FALSE)*Crit1,\"\")","v":""},{"$f":"IF(Base_Arbres!A1016<>\"\",VLOOKUP($A970,Base_Arbres,4,FALSE)*Crit2,\"\")","v":""},{"$f":"IF(Base_Arbres!A1016<>\"\",VLOOKUP($A970,Base_Arbres,5,FALSE)*Crit3,\"\")","v":""},{"$f":"IF(Base_Arbres!A1016<>\"\",VLOOKUP($A970,Base_Arbres,6,FALSE)*Crit4,\"\")","v":""},{"$f":"IF(Base_Arbres!B970<>\"\",VLOOKUP($A970,Base_Arbres,7,FALSE)*Crit5,\"\")","v":""},{"$f":"IF(Base_Arbres!C970<>\"\",VLOOKUP($A970,Base_Arbres,8,FALSE)*crit8,\"\")","v":""},{"$f":"IF(Base_Arbres!D970<>\"\",VLOOKUP($A970,Base_Arbres,9,FALSE)*crit9,\"\")","v":""},{"$f":"IF(ISNA(VLOOKUP(INDEX(Base_Typologie!$A$6:$P$1003,MATCH(A970,Base_Typologie!$A:$A,0)-5,MATCH(Typologie_Espace_Public,Base_Typologie!$6:$6,0)),TableauScoreTypologie2,2,FALSE)*Crit6),0,VLOOKUP(INDEX(Base_Typologie!$A$6:$P$1003,MATCH(A970,Base_Typologie!$A:$A,0)-5,MATCH(Typologie_Espace_Public,Base_Typologie!$6:$6,0)),TableauScoreTypologie2,2,FALSE)*Crit6)","v":0},0,0,0,0,0,0,0,0,0,0,0,0,null,{"$f":"IF(Base_Arbres!A1073<>\"\",VLOOKUP($A970,Base_Arbres,4,FALSE)*Crit7,\"\")","v":""}]
[{"$f":"IF(Base_Arbres!A1017<>\"\",Base_Arbres!A1017,\"\")","v":""},{"$f":"IF(Base_Arbres!A1017<>\"\",VLOOKUP($A971,Base_Arbres,3,FALSE)*Crit1,\"\")","v":""},{"$f":"IF(Base_Arbres!A1017<>\"\",VLOOKUP($A971,Base_Arbres,4,FALSE)*Crit2,\"\")","v":""},{"$f":"IF(Base_Arbres!A1017<>\"\",VLOOKUP($A971,Base_Arbres,5,FALSE)*Crit3,\"\")","v":""},{"$f":"IF(Base_Arbres!A1017<>\"\",VLOOKUP($A971,Base_Arbres,6,FALSE)*Crit4,\"\")","v":""},{"$f":"IF(Base_Arbres!B971<>\"\",VLOOKUP($A971,Base_Arbres,7,FALSE)*Crit5,\"\")","v":""},{"$f":"IF(Base_Arbres!C971<>\"\",VLOOKUP($A971,Base_Arbres,8,FALSE)*crit8,\"\")","v":""},{"$f":"IF(Base_Arbres!D971<>\"\",VLOOKUP($A971,Base_Arbres,9,FALSE)*crit9,\"\")","v":""},{"$f":"IF(ISNA(VLOOKUP(INDEX(Base_Typologie!$A$6:$P$1003,MATCH(A971,Base_Typologie!$A:$A,0)-5,MATCH(Typologie_Espace_Public,Base_Typologie!$6:$6,0)),TableauScoreTypologie2,2,FALSE)*Crit6),0,VLOOKUP(INDEX(Base_Typologie!$A$6:$P$1003,MATCH(A971,Base_Typologie!$A:$A,0)-5,MATCH(Typologie_Espace_Public,Base_Typologie!$6:$6,0)),TableauScoreTypologie2,2,FALSE)*Crit6)","v":0},0,0,0,0,0,0,0,0,0,0,0,0,null,{"$f":"IF(Base_Arbres!A1074<>\"\",VLOOKUP($A971,Base_Arbres,4,FALSE)*Crit7,\"\")","v":""}]
[{"$f":"IF(Base_Arbres!A1018<>\"\",Base_Arbres!A1018,\"\")","v":""},{"$f":"IF(Base_Arbres!A1018<>\"\",VLOOKUP($A972,Base_Arbres,3,FALSE)*Crit1,\"\")","v":""},{"$f":"IF(Base_Arbres!A1018<>\"\",VLOOKUP($A972,Base_Arbres,4,FALSE)*Crit2,\"\")","v":""},{"$f":"IF(Base_Arbres!A1018<>\"\",VLOOKUP($A972,Base_Arbres,5,FALSE)*Crit3,\"\")","v":""},{"$f":"IF(Base_Arbres!A1018<>\"\",VLOOKUP($A972,Base_Arbres,6,FALSE)*Crit4,\"\")","v":""},{"$f":"IF(Base_Arbres!B972<>\"\",VLOOKUP($A972,Base_Arbres,7,FALSE)*Crit5,\"\")","v":""},{"$f":"IF(Base_Arbres!C972<>\"\",VLOOKUP($A972,Base_Arbres,8,FALSE)*crit8,\"\")","v":""},{"$f":"IF(Base_Arbres!D972<>\"\",VLOOKUP($A972,Base_Arbres,9,FALSE)*crit9,\"\")","v":""},{"$f":"IF(ISNA(VLOOKUP(INDEX(Base_Typologie!$A$6:$P$1003,MATCH(A972,Base_Typologie!$A:$A,0)-5,MATCH(Typologie_Espace_Public,Base_Typologie!$6:$6,0)),TableauScoreTypologie2,2,FALSE)*Crit6),0,VLOOKUP(INDEX(Base_Typologie!$A$6:$P$1003,MATCH(A972,Base_Typologie!$A:$A,0)-5,MATCH(Typologie_Espace_Public,Base_Typologie!$6:$6,0)),TableauScoreTypologie2,2,FALSE)*Crit6)","v":0},0,0,0,0,0,0,0,0,0,0,0,0,null,{"$f":"IF(Base_Arbres!A1075<>\"\",VLOOKUP($A972,Base_Arbres,4,FALSE)*Crit7,\"\")","v":""}]
[{"$f":"IF(Base_Arbres!A1019<>\"\",Base_Arbres!A1019,\"\")","v":""},{"$f":"IF(Base_Arbres!A1019<>\"\",VLOOKUP($A973,Base_Arbres,3,FALSE)*Crit1,\"\")","v":""},{"$f":"IF(Base_Arbres!A1019<>\"\",VLOOKUP($A973,Base_Arbres,4,FALSE)*Crit2,\"\")","v":""},{"$f":"IF(Base_Arbres!A1019<>\"\",VLOOKUP($A973,Base_Arbres,5,FALSE)*Crit3,\"\")","v":""},{"$f":"IF(Base_Arbres!A1019<>\"\",VLOOKUP($A973,Base_Arbres,6,FALSE)*Crit4,\"\")","v":""},{"$f":"IF(Base_Arbres!B973<>\"\",VLOOKUP($A973,Base_Arbres,7,FALSE)*Crit5,\"\")","v":""},{"$f":"IF(Base_Arbres!C973<>\"\",VLOOKUP($A973,Base_Arbres,8,FALSE)*crit8,\"\")","v":""},{"$f":"IF(Base_Arbres!D973<>\"\",VLOOKUP($A973,Base_Arbres,9,FALSE)*crit9,\"\")","v":""},{"$f":"IF(ISNA(VLOOKUP(INDEX(Base_Typologie!$A$6:$P$1003,MATCH(A973,Base_Typologie!$A:$A,0)-5,MATCH(Typologie_Espace_Public,Base_Typologie!$6:$6,0)),TableauScoreTypologie2,2,FALSE)*Crit6),0,VLOOKUP(INDEX(Base_Typologie!$A$6:$P$1003,MATCH(A973,Base_Typologie!$A:$A,0)-5,MATCH(Typologie_Espace_Public,Base_Typologie!$6:$6,0)),TableauScoreTypologie2,2,FALSE)*Crit6)","v":0},0,0,0,0,0,0,0,0,0,0,0,0,null,{"$f":"IF(Base_Arbres!A1076<>\"\",VLOOKUP($A973,Base_Arbres,4,FALSE)*Crit7,\"\")","v":""}]
[{"$f":"IF(Base_Arbres!A1020<>\"\",Base_Arbres!A1020,\"\")","v":""},{"$f":"IF(Base_Arbres!A1020<>\"\",VLOOKUP($A974,Base_Arbres,3,FALSE)*Crit1,\"\")","v":""},{"$f":"IF(Base_Arbres!A1020<>\"\",VLOOKUP($A974,Base_Arbres,4,FALSE)*Crit2,\"\")","v":""},{"$f":"IF(Base_Arbres!A1020<>\"\",VLOOKUP($A974,Base_Arbres,5,FALSE)*Crit3,\"\")","v":""},{"$f":"IF(Base_Arbres!A1020<>\"\",VLOOKUP($A974,Base_Arbres,6,FALSE)*Crit4,\"\")","v":""},{"$f":"IF(Base_Arbres!B974<>\"\",VLOOKUP($A974,Base_Arbres,7,FALSE)*Crit5,\"\")","v":""},{"$f":"IF(Base_Arbres!C974<>\"\",VLOOKUP($A974,Base_Arbres,8,FALSE)*crit8,\"\")","v":""},{"$f":"IF(Base_Arbres!D974<>\"\",VLOOKUP($A974,Base_Arbres,9,FALSE)*crit9,\"\")","v":""},{"$f":"IF(ISNA(VLOOKUP(INDEX(Base_Typologie!$A$6:$P$1003,MATCH(A974,Base_Typologie!$A:$A,0)-5,MATCH(Typologie_Espace_Public,Base_Typologie!$6:$6,0)),TableauScoreTypologie2,2,FALSE)*Crit6),0,VLOOKUP(INDEX(Base_Typologie!$A$6:$P$1003,MATCH(A974,Base_Typologie!$A:$A,0)-5,MATCH(Typologie_Espace_Public,Base_Typologie!$6:$6,0)),TableauScoreTypologie2,2,FALSE)*Crit6)","v":0},0,0,0,0,0,0,0,0,0,0,0,0,null,{"$f":"IF(Base_Arbres!A1077<>\"\",VLOOKUP($A974,Base_Arbres,4,FALSE)*Crit7,\"\")","v":""}]
[{"$f":"IF(Base_Arbres!A1021<>\"\",Base_Arbres!A1021,\"\")","v":""},{"$f":"IF(Base_Arbres!A1021<>\"\",VLOOKUP($A975,Base_Arbres,3,FALSE)*Crit1,\"\")","v":""},{"$f":"IF(Base_Arbres!A1021<>\"\",VLOOKUP($A975,Base_Arbres,4,FALSE)*Crit2,\"\")","v":""},{"$f":"IF(Base_Arbres!A1021<>\"\",VLOOKUP($A975,Base_Arbres,5,FALSE)*Crit3,\"\")","v":""},{"$f":"IF(Base_Arbres!A1021<>\"\",VLOOKUP($A975,Base_Arbres,6,FALSE)*Crit4,\"\")","v":""},{"$f":"IF(Base_Arbres!B975<>\"\",VLOOKUP($A975,Base_Arbres,7,FALSE)*Crit5,\"\")","v":""},{"$f":"IF(Base_Arbres!C975<>\"\",VLOOKUP($A975,Base_Arbres,8,FALSE)*crit8,\"\")","v":""},{"$f":"IF(Base_Arbres!D975<>\"\",VLOOKUP($A975,Base_Arbres,9,FALSE)*crit9,\"\")","v":""},{"$f":"IF(ISNA(VLOOKUP(INDEX(Base_Typologie!$A$6:$P$1003,MATCH(A975,Base_Typologie!$A:$A,0)-5,MATCH(Typologie_Espace_Public,Base_Typologie!$6:$6,0)),TableauScoreTypologie2,2,FALSE)*Crit6),0,VLOOKUP(INDEX(Base_Typologie!$A$6:$P$1003,MATCH(A975,Base_Typologie!$A:$A,0)-5,MATCH(Typologie_Espace_Public,Base_Typologie!$6:$6,0)),TableauScoreTypologie2,2,FALSE)*Crit6)","v":0},0,0,0,0,0,0,0,0,0,0,0,0,null,{"$f":"IF(Base_Arbres!A1078<>\"\",VLOOKUP($A975,Base_Arbres,4,FALSE)*Crit7,\"\")","v":""}]
[{"$f":"IF(Base_Arbres!A1022<>\"\",Base_Arbres!A1022,\"\")","v":""},{"$f":"IF(Base_Arbres!A1022<>\"\",VLOOKUP($A976,Base_Arbres,3,FALSE)*Crit1,\"\")","v":""},{"$f":"IF(Base_Arbres!A1022<>\"\",VLOOKUP($A976,Base_Arbres,4,FALSE)*Crit2,\"\")","v":""},{"$f":"IF(Base_Arbres!A1022<>\"\",VLOOKUP($A976,Base_Arbres,5,FALSE)*Crit3,\"\")","v":""},{"$f":"IF(Base_Arbres!A1022<>\"\",VLOOKUP($A976,Base_Arbres,6,FALSE)*Crit4,\"\")","v":""},{"$f":"IF(Base_Arbres!B976<>\"\",VLOOKUP($A976,Base_Arbres,7,FALSE)*Crit5,\"\")","v":""},{"$f":"IF(Base_Arbres!C976<>\"\",VLOOKUP($A976,Base_Arbres,8,FALSE)*crit8,\"\")","v":""},{"$f":"IF(Base_Arbres!D976<>\"\",VLOOKUP($A976,Base_Arbres,9,FALSE)*crit9,\"\")","v":""},{"$f":"IF(ISNA(VLOOKUP(INDEX(Base_Typologie!$A$6:$P$1003,MATCH(A976,Base_Typologie!$A:$A,0)-5,MATCH(Typologie_Espace_Public,Base_Typologie!$6:$6,0)),TableauScoreTypologie2,2,FALSE)*Crit6),0,VLOOKUP(INDEX(Base_Typologie!$A$6:$P$1003,MATCH(A976,Base_Typologie!$A:$A,0)-5,MATCH(Typologie_Espace_Public,Base_Typologie!$6:$6,0)),TableauScoreTypologie2,2,FALSE)*Crit6)","v":0},0,0,0,0,0,0,0,0,0,0,0,0,null,{"$f":"IF(Base_Arbres!A1079<>\"\",VLOOKUP($A976,Base_Arbres,4,FALSE)*Crit7,\"\")","v":""}]
[{"$f":"IF(Base_Arbres!A1023<>\"\",Base_Arbres!A1023,\"\")","v":""},{"$f":"IF(Base_Arbres!A1023<>\"\",VLOOKUP($A977,Base_Arbres,3,FALSE)*Crit1,\"\")","v":""},{"$f":"IF(Base_Arbres!A1023<>\"\",VLOOKUP($A977,Base_Arbres,4,FALSE)*Crit2,\"\")","v":""},{"$f":"IF(Base_Arbres!A1023<>\"\",VLOOKUP($A977,Base_Arbres,5,FALSE)*Crit3,\"\")","v":""},{"$f":"IF(Base_Arbres!A1023<>\"\",VLOOKUP($A977,Base_Arbres,6,FALSE)*Crit4,\"\")","v":""},{"$f":"IF(Base_Arbres!B977<>\"\",VLOOKUP($A977,Base_Arbres,7,FALSE)*Crit5,\"\")","v":""},{"$f":"IF(Base_Arbres!C977<>\"\",VLOOKUP($A977,Base_Arbres,8,FALSE)*crit8,\"\")","v":""},{"$f":"IF(Base_Arbres!D977<>\"\",VLOOKUP($A977,Base_Arbres,9,FALSE)*crit9,\"\")","v":""},{"$f":"IF(ISNA(VLOOKUP(INDEX(Base_Typologie!$A$6:$P$1003,MATCH(A977,Base_Typologie!$A:$A,0)-5,MATCH(Typologie_Espace_Public,Base_Typologie!$6:$6,0)),TableauScoreTypologie2,2,FALSE)*Crit6),0,VLOOKUP(INDEX(Base_Typologie!$A$6:$P$1003,MATCH(A977,Base_Typologie!$A:$A,0)-5,MATCH(Typologie_Espace_Public,Base_Typologie!$6:$6,0)),TableauScoreTypologie2,2,FALSE)*Crit6)","v":0},0,0,0,0,0,0,0,0,0,0,0,0,null,{"$f":"IF(Base_Arbres!A1080<>\"\",VLOOKUP($A977,Base_Arbres,4,FALSE)*Crit7,\"\")","v":""}]
[{"$f":"IF(Base_Arbres!A1024<>\"\",Base_Arbres!A1024,\"\")","v":""},{"$f":"IF(Base_Arbres!A1024<>\"\",VLOOKUP($A978,Base_Arbres,3,FALSE)*Crit1,\"\")","v":""},{"$f":"IF(Base_Arbres!A1024<>\"\",VLOOKUP($A978,Base_Arbres,4,FALSE)*Crit2,\"\")","v":""},{"$f":"IF(Base_Arbres!A1024<>\"\",VLOOKUP($A978,Base_Arbres,5,FALSE)*Crit3,\"\")","v":""},{"$f":"IF(Base_Arbres!A1024<>\"\",VLOOKUP($A978,Base_Arbres,6,FALSE)*Crit4,\"\")","v":""},{"$f":"IF(Base_Arbres!B978<>\"\",VLOOKUP($A978,Base_Arbres,7,FALSE)*Crit5,\"\")","v":""},{"$f":"IF(Base_Arbres!C978<>\"\",VLOOKUP($A978,Base_Arbres,8,FALSE)*crit8,\"\")","v":""},{"$f":"IF(Base_Arbres!D978<>\"\",VLOOKUP($A978,Base_Arbres,9,FALSE)*crit9,\"\")","v":""},{"$f":"IF(ISNA(VLOOKUP(INDEX(Base_Typologie!$A$6:$P$1003,MATCH(A978,Base_Typologie!$A:$A,0)-5,MATCH(Typologie_Espace_Public,Base_Typologie!$6:$6,0)),TableauScoreTypologie2,2,FALSE)*Crit6),0,VLOOKUP(INDEX(Base_Typologie!$A$6:$P$1003,MATCH(A978,Base_Typologie!$A:$A,0)-5,MATCH(Typologie_Espace_Public,Base_Typologie!$6:$6,0)),TableauScoreTypologie2,2,FALSE)*Crit6)","v":0},0,0,0,0,0,0,0,0,0,0,0,0,null,{"$f":"IF(Base_Arbres!A1081<>\"\",VLOOKUP($A978,Base_Arbres,4,FALSE)*Crit7,\"\")","v":""}]
[{"$f":"IF(Base_Arbres!A1025<>\"\",Base_Arbres!A1025,\"\")","v":""},{"$f":"IF(Base_Arbres!A1025<>\"\",VLOOKUP($A979,Base_Arbres,3,FALSE)*Crit1,\"\")","v":""},{"$f":"IF(Base_Arbres!A1025<>\"\",VLOOKUP($A979,Base_Arbres,4,FALSE)*Crit2,\"\")","v":""},{"$f":"IF(Base_Arbres!A1025<>\"\",VLOOKUP($A979,Base_Arbres,5,FALSE)*Crit3,\"\")","v":""},{"$f":"IF(Base_Arbres!A1025<>\"\",VLOOKUP($A979,Base_Arbres,6,FALSE)*Crit4,\"\")","v":""},{"$f":"IF(Base_Arbres!B979<>\"\",VLOOKUP($A979,Base_Arbres,7,FALSE)*Crit5,\"\")","v":""},{"$f":"IF(Base_Arbres!C979<>\"\",VLOOKUP($A979,Base_Arbres,8,FALSE)*crit8,\"\")","v":""},{"$f":"IF(Base_Arbres!D979<>\"\",VLOOKUP($A979,Base_Arbres,9,FALSE)*crit9,\"\")","v":""},{"$f":"IF(ISNA(VLOOKUP(INDEX(Base_Typologie!$A$6:$P$1003,MATCH(A979,Base_Typologie!$A:$A,0)-5,MATCH(Typologie_Espace_Public,Base_Typologie!$6:$6,0)),TableauScoreTypologie2,2,FALSE)*Crit6),0,VLOOKUP(INDEX(Base_Typologie!$A$6:$P$1003,MATCH(A979,Base_Typologie!$A:$A,0)-5,MATCH(Typologie_Espace_Public,Base_Typologie!$6:$6,0)),TableauScoreTypologie2,2,FALSE)*Crit6)","v":0},0,0,0,0,0,0,0,0,0,0,0,0,null,{"$f":"IF(Base_Arbres!A1082<>\"\",VLOOKUP($A979,Base_Arbres,4,FALSE)*Crit7,\"\")","v":""}]
[{"$f":"IF(Base_Arbres!A1026<>\"\",Base_Arbres!A1026,\"\")","v":""},{"$f":"IF(Base_Arbres!A1026<>\"\",VLOOKUP($A980,Base_Arbres,3,FALSE)*Crit1,\"\")","v":""},{"$f":"IF(Base_Arbres!A1026<>\"\",VLOOKUP($A980,Base_Arbres,4,FALSE)*Crit2,\"\")","v":""},{"$f":"IF(Base_Arbres!A1026<>\"\",VLOOKUP($A980,Base_Arbres,5,FALSE)*Crit3,\"\")","v":""},{"$f":"IF(Base_Arbres!A1026<>\"\",VLOOKUP($A980,Base_Arbres,6,FALSE)*Crit4,\"\")","v":""},{"$f":"IF(Base_Arbres!B980<>\"\",VLOOKUP($A980,Base_Arbres,7,FALSE)*Crit5,\"\")","v":""},{"$f":"IF(Base_Arbres!C980<>\"\",VLOOKUP($A980,Base_Arbres,8,FALSE)*crit8,\"\")","v":""},{"$f":"IF(Base_Arbres!D980<>\"\",VLOOKUP($A980,Base_Arbres,9,FALSE)*crit9,\"\")","v":""},{"$f":"IF(ISNA(VLOOKUP(INDEX(Base_Typologie!$A$6:$P$1003,MATCH(A980,Base_Typologie!$A:$A,0)-5,MATCH(Typologie_Espace_Public,Base_Typologie!$6:$6,0)),TableauScoreTypologie2,2,FALSE)*Crit6),0,VLOOKUP(INDEX(Base_Typologie!$A$6:$P$1003,MATCH(A980,Base_Typologie!$A:$A,0)-5,MATCH(Typologie_Espace_Public,Base_Typologie!$6:$6,0)),TableauScoreTypologie2,2,FALSE)*Crit6)","v":0},0,0,0,0,0,0,0,0,0,0,0,0,null,{"$f":"IF(Base_Arbres!A1083<>\"\",VLOOKUP($A980,Base_Arbres,4,FALSE)*Crit7,\"\")","v":""}]
[{"$f":"IF(Base_Arbres!A1027<>\"\",Base_Arbres!A1027,\"\")","v":""},{"$f":"IF(Base_Arbres!A1027<>\"\",VLOOKUP($A981,Base_Arbres,3,FALSE)*Crit1,\"\")","v":""},{"$f":"IF(Base_Arbres!A1027<>\"\",VLOOKUP($A981,Base_Arbres,4,FALSE)*Crit2,\"\")","v":""},{"$f":"IF(Base_Arbres!A1027<>\"\",VLOOKUP($A981,Base_Arbres,5,FALSE)*Crit3,\"\")","v":""},{"$f":"IF(Base_Arbres!A1027<>\"\",VLOOKUP($A981,Base_Arbres,6,FALSE)*Crit4,\"\")","v":""},{"$f":"IF(Base_Arbres!B981<>\"\",VLOOKUP($A981,Base_Arbres,7,FALSE)*Crit5,\"\")","v":""},{"$f":"IF(Base_Arbres!C981<>\"\",VLOOKUP($A981,Base_Arbres,8,FALSE)*crit8,\"\")","v":""},{"$f":"IF(Base_Arbres!D981<>\"\",VLOOKUP($A981,Base_Arbres,9,FALSE)*crit9,\"\")","v":""},{"$f":"IF(ISNA(VLOOKUP(INDEX(Base_Typologie!$A$6:$P$1003,MATCH(A981,Base_Typologie!$A:$A,0)-5,MATCH(Typologie_Espace_Public,Base_Typologie!$6:$6,0)),TableauScoreTypologie2,2,FALSE)*Crit6),0,VLOOKUP(INDEX(Base_Typologie!$A$6:$P$1003,MATCH(A981,Base_Typologie!$A:$A,0)-5,MATCH(Typologie_Espace_Public,Base_Typologie!$6:$6,0)),TableauScoreTypologie2,2,FALSE)*Crit6)","v":0},0,0,0,0,0,0,0,0,0,0,0,0,null,{"$f":"IF(Base_Arbres!A1084<>\"\",VLOOKUP($A981,Base_Arbres,4,FALSE)*Crit7,\"\")","v":""}]
[{"$f":"IF(Base_Arbres!A1028<>\"\",Base_Arbres!A1028,\"\")","v":""},{"$f":"IF(Base_Arbres!A1028<>\"\",VLOOKUP($A982,Base_Arbres,3,FALSE)*Crit1,\"\")","v":""},{"$f":"IF(Base_Arbres!A1028<>\"\",VLOOKUP($A982,Base_Arbres,4,FALSE)*Crit2,\"\")","v":""},{"$f":"IF(Base_Arbres!A1028<>\"\",VLOOKUP($A982,Base_Arbres,5,FALSE)*Crit3,\"\")","v":""},{"$f":"IF(Base_Arbres!A1028<>\"\",VLOOKUP($A982,Base_Arbres,6,FALSE)*Crit4,\"\")","v":""},{"$f":"IF(Base_Arbres!B982<>\"\",VLOOKUP($A982,Base_Arbres,7,FALSE)*Crit5,\"\")","v":""},{"$f":"IF(Base_Arbres!C982<>\"\",VLOOKUP($A982,Base_Arbres,8,FALSE)*crit8,\"\")","v":""},{"$f":"IF(Base_Arbres!D982<>\"\",VLOOKUP($A982,Base_Arbres,9,FALSE)*crit9,\"\")","v":""},{"$f":"IF(ISNA(VLOOKUP(INDEX(Base_Typologie!$A$6:$P$1003,MATCH(A982,Base_Typologie!$A:$A,0)-5,MATCH(Typologie_Espace_Public,Base_Typologie!$6:$6,0)),TableauScoreTypologie2,2,FALSE)*Crit6),0,VLOOKUP(INDEX(Base_Typologie!$A$6:$P$1003,MATCH(A982,Base_Typologie!$A:$A,0)-5,MATCH(Typologie_Espace_Public,Base_Typologie!$6:$6,0)),TableauScoreTypologie2,2,FALSE)*Crit6)","v":0},0,0,0,0,0,0,0,0,0,0,0,0,null,{"$f":"IF(Base_Arbres!A1085<>\"\",VLOOKUP($A982,Base_Arbres,4,FALSE)*Crit7,\"\")","v":""}]
[{"$f":"IF(Base_Arbres!A1029<>\"\",Base_Arbres!A1029,\"\")","v":""},{"$f":"IF(Base_Arbres!A1029<>\"\",VLOOKUP($A983,Base_Arbres,3,FALSE)*Crit1,\"\")","v":""},{"$f":"IF(Base_Arbres!A1029<>\"\",VLOOKUP($A983,Base_Arbres,4,FALSE)*Crit2,\"\")","v":""},{"$f":"IF(Base_Arbres!A1029<>\"\",VLOOKUP($A983,Base_Arbres,5,FALSE)*Crit3,\"\")","v":""},{"$f":"IF(Base_Arbres!A1029<>\"\",VLOOKUP($A983,Base_Arbres,6,FALSE)*Crit4,\"\")","v":""},{"$f":"IF(Base_Arbres!B983<>\"\",VLOOKUP($A983,Base_Arbres,7,FALSE)*Crit5,\"\")","v":""},{"$f":"IF(Base_Arbres!C983<>\"\",VLOOKUP($A983,Base_Arbres,8,FALSE)*crit8,\"\")","v":""},{"$f":"IF(Base_Arbres!D983<>\"\",VLOOKUP($A983,Base_Arbres,9,FALSE)*crit9,\"\")","v":""},{"$f":"IF(ISNA(VLOOKUP(INDEX(Base_Typologie!$A$6:$P$1003,MATCH(A983,Base_Typologie!$A:$A,0)-5,MATCH(Typologie_Espace_Public,Base_Typologie!$6:$6,0)),TableauScoreTypologie2,2,FALSE)*Crit6),0,VLOOKUP(INDEX(Base_Typologie!$A$6:$P$1003,MATCH(A983,Base_Typologie!$A:$A,0)-5,MATCH(Typologie_Espace_Public,Base_Typologie!$6:$6,0)),TableauScoreTypologie2,2,FALSE)*Crit6)","v":0},0,0,0,0,0,0,0,0,0,0,0,0,null,{"$f":"IF(Base_Arbres!A1086<>\"\",VLOOKUP($A983,Base_Arbres,4,FALSE)*Crit7,\"\")","v":""}]
[{"$f":"IF(Base_Arbres!A1030<>\"\",Base_Arbres!A1030,\"\")","v":""},{"$f":"IF(Base_Arbres!A1030<>\"\",VLOOKUP($A984,Base_Arbres,3,FALSE)*Crit1,\"\")","v":""},{"$f":"IF(Base_Arbres!A1030<>\"\",VLOOKUP($A984,Base_Arbres,4,FALSE)*Crit2,\"\")","v":""},{"$f":"IF(Base_Arbres!A1030<>\"\",VLOOKUP($A984,Base_Arbres,5,FALSE)*Crit3,\"\")","v":""},{"$f":"IF(Base_Arbres!A1030<>\"\",VLOOKUP($A984,Base_Arbres,6,FALSE)*Crit4,\"\")","v":""},{"$f":"IF(Base_Arbres!B984<>\"\",VLOOKUP($A984,Base_Arbres,7,FALSE)*Crit5,\"\")","v":""},{"$f":"IF(Base_Arbres!C984<>\"\",VLOOKUP($A984,Base_Arbres,8,FALSE)*crit8,\"\")","v":""},{"$f":"IF(Base_Arbres!D984<>\"\",VLOOKUP($A984,Base_Arbres,9,FALSE)*crit9,\"\")","v":""},{"$f":"IF(ISNA(VLOOKUP(INDEX(Base_Typologie!$A$6:$P$1003,MATCH(A984,Base_Typologie!$A:$A,0)-5,MATCH(Typologie_Espace_Public,Base_Typologie!$6:$6,0)),TableauScoreTypologie2,2,FALSE)*Crit6),0,VLOOKUP(INDEX(Base_Typologie!$A$6:$P$1003,MATCH(A984,Base_Typologie!$A:$A,0)-5,MATCH(Typologie_Espace_Public,Base_Typologie!$6:$6,0)),TableauScoreTypologie2,2,FALSE)*Crit6)","v":0},0,0,0,0,0,0,0,0,0,0,0,0,null,{"$f":"IF(Base_Arbres!A1087<>\"\",VLOOKUP($A984,Base_Arbres,4,FALSE)*Crit7,\"\")","v":""}]
[{"$f":"IF(Base_Arbres!A1031<>\"\",Base_Arbres!A1031,\"\")","v":""},{"$f":"IF(Base_Arbres!A1031<>\"\",VLOOKUP($A985,Base_Arbres,3,FALSE)*Crit1,\"\")","v":""},{"$f":"IF(Base_Arbres!A1031<>\"\",VLOOKUP($A985,Base_Arbres,4,FALSE)*Crit2,\"\")","v":""},{"$f":"IF(Base_Arbres!A1031<>\"\",VLOOKUP($A985,Base_Arbres,5,FALSE)*Crit3,\"\")","v":""},{"$f":"IF(Base_Arbres!A1031<>\"\",VLOOKUP($A985,Base_Arbres,6,FALSE)*Crit4,\"\")","v":""},{"$f":"IF(Base_Arbres!B985<>\"\",VLOOKUP($A985,Base_Arbres,7,FALSE)*Crit5,\"\")","v":""},{"$f":"IF(Base_Arbres!C985<>\"\",VLOOKUP($A985,Base_Arbres,8,FALSE)*crit8,\"\")","v":""},{"$f":"IF(Base_Arbres!D985<>\"\",VLOOKUP($A985,Base_Arbres,9,FALSE)*crit9,\"\")","v":""},{"$f":"IF(ISNA(VLOOKUP(INDEX(Base_Typologie!$A$6:$P$1003,MATCH(A985,Base_Typologie!$A:$A,0)-5,MATCH(Typologie_Espace_Public,Base_Typologie!$6:$6,0)),TableauScoreTypologie2,2,FALSE)*Crit6),0,VLOOKUP(INDEX(Base_Typologie!$A$6:$P$1003,MATCH(A985,Base_Typologie!$A:$A,0)-5,MATCH(Typologie_Espace_Public,Base_Typologie!$6:$6,0)),TableauScoreTypologie2,2,FALSE)*Crit6)","v":0},0,0,0,0,0,0,0,0,0,0,0,0,null,{"$f":"IF(Base_Arbres!A1088<>\"\",VLOOKUP($A985,Base_Arbres,4,FALSE)*Crit7,\"\")","v":""}]
[{"$f":"IF(Base_Arbres!A1032<>\"\",Base_Arbres!A1032,\"\")","v":""},{"$f":"IF(Base_Arbres!A1032<>\"\",VLOOKUP($A986,Base_Arbres,3,FALSE)*Crit1,\"\")","v":""},{"$f":"IF(Base_Arbres!A1032<>\"\",VLOOKUP($A986,Base_Arbres,4,FALSE)*Crit2,\"\")","v":""},{"$f":"IF(Base_Arbres!A1032<>\"\",VLOOKUP($A986,Base_Arbres,5,FALSE)*Crit3,\"\")","v":""},{"$f":"IF(Base_Arbres!A1032<>\"\",VLOOKUP($A986,Base_Arbres,6,FALSE)*Crit4,\"\")","v":""},{"$f":"IF(Base_Arbres!B986<>\"\",VLOOKUP($A986,Base_Arbres,7,FALSE)*Crit5,\"\")","v":""},{"$f":"IF(Base_Arbres!C986<>\"\",VLOOKUP($A986,Base_Arbres,8,FALSE)*crit8,\"\")","v":""},{"$f":"IF(Base_Arbres!D986<>\"\",VLOOKUP($A986,Base_Arbres,9,FALSE)*crit9,\"\")","v":""},{"$f":"IF(ISNA(VLOOKUP(INDEX(Base_Typologie!$A$6:$P$1003,MATCH(A986,Base_Typologie!$A:$A,0)-5,MATCH(Typologie_Espace_Public,Base_Typologie!$6:$6,0)),TableauScoreTypologie2,2,FALSE)*Crit6),0,VLOOKUP(INDEX(Base_Typologie!$A$6:$P$1003,MATCH(A986,Base_Typologie!$A:$A,0)-5,MATCH(Typologie_Espace_Public,Base_Typologie!$6:$6,0)),TableauScoreTypologie2,2,FALSE)*Crit6)","v":0},0,0,0,0,0,0,0,0,0,0,0,0,null,{"$f":"IF(Base_Arbres!A1089<>\"\",VLOOKUP($A986,Base_Arbres,4,FALSE)*Crit7,\"\")","v":""}]
[{"$f":"IF(Base_Arbres!A1033<>\"\",Base_Arbres!A1033,\"\")","v":""},{"$f":"IF(Base_Arbres!A1033<>\"\",VLOOKUP($A987,Base_Arbres,3,FALSE)*Crit1,\"\")","v":""},{"$f":"IF(Base_Arbres!A1033<>\"\",VLOOKUP($A987,Base_Arbres,4,FALSE)*Crit2,\"\")","v":""},{"$f":"IF(Base_Arbres!A1033<>\"\",VLOOKUP($A987,Base_Arbres,5,FALSE)*Crit3,\"\")","v":""},{"$f":"IF(Base_Arbres!A1033<>\"\",VLOOKUP($A987,Base_Arbres,6,FALSE)*Crit4,\"\")","v":""},{"$f":"IF(Base_Arbres!B987<>\"\",VLOOKUP($A987,Base_Arbres,7,FALSE)*Crit5,\"\")","v":""},{"$f":"IF(Base_Arbres!C987<>\"\",VLOOKUP($A987,Base_Arbres,8,FALSE)*crit8,\"\")","v":""},{"$f":"IF(Base_Arbres!D987<>\"\",VLOOKUP($A987,Base_Arbres,9,FALSE)*crit9,\"\")","v":""},{"$f":"IF(ISNA(VLOOKUP(INDEX(Base_Typologie!$A$6:$P$1003,MATCH(A987,Base_Typologie!$A:$A,0)-5,MATCH(Typologie_Espace_Public,Base_Typologie!$6:$6,0)),TableauScoreTypologie2,2,FALSE)*Crit6),0,VLOOKUP(INDEX(Base_Typologie!$A$6:$P$1003,MATCH(A987,Base_Typologie!$A:$A,0)-5,MATCH(Typologie_Espace_Public,Base_Typologie!$6:$6,0)),TableauScoreTypologie2,2,FALSE)*Crit6)","v":0},0,0,0,0,0,0,0,0,0,0,0,0,null,{"$f":"IF(Base_Arbres!A1090<>\"\",VLOOKUP($A987,Base_Arbres,4,FALSE)*Crit7,\"\")","v":""}]
[{"$f":"IF(Base_Arbres!A1034<>\"\",Base_Arbres!A1034,\"\")","v":""},{"$f":"IF(Base_Arbres!A1034<>\"\",VLOOKUP($A988,Base_Arbres,3,FALSE)*Crit1,\"\")","v":""},{"$f":"IF(Base_Arbres!A1034<>\"\",VLOOKUP($A988,Base_Arbres,4,FALSE)*Crit2,\"\")","v":""},{"$f":"IF(Base_Arbres!A1034<>\"\",VLOOKUP($A988,Base_Arbres,5,FALSE)*Crit3,\"\")","v":""},{"$f":"IF(Base_Arbres!A1034<>\"\",VLOOKUP($A988,Base_Arbres,6,FALSE)*Crit4,\"\")","v":""},{"$f":"IF(Base_Arbres!B988<>\"\",VLOOKUP($A988,Base_Arbres,7,FALSE)*Crit5,\"\")","v":""},{"$f":"IF(Base_Arbres!C988<>\"\",VLOOKUP($A988,Base_Arbres,8,FALSE)*crit8,\"\")","v":""},{"$f":"IF(Base_Arbres!D988<>\"\",VLOOKUP($A988,Base_Arbres,9,FALSE)*crit9,\"\")","v":""},{"$f":"IF(ISNA(VLOOKUP(INDEX(Base_Typologie!$A$6:$P$1003,MATCH(A988,Base_Typologie!$A:$A,0)-5,MATCH(Typologie_Espace_Public,Base_Typologie!$6:$6,0)),TableauScoreTypologie2,2,FALSE)*Crit6),0,VLOOKUP(INDEX(Base_Typologie!$A$6:$P$1003,MATCH(A988,Base_Typologie!$A:$A,0)-5,MATCH(Typologie_Espace_Public,Base_Typologie!$6:$6,0)),TableauScoreTypologie2,2,FALSE)*Crit6)","v":0},0,0,0,0,0,0,0,0,0,0,0,0,null,{"$f":"IF(Base_Arbres!A1091<>\"\",VLOOKUP($A988,Base_Arbres,4,FALSE)*Crit7,\"\")","v":""}]
[{"$f":"IF(Base_Arbres!A1035<>\"\",Base_Arbres!A1035,\"\")","v":""},{"$f":"IF(Base_Arbres!A1035<>\"\",VLOOKUP($A989,Base_Arbres,3,FALSE)*Crit1,\"\")","v":""},{"$f":"IF(Base_Arbres!A1035<>\"\",VLOOKUP($A989,Base_Arbres,4,FALSE)*Crit2,\"\")","v":""},{"$f":"IF(Base_Arbres!A1035<>\"\",VLOOKUP($A989,Base_Arbres,5,FALSE)*Crit3,\"\")","v":""},{"$f":"IF(Base_Arbres!A1035<>\"\",VLOOKUP($A989,Base_Arbres,6,FALSE)*Crit4,\"\")","v":""},{"$f":"IF(Base_Arbres!B989<>\"\",VLOOKUP($A989,Base_Arbres,7,FALSE)*Crit5,\"\")","v":""},{"$f":"IF(Base_Arbres!C989<>\"\",VLOOKUP($A989,Base_Arbres,8,FALSE)*crit8,\"\")","v":""},{"$f":"IF(Base_Arbres!D989<>\"\",VLOOKUP($A989,Base_Arbres,9,FALSE)*crit9,\"\")","v":""},{"$f":"IF(ISNA(VLOOKUP(INDEX(Base_Typologie!$A$6:$P$1003,MATCH(A989,Base_Typologie!$A:$A,0)-5,MATCH(Typologie_Espace_Public,Base_Typologie!$6:$6,0)),TableauScoreTypologie2,2,FALSE)*Crit6),0,VLOOKUP(INDEX(Base_Typologie!$A$6:$P$1003,MATCH(A989,Base_Typologie!$A:$A,0)-5,MATCH(Typologie_Espace_Public,Base_Typologie!$6:$6,0)),TableauScoreTypologie2,2,FALSE)*Crit6)","v":0},0,0,0,0,0,0,0,0,0,0,0,0,null,{"$f":"IF(Base_Arbres!A1092<>\"\",VLOOKUP($A989,Base_Arbres,4,FALSE)*Crit7,\"\")","v":""}]
[{"$f":"IF(Base_Arbres!A1036<>\"\",Base_Arbres!A1036,\"\")","v":""},{"$f":"IF(Base_Arbres!A1036<>\"\",VLOOKUP($A990,Base_Arbres,3,FALSE)*Crit1,\"\")","v":""},{"$f":"IF(Base_Arbres!A1036<>\"\",VLOOKUP($A990,Base_Arbres,4,FALSE)*Crit2,\"\")","v":""},{"$f":"IF(Base_Arbres!A1036<>\"\",VLOOKUP($A990,Base_Arbres,5,FALSE)*Crit3,\"\")","v":""},{"$f":"IF(Base_Arbres!A1036<>\"\",VLOOKUP($A990,Base_Arbres,6,FALSE)*Crit4,\"\")","v":""},{"$f":"IF(Base_Arbres!B990<>\"\",VLOOKUP($A990,Base_Arbres,7,FALSE)*Crit5,\"\")","v":""},{"$f":"IF(Base_Arbres!C990<>\"\",VLOOKUP($A990,Base_Arbres,8,FALSE)*crit8,\"\")","v":""},{"$f":"IF(Base_Arbres!D990<>\"\",VLOOKUP($A990,Base_Arbres,9,FALSE)*crit9,\"\")","v":""},{"$f":"IF(ISNA(VLOOKUP(INDEX(Base_Typologie!$A$6:$P$1003,MATCH(A990,Base_Typologie!$A:$A,0)-5,MATCH(Typologie_Espace_Public,Base_Typologie!$6:$6,0)),TableauScoreTypologie2,2,FALSE)*Crit6),0,VLOOKUP(INDEX(Base_Typologie!$A$6:$P$1003,MATCH(A990,Base_Typologie!$A:$A,0)-5,MATCH(Typologie_Espace_Public,Base_Typologie!$6:$6,0)),TableauScoreTypologie2,2,FALSE)*Crit6)","v":0},0,0,0,0,0,0,0,0,0,0,0,0,null,{"$f":"IF(Base_Arbres!A1093<>\"\",VLOOKUP($A990,Base_Arbres,4,FALSE)*Crit7,\"\")","v":""}]
[{"$f":"IF(Base_Arbres!A1037<>\"\",Base_Arbres!A1037,\"\")","v":""},{"$f":"IF(Base_Arbres!A1037<>\"\",VLOOKUP($A991,Base_Arbres,3,FALSE)*Crit1,\"\")","v":""},{"$f":"IF(Base_Arbres!A1037<>\"\",VLOOKUP($A991,Base_Arbres,4,FALSE)*Crit2,\"\")","v":""},{"$f":"IF(Base_Arbres!A1037<>\"\",VLOOKUP($A991,Base_Arbres,5,FALSE)*Crit3,\"\")","v":""},{"$f":"IF(Base_Arbres!A1037<>\"\",VLOOKUP($A991,Base_Arbres,6,FALSE)*Crit4,\"\")","v":""},{"$f":"IF(Base_Arbres!B991<>\"\",VLOOKUP($A991,Base_Arbres,7,FALSE)*Crit5,\"\")","v":""},{"$f":"IF(Base_Arbres!C991<>\"\",VLOOKUP($A991,Base_Arbres,8,FALSE)*crit8,\"\")","v":""},{"$f":"IF(Base_Arbres!D991<>\"\",VLOOKUP($A991,Base_Arbres,9,FALSE)*crit9,\"\")","v":""},{"$f":"IF(ISNA(VLOOKUP(INDEX(Base_Typologie!$A$6:$P$1003,MATCH(A991,Base_Typologie!$A:$A,0)-5,MATCH(Typologie_Espace_Public,Base_Typologie!$6:$6,0)),TableauScoreTypologie2,2,FALSE)*Crit6),0,VLOOKUP(INDEX(Base_Typologie!$A$6:$P$1003,MATCH(A991,Base_Typologie!$A:$A,0)-5,MATCH(Typologie_Espace_Public,Base_Typologie!$6:$6,0)),TableauScoreTypologie2,2,FALSE)*Crit6)","v":0},0,0,0,0,0,0,0,0,0,0,0,0,null,{"$f":"IF(Base_Arbres!A1094<>\"\",VLOOKUP($A991,Base_Arbres,4,FALSE)*Crit7,\"\")","v":""}]
[{"$f":"IF(Base_Arbres!A1038<>\"\",Base_Arbres!A1038,\"\")","v":""},{"$f":"IF(Base_Arbres!A1038<>\"\",VLOOKUP($A992,Base_Arbres,3,FALSE)*Crit1,\"\")","v":""},{"$f":"IF(Base_Arbres!A1038<>\"\",VLOOKUP($A992,Base_Arbres,4,FALSE)*Crit2,\"\")","v":""},{"$f":"IF(Base_Arbres!A1038<>\"\",VLOOKUP($A992,Base_Arbres,5,FALSE)*Crit3,\"\")","v":""},{"$f":"IF(Base_Arbres!A1038<>\"\",VLOOKUP($A992,Base_Arbres,6,FALSE)*Crit4,\"\")","v":""},{"$f":"IF(Base_Arbres!B992<>\"\",VLOOKUP($A992,Base_Arbres,7,FALSE)*Crit5,\"\")","v":""},{"$f":"IF(Base_Arbres!C992<>\"\",VLOOKUP($A992,Base_Arbres,8,FALSE)*crit8,\"\")","v":""},{"$f":"IF(Base_Arbres!D992<>\"\",VLOOKUP($A992,Base_Arbres,9,FALSE)*crit9,\"\")","v":""},{"$f":"IF(ISNA(VLOOKUP(INDEX(Base_Typologie!$A$6:$P$1003,MATCH(A992,Base_Typologie!$A:$A,0)-5,MATCH(Typologie_Espace_Public,Base_Typologie!$6:$6,0)),TableauScoreTypologie2,2,FALSE)*Crit6),0,VLOOKUP(INDEX(Base_Typologie!$A$6:$P$1003,MATCH(A992,Base_Typologie!$A:$A,0)-5,MATCH(Typologie_Espace_Public,Base_Typologie!$6:$6,0)),TableauScoreTypologie2,2,FALSE)*Crit6)","v":0},0,0,0,0,0,0,0,0,0,0,0,0,null,{"$f":"IF(Base_Arbres!A1095<>\"\",VLOOKUP($A992,Base_Arbres,4,FALSE)*Crit7,\"\")","v":""}]
[{"$f":"IF(Base_Arbres!A1039<>\"\",Base_Arbres!A1039,\"\")","v":""},{"$f":"IF(Base_Arbres!A1039<>\"\",VLOOKUP($A993,Base_Arbres,3,FALSE)*Crit1,\"\")","v":""},{"$f":"IF(Base_Arbres!A1039<>\"\",VLOOKUP($A993,Base_Arbres,4,FALSE)*Crit2,\"\")","v":""},{"$f":"IF(Base_Arbres!A1039<>\"\",VLOOKUP($A993,Base_Arbres,5,FALSE)*Crit3,\"\")","v":""},{"$f":"IF(Base_Arbres!A1039<>\"\",VLOOKUP($A993,Base_Arbres,6,FALSE)*Crit4,\"\")","v":""},{"$f":"IF(Base_Arbres!B993<>\"\",VLOOKUP($A993,Base_Arbres,7,FALSE)*Crit5,\"\")","v":""},{"$f":"IF(Base_Arbres!C993<>\"\",VLOOKUP($A993,Base_Arbres,8,FALSE)*crit8,\"\")","v":""},{"$f":"IF(Base_Arbres!D993<>\"\",VLOOKUP($A993,Base_Arbres,9,FALSE)*crit9,\"\")","v":""},{"$f":"IF(ISNA(VLOOKUP(INDEX(Base_Typologie!$A$6:$P$1003,MATCH(A993,Base_Typologie!$A:$A,0)-5,MATCH(Typologie_Espace_Public,Base_Typologie!$6:$6,0)),TableauScoreTypologie2,2,FALSE)*Crit6),0,VLOOKUP(INDEX(Base_Typologie!$A$6:$P$1003,MATCH(A993,Base_Typologie!$A:$A,0)-5,MATCH(Typologie_Espace_Public,Base_Typologie!$6:$6,0)),TableauScoreTypologie2,2,FALSE)*Crit6)","v":0},0,0,0,0,0,0,0,0,0,0,0,0,null,{"$f":"IF(Base_Arbres!A1096<>\"\",VLOOKUP($A993,Base_Arbres,4,FALSE)*Crit7,\"\")","v":""}]
[{"$f":"IF(Base_Arbres!A1040<>\"\",Base_Arbres!A1040,\"\")","v":""},{"$f":"IF(Base_Arbres!A1040<>\"\",VLOOKUP($A994,Base_Arbres,3,FALSE)*Crit1,\"\")","v":""},{"$f":"IF(Base_Arbres!A1040<>\"\",VLOOKUP($A994,Base_Arbres,4,FALSE)*Crit2,\"\")","v":""},{"$f":"IF(Base_Arbres!A1040<>\"\",VLOOKUP($A994,Base_Arbres,5,FALSE)*Crit3,\"\")","v":""},{"$f":"IF(Base_Arbres!A1040<>\"\",VLOOKUP($A994,Base_Arbres,6,FALSE)*Crit4,\"\")","v":""},{"$f":"IF(Base_Arbres!B994<>\"\",VLOOKUP($A994,Base_Arbres,7,FALSE)*Crit5,\"\")","v":""},{"$f":"IF(Base_Arbres!C994<>\"\",VLOOKUP($A994,Base_Arbres,8,FALSE)*crit8,\"\")","v":""},{"$f":"IF(Base_Arbres!D994<>\"\",VLOOKUP($A994,Base_Arbres,9,FALSE)*crit9,\"\")","v":""},{"$f":"IF(ISNA(VLOOKUP(INDEX(Base_Typologie!$A$6:$P$1003,MATCH(A994,Base_Typologie!$A:$A,0)-5,MATCH(Typologie_Espace_Public,Base_Typologie!$6:$6,0)),TableauScoreTypologie2,2,FALSE)*Crit6),0,VLOOKUP(INDEX(Base_Typologie!$A$6:$P$1003,MATCH(A994,Base_Typologie!$A:$A,0)-5,MATCH(Typologie_Espace_Public,Base_Typologie!$6:$6,0)),TableauScoreTypologie2,2,FALSE)*Crit6)","v":0},0,0,0,0,0,0,0,0,0,0,0,0,null,{"$f":"IF(Base_Arbres!A1097<>\"\",VLOOKUP($A994,Base_Arbres,4,FALSE)*Crit7,\"\")","v":""}]
[{"$f":"IF(Base_Arbres!A1041<>\"\",Base_Arbres!A1041,\"\")","v":""},{"$f":"IF(Base_Arbres!A1041<>\"\",VLOOKUP($A995,Base_Arbres,3,FALSE)*Crit1,\"\")","v":""},{"$f":"IF(Base_Arbres!A1041<>\"\",VLOOKUP($A995,Base_Arbres,4,FALSE)*Crit2,\"\")","v":""},{"$f":"IF(Base_Arbres!A1041<>\"\",VLOOKUP($A995,Base_Arbres,5,FALSE)*Crit3,\"\")","v":""},{"$f":"IF(Base_Arbres!A1041<>\"\",VLOOKUP($A995,Base_Arbres,6,FALSE)*Crit4,\"\")","v":""},{"$f":"IF(Base_Arbres!B995<>\"\",VLOOKUP($A995,Base_Arbres,7,FALSE)*Crit5,\"\")","v":""},{"$f":"IF(Base_Arbres!C995<>\"\",VLOOKUP($A995,Base_Arbres,8,FALSE)*crit8,\"\")","v":""},{"$f":"IF(Base_Arbres!D995<>\"\",VLOOKUP($A995,Base_Arbres,9,FALSE)*crit9,\"\")","v":""},{"$f":"IF(ISNA(VLOOKUP(INDEX(Base_Typologie!$A$6:$P$1003,MATCH(A995,Base_Typologie!$A:$A,0)-5,MATCH(Typologie_Espace_Public,Base_Typologie!$6:$6,0)),TableauScoreTypologie2,2,FALSE)*Crit6),0,VLOOKUP(INDEX(Base_Typologie!$A$6:$P$1003,MATCH(A995,Base_Typologie!$A:$A,0)-5,MATCH(Typologie_Espace_Public,Base_Typologie!$6:$6,0)),TableauScoreTypologie2,2,FALSE)*Crit6)","v":0},0,0,0,0,0,0,0,0,0,0,0,0,null,{"$f":"IF(Base_Arbres!A1098<>\"\",VLOOKUP($A995,Base_Arbres,4,FALSE)*Crit7,\"\")","v":""}]
[{"$f":"IF(Base_Arbres!A1042<>\"\",Base_Arbres!A1042,\"\")","v":""},{"$f":"IF(Base_Arbres!A1042<>\"\",VLOOKUP($A996,Base_Arbres,3,FALSE)*Crit1,\"\")","v":""},{"$f":"IF(Base_Arbres!A1042<>\"\",VLOOKUP($A996,Base_Arbres,4,FALSE)*Crit2,\"\")","v":""},{"$f":"IF(Base_Arbres!A1042<>\"\",VLOOKUP($A996,Base_Arbres,5,FALSE)*Crit3,\"\")","v":""},{"$f":"IF(Base_Arbres!A1042<>\"\",VLOOKUP($A996,Base_Arbres,6,FALSE)*Crit4,\"\")","v":""},{"$f":"IF(Base_Arbres!B996<>\"\",VLOOKUP($A996,Base_Arbres,7,FALSE)*Crit5,\"\")","v":""},{"$f":"IF(Base_Arbres!C996<>\"\",VLOOKUP($A996,Base_Arbres,8,FALSE)*crit8,\"\")","v":""},{"$f":"IF(Base_Arbres!D996<>\"\",VLOOKUP($A996,Base_Arbres,9,FALSE)*crit9,\"\")","v":""},{"$f":"IF(ISNA(VLOOKUP(INDEX(Base_Typologie!$A$6:$P$1003,MATCH(A996,Base_Typologie!$A:$A,0)-5,MATCH(Typologie_Espace_Public,Base_Typologie!$6:$6,0)),TableauScoreTypologie2,2,FALSE)*Crit6),0,VLOOKUP(INDEX(Base_Typologie!$A$6:$P$1003,MATCH(A996,Base_Typologie!$A:$A,0)-5,MATCH(Typologie_Espace_Public,Base_Typologie!$6:$6,0)),TableauScoreTypologie2,2,FALSE)*Crit6)","v":0},0,0,0,0,0,0,0,0,0,0,0,0,null,{"$f":"IF(Base_Arbres!A1099<>\"\",VLOOKUP($A996,Base_Arbres,4,FALSE)*Crit7,\"\")","v":""}]
[{"$f":"IF(Base_Arbres!A1043<>\"\",Base_Arbres!A1043,\"\")","v":""},{"$f":"IF(Base_Arbres!A1043<>\"\",VLOOKUP($A997,Base_Arbres,3,FALSE)*Crit1,\"\")","v":""},{"$f":"IF(Base_Arbres!A1043<>\"\",VLOOKUP($A997,Base_Arbres,4,FALSE)*Crit2,\"\")","v":""},{"$f":"IF(Base_Arbres!A1043<>\"\",VLOOKUP($A997,Base_Arbres,5,FALSE)*Crit3,\"\")","v":""},{"$f":"IF(Base_Arbres!A1043<>\"\",VLOOKUP($A997,Base_Arbres,6,FALSE)*Crit4,\"\")","v":""},{"$f":"IF(Base_Arbres!B997<>\"\",VLOOKUP($A997,Base_Arbres,7,FALSE)*Crit5,\"\")","v":""},{"$f":"IF(Base_Arbres!C997<>\"\",VLOOKUP($A997,Base_Arbres,8,FALSE)*crit8,\"\")","v":""},{"$f":"IF(Base_Arbres!D997<>\"\",VLOOKUP($A997,Base_Arbres,9,FALSE)*crit9,\"\")","v":""},{"$f":"IF(ISNA(VLOOKUP(INDEX(Base_Typologie!$A$6:$P$1003,MATCH(A997,Base_Typologie!$A:$A,0)-5,MATCH(Typologie_Espace_Public,Base_Typologie!$6:$6,0)),TableauScoreTypologie2,2,FALSE)*Crit6),0,VLOOKUP(INDEX(Base_Typologie!$A$6:$P$1003,MATCH(A997,Base_Typologie!$A:$A,0)-5,MATCH(Typologie_Espace_Public,Base_Typologie!$6:$6,0)),TableauScoreTypologie2,2,FALSE)*Crit6)","v":0},0,0,0,0,0,0,0,0,0,0,0,0,null,{"$f":"IF(Base_Arbres!A1100<>\"\",VLOOKUP($A997,Base_Arbres,4,FALSE)*Crit7,\"\")","v":""}]
[{"$f":"IF(Base_Arbres!A1044<>\"\",Base_Arbres!A1044,\"\")","v":""},{"$f":"IF(Base_Arbres!A1044<>\"\",VLOOKUP($A998,Base_Arbres,3,FALSE)*Crit1,\"\")","v":""},{"$f":"IF(Base_Arbres!A1044<>\"\",VLOOKUP($A998,Base_Arbres,4,FALSE)*Crit2,\"\")","v":""},{"$f":"IF(Base_Arbres!A1044<>\"\",VLOOKUP($A998,Base_Arbres,5,FALSE)*Crit3,\"\")","v":""},{"$f":"IF(Base_Arbres!A1044<>\"\",VLOOKUP($A998,Base_Arbres,6,FALSE)*Crit4,\"\")","v":""},{"$f":"IF(Base_Arbres!B998<>\"\",VLOOKUP($A998,Base_Arbres,7,FALSE)*Crit5,\"\")","v":""},{"$f":"IF(Base_Arbres!C998<>\"\",VLOOKUP($A998,Base_Arbres,8,FALSE)*crit8,\"\")","v":""},{"$f":"IF(Base_Arbres!D998<>\"\",VLOOKUP($A998,Base_Arbres,9,FALSE)*crit9,\"\")","v":""},{"$f":"IF(ISNA(VLOOKUP(INDEX(Base_Typologie!$A$6:$P$1003,MATCH(A998,Base_Typologie!$A:$A,0)-5,MATCH(Typologie_Espace_Public,Base_Typologie!$6:$6,0)),TableauScoreTypologie2,2,FALSE)*Crit6),0,VLOOKUP(INDEX(Base_Typologie!$A$6:$P$1003,MATCH(A998,Base_Typologie!$A:$A,0)-5,MATCH(Typologie_Espace_Public,Base_Typologie!$6:$6,0)),TableauScoreTypologie2,2,FALSE)*Crit6)","v":0},0,0,0,0,0,0,0,0,0,0,0,0,null,{"$f":"IF(Base_Arbres!A1101<>\"\",VLOOKUP($A998,Base_Arbres,4,FALSE)*Crit7,\"\")","v":""}]

{"sheet":"Podium","index":6,"n_rows":12,"n_cols":2,"rows_kept":12,"cut":false,"hidden":false,"merged":[]}
["Copalme d’Amérique",{"$f":"RAND()","v":0.61919522289749584}]
["Merisier",5.7698281858079237E-2]
["Aubépine monogyne",0.86088792949841153]
["Micocoulier occidental",8.0563978014647764E-2]
["Arbre aux quarante écus",0.51954306264914341]
["Micocoulier de Provence",0.68017898565328694]
["Faux-orme du Japon",1.6124166681335317E-2]
["Chataîgnier commun",0.5110802245309487]
["Alisier blanc",0.10884014918320695]
["Charme houblon, Ostryer commun",0.19519041936187498]
["Aubépine épineuse",0.96598695780831179]
["Alisier de Suède Brouwers",0.57069985962152459]

{"sheet":"Listes","index":7,"n_rows":5,"n_cols":1,"rows_kept":5,"cut":false,"hidden":true,"merged":[]}
[]
["1. Des contraintes faibles, moyennes ou fortes"]
["2. Des contraintes moyennes ou fortes"]
["3. Des contraintes fortes"]
["4. Critère non discriminant"]

{"sheet":"Feuil2","index":8,"n_rows":6,"n_cols":2,"rows_kept":6,"cut":false,"hidden":true,"merged":[]}
[]
[null,"Réponses"]
[]
[null,"Ne sait pas"]
[null,"Oui"]
[null,"Non"]

{"sheet":"Feuil3","index":9,"n_rows":14,"n_cols":3,"rows_kept":14,"cut":false,"hidden":true,"merged":[]}
["Boisement urbain","Forêt urbaine au sens de Ville de Paris et CD93 : espace public, accessible ou non, planté d'espèces reconnues comme espèces forestières, associées à des sols profonds, capables de croître en peuplement dense (espèces pionnères)","promenades, détente, atelier pédagogique"]
["Cheminement","Piste - notamment cyclable - chemin, sentier et itinéraire : espace linéaire dédié exclusivement aux modes actifs","déplacements doux, promenades"]
["Cimetière","Lieu de recueillement, de sépultures, ouvert au public et plus ou moins végétalisé (cimetière paysager, cimetière jardin)","promenades, recueillement"]
["Cœur d'ilôt ombragé","Petit espace très minéralisé enchâssé dans le bâti / entouré d'immeubles, souvent pavé, ombragé. Petite cours de copropriétés ou habitations privées, ou à usage industriel et artisanal, typique des constructions du 19e et 20e siècle","passage, détente"]
["Cour d'école et aire de jeux pour jeunes enfants","Espace extérieur clos, scolaire ou non, fréquenté par de jeunes enfants (cour de crèche, école, collège, aire de jeux) qui peut intégrer des structures et équipements pédagogiques (potagers, vergers), des assises (gradins, bancs), des espaces de jeux ou de sport","jeux, atelier pédagogique, détente"]
["Espace intermédiaire","Espace interstitiel, délaissé, talus non construit formant des intervalles et respirations entre les bâtiments ou infrastructures. Il forme un esapce de liaison permettant une revégétalisation de l'espace et une connexion avec les autres espaces végétalisés (trame verte)"]
["Grande voie de circulation","Artère urbaine, voie structurante, avenue et boulevard","transports, déplacements doux"]
["Noue et bassin d'orage","Aménagement paysager en eau ou susceptible de recueillir temporairement de l'eau, sous différentes formes : bassin et fossé planté, jardin de pluie, prairie urbaine et plaine de jeux inondable","promenades"]
["Parc","Vaste espace public végétalisé (avec diversité d'espèces et de strates) et en partie boisé, souvent clos, qui offre de nombreuses aménités aux habitants","déplacements doux, promenades, détente, lieu de sociabilité, jeux, pédagogie"]
["Place","Espace dégagé, servant à de multiples usages (lieu de promenade, rencontres, cérémonies, équipements -collèges, gares- et marchés). Il forme souvent des esplanades, des parvis ou des terrasses parfois plantées","déplacements doux, promenades, détente, loisirs, lieu de sociabilité"]
["Quai et berge","Bordure et rive de cours d'eau naturalisées et voie publiques urbaine aménagée","déplacements doux, promenades, détente"]
["Square et espace vert d'accompagnement","Jardin public de proximité, espace vert d'agrément, d'équipement public (sport, jeux, enseignement supérieur), généralement clos, en cœur de quartier offrant une ambiance et du mobilier propice au séjour et à la détente","promenades, détente, jeux"]
["Stationnement","Espace spécifiquement aménagé pour le stationnement des véhicules en secteu urbain (sur des places ou le long des voies)","stationnement de véhicule"]
["Voie résidentielle","Rue résidentielle, commerçante, de quartier","transports, déplacements doux, promenades"]

{"sheet":"Définition TVB","index":10,"n_rows":1,"n_cols":2,"rows_kept":1,"cut":false,"hidden":false,"merged":[]}
["Schéma de la Trame Verte et Bleue (définition)","Retour au questionnaire"]

{"sheet":"Rôles paysagers","index":11,"n_rows":1,"n_cols":2,"rows_kept":1,"cut":false,"hidden":false,"merged":[]}
[null,"Retour au questionnaire"]